{"text_format":"1","workbook":"xlsx","n_sheets":8,"sheets":["Cover","Basisoplysninger","Virksomhedsbeskrivelse","Resultatopgørelse og balance","Anlægskartotek","Rettighedshavere","Varelager","Nødvendig information"],"not_rendered":{"charts":0,"images":0,"macros":1,"external_links":11,"defined_names":1312,"comments":0,"pivot_tables":0},"unopened":[],"bounds":{"document_bytes":16777216,"sheet_cells":100000,"rows_first":2000,"rows_last":500,"rows_between":2000,"halvings":0,"cell_chars":16384,"cell_head_chars":4096},"cells_cut":0,"cells_raw":0,"read":"whole","date_system":"1900"}

{"sheet":"Cover","index":0,"n_rows":26,"n_cols":18,"rows_kept":26,"cut":false,"hidden":false,"merged":[[4,1,6,17],[7,1,7,5],[25,1,25,2],[25,3,25,4],[23,1,23,2],[23,3,23,4],[24,1,24,2],[24,3,24,4],[14,1,16,17],[17,1,17,10],[17,12,17,13]]}
[]
[]
[null,null,null,null,null,null,null,null,null,null,null,null,null,null,null,null,null,{"$f":"\"Version \"&B25&\".\"&D25","v":"Version 02.01"}]
[]
[null,"Oplysningsskema vedrørende følgeerhverv"]
[]
[]
[null,{"$f":"TODAY()","v":"2022-12-09"}]
[]
[]
[]
[]
[]
[]
[null,"I henhold til § 18, stk. 1, i bekendtgørelse nr. 2461 af 11. december 2021 om fuldstændig erstatning og kompensation til minkvirksomheder og fuldstændig kompensation til følgeerhverv til minkvirksomheder som følge af det midlertidige forbud mod hold af mink skal følgeerhvervsvirksomheder, der ansøger om kompensation, udfylde og indsende ”Oplysningsskema vedrørende følgeerhverv” sammen med en erklæring fra en godkendt revisor i henhold til en af Ministeriet for Fødevarer, Landbrug og Fiskeri godkendt revisorinstruks.\n\nNærværende oplysningsskema udgør ”Oplysningsskema vedrørende følgeerhverv”. Skemaet benyttes af minkvirksomheder, som ansøger om opgørelse af erstatning efter §§ 13-15 i ovennævnte bekendtgørelse."]
[]
[]
[null,"Revisorinstruks godkendt af Ministeriet for Fødevarer, Landbrug og Fiskeri findes på link:",null,null,null,null,null,null,null,null,null,null,"Revisorinstruks"]
[]
[null,null,null,null,null,null,null,null,null,null,null,null,null,null,null,null,null,"Personligt & fortroligt"]
[]
[]
[]
[null,"Version",null,"Subversion"]
[null,"02",null,"01"]
[null,"2022-12-09T09:59:24.330",null,"2022-12-09T09:59:24.330"]

{"sheet":"Basisoplysninger","index":1,"n_rows":98,"n_cols":9,"rows_kept":98,"cut":false,"hidden":false,"merged":[[65,1,66,3],[61,1,61,3],[70,8,76,8],[70,1,76,7],[5,8,5,9],[59,1,59,2],[63,1,63,2],[7,2,7,4],[54,8,55,8],[47,2,47,6],[51,1,52,7],[34,8,36,8],[48,8,49,8],[51,8,52,8]]}
[]
[]
[]
["1) Generelle virksomhedsoplysninger (§ 2)",null,null,null,null,null,null,null,"Vejledning til indtastning"]
[]
[]
[null,"Angiv datoen for udfyldelsen af dette skema",null,null,"Angiv dato",null,null,null,"Angiv datoen for udfyldelsen af dette skema i formatet dd-mm-åååå."]
[null,"Generel virksomhedsbeskrivelse\n\n\n",null,null,null,null,null,null,"Beskriv virksomheden i sin helhed, herunder dens primære aktiviteter og indtægtskilder."]
[null,"Virksomhedsnavn"]
[null,"Opstartsår for virksomheden",null,null,"Angiv årstal",null,null,null,"Dvs. første regnskabsår hvor man er opstartet med minkrelateret virksomhed (uanset om virksomheden er omdannet til selskab undervejs eller fusioneret med anden virksomhed)."]
[null,"Udarbejdes der årsregnskab efter årsregnskabsloven?",null,null,"Vælg ja eller nej",null,null,null,"Når der svares ja, så anvendes dette som grundlag i besvarelsen. Udarbejdes ikke årsregnskab, skal en del af de krævede oplysninger udledes af bogføringen og eventuelt bearbejdes nærmere."]
[null,"Hvis nej - angiv virksomhedens regnskabsgrundlag",null,null,null,null,null,null,"Såfremt der ikke udarbejdes årsregnskab efter årsregnskabsloven, vil der normalt foreligge et andet driftsøkonomisk regnskab eller en udskrift fra bogføringen."]
[null,"Er det anvendte regnskab forsynet med en revisorerklæring?",null,null,null,null,null,null,"Her anføres, om det regnskab, der anvendes som grundlag for oplysningsskemaet, indeholder en revisorerklæring om revision, udvidet gennemgang, review, assistance eller ingen erklæring."]
[null,"Regnskabsår 2020",null,null,"Vælg fra liste"]
[null,"Regnskabsår 2019",null,null,"Vælg fra liste"]
[null,"Regnskabsår 2018",null,null,"Vælg fra liste"]
[null,"Regnskabsår 2017",null,null,"Vælg fra liste"]
[null,"Regnskabsår 2016",null,null,"Vælg fra liste"]
[null,"Regnskabsår 2015",null,null,"Vælg fra liste",null,null,null,"Skal kun anføres, såfremt virksomheden vælger at udfylde tal for regnskabsåret 2015. Regnskabsår 2010-2014 kan om nødvendigt udfyldes ved at folde listen ud. "]
[null,"Regnskabsår 2014",null,null,"Vælg fra liste"]
[null,"Regnskabsår 2013",null,null,"Vælg fra liste"]
[null,"Regnskabsår 2012",null,null,"Vælg fra liste"]
[null,"Regnskabsår 2011",null,null,"Vælg fra liste"]
[null,"Regnskabsår 2010",null,null,"Vælg fra liste"]
[null,"Angiv datoen for regnskabsårets afslutning",null,null,"Angiv dato",null,null,null,"Angiv datoen for afslutningen af det seneste årsregnskab i formatet dd-mm-åååå."]
[null,"Selskabsform",null,null,"Vælg selskabsform"]
[null,"CVR-nr."]
[]
["2) Adgangskriterier (§ 2)",null,null,null,null,null,null,null,"Vejledning til indtastning"]
[null,"I henhold til nedlukningsbekendtgørelsen anses følgende virksomheder for følgeerhverv til minkvirksomheder:",null,"Angiv, hvorvidt virksomheden hører til kategorien",null,null,null,null,"Nedlukningsbekendtgørelsen fastsætter regler om fuldstændig kompensation til følgeerhverv til minkvirksomheder. Definitionen af følgeerhverv til minkvirksomheder fremgår af nedlukningsbekendtgørelsens § 2, nr. 2, litra a-e."]
[null,"1. Dansk Pelsdyravlerforening a.m.b.a.",null,"Vælg ja eller nej"]
[null,"2. Udlejning af stald- og burkapacitet til minkproduktion i Danmark",null,"Vælg ja eller nej"]
[null,"3. Pelserier, som betjener minkproduktion i Danmark",null,"Vælg ja eller nej"]
[null,"4. Enhver virksomhed, ejer af en fysisk eller juridisk person, hvor mindst halvdelen af omsætningen, indtjening før renter, afskrivninger og skat (EBITDA) eller varelageret i perioden 2017-2019 eller hertil svarende forskudte regnskabsår hidrørte fra virksomhed rettet mod minkproduktion i Danmark.",null,"Vælg ja eller nej"]
[null,null,null,"Regnskabsår 2017","Regnskabsår 2018","Regnskabsår 2019",null,"Indikation på opfyldelse af kriterium","Virksomheder, som ikke er Dansk Pelsdyravlerforening a.m.b.a., virksomhed med udlejning af stald- og burkapacitet eller pelseri, er kun kompensationsberettiget, hvis virksomheden opfylder mindst ét af kriterierne vedrørende omsætning, EBITDA eller varelager rettet mod minkproduktion i Danmark. Bemærk, at de indtastede regnskabsoplysninger skal være konsistente med oplysninger, der vil blive indtastet i \"Resultatopgørelse og balance\". Der vil blive foretaget en kontrol af overensstemmelsen mellem oplysningerne."]
[null,"Omsætning","Total",null,null,null,{"$f":"SUM(D36:F36)","v":0}]
[null,null,"Heraf rettet mod minkproduktion i DK",null,null,null,{"$f":"SUM(D37:F37)","v":0}]
[null,null,"Andel, minkrelateret",{"$f":"IFERROR(D37/D36,0)","v":0},{"$f":"IFERROR(E37/E36,0)","v":0},0,0,{"$f":"IFERROR( IF( G38 >= 0.5, \"Opfyldt\", \"Ikke opfyldt\" ), \"Ikke opfyldt\" )","v":"Ikke opfyldt"}]
[]
[null,"EBITDA","Total",null,null,null,{"$f":"SUM(D40:F40)","v":0}]
[null,null,"Heraf rettet mod minkproduktion i DK",null,null,null,{"$f":"SUM(D41:F41)","v":0}]
[null,null,"Andel, minkrelateret",{"$f":"IFERROR(D41/D40,0)","v":0},{"$f":"IFERROR(E41/E40,0)","v":0},{"$f":"IFERROR(F41/F40,0)","v":0},{"$f":"IFERROR(G41/G40,0)","v":0},{"$f":"IFERROR( IF( G42 >= 0.5, \"Opfyldt\", \"Ikke opfyldt\" ), \"Ikke opfyldt\" )","v":"Ikke opfyldt"}]
[]
[null,"Varelager","Total",null,null,null,{"$f":"SUM(D44:F44)","v":0}]
[null,null,"Heraf rettet mod minkproduktion i DK",null,null,null,{"$f":"SUM(D45:F45)","v":0}]
[null,null,"Andel, minkrelateret",{"$f":"IFERROR(D45/D44,0)","v":0},{"$f":"IFERROR(E45/E44,0)","v":0},{"$f":"IFERROR(F45/F44,0)","v":0},{"$f":"IFERROR(G45/G44,0)","v":0},{"$f":"IFERROR( IF( G46 >= 0.5, \"Opfyldt\", \"Ikke opfyldt\" ), \"Ikke opfyldt\" )","v":"Ikke opfyldt"}]
[]
[null,null,{"$f":" IF( D34 = \"Ja\", IF( OR( H38 = \"opfyldt\", H42 = \"opfyldt\", H46 = \"opfyldt\" ), \"\", \"Bemærk: Baseret på ovenstående oplysninger indikeres, at virksomheden ikke er berettiget til kompensation. Det anbefales virksomheden, at kontakte Minksekretariatet før virksomheden færdiggør udfyldelse af hele oplysningsskemaet.\" ), \"\")","v":""}]
[null,null,"Kontrol",{"$f":" IF( OR( IFERROR( D46 > 100%, 0 ), IFERROR( D42 > 100%, 0 ), IFERROR( D38 > 100%, 0 ) ), \"Fejl\", \"-\" )","v":"-"},{"$f":" IF( OR( IFERROR( E46 > 100%, 0 ), IFERROR( E42 > 100%, 0 ), IFERROR( E38 > 100%, 0 ) ), \"Fejl\", \"-\" )","v":"-"},"-","-",null,"Andelen af omsætningen, EBITDA og varelageret, der er rettet mod minkproduktion i DK kan ikke overstige 100%. Hvis Kontrolcellen viser \"Fejl\" bør de indtastede tal kontrolleres."]
[]
[null,"Kommentarer til opgørelsen af varelager"]
[null,null,null,null,null,null,null,null,"Her kan det oplyses, såfremt varelageret ultimo regnskabsåret ikke vurderes at give et retvisende billede af virksomhedens lagerbinding."]
[]
[]
[null,"Har virksomheden været i drift frem til d. 4. november 2020?",null,"Vælg ja eller nej",null,null,null,null,"For at en følgeerhvervsvirksomhed er kompensationsberettiget, er det en forudsætning, at virksomheden har været i drift frem til den 4. november 2020, eller at virksomheden er ophørt i perioden den 15. juni 2020  til den 4. november 2020. Dette krav gælder dog ikke for Dansk Pels-dyravlerforening a.m.b.a.."]
[null,"Er virksomheden ophørt i perioden den 15. juni 2020 til den 4. november 2020?",null,"Vælg ja eller nej"]
[]
["3) Anlægskartotek og rettighedshavere",null,null,null,null,null,null,null,"Vejledning til indtastning"]
[]
[null,"Her angives, hvorvidt alle anlægsaktiver er 100% ejet",null,"Vælg ja eller nej",null,null,null,null,"Såfremt et eller flere aktiver er lejet eller leaset, vælges \"Nej\"."]
[]
[null,"I fanen \"Anlægskartotek\" udfyldes specifikationer for samtlige kompensationsberettigede anlægsaktiver."]
[]
[null,"Her angives, hvorvidt virksomheden har rettighedshavere med rettigheder over kompensationsberettigede anlægsaktiver",null,"Vælg ja eller nej",null,null,null,null,"I det omfang, der er parter, som har pant eller andre rettigheder i virksomhedens kompensationsberettigede aktiver, skal fanen \"Rettighedshavere\" anvendes til at oplyse om, hvilke rettigheder tredjemand har til de enkelte aktiver. Hvis virksomheden ingen rettighedshavere har, vælges \"Nej\", og fanen \"Rettighedshavere\" skal derfor ikke udfyldes."]
[]
[null,{"$f":" IF( D64 <> \"Nej\", \"I fanen 'Rettighedshavere' specificeres for hvert aktiv, hvor det er relevant, eventuelle rettighedshavere inkl. prioritetsstilling.\", \"Idet virksomheden ingen rettighedshavere har, skal fanen 'Rettighedshavere' ikke udfyldes.\" )","v":"I fanen 'Rettighedshavere' specificeres for hvert aktiv, hvor det er relevant, eventuelle rettighedshavere inkl. prioritetsstilling."}]
[]
[]
["4) Øvrige kommentarer",null,null,null,null,null,null,null,"Vejledning til indtastning"]
[]
[null,null,null,null,null,null,null,null,"Eksempelvis et særligt højt omkostningsniveau, store engangsindtægter eller hvis virksomheden har immaterielle anlægsaktiver som f.eks. udviklingsprojekter. Relevant dokumentation skal vedlægges."]
[]
[]
[]
[]
[]
[]
[]
[null,"Ark slut"]
[]
[null,"januar",{"$f":"\"Ultimo \"&B81","v":"Ultimo januar"}]
[null,"februar",{"$f":"\"Ultimo \"&B82","v":"Ultimo februar"}]
[null,"marts","Ultimo marts"]
[null,"april","Ultimo april"]
[null,"maj","Ultimo maj"]
[null,"juni","Ultimo juni"]
[null,"juli","Ultimo juli"]
[null,"august","Ultimo august"]
[null,"september","Ultimo september"]
[null,"oktober","Ultimo oktober"]
[null,"november","Ultimo november"]
[null,"december","Ultimo december"]
[null,null,"Andet"]
[]
[null,null,"Salg af halm"]
[null,null,"Udlejning af bur- og staldkapacitet"]
[null,null,"Pasningsaftaler"]
[null,null,"Andet (specificer i kommentarfelt)"]

{"sheet":"Virksomhedsbeskrivelse","index":2,"n_rows":48,"n_cols":2,"rows_kept":48,"cut":false,"hidden":false,"merged":[[3,1,3,13],[22,1,22,13],[39,1,39,13],[16,1,16,13],[13,1,13,13],[4,1,4,13],[7,1,7,13],[10,1,10,13],[12,1,12,13],[9,1,9,13],[38,1,38,13],[19,1,19,13],[25,1,25,13],[6,1,6,13],[15,1,15,13],[18,1,18,13],[21,1,21,13],[24,1,24,13],[45,1,45,13],[30,1,30,13],[33,1,33,13],[35,1,35,13],[36,1,36,13],[32,1,32,13],[42,1,42,13],[29,1,29,13]]}
[]
["1) Kompensationsberettiget minkrelateret virksomhed (§ 14)"]
[]
[null,"1) Beskriv virksomhedens minkrelaterede produkter, forretningsmodel, produktionsmodel og aktiver anvendt til produktionen"]
[]
[]
[null,"2) Beskrivelse af forventninger til fremtiden pr. 4. november 2020"]
[]
[]
[null,"3) Såfremt de 5 største leverandører samlet udgør mere end 50% af vareforbruget for minkrelateret virksomhed i 2019 eller 2020, skal leverandørerne oplyses (med angivelse af andel af vareforbrug for hvert af årene 2019 og 2020)"]
[]
[]
[null,"4) Såfremt de 5 største kunder samlet bidrager med mere end 50% af den samlede omsætning for minkrelateret virksomhed i 2019 eller 2020, skal kunderne oplyses (med angivelse af andel af omsætning for hvert af årene 2019 og 2020)"]
[]
[]
[null,"5) Angiv særligt væsentlige forpligtelser, som påhviler virksomheden"]
[]
[]
[null,"6) Angiv evt. relevante miljøgodkendelser og -tilladelser"]
[]
[]
[null,"7) Angiv gensidigt bebyrdende aftaler"]
[]
[]
[null,"8) Øvrige kommentarer"]
[]
[]
["2) Kompensationsberettiget ikke-minkrelateret virksomhed (§ 15)"]
[]
[null,"1) Beskriv virksomhedens ikke-minkrelaterede produkter, forretningsmodel, produktionsmodel og aktiver anvendt til produktionen"]
[]
[]
[null,"2) Redegør for hvorfor den ikke-minkrelateret del af virksomheden lukker permanent, som følge af den permanent nedlukning af den minkrelaterede virksomhed"]
[]
[]
[null,"3) Redegør for hvilke typer af aktiviteter den ikke-minkrelateret del af virksomheden ville kunne omstille sig til, samt hvad det vil kræve af omkostninger at omstille virksomheden, herunder nye eller ændrede bygninger, maskiner, personale, uddannelse, godkendelser mv."]
[]
[]
[null,"4) Redegør for vurderingen af indtjeningspotentialet ved den ikke-minkrelateret del af virksomhedens omstilling til anden virksomhed"]
[]
[]
[null,"5) Angiv evt. relevante miljøgodkendelser og -tilladelser"]
[]
[]
[null,"6) Øvrige kommentarer"]
[]
[]
[null,"Ark slut"]

{"sheet":"Resultatopgørelse og balance","index":3,"n_rows":281,"n_cols":15,"rows_kept":281,"cut":false,"hidden":false,"merged":[[278,1,278,14],[269,1,269,14],[254,1,254,14],[1,1,1,14],[255,1,255,14],[270,1,270,14],[274,1,274,14],[259,1,259,8],[264,1,264,8]]}
[]
[null,"Kort vejledning i at udfylde nedenstående ark\nTallene bedes givet i DKK - dvs. ikke TDKK. Alle tal, herunder også omkostninger, skal oplyses med positivt fortegn. \n\nIndtastningsfelterne er gule. De øvrige felter er låste. Bemærk, at en række poster skal specificeres ved brug af fold-ud-listen, som vises/skjules ved at trykke på \"+\"/\"-\" til venstre for første kolonne. For at benytte fold-ud-listen skal der trykkes \"enable content\" (\"aktivér indhold\") og \"enable macros\" (\"aktivér makroer\").\n\nDet bemærkes, at arket omfatter 11 hele regnskabsår fra 2010 til 2020. Som udgangspunkt skal man kun indtaste tal for de sidste 5 år, dvs. perioden 2016 til 2020. Det er valgfrit, om man ønsker at udfylde tal for regnskabsårene 2010 til 2015, der er medtaget for at give mulighed for en indtastning for de virksomheder, som vurderer, at dette er nødvendigt for at give et billede af virksomhedens historiske performance. \n\nBemærk, at ctrl x eller klip-funktionen ikke må anvendes, da de bagvedliggende beregninger afhænger af, at indtastningsceller ikke flyttes eller på andre måder ændres andet end ved indtastning af relevante værdier. \n\nEr der i øvrigt forhold, som du finder ikke er blevet afdækket, bedes du oplyse det til sidst i arket.\n\nArket \"Resultatopgørelse og balance\" er inddelt i 8 sektioner:\n1) Kompensationsberettiget minkrelateret virksomhed (§ 14)\n2) Kompensationsberettiget ikke-minkrelateret virksomhed (§ 15)\n3) Ikke-kompensationsberettiget virksomhed\n4) Den samlede virksomhed\n5) Forklaring af forskelle i opgørelsen af omsætning, EBITDA, EBIT, aktiver og/eller egenkapital jf. årsregnskabet\n6) Forklaring af forskelle i opgørelsen af omsætning, EBITDA, EBIT og/eller varelager\n7) Beskriv, hvis der er foretaget fordelinger af indtægter og omkostninger ovenfor, som ikke findes i den interne bogføring - og hvis der er, så beskriv hvordan det er sket\n8) Øvrige kommentarer"]
[]
["1) Kompensationsberettiget minkrelateret virksomhed (§ 14)"]
[]
[null,"Resultatopgørelse","Regnskabsår 2010","Regnskabsår 2011","Regnskabsår 2012","Regnskabsår 2013","Regnskabsår 2014","Regnskabsår 2015","Regnskabsår 2016","Regnskabsår 2017","Regnskabsår 2018","Regnskabsår 2019","Regnskabsår 2020"]
[null,"Omsætning"]
[null,"Andre driftsindtægter"]
[]
[null,"Samlede indtægter",{"$f":"SUM(C7:C8)","v":0},0,0,0,0,0,0,0,0,0,0]
[null,"Heraf omsætning fra eksport"]
[null,"Variable driftsomkostninger i alt"]
[null,"Faste driftsomkostninger i alt (ekskl. lønninger, feripenge, pension og sociale bidrag)"]
[null,"Lønninger inkl. feriepenge, pension og sociale bidrag"]
[]
[null,"Indtjening før renter, afskrivninger og skat (EBITDA)",{"$f":" C10 - C12 - C13 - C14","v":0},0,0,0,0,0,0,0,0,0,0]
[null,"Af- og nedskrivninger af materielle anlægsaktiver"]
[null,"Af- og nedskrivninger af immaterielle anlægsaktiver"]
[null,"Indtjening før renter og skat (EBIT)",{"$f":"C16 - SUM(C17:C18)","v":0},{"$f":"D16 - SUM(D17:D18)","v":0},0,0,0,{"$f":"H16 - SUM(H17:H18)","v":0},{"$f":"I16 - SUM(I17:I18)","v":0},{"$f":"J16 - SUM(J17:J18)","v":0},0,0,0]
[]
[null,"Balance",{"$f":"+C6","v":"Regnskabsår 2010"},"Regnskabsår 2011","Regnskabsår 2012","Regnskabsår 2013","Regnskabsår 2014","Regnskabsår 2015","Regnskabsår 2016","Regnskabsår 2017","Regnskabsår 2018","Regnskabsår 2019","Regnskabsår 2020"]
[null,"Færdiggjorte udviklingsprojekter, herunder patenter, og lignende rettigheder, der stammer fra udviklingsprojekter"]
[null,"Erhvervede koncessioner, patenter, licenser, varemærker samt lignende rettigheder"]
[null,"Goodwill (dvs. erhvervet goodwill)"]
[null,"Udviklingsprojekter under udførelse og forudbetalinger for immaterielle anlægsaktiver"]
[null,"Immaterielle anlægsaktiver i alt",{"$f":"SUM(C22:C25)","v":0},{"$f":"SUM(D22:D25)","v":0},0,0,0,{"$f":"SUM(H22:H25)","v":0},{"$f":"SUM(I22:I25)","v":0},0,0,0,0]
[null,"Grunde og bygninger"]
[null,"Produktionsanlæg og maskiner"]
[null,"Andre anlæg, driftsmateriel og inventar"]
[null,"Materielle anlægsaktiver under opførelse"]
[null,"Materielle anlægsaktiver i alt",{"$f":"SUM(C27:C30)","v":0},{"$f":"SUM(D27:D30)","v":0},0,0,0,{"$f":"SUM(H27:H30)","v":0},{"$f":"SUM(I27:I30)","v":0},{"$f":"SUM(J27:J30)","v":0},{"$f":"SUM(K27:K30)","v":0},0,0]
[null,"Kapitalandele i tilknyttede virksomheder"]
[null,"Kapitalandele i associerede virksomheder"]
[null,"Andre kapitalandele og udlån"]
[null,"Finansielle anlægsaktiver i alt",{"$f":"SUM(C32:C34)","v":0},{"$f":"SUM(D32:D34)","v":0},0,0,0,{"$f":"SUM(H32:H34)","v":0},{"$f":"SUM(I32:I34)","v":0},0,0,0,0]
[null,"Anlægsaktiver i alt",{"$f":"SUM(C31+C35+C26)","v":0},{"$f":"SUM(D31+D35+D26)","v":0},0,0,0,{"$f":"SUM(H31+H35+H26)","v":0},{"$f":"SUM(I31+I35+I26)","v":0},0,0,0,0]
[null,"Varebeholdninger"]
[null,"Tilgodehavender fra salg"]
[null,"Tilgodehavender hos tilknyttede virksomheder"]
[null,"Tilgodehavende hos kapitalinteresser mv."]
[null,"Udskudt skatteaktiv"]
[null,"Tilgodehavende skat"]
[null,"Andre tilgodehavender"]
[null,"Tilgodehavender hos virksomhedsdeltagere og ledelse"]
[null,"Periodeafgrænsningsposter"]
[null,"Tilgodehavender i alt",{"$f":"SUM(C38:C45)","v":0},0,0,0,0,0,0,0,0,0,0]
[null,"Værdipapirer og kapitalandele (som omsætningsaktiver)"]
[null,"Likvide beholdninger"]
[null,"Omsætningsaktiver i alt",{"$f":"SUM(C37+C46+C48+C47)","v":0},0,0,0,0,0,0,0,0,0,0]
[null,"Aktiver i alt",{"$f":"SUM(C36+C49)","v":0},0,0,0,0,0,0,0,0,0,0]
[]
[null,"Egenkapital i alt",{"$f":"C50 - SUM(C53:C65)","v":0},0,0,0,0,0,0,0,0,0,0]
[null,"Hensættelser til udskudt skat"]
[null,"Andre hensættelser"]
[null,"Langfristet gæld i alt"]
[null,"Kortfristet gæld:"]
[null,"Kortfristet del af langfristet gæld"]
[null,"Bankgæld"]
[null,"Forudbetaling fra kunder"]
[null,"Leverandørgæld"]
[null,"Gæld til tilknyttede virksomheder"]
[null,"Gæld til kapitalinteresser"]
[null,"Skyldig skat"]
[null,"Periodeafgrænsningsposter"]
[null,"Anden gæld"]
[null,"Kortfristet gæld i alt",{"$f":"SUM(C57:C65)","v":0},0,0,0,0,0,0,0,0,0,0]
[null,"Gæld i alt",{"$f":"SUM(C55+C66)","v":0},0,0,0,0,0,0,0,0,0,0]
[null,"Passiver i alt",{"$f":"SUM(C67+C53+C52+C54)","v":0},0,0,0,0,0,0,0,0,0,0]
[]
[null,"Øvrige oplysninger"]
[null,"Årets investeringer i materielle anlægsaktiver"]
[null,"Årets investeringer i immaterielle anlægsaktiver"]
[]
["2) Kompensationsberettiget ikke-minkrelateret virksomhed (§ 15)"]
[]
[null,"Resultatopgørelse",{"$f":"C$6","v":"Regnskabsår 2010"},"Regnskabsår 2011","Regnskabsår 2012","Regnskabsår 2013","Regnskabsår 2014",{"$f":"H$6","v":"Regnskabsår 2015"},"Regnskabsår 2016","Regnskabsår 2017","Regnskabsår 2018","Regnskabsår 2019","Regnskabsår 2020"]
[null,"Omsætning"]
[null,"Andre driftsindtægter"]
[null,"Samlede indtægter",{"$f":"SUM(C77:C78)","v":0},{"$f":"SUM(D77:D78)","v":0},0,0,0,{"$f":"SUM(H77:H78)","v":0},{"$f":"SUM(I77:I78)","v":0},0,0,0,0]
[null,"Variable driftsomkostninger i alt"]
[null,"Faste driftsomkostninger i alt (ekskl. lønninger, feripenge, pension og sociale bidrag)"]
[null,"Lønninger inkl. feriepenge, pension og sociale bidrag"]
[]
[null,"Indtjening før renter, afskrivninger og skat (EBITDA)",{"$f":"C79-C80-C81-C82","v":0},0,0,0,0,0,0,0,0,0,0]
[null,"Af- og nedskrivninger af materielle anlægsaktiver"]
[null,"Af- og nedskrivninger af immaterielle anlægsaktiver"]
[null,"Indtjening før renter og skat (EBIT)",{"$f":"C84 - SUM(C85:C86)","v":0},{"$f":"D84 - SUM(D85:D86)","v":0},0,0,0,{"$f":"H84 - SUM(H85:H86)","v":0},{"$f":"I84 - SUM(I85:I86)","v":0},{"$f":"J84 - SUM(J85:J86)","v":0},0,0,0]
[]
[null,"Balance",{"$f":"+C76","v":"Regnskabsår 2010"},"Regnskabsår 2011","Regnskabsår 2012","Regnskabsår 2013","Regnskabsår 2014","Regnskabsår 2015","Regnskabsår 2016","Regnskabsår 2017","Regnskabsår 2018","Regnskabsår 2019","Regnskabsår 2020"]
[null,"Færdiggjorte udviklingsprojekter, herunder patenter, og lignende rettigheder, der stammer fra udviklingsprojekter"]
[null,"Erhvervede koncessioner, patenter, licenser, varemærker samt lignende rettigheder"]
[null,"Goodwill (dvs. erhvervet goodwill)"]
[null,"Udviklingsprojekter under udførelse og forudbetalinger for immaterielle anlægsaktiver"]
[null,"Immaterielle anlægsaktiver i alt",{"$f":"SUM(C90:C93)","v":0},{"$f":"SUM(D90:D93)","v":0},0,0,0,{"$f":"SUM(H90:H93)","v":0},{"$f":"SUM(I90:I93)","v":0},0,0,0,0]
[null,"Grunde og bygninger"]
[null,"Produktionsanlæg og maskiner"]
[null,"Andre anlæg, driftsmateriel og inventar"]
[null,"Materielle anlægsaktiver under opførelse"]
[null,"Materielle anlægsaktiver i alt",{"$f":"SUM(C95:C98)","v":0},{"$f":"SUM(D95:D98)","v":0},0,0,0,{"$f":"SUM(H95:H98)","v":0},{"$f":"SUM(I95:I98)","v":0},0,0,0,0]
[null,"Kapitalandele i tilknyttede virksomheder"]
[null,"Kapitalandele i associerede virksomheder"]
[null,"Andre kapitalandele og udlån"]
[null,"Finansielle anlægsaktiver i alt",{"$f":"SUM(C100:C102)","v":0},{"$f":"SUM(D100:D102)","v":0},0,0,0,{"$f":"SUM(H100:H102)","v":0},{"$f":"SUM(I100:I102)","v":0},0,0,0,0]
[null,"Anlægsaktiver i alt",{"$f":"SUM(C99+C103+C94)","v":0},{"$f":"SUM(D99+D103+D94)","v":0},0,0,0,{"$f":"SUM(H99+H103+H94)","v":0},{"$f":"SUM(I99+I103+I94)","v":0},0,0,0,0]
[null,"Varebeholdninger"]
[null,"Tilgodehavender fra salg"]
[null,"Tilgodehavender hos tilknyttede virksomheder"]
[null,"Tilgodehavende hos kapitalinteresser mv."]
[null,"Udskudt skatteaktiv"]
[null,"Tilgodehavende skat"]
[null,"Andre tilgodehavender"]
[null,"Tilgodehavender hos virksomhedsdeltagere og ledelse"]
[null,"Periodeafgrænsningsposter"]
[null,"Tilgodehavender i alt",{"$f":"SUM(C106:C113)","v":0},0,0,0,0,0,0,0,0,0,0]
[null,"Værdipapirer og kapitalandele (som omsætningsaktiver)"]
[null,"Likvide beholdninger"]
[null,"Omsætningsaktiver i alt",{"$f":"SUM(C105+C114+C116+C115)","v":0},0,0,0,0,0,0,0,0,0,0]
[null,"Aktiver i alt",{"$f":"SUM(C104+C117)","v":0},0,0,0,0,0,0,0,0,0,0]
[]
[null,"Egenkapital i alt",{"$f":"C118 - SUM(C121:C133)","v":0},0,0,0,0,0,0,0,0,0,0]
[null,"Hensættelser til udskudt skat"]
[null,"Andre hensættelser"]
[null,"Langfristet gæld i alt"]
[null,"Kortfristet gæld:"]
[null,"Kortfristet del af langfristet gæld"]
[null,"Bankgæld"]
[null,"Forudbetaling fra kunder"]
[null,"Leverandørgæld"]
[null,"Gæld til tilknyttede virksomheder"]
[null,"Gæld til kapitalinteresser"]
[null,"Skyldig skat"]
[null,"Periodeafgrænsningsposter"]
[null,"Anden gæld"]
[null,"Kortfristet gæld i alt",{"$f":"SUM(C125:C133)","v":0},0,0,0,0,0,0,0,0,0,0]
[null,"Gæld i alt",{"$f":"SUM(C123+C134)","v":0},0,0,0,0,0,0,0,0,0,0]
[null,"Passiver i alt",{"$f":"SUM(C135+C121+C120+C122)","v":0},0,0,0,0,0,0,0,0,0,0]
[]
[null,"Øvrige oplysninger"]
[null,"Årets investeringer i materielle anlægsaktiver"]
[null,"Årets investeringer i immaterielle anlægsaktiver"]
[]
["3) Ikke-kompensationsberettiget virksomhed"]
[]
[null,"Resultatopgørelse",{"$f":"C$6","v":"Regnskabsår 2010"},"Regnskabsår 2011","Regnskabsår 2012","Regnskabsår 2013","Regnskabsår 2014",{"$f":"H$6","v":"Regnskabsår 2015"},"Regnskabsår 2016","Regnskabsår 2017","Regnskabsår 2018","Regnskabsår 2019","Regnskabsår 2020"]
[null,"Omsætning"]
[null,"Andre driftsindtægter"]
[null,"Samlede indtægter",{"$f":"SUM(C145:C146)","v":0},{"$f":"SUM(D145:D146)","v":0},0,0,0,{"$f":"SUM(H145:H146)","v":0},{"$f":"SUM(I145:I146)","v":0},{"$f":"SUM(J145:J146)","v":0},{"$f":"SUM(K145:K146)","v":0},{"$f":"SUM(L145:L146)","v":0},{"$f":"SUM(M145:M146)","v":0}]
[null,"Variable driftsomkostninger i alt"]
[null,"Faste driftsomkostninger i alt (ekskl. lønninger, feripenge, pension og sociale bidrag)"]
[null,"Lønninger inkl. feriepenge, pension og sociale bidrag"]
[]
[null,"Indtjening før renter, afskrivninger og skat (EBITDA)",{"$f":"C147-C148-C149-C150","v":0},0,0,0,0,0,0,0,0,0,0]
[null,"Af- og nedskrivninger af materielle anlægsaktiver"]
[null,"Af- og nedskrivninger af immaterielle anlægsaktiver"]
[null,"Indtjening før renter og skat (EBIT)",{"$f":"C152 - SUM(C153:C154)","v":0},{"$f":"D152 - SUM(D153:D154)","v":0},0,0,0,{"$f":"H152 - SUM(H153:H154)","v":0},{"$f":"I152 - SUM(I153:I154)","v":0},{"$f":"J152 - SUM(J153:J154)","v":0},0,0,{"$f":"M152 - SUM(M153:M154)","v":0}]
[]
[null,"Balance",{"$f":"+C144","v":"Regnskabsår 2010"},"Regnskabsår 2011","Regnskabsår 2012","Regnskabsår 2013","Regnskabsår 2014","Regnskabsår 2015","Regnskabsår 2016","Regnskabsår 2017","Regnskabsår 2018","Regnskabsår 2019","Regnskabsår 2020"]
[null,"Færdiggjorte udviklingsprojekter, herunder patenter, og lignende rettigheder, der stammer fra udviklingsprojekter"]
[null,"Erhvervede koncessioner, patenter, licenser, varemærker samt lignende rettigheder"]
[null,"Goodwill (dvs. erhvervet goodwill)"]
[null,"Udviklingsprojekter under udførelse og forudbetalinger for immaterielle anlægsaktiver"]
[null,"Immaterielle anlægsaktiver i alt",{"$f":"SUM(C158:C161)","v":0},{"$f":"SUM(D158:D161)","v":0},0,0,0,{"$f":"SUM(H158:H161)","v":0},{"$f":"SUM(I158:I161)","v":0},0,0,0,0]
[null,"Grunde og bygninger"]
[null,"Produktionsanlæg og maskiner"]
[null,"Andre anlæg, driftsmateriel og inventar"]
[null,"Materielle anlægsaktiver under opførelse"]
[null,"Materielle anlægsaktiver i alt",{"$f":"SUM(C163:C166)","v":0},{"$f":"SUM(D163:D166)","v":0},0,0,0,{"$f":"SUM(H163:H166)","v":0},{"$f":"SUM(I163:I166)","v":0},0,0,0,0]
[null,"Kapitalandele i tilknyttede virksomheder"]
[null,"Kapitalandele i associerede virksomheder"]
[null,"Andre kapitalandele og udlån"]
[null,"Finansielle anlægsaktiver i alt",{"$f":"SUM(C168:C170)","v":0},{"$f":"SUM(D168:D170)","v":0},0,0,0,{"$f":"SUM(H168:H170)","v":0},{"$f":"SUM(I168:I170)","v":0},0,0,0,0]
[null,"Anlægsaktiver i alt",{"$f":"SUM(C167+C171+C162)","v":0},{"$f":"SUM(D167+D171+D162)","v":0},0,0,0,{"$f":"SUM(H167+H171+H162)","v":0},{"$f":"SUM(I167+I171+I162)","v":0},0,0,0,0]
[null,"Varebeholdninger"]
[null,"Tilgodehavender fra salg"]
[null,"Tilgodehavender hos tilknyttede virksomheder"]
[null,"Tilgodehavende hos kapitalinteresser mv."]
[null,"Udskudt skatteaktiv"]
[null,"Tilgodehavende skat"]
[null,"Andre tilgodehavender"]
[null,"Tilgodehavender hos virksomhedsdeltagere og ledelse"]
[null,"Periodeafgrænsningsposter"]
[null,"Tilgodehavender i alt",{"$f":"SUM(C174:C181)","v":0},0,0,0,0,0,0,0,0,0,0]
[null,"Værdipapirer og kapitalandele (som omsætningsaktiver)"]
[null,"Likvide beholdninger"]
[null,"Omsætningsaktiver i alt",{"$f":"SUM(C173+C182+C184+C183)","v":0},0,0,0,0,0,0,0,0,0,0]
[null,"Aktiver i alt",{"$f":"SUM(C172+C185)","v":0},0,0,0,0,0,0,0,0,0,0]
[]
[null,"Egenkapital i alt",{"$f":"C186 - SUM(C189:C201)","v":0},0,0,0,0,0,0,0,0,0,0]
[null,"Hensættelser til udskudt skat"]
[null,"Andre hensættelser"]
[null,"Langfristet gæld i alt"]
[null,"Kortfristet gæld:"]
[null,"Kortfristet del af langfristet gæld"]
[null,"Bankgæld"]
[null,"Forudbetaling fra kunder"]
[null,"Leverandørgæld"]
[null,"Gæld til tilknyttede virksomheder"]
[null,"Gæld til kapitalinteresser"]
[null,"Skyldig skat"]
[null,"Periodeafgrænsningsposter"]
[null,"Anden gæld"]
[null,"Kortfristet gæld i alt",{"$f":"SUM(C193:C201)","v":0},0,0,0,0,0,0,0,0,0,0]
[null,"Gæld i alt",{"$f":"SUM(C191+C202)","v":0},0,0,0,0,0,0,0,0,0,0]
[null,"Passiver i alt",{"$f":"SUM(C203+C189+C188+C190)","v":0},0,0,0,0,0,0,0,0,0,0]
[]
[null,"Øvrige oplysninger"]
[null,"Årets investeringer i materielle anlægsaktiver"]
[null,"Årets investeringer i immaterielle anlægsaktiver"]
[]
["4) Den samlede virksomhed"]
[]
[null,"Resultatopgørelse",{"$f":"C$6","v":"Regnskabsår 2010"},"Regnskabsår 2011","Regnskabsår 2012","Regnskabsår 2013","Regnskabsår 2014",{"$f":"H$6","v":"Regnskabsår 2015"},"Regnskabsår 2016","Regnskabsår 2017","Regnskabsår 2018","Regnskabsår 2019","Regnskabsår 2020"]
[null,"Omsætning",{"$f":"C7 + C77 + C145","v":0},0,0,0,0,0,0,0,0,0,0]
[null,"Andre driftsindtægter",{"$f":"C8 + C78 + C146","v":0},0,0,0,0,0,0,0,0,0,0]
[null,"Samlede indtægter",{"$f":"C10 + C79 + C147","v":0},0,0,0,0,0,0,0,0,0,0]
[null,"Variable driftsomkostninger i alt",{"$f":"C12 +C80 + C148","v":0},0,0,0,0,0,0,0,0,0,0]
[null,"Faste driftsomkostninger i alt (ekskl. lønninger, feripenge, pension og sociale bidrag)",{"$f":"C13 + C81 + C149","v":0},0,0,0,0,0,0,0,0,0,0]
[null,"Lønninger inkl. feriepenge, pension og sociale bidrag",{"$f":"C14 + C82 + C150","v":0},0,0,0,0,0,0,0,0,0,0]
[null,"Indtjening før renter, afskrivninger og skat (EBITDA)",{"$f":" C16 + C84 + C152","v":0},0,0,0,0,0,0,0,0,0,0]
[null,"Af- og nedskrivninger af materielle anlægsaktiver",{"$f":" C17 + C85 + C153","v":0},0,0,0,0,0,0,0,0,0,0]
[null,"Af- og nedskrivninger af immaterielle anlægsaktiver",{"$f":" C18 + C86 + C154","v":0},0,0,0,0,0,0,0,0,0,0]
[null,"Indtjening før renter og skat (EBIT)",{"$f":" C19 + C87 + C155","v":0},0,0,0,0,0,0,0,0,0,0]
[]
[null,"Omsætning",null,null,null,null,null,null,null,null,null,null,null,null,"Indtastes til kontrolformål jf. nedenstående"]
[null,"Indtjening før renter, afskrivninger og skat (EBITDA)",null,null,null,null,null,null,null,null,null,null,null,null,"Indtastes til kontrolformål jf. nedenstående"]
[null,"Indtjening før renter og skat (EBIT)",null,null,null,null,null,null,null,null,null,null,null,null,"Indtastes til kontrolformål jf. nedenstående"]
[null,"Difference mellem oplyst og beregnet omsætning",{"$f":"C213-C224","v":0},{"$f":"D213-D224","v":0},0,0,0,{"$f":"H213-H224","v":0},{"$f":"I213-I224","v":0},0,0,0,0]
[null,"Difference mellem oplyst og beregnet EBITDA",{"$f":"C219-C225","v":0},{"$f":"D219-D225","v":0},0,0,0,{"$f":"H219-H225","v":0},0,0,0,0,0]
[null,"Difference mellem oplyst og beregnet EBIT",{"$f":"C222-C226","v":0},{"$f":"D222-D226","v":0},0,0,0,{"$f":"H222-H226","v":0},0,0,0,0,0]
[]
[]
[null,"Balance",{"$f":"C$6","v":"Regnskabsår 2010"},"Regnskabsår 2011","Regnskabsår 2012","Regnskabsår 2013","Regnskabsår 2014","Regnskabsår 2015","Regnskabsår 2016","Regnskabsår 2017","Regnskabsår 2018","Regnskabsår 2019","Regnskabsår 2020"]
[null,"Anlægsaktiver",{"$f":" C36 + C104 + C172","v":0},0,0,0,0,0,0,0,0,0,0]
[null,"Varebeholdninger",{"$f":" C37 + C105 + C173","v":0},0,0,0,0,0,0,0,0,0,0]
[null,"Tilgodehavender",{"$f":" C46 +  C114 + C182","v":0},0,0,0,0,0,0,0,0,0,0]
[null,"Likvide beholdninger inkl. værdipapirer og kapitalandele",{"$f":"C47 + C48 + C115 + C116 + C183 + C184","v":0},0,0,0,0,0,0,0,0,0,0]
[null,"Omsætningsaktiver",{"$f":"C49 + C117 + C185","v":0},0,0,0,0,0,0,0,0,0,0]
[null,"Aktiver i alt",{"$f":"C50 + C118 + C186","v":0},0,0,0,0,0,0,0,0,0,0]
[null,"Egenkapital",{"$f":"C52 + C120 + C188","v":0},0,0,0,0,0,0,0,0,0,0]
[null,"Hensættelser til udskudt skat",{"$f":"C53 + C121 + C189","v":0},0,0,0,0,0,0,0,0,0,0]
[null,"Andre hensættelser",{"$f":"C54 + C122 + C190","v":0},0,0,0,0,0,0,0,0,0,0]
[null,"Gæld",{"$f":"C67 + C135 + C203","v":0},0,0,0,0,0,0,0,0,0,0]
[null,"Passiver i alt",{"$f":"C68 + C136 + C204","v":0},0,0,0,0,0,0,0,0,0,0]
[]
[null,"Kontrol: Aktiver i alt stemmer",{"$f":"SUM(C233:C236)","v":0},0,0,0,0,0,0,0,0,0,0]
[null,"Kontrol: Passiver i alt stemmer",{"$f":"SUM(C239:C242)","v":0},{"$f":"SUM(D239:D242)","v":0},0,0,0,{"$f":"SUM(H239:H242)","v":0},{"$f":"SUM(I239:I242)","v":0},0,0,0,0]
[]
[null,"Egenkapital",null,null,null,null,null,null,null,null,null,null,null,null,"Indtastes til kontrolformål jf. nedenstående"]
[null,"Aktiver i alt",null,null,null,null,null,null,null,null,null,null,null,null,"Indtastes til kontrolformål jf. nedenstående"]
[null,"Difference mellem oplyst og beregnet egenkapital i alt",{"$f":"C239-C248","v":0},{"$f":"D239-D248","v":0},0,0,0,{"$f":"H239-H248","v":0},{"$f":"I239-I248","v":0},0,0,0,0]
[null,"Difference mellem oplyst og beregnet aktiver i alt",{"$f":"C238-C249","v":0},{"$f":"D238-D249","v":0},0,0,0,{"$f":"H238-H249","v":0},{"$f":"I238-I249","v":0},0,0,0,0]
[]
["5) Forklaring af forskelle i opgørelsen af omsætning, EBITDA, EBIT, aktiver og/eller egenkapital jf. årsregnskabet"]
[]
[null,"Såfremt omsætning, EBITDA, EBIT, aktiver og/eller egenkapital, der kan aflæses af årsregnskabet, ikke stemmer med det beregnede, betyder det, at der mangler at blive indtastet tal i de foranstående oplysninger, eller at de indtastede tal er indtastet forkert. Hvis forskellen kan henføres til rettelse af fejl i årsregnskabet, skal det forklares, og dokumentation herfor skal vedlægges."]
[]
[]
["6) Forklaring af forskelle i opgørelsen af omsætning, EBITDA og/eller varelager"]
[]
[null,"Difference mellem 'Basisoplysninger' og 'Resultatopgørelse og balance' for den samlede virksomhed",null,null,null,null,null,null,null,{"$f":"J$6","v":"Regnskabsår 2017"},"Regnskabsår 2018","Regnskabsår 2019"]
[null,"Omsætning",null,null,null,null,null,null,null,{"$f":" IF( Basisoplysninger!$D$34 = \"Ja\", J224 - Basisoplysninger!D36, 0)","v":0},{"$f":" IF( Basisoplysninger!$D$34 = \"Ja\", K224 - Basisoplysninger!E36, 0)","v":0},{"$f":" IF( Basisoplysninger!$D$34 = \"Ja\", L224 - Basisoplysninger!F36, 0)","v":0}]
[null,"EBITDA",null,null,null,null,null,null,null,{"$f":" IF( Basisoplysninger!$D$34 = \"Ja\", J225 - Basisoplysninger!D40, 0)","v":0},{"$f":" IF( Basisoplysninger!$D$34 = \"Ja\", K225 - Basisoplysninger!E40, 0)","v":0},{"$f":" IF( Basisoplysninger!$D$34 = \"Ja\", L225 - Basisoplysninger!F40, 0)","v":0}]
[null,"Varelager",null,null,null,null,null,null,null,{"$f":" IF( Basisoplysninger!$D$34 = \"Ja\", J234 - Basisoplysninger!D44, 0)","v":0},{"$f":" IF( Basisoplysninger!$D$34 = \"Ja\", K234 - Basisoplysninger!E44, 0)","v":0},{"$f":" IF( Basisoplysninger!$D$34 = \"Ja\", L234 - Basisoplysninger!F44, 0)","v":0}]
[]
[null,"Difference mellem 'Basisoplysninger' og 'Resultatopgørelse og balance' for den i bekendtgørelsen § 2 stk. 2 definerede virksomhed"]
[null,"Omsætning",null,null,null,null,null,null,null,{"$f":" IF( Basisoplysninger!$D$34 = \"Ja\", J7 - J11 - Basisoplysninger!D37, 0)","v":0},{"$f":" IF( Basisoplysninger!$D$34 = \"Ja\", K7 - K11 - Basisoplysninger!E37, 0)","v":0},{"$f":" IF( Basisoplysninger!$D$34 = \"Ja\", L7 - L11 - Basisoplysninger!F37, 0)","v":0}]
[null,"EBITDA",null,null,null,null,null,null,null,{"$f":" IF( Basisoplysninger!$D$34 = \"Ja\", J16 - Basisoplysninger!D41, 0)","v":0},{"$f":" IF( Basisoplysninger!$D$34 = \"Ja\", K16 - Basisoplysninger!E41, 0)","v":0},{"$f":" IF( Basisoplysninger!$D$34 = \"Ja\", L16 - Basisoplysninger!F41, 0)","v":0}]
[null,"Varelager",null,null,null,null,null,null,null,{"$f":" IF( Basisoplysninger!$D$34 = \"Ja\", J37 - Basisoplysninger!D45, 0)","v":0},{"$f":" IF( Basisoplysninger!$D$34 = \"Ja\", K37 - Basisoplysninger!E45, 0)","v":0},{"$f":" IF( Basisoplysninger!$D$34 = \"Ja\", L37 - Basisoplysninger!F45, 0)","v":0}]
[]
[null,"Såfremt omsætning, EBITDA og/eller varelager, der kan aflæses i sektion 2 i fanen 'Basisoplysninger', ikke stemmer med det i sektion 1, sektion 4 eller sektion 6 oplyste jf. årsregnskabet, betyder det, at der mangler at blive indtastet tal i de foranstående oplysninger, eller at de indtastede tal er indtastet forkert. For så vidt angår EBITDA og varelager for den i bekendtgørelsen § 2, stk. 2 definerede virksomhed kan en eventuel afvigelse også relatere sig til eksportomsætning. Hvis forskellen kan henføres til rettelse af fejl i årsregnskabet eller eksportomsætning, skal det forklares (hvis dette ikke allerede er forklaret i ovenstående sektion 5), og dokumentation herfor skal vedlægges."]
[]
[]
["7) Beskriv, hvis der er foretaget fordelinger af indtægter og omkostninger ovenfor, som ikke findes i den interne bogføring - og hvis der er, så beskriv hvordan det er sket"]
[]
[]
[]
["8) Øvrige kommentarer"]
[]
[]
[]
[null,"Ark slut"]

{"sheet":"Anlægskartotek","index":4,"n_rows":5025,"n_cols":20,"rows_kept":5025,"cut":false,"hidden":false,"merged":[[3,1,3,9],[7,1,7,9],[5015,7,5016,9],[5018,7,5019,9],[5021,7,5022,9]]}
[]
["Vejledning"]
[null,"Bemærk vejledningen vises eller skjules ved at trykke på \"+\" eller \"-\" til venstre for første kolonne. "]
[null,"Kort vejledning i at udfylde nedenstående ark\nI nedenstående indtastningsfelter bedes du indtaste dine anlægsaktiver pr. 31. december 2020.\n\nTallene skal indtastes i DKK (dvs. ikke i f.eks. TDKK) - medmindre andet er angivet.\n\nIndtastningsfelterne er gule. De øvrige felter er låste. Bemærk, at en række poster skal specificeres ved brug af fold-ud-listen, som vises/skjules ved at trykke på \"+\"/\"-\" til venstre for første kolonne. For at benytte fold-ud-listen skal der trykkes \"enable content\" (\"aktivér indhold\") og \"enable macros\" (\"aktivér makroer\"). \n\nSåfremt virksomheden har mange anlægsaktiver, kan man ved indtastningen vælge at samle disse i relevante grupper og dermed ikke foretage en indtastning pr. aktiv, men pr. gruppe. Grupperingen skal dog være tilstrækkelig granuleret til at sikre, at opgørelsen af anlægsaktiver kan danne grundlag for en konkret fysisk identifikation af de aktiver som staten skal overtage.\n\nBemærk, at ctrl x eller klip-funktionen ikke må anvendes, da de bagvedliggende beregninger afhænger af, at indtastningsceller ikke flyttes eller på andre måder ændres andet end ved indtastning af relevante værdier. "]
[]
["Eventuelle kommentarer til indtastningen"]
[null,"Bemærk kommentarfeltet vises eller skjules ved at trykke på \"+\" eller \"-\" til venstre for første kolonne. "]
[]
[]
[null,"Aktiv ID nr.","Aktivnavn","Antal enheder","Bogført værdi pr. 31. december 2020","Angiv andelen af brug i %, der er relateret til kompensationsberettiget minkrelateret virksomhed","Angiv andelen af brug i %, der er relateret til kompensationsberettiget ikke-minkrelateret virksomhed","Andelen af brug i %, der er relateret til ikke-kompensationsberettiget virksomhed","Angiv om aktivet er ejet, lejet eller leaset","Ønskes aktiverne udtaget \n(kun indikativ tilkendegivelse) "]
[null,"Bemærk aktiv vises eller skjules ved at trykke på \"+\" eller \"-\" til venstre for første kolonne. "]
[null,"Aktiv 1",null,null,null,null,null,{"$f":"100%-(F12+G12)","v":1}]
[null,"Aktiv 2",null,null,null,null,null,{"$f":"100%-(F13+G13)","v":1},null,null,null,"Ejerskabstyper",null,"Ja"]
[null,"Aktiv 3",null,null,null,null,null,1,null,null,null,"Ejet",null,"Nej"]
[null,"Aktiv 4",null,null,null,null,null,1,null,null,null,"Finansiel lease"]
[null,"Aktiv 5",null,null,null,null,null,1,null,null,null,"Operationel lease"]
[null,"Aktiv 6",null,null,null,null,null,1,null,null,null,"Lejeaftale"]
[null,"Aktiv 7",null,null,null,null,null,1]
[null,"Aktiv 8",null,null,null,null,null,1]
[null,"Aktiv 9",null,null,null,null,null,1]
[null,"Aktiv 10",null,null,null,null,null,1]
[null,"Aktiv 11",null,null,null,null,null,1]
[null,"Aktiv 12",null,null,null,null,null,1]
[null,"Aktiv 13",null,null,null,null,null,1]
[null,"Aktiv 14",null,null,null,null,null,1]
[null,"Aktiv 15",null,null,null,null,null,1]
[null,"Aktiv 16",null,null,null,null,null,1]
[null,"Aktiv 17",null,null,null,null,null,1]
[null,"Aktiv 18",null,null,null,null,null,1]
[null,"Aktiv 19",null,null,null,null,null,1]
[null,"Aktiv 20",null,null,null,null,null,1]
[null,"Aktiv 21",null,null,null,null,null,1]
[null,"Aktiv 22",null,null,null,null,null,1]
[null,"Aktiv 23",null,null,null,null,null,1]
[null,"Aktiv 24",null,null,null,null,null,1]
[null,"Aktiv 25",null,null,null,null,null,1]
[null,"Aktiv 26",null,null,null,null,null,1]
[null,"Aktiv 27",null,null,null,null,null,1]
[null,"Aktiv 28",null,null,null,null,null,1]
[null,"Aktiv 29",null,null,null,null,null,1]
[null,"Aktiv 30",null,null,null,null,null,1]
[null,"Aktiv 31",null,null,null,null,null,1]
[null,"Aktiv 32",null,null,null,null,null,1]
[null,"Aktiv 33",null,null,null,null,null,1]
[null,"Aktiv 34",null,null,null,null,null,1]
[null,"Aktiv 35",null,null,null,null,null,1]
[null,"Aktiv 36",null,null,null,null,null,1]
[null,"Aktiv 37",null,null,null,null,null,1]
[null,"Aktiv 38",null,null,null,null,null,1]
[null,"Aktiv 39",null,null,null,null,null,1]
[null,"Aktiv 40",null,null,null,null,null,1]
[null,"Aktiv 41",null,null,null,null,null,1]
[null,"Aktiv 42",null,null,null,null,null,1]
[null,"Aktiv 43",null,null,null,null,null,1]
[null,"Aktiv 44",null,null,null,null,null,1]
[null,"Aktiv 45",null,null,null,null,null,1]
[null,"Aktiv 46",null,null,null,null,null,1]
[null,"Aktiv 47",null,null,null,null,null,1]
[null,"Aktiv 48",null,null,null,null,null,1]
[null,"Aktiv 49",null,null,null,null,null,1]
[null,"Aktiv 50",null,null,null,null,null,1]
[null,"Aktiv 51",null,null,null,null,null,1]
[null,"Aktiv 52",null,null,null,null,null,1]
[null,"Aktiv 53",null,null,null,null,null,1]
[null,"Aktiv 54",null,null,null,null,null,1]
[null,"Aktiv 55",null,null,null,null,null,1]
[null,"Aktiv 56",null,null,null,null,null,1]
[null,"Aktiv 57",null,null,null,null,null,1]
[null,"Aktiv 58",null,null,null,null,null,1]
[null,"Aktiv 59",null,null,null,null,null,1]
[null,"Aktiv 60",null,null,null,null,null,1]
[null,"Aktiv 61",null,null,null,null,null,1]
[null,"Aktiv 62",null,null,null,null,null,1]
[null,"Aktiv 63",null,null,null,null,null,1]
[null,"Aktiv 64",null,null,null,null,null,1]
[null,"Aktiv 65",null,null,null,null,null,1]
[null,"Aktiv 66",null,null,null,null,null,{"$f":"100%-(F77+G77)","v":1}]
[null,"Aktiv 67",null,null,null,null,null,1]
[null,"Aktiv 68",null,null,null,null,null,1]
[null,"Aktiv 69",null,null,null,null,null,1]
[null,"Aktiv 70",null,null,null,null,null,1]
[null,"Aktiv 71",null,null,null,null,null,1]
[null,"Aktiv 72",null,null,null,null,null,1]
[null,"Aktiv 73",null,null,null,null,null,1]
[null,"Aktiv 74",null,null,null,null,null,1]
[null,"Aktiv 75",null,null,null,null,null,1]
[null,"Aktiv 76",null,null,null,null,null,1]
[null,"Aktiv 77",null,null,null,null,null,1]
[null,"Aktiv 78",null,null,null,null,null,1]
[null,"Aktiv 79",null,null,null,null,null,1]
[null,"Aktiv 80",null,null,null,null,null,1]
[null,"Aktiv 81",null,null,null,null,null,1]
[null,"Aktiv 82",null,null,null,null,null,1]
[null,"Aktiv 83",null,null,null,null,null,1]
[null,"Aktiv 84",null,null,null,null,null,1]
[null,"Aktiv 85",null,null,null,null,null,1]
[null,"Aktiv 86",null,null,null,null,null,1]
[null,"Aktiv 87",null,null,null,null,null,1]
[null,"Aktiv 88",null,null,null,null,null,1]
[null,"Aktiv 89",null,null,null,null,null,1]
[null,"Aktiv 90",null,null,null,null,null,1]
[null,"Aktiv 91",null,null,null,null,null,1]
[null,"Aktiv 92",null,null,null,null,null,1]
[null,"Aktiv 93",null,null,null,null,null,1]
[null,"Aktiv 94",null,null,null,null,null,1]
[null,"Aktiv 95",null,null,null,null,null,{"$f":"100%-(F106+G106)","v":1}]
[null,"Aktiv 96",null,null,null,null,null,{"$f":"100%-(F107+G107)","v":1}]
[null,"Aktiv 97",null,null,null,null,null,1]
[null,"Aktiv 98",null,null,null,null,null,1]
[null,"Aktiv 99",null,null,null,null,null,1]
[null,"Aktiv 100",null,null,null,null,null,1]
[null,"Aktiv 101",null,null,null,null,null,1,null,null,null,null,null,null,null,null,null,null,null,"Ejerskabstyper"]
[null,"Aktiv 102",null,null,null,null,null,1,null,null,null,null,null,null,null,null,null,null,null,"Ejet eller købt med ejendomsforbehold, overtaget"]
[null,"Aktiv 103",null,null,null,null,null,1,null,null,null,null,null,null,null,null,null,null,null,"Købt med ejendomsforbehold, ikke overtaget"]
[null,"Aktiv 104",null,null,null,null,null,1,null,null,null,null,null,null,null,null,null,null,null,"Operationel lease, overtaget"]
[null,"Aktiv 105",null,null,null,null,null,1,null,null,null,null,null,null,null,null,null,null,null,"Finansiel lease, overtaget"]
[null,"Aktiv 106",null,null,null,null,null,1,null,null,null,null,null,null,null,null,null,null,null,"Operationel lease, ikke overtaget"]
[null,"Aktiv 107",null,null,null,null,null,1,null,null,null,null,null,null,null,null,null,null,null,"Finansiel lease, ikke overtaget"]
[null,"Aktiv 108",null,null,null,null,null,1]
[null,"Aktiv 109",null,null,null,null,null,1]
[null,"Aktiv 110",null,null,null,null,null,1]
[null,"Aktiv 111",null,null,null,null,null,1]
[null,"Aktiv 112",null,null,null,null,null,1]
[null,"Aktiv 113",null,null,null,null,null,1]
[null,"Aktiv 114",null,null,null,null,null,1]
[null,"Aktiv 115",null,null,null,null,null,1]
[null,"Aktiv 116",null,null,null,null,null,1]
[null,"Aktiv 117",null,null,null,null,null,1]
[null,"Aktiv 118",null,null,null,null,null,1]
[null,"Aktiv 119",null,null,null,null,null,1]
[null,"Aktiv 120",null,null,null,null,null,1]
[null,"Aktiv 121",null,null,null,null,null,1]
[null,"Aktiv 122",null,null,null,null,null,1]
[null,"Aktiv 123",null,null,null,null,null,1]
[null,"Aktiv 124",null,null,null,null,null,1]
[null,"Aktiv 125",null,null,null,null,null,1]
[null,"Aktiv 126",null,null,null,null,null,1]
[null,"Aktiv 127",null,null,null,null,null,1]
[null,"Aktiv 128",null,null,null,null,null,1]
[null,"Aktiv 129",null,null,null,null,null,{"$f":"100%-(F140+G140)","v":1}]
[null,"Aktiv 130",null,null,null,null,null,1]
[null,"Aktiv 131",null,null,null,null,null,1]
[null,"Aktiv 132",null,null,null,null,null,1]
[null,"Aktiv 133",null,null,null,null,null,1]
[null,"Aktiv 134",null,null,null,null,null,1]
[null,"Aktiv 135",null,null,null,null,null,1]
[null,"Aktiv 136",null,null,null,null,null,1]
[null,"Aktiv 137",null,null,null,null,null,1]
[null,"Aktiv 138",null,null,null,null,null,1]
[null,"Aktiv 139",null,null,null,null,null,1]
[null,"Aktiv 140",null,null,null,null,null,1]
[null,"Aktiv 141",null,null,null,null,null,1]
[null,"Aktiv 142",null,null,null,null,null,1]
[null,"Aktiv 143",null,null,null,null,null,1]
[null,"Aktiv 144",null,null,null,null,null,1]
[null,"Aktiv 145",null,null,null,null,null,1]
[null,"Aktiv 146",null,null,null,null,null,1]
[null,"Aktiv 147",null,null,null,null,null,1]
[null,"Aktiv 148",null,null,null,null,null,1]
[null,"Aktiv 149",null,null,null,null,null,1]
[null,"Aktiv 150",null,null,null,null,null,1]
[null,"Aktiv 151",null,null,null,null,null,1]
[null,"Aktiv 152",null,null,null,null,null,1]
[null,"Aktiv 153",null,null,null,null,null,1]
[null,"Aktiv 154",null,null,null,null,null,1]
[null,"Aktiv 155",null,null,null,null,null,1]
[null,"Aktiv 156",null,null,null,null,null,1]
[null,"Aktiv 157",null,null,null,null,null,1]
[null,"Aktiv 158",null,null,null,null,null,1]
[null,"Aktiv 159",null,null,null,null,null,1]
[null,"Aktiv 160",null,null,null,null,null,1]
[null,"Aktiv 161",null,null,null,null,null,1]
[null,"Aktiv 162",null,null,null,null,null,1]
[null,"Aktiv 163",null,null,null,null,null,1]
[null,"Aktiv 164",null,null,null,null,null,1]
[null,"Aktiv 165",null,null,null,null,null,1]
[null,"Aktiv 166",null,null,null,null,null,1]
[null,"Aktiv 167",null,null,null,null,null,1]
[null,"Aktiv 168",null,null,null,null,null,1]
[null,"Aktiv 169",null,null,null,null,null,1]
[null,"Aktiv 170",null,null,null,null,null,1]
[null,"Aktiv 171",null,null,null,null,null,1]
[null,"Aktiv 172",null,null,null,null,null,1]
[null,"Aktiv 173",null,null,null,null,null,1]
[null,"Aktiv 174",null,null,null,null,null,1]
[null,"Aktiv 175",null,null,null,null,null,1]
[null,"Aktiv 176",null,null,null,null,null,1]
[null,"Aktiv 177",null,null,null,null,null,1]
[null,"Aktiv 178",null,null,null,null,null,1]
[null,"Aktiv 179",null,null,null,null,null,1]
[null,"Aktiv 180",null,null,null,null,null,1]
[null,"Aktiv 181",null,null,null,null,null,1]
[null,"Aktiv 182",null,null,null,null,null,1]
[null,"Aktiv 183",null,null,null,null,null,1]
[null,"Aktiv 184",null,null,null,null,null,1]
[null,"Aktiv 185",null,null,null,null,null,1]
[null,"Aktiv 186",null,null,null,null,null,1]
[null,"Aktiv 187",null,null,null,null,null,1]
[null,"Aktiv 188",null,null,null,null,null,1]
[null,"Aktiv 189",null,null,null,null,null,1]
[null,"Aktiv 190",null,null,null,null,null,1]
[null,"Aktiv 191",null,null,null,null,null,1]
[null,"Aktiv 192",null,null,null,null,null,1]
[null,"Aktiv 193",null,null,null,null,null,{"$f":"100%-(F204+G204)","v":1}]
[null,"Aktiv 194",null,null,null,null,null,1]
[null,"Aktiv 195",null,null,null,null,null,1]
[null,"Aktiv 196",null,null,null,null,null,1]
[null,"Aktiv 197",null,null,null,null,null,1]
[null,"Aktiv 198",null,null,null,null,null,1]
[null,"Aktiv 199",null,null,null,null,null,1]
[null,"Aktiv 200",null,null,null,null,null,1,null,null,null,null,null,null,null,null,null,null,null,"Ejet eller købt med ejendomsforbehold, overtaget"]
[null,"Aktiv 201",null,null,null,null,null,1]
[null,"Aktiv 202",null,null,null,null,null,1]
[null,"Aktiv 203",null,null,null,null,null,1]
[null,"Aktiv 204",null,null,null,null,null,1]
[null,"Aktiv 205",null,null,null,null,null,1]
[null,"Aktiv 206",null,null,null,null,null,1]
[null,"Aktiv 207",null,null,null,null,null,1]
[null,"Aktiv 208",null,null,null,null,null,1]
[null,"Aktiv 209",null,null,null,null,null,1]
[null,"Aktiv 210",null,null,null,null,null,1]
[null,"Aktiv 211",null,null,null,null,null,1]
[null,"Aktiv 212",null,null,null,null,null,1]
[null,"Aktiv 213",null,null,null,null,null,1]
[null,"Aktiv 214",null,null,null,null,null,1]
[null,"Aktiv 215",null,null,null,null,null,1]
[null,"Aktiv 216",null,null,null,null,null,1]
[null,"Aktiv 217",null,null,null,null,null,1]
[null,"Aktiv 218",null,null,null,null,null,1]
[null,"Aktiv 219",null,null,null,null,null,1]
[null,"Aktiv 220",null,null,null,null,null,1]
[null,"Aktiv 221",null,null,null,null,null,1]
[null,"Aktiv 222",null,null,null,null,null,1]
[null,"Aktiv 223",null,null,null,null,null,1]
[null,"Aktiv 224",null,null,null,null,null,1]
[null,"Aktiv 225",null,null,null,null,null,1]
[null,"Aktiv 226",null,null,null,null,null,1]
[null,"Aktiv 227",null,null,null,null,null,1]
[null,"Aktiv 228",null,null,null,null,null,1]
[null,"Aktiv 229",null,null,null,null,null,1]
[null,"Aktiv 230",null,null,null,null,null,1]
[null,"Aktiv 231",null,null,null,null,null,1]
[null,"Aktiv 232",null,null,null,null,null,1]
[null,"Aktiv 233",null,null,null,null,null,1]
[null,"Aktiv 234",null,null,null,null,null,1]
[null,"Aktiv 235",null,null,null,null,null,1]
[null,"Aktiv 236",null,null,null,null,null,1]
[null,"Aktiv 237",null,null,null,null,null,1]
[null,"Aktiv 238",null,null,null,null,null,1]
[null,"Aktiv 239",null,null,null,null,null,1]
[null,"Aktiv 240",null,null,null,null,null,1]
[null,"Aktiv 241",null,null,null,null,null,1]
[null,"Aktiv 242",null,null,null,null,null,1]
[null,"Aktiv 243",null,null,null,null,null,1]
[null,"Aktiv 244",null,null,null,null,null,1]
[null,"Aktiv 245",null,null,null,null,null,1]
[null,"Aktiv 246",null,null,null,null,null,1]
[null,"Aktiv 247",null,null,null,null,null,1]
[null,"Aktiv 248",null,null,null,null,null,1]
[null,"Aktiv 249",null,null,null,null,null,1]
[null,"Aktiv 250",null,null,null,null,null,1]
[null,"Aktiv 251",null,null,null,null,null,1]
[null,"Aktiv 252",null,null,null,null,null,1]
[null,"Aktiv 253",null,null,null,null,null,1]
[null,"Aktiv 254",null,null,null,null,null,1]
[null,"Aktiv 255",null,null,null,null,null,1]
[null,"Aktiv 256",null,null,null,null,null,1]
[null,"Aktiv 257",null,null,null,null,null,{"$f":"100%-(F268+G268)","v":1}]
[null,"Aktiv 258",null,null,null,null,null,1]
[null,"Aktiv 259",null,null,null,null,null,1]
[null,"Aktiv 260",null,null,null,null,null,1]
[null,"Aktiv 261",null,null,null,null,null,1]
[null,"Aktiv 262",null,null,null,null,null,1]
[null,"Aktiv 263",null,null,null,null,null,1]
[null,"Aktiv 264",null,null,null,null,null,1]
[null,"Aktiv 265",null,null,null,null,null,1]
[null,"Aktiv 266",null,null,null,null,null,1]
[null,"Aktiv 267",null,null,null,null,null,1]
[null,"Aktiv 268",null,null,null,null,null,1]
[null,"Aktiv 269",null,null,null,null,null,1]
[null,"Aktiv 270",null,null,null,null,null,1]
[null,"Aktiv 271",null,null,null,null,null,1]
[null,"Aktiv 272",null,null,null,null,null,1]
[null,"Aktiv 273",null,null,null,null,null,1]
[null,"Aktiv 274",null,null,null,null,null,1]
[null,"Aktiv 275",null,null,null,null,null,1]
[null,"Aktiv 276",null,null,null,null,null,1]
[null,"Aktiv 277",null,null,null,null,null,1]
[null,"Aktiv 278",null,null,null,null,null,1]
[null,"Aktiv 279",null,null,null,null,null,1]
[null,"Aktiv 280",null,null,null,null,null,1]
[null,"Aktiv 281",null,null,null,null,null,1]
[null,"Aktiv 282",null,null,null,null,null,1]
[null,"Aktiv 283",null,null,null,null,null,1]
[null,"Aktiv 284",null,null,null,null,null,1]
[null,"Aktiv 285",null,null,null,null,null,1]
[null,"Aktiv 286",null,null,null,null,null,1]
[null,"Aktiv 287",null,null,null,null,null,1]
[null,"Aktiv 288",null,null,null,null,null,1]
[null,"Aktiv 289",null,null,null,null,null,1]
[null,"Aktiv 290",null,null,null,null,null,1]
[null,"Aktiv 291",null,null,null,null,null,1]
[null,"Aktiv 292",null,null,null,null,null,1]
[null,"Aktiv 293",null,null,null,null,null,1]
[null,"Aktiv 294",null,null,null,null,null,1]
[null,"Aktiv 295",null,null,null,null,null,1]
[null,"Aktiv 296",null,null,null,null,null,1]
[null,"Aktiv 297",null,null,null,null,null,1]
[null,"Aktiv 298",null,null,null,null,null,1]
[null,"Aktiv 299",null,null,null,null,null,1]
[null,"Aktiv 300",null,null,null,null,null,1,null,null,null,null,null,null,null,null,null,null,null,"Købt med ejendomsforbehold, ikke overtaget"]
[null,"Aktiv 301",null,null,null,null,null,1,null,null,null,null,null,null,null,null,null,null,null,"Operationel lease, overtaget"]
[null,"Aktiv 302",null,null,null,null,null,1,null,null,null,null,null,null,null,null,null,null,null,"Finansiel lease, overtaget"]
[null,"Aktiv 303",null,null,null,null,null,1,null,null,null,null,null,null,null,null,null,null,null,"Operationel lease, ikke overtaget"]
[null,"Aktiv 304",null,null,null,null,null,1,null,null,null,null,null,null,null,null,null,null,null,"Finansiel lease, ikke overtaget"]
[null,"Aktiv 305",null,null,null,null,null,1]
[null,"Aktiv 306",null,null,null,null,null,1]
[null,"Aktiv 307",null,null,null,null,null,1]
[null,"Aktiv 308",null,null,null,null,null,1]
[null,"Aktiv 309",null,null,null,null,null,1]
[null,"Aktiv 310",null,null,null,null,null,1]
[null,"Aktiv 311",null,null,null,null,null,1]
[null,"Aktiv 312",null,null,null,null,null,1]
[null,"Aktiv 313",null,null,null,null,null,1]
[null,"Aktiv 314",null,null,null,null,null,1]
[null,"Aktiv 315",null,null,null,null,null,1]
[null,"Aktiv 316",null,null,null,null,null,1]
[null,"Aktiv 317",null,null,null,null,null,1]
[null,"Aktiv 318",null,null,null,null,null,1]
[null,"Aktiv 319",null,null,null,null,null,1]
[null,"Aktiv 320",null,null,null,null,null,1]
[null,"Aktiv 321",null,null,null,null,null,{"$f":"100%-(F332+G332)","v":1}]
[null,"Aktiv 322",null,null,null,null,null,1]
[null,"Aktiv 323",null,null,null,null,null,1]
[null,"Aktiv 324",null,null,null,null,null,1]
[null,"Aktiv 325",null,null,null,null,null,1]
[null,"Aktiv 326",null,null,null,null,null,1]
[null,"Aktiv 327",null,null,null,null,null,1]
[null,"Aktiv 328",null,null,null,null,null,1]
[null,"Aktiv 329",null,null,null,null,null,1]
[null,"Aktiv 330",null,null,null,null,null,1]
[null,"Aktiv 331",null,null,null,null,null,1]
[null,"Aktiv 332",null,null,null,null,null,1]
[null,"Aktiv 333",null,null,null,null,null,1]
[null,"Aktiv 334",null,null,null,null,null,1]
[null,"Aktiv 335",null,null,null,null,null,1]
[null,"Aktiv 336",null,null,null,null,null,1]
[null,"Aktiv 337",null,null,null,null,null,1]
[null,"Aktiv 338",null,null,null,null,null,1]
[null,"Aktiv 339",null,null,null,null,null,1]
[null,"Aktiv 340",null,null,null,null,null,1]
[null,"Aktiv 341",null,null,null,null,null,1]
[null,"Aktiv 342",null,null,null,null,null,1]
[null,"Aktiv 343",null,null,null,null,null,1]
[null,"Aktiv 344",null,null,null,null,null,1]
[null,"Aktiv 345",null,null,null,null,null,1]
[null,"Aktiv 346",null,null,null,null,null,1]
[null,"Aktiv 347",null,null,null,null,null,1]
[null,"Aktiv 348",null,null,null,null,null,1]
[null,"Aktiv 349",null,null,null,null,null,1]
[null,"Aktiv 350",null,null,null,null,null,1]
[null,"Aktiv 351",null,null,null,null,null,1]
[null,"Aktiv 352",null,null,null,null,null,1]
[null,"Aktiv 353",null,null,null,null,null,1]
[null,"Aktiv 354",null,null,null,null,null,1]
[null,"Aktiv 355",null,null,null,null,null,1]
[null,"Aktiv 356",null,null,null,null,null,1]
[null,"Aktiv 357",null,null,null,null,null,1]
[null,"Aktiv 358",null,null,null,null,null,1]
[null,"Aktiv 359",null,null,null,null,null,1]
[null,"Aktiv 360",null,null,null,null,null,1]
[null,"Aktiv 361",null,null,null,null,null,1]
[null,"Aktiv 362",null,null,null,null,null,1]
[null,"Aktiv 363",null,null,null,null,null,1]
[null,"Aktiv 364",null,null,null,null,null,1]
[null,"Aktiv 365",null,null,null,null,null,1]
[null,"Aktiv 366",null,null,null,null,null,1]
[null,"Aktiv 367",null,null,null,null,null,1]
[null,"Aktiv 368",null,null,null,null,null,1]
[null,"Aktiv 369",null,null,null,null,null,1]
[null,"Aktiv 370",null,null,null,null,null,1]
[null,"Aktiv 371",null,null,null,null,null,1]
[null,"Aktiv 372",null,null,null,null,null,1]
[null,"Aktiv 373",null,null,null,null,null,1]
[null,"Aktiv 374",null,null,null,null,null,1]
[null,"Aktiv 375",null,null,null,null,null,1]
[null,"Aktiv 376",null,null,null,null,null,1]
[null,"Aktiv 377",null,null,null,null,null,1]
[null,"Aktiv 378",null,null,null,null,null,1]
[null,"Aktiv 379",null,null,null,null,null,1]
[null,"Aktiv 380",null,null,null,null,null,1]
[null,"Aktiv 381",null,null,null,null,null,1]
[null,"Aktiv 382",null,null,null,null,null,1]
[null,"Aktiv 383",null,null,null,null,null,1]
[null,"Aktiv 384",null,null,null,null,null,1]
[null,"Aktiv 385",null,null,null,null,null,{"$f":"100%-(F396+G396)","v":1}]
[null,"Aktiv 386",null,null,null,null,null,1]
[null,"Aktiv 387",null,null,null,null,null,1]
[null,"Aktiv 388",null,null,null,null,null,1]
[null,"Aktiv 389",null,null,null,null,null,1]
[null,"Aktiv 390",null,null,null,null,null,1]
[null,"Aktiv 391",null,null,null,null,null,1]
[null,"Aktiv 392",null,null,null,null,null,1]
[null,"Aktiv 393",null,null,null,null,null,1]
[null,"Aktiv 394",null,null,null,null,null,1]
[null,"Aktiv 395",null,null,null,null,null,1]
[null,"Aktiv 396",null,null,null,null,null,1]
[null,"Aktiv 397",null,null,null,null,null,1]
[null,"Aktiv 398",null,null,null,null,null,1]
[null,"Aktiv 399",null,null,null,null,null,1]
[null,"Aktiv 400",null,null,null,null,null,1,null,null,null,null,null,null,null,null,null,null,null,"Operationel lease, overtaget"]
[null,"Aktiv 401",null,null,null,null,null,1]
[null,"Aktiv 402",null,null,null,null,null,1]
[null,"Aktiv 403",null,null,null,null,null,1]
[null,"Aktiv 404",null,null,null,null,null,1]
[null,"Aktiv 405",null,null,null,null,null,1]
[null,"Aktiv 406",null,null,null,null,null,1]
[null,"Aktiv 407",null,null,null,null,null,1]
[null,"Aktiv 408",null,null,null,null,null,1]
[null,"Aktiv 409",null,null,null,null,null,1]
[null,"Aktiv 410",null,null,null,null,null,1]
[null,"Aktiv 411",null,null,null,null,null,1]
[null,"Aktiv 412",null,null,null,null,null,1]
[null,"Aktiv 413",null,null,null,null,null,1]
[null,"Aktiv 414",null,null,null,null,null,1]
[null,"Aktiv 415",null,null,null,null,null,1]
[null,"Aktiv 416",null,null,null,null,null,1]
[null,"Aktiv 417",null,null,null,null,null,1]
[null,"Aktiv 418",null,null,null,null,null,1]
[null,"Aktiv 419",null,null,null,null,null,1]
[null,"Aktiv 420",null,null,null,null,null,1]
[null,"Aktiv 421",null,null,null,null,null,1]
[null,"Aktiv 422",null,null,null,null,null,1]
[null,"Aktiv 423",null,null,null,null,null,1]
[null,"Aktiv 424",null,null,null,null,null,1]
[null,"Aktiv 425",null,null,null,null,null,1]
[null,"Aktiv 426",null,null,null,null,null,1]
[null,"Aktiv 427",null,null,null,null,null,1]
[null,"Aktiv 428",null,null,null,null,null,1]
[null,"Aktiv 429",null,null,null,null,null,1]
[null,"Aktiv 430",null,null,null,null,null,1]
[null,"Aktiv 431",null,null,null,null,null,1]
[null,"Aktiv 432",null,null,null,null,null,1]
[null,"Aktiv 433",null,null,null,null,null,1]
[null,"Aktiv 434",null,null,null,null,null,1]
[null,"Aktiv 435",null,null,null,null,null,1]
[null,"Aktiv 436",null,null,null,null,null,1]
[null,"Aktiv 437",null,null,null,null,null,1]
[null,"Aktiv 438",null,null,null,null,null,1]
[null,"Aktiv 439",null,null,null,null,null,1]
[null,"Aktiv 440",null,null,null,null,null,1]
[null,"Aktiv 441",null,null,null,null,null,1]
[null,"Aktiv 442",null,null,null,null,null,1]
[null,"Aktiv 443",null,null,null,null,null,1]
[null,"Aktiv 444",null,null,null,null,null,1]
[null,"Aktiv 445",null,null,null,null,null,1]
[null,"Aktiv 446",null,null,null,null,null,1]
[null,"Aktiv 447",null,null,null,null,null,1]
[null,"Aktiv 448",null,null,null,null,null,1]
[null,"Aktiv 449",null,null,null,null,null,{"$f":"100%-(F460+G460)","v":1}]
[null,"Aktiv 450",null,null,null,null,null,1]
[null,"Aktiv 451",null,null,null,null,null,1]
[null,"Aktiv 452",null,null,null,null,null,1]
[null,"Aktiv 453",null,null,null,null,null,1]
[null,"Aktiv 454",null,null,null,null,null,1]
[null,"Aktiv 455",null,null,null,null,null,1]
[null,"Aktiv 456",null,null,null,null,null,1]
[null,"Aktiv 457",null,null,null,null,null,1]
[null,"Aktiv 458",null,null,null,null,null,1]
[null,"Aktiv 459",null,null,null,null,null,1]
[null,"Aktiv 460",null,null,null,null,null,1]
[null,"Aktiv 461",null,null,null,null,null,1]
[null,"Aktiv 462",null,null,null,null,null,1]
[null,"Aktiv 463",null,null,null,null,null,1]
[null,"Aktiv 464",null,null,null,null,null,1]
[null,"Aktiv 465",null,null,null,null,null,1]
[null,"Aktiv 466",null,null,null,null,null,1]
[null,"Aktiv 467",null,null,null,null,null,1]
[null,"Aktiv 468",null,null,null,null,null,1]
[null,"Aktiv 469",null,null,null,null,null,1]
[null,"Aktiv 470",null,null,null,null,null,1]
[null,"Aktiv 471",null,null,null,null,null,1]
[null,"Aktiv 472",null,null,null,null,null,1]
[null,"Aktiv 473",null,null,null,null,null,1]
[null,"Aktiv 474",null,null,null,null,null,1]
[null,"Aktiv 475",null,null,null,null,null,1]
[null,"Aktiv 476",null,null,null,null,null,1]
[null,"Aktiv 477",null,null,null,null,null,1]
[null,"Aktiv 478",null,null,null,null,null,1]
[null,"Aktiv 479",null,null,null,null,null,1]
[null,"Aktiv 480",null,null,null,null,null,1]
[null,"Aktiv 481",null,null,null,null,null,1]
[null,"Aktiv 482",null,null,null,null,null,1]
[null,"Aktiv 483",null,null,null,null,null,1]
[null,"Aktiv 484",null,null,null,null,null,1]
[null,"Aktiv 485",null,null,null,null,null,1]
[null,"Aktiv 486",null,null,null,null,null,1]
[null,"Aktiv 487",null,null,null,null,null,1]
[null,"Aktiv 488",null,null,null,null,null,1]
[null,"Aktiv 489",null,null,null,null,null,1]
[null,"Aktiv 490",null,null,null,null,null,1]
[null,"Aktiv 491",null,null,null,null,null,1]
[null,"Aktiv 492",null,null,null,null,null,1]
[null,"Aktiv 493",null,null,null,null,null,1]
[null,"Aktiv 494",null,null,null,null,null,1]
[null,"Aktiv 495",null,null,null,null,null,1]
[null,"Aktiv 496",null,null,null,null,null,1]
[null,"Aktiv 497",null,null,null,null,null,1]
[null,"Aktiv 498",null,null,null,null,null,1]
[null,"Aktiv 499",null,null,null,null,null,1]
[null,"Aktiv 500",null,null,null,null,null,1,null,null,null,null,null,null,null,null,null,null,null,"Finansiel lease, overtaget"]
[null,"Aktiv 501",null,null,null,null,null,1]
[null,"Aktiv 502",null,null,null,null,null,1]
[null,"Aktiv 503",null,null,null,null,null,1]
[null,"Aktiv 504",null,null,null,null,null,1]
[null,"Aktiv 505",null,null,null,null,null,1]
[null,"Aktiv 506",null,null,null,null,null,1]
[null,"Aktiv 507",null,null,null,null,null,1]
[null,"Aktiv 508",null,null,null,null,null,1]
[null,"Aktiv 509",null,null,null,null,null,1]
[null,"Aktiv 510",null,null,null,null,null,1]
[null,"Aktiv 511",null,null,null,null,null,1]
[null,"Aktiv 512",null,null,null,null,null,1]
[null,"Aktiv 513",null,null,null,null,null,{"$f":"100%-(F524+G524)","v":1}]
[null,"Aktiv 514",null,null,null,null,null,1]
[null,"Aktiv 515",null,null,null,null,null,1]
[null,"Aktiv 516",null,null,null,null,null,1]
[null,"Aktiv 517",null,null,null,null,null,1]
[null,"Aktiv 518",null,null,null,null,null,1]
[null,"Aktiv 519",null,null,null,null,null,1]
[null,"Aktiv 520",null,null,null,null,null,1]
[null,"Aktiv 521",null,null,null,null,null,1]
[null,"Aktiv 522",null,null,null,null,null,1]
[null,"Aktiv 523",null,null,null,null,null,1]
[null,"Aktiv 524",null,null,null,null,null,1]
[null,"Aktiv 525",null,null,null,null,null,1]
[null,"Aktiv 526",null,null,null,null,null,1]
[null,"Aktiv 527",null,null,null,null,null,1]
[null,"Aktiv 528",null,null,null,null,null,1]
[null,"Aktiv 529",null,null,null,null,null,1]
[null,"Aktiv 530",null,null,null,null,null,1]
[null,"Aktiv 531",null,null,null,null,null,1]
[null,"Aktiv 532",null,null,null,null,null,1]
[null,"Aktiv 533",null,null,null,null,null,1]
[null,"Aktiv 534",null,null,null,null,null,1]
[null,"Aktiv 535",null,null,null,null,null,1]
[null,"Aktiv 536",null,null,null,null,null,1]
[null,"Aktiv 537",null,null,null,null,null,1]
[null,"Aktiv 538",null,null,null,null,null,1]
[null,"Aktiv 539",null,null,null,null,null,1]
[null,"Aktiv 540",null,null,null,null,null,1]
[null,"Aktiv 541",null,null,null,null,null,1]
[null,"Aktiv 542",null,null,null,null,null,1]
[null,"Aktiv 543",null,null,null,null,null,1]
[null,"Aktiv 544",null,null,null,null,null,1]
[null,"Aktiv 545",null,null,null,null,null,1]
[null,"Aktiv 546",null,null,null,null,null,1]
[null,"Aktiv 547",null,null,null,null,null,1]
[null,"Aktiv 548",null,null,null,null,null,1]
[null,"Aktiv 549",null,null,null,null,null,1]
[null,"Aktiv 550",null,null,null,null,null,1]
[null,"Aktiv 551",null,null,null,null,null,1]
[null,"Aktiv 552",null,null,null,null,null,1]
[null,"Aktiv 553",null,null,null,null,null,1]
[null,"Aktiv 554",null,null,null,null,null,1]
[null,"Aktiv 555",null,null,null,null,null,1]
[null,"Aktiv 556",null,null,null,null,null,1]
[null,"Aktiv 557",null,null,null,null,null,1]
[null,"Aktiv 558",null,null,null,null,null,1]
[null,"Aktiv 559",null,null,null,null,null,1]
[null,"Aktiv 560",null,null,null,null,null,1]
[null,"Aktiv 561",null,null,null,null,null,1]
[null,"Aktiv 562",null,null,null,null,null,1]
[null,"Aktiv 563",null,null,null,null,null,1]
[null,"Aktiv 564",null,null,null,null,null,1]
[null,"Aktiv 565",null,null,null,null,null,1]
[null,"Aktiv 566",null,null,null,null,null,1]
[null,"Aktiv 567",null,null,null,null,null,1]
[null,"Aktiv 568",null,null,null,null,null,1]
[null,"Aktiv 569",null,null,null,null,null,1]
[null,"Aktiv 570",null,null,null,null,null,1]
[null,"Aktiv 571",null,null,null,null,null,1]
[null,"Aktiv 572",null,null,null,null,null,1]
[null,"Aktiv 573",null,null,null,null,null,1]
[null,"Aktiv 574",null,null,null,null,null,1]
[null,"Aktiv 575",null,null,null,null,null,1]
[null,"Aktiv 576",null,null,null,null,null,1]
[null,"Aktiv 577",null,null,null,null,null,{"$f":"100%-(F588+G588)","v":1}]
[null,"Aktiv 578",null,null,null,null,null,1]
[null,"Aktiv 579",null,null,null,null,null,1]
[null,"Aktiv 580",null,null,null,null,null,1]
[null,"Aktiv 581",null,null,null,null,null,1]
[null,"Aktiv 582",null,null,null,null,null,1]
[null,"Aktiv 583",null,null,null,null,null,1]
[null,"Aktiv 584",null,null,null,null,null,1]
[null,"Aktiv 585",null,null,null,null,null,1]
[null,"Aktiv 586",null,null,null,null,null,1]
[null,"Aktiv 587",null,null,null,null,null,1]
[null,"Aktiv 588",null,null,null,null,null,1]
[null,"Aktiv 589",null,null,null,null,null,1]
[null,"Aktiv 590",null,null,null,null,null,1]
[null,"Aktiv 591",null,null,null,null,null,1]
[null,"Aktiv 592",null,null,null,null,null,1]
[null,"Aktiv 593",null,null,null,null,null,1]
[null,"Aktiv 594",null,null,null,null,null,1]
[null,"Aktiv 595",null,null,null,null,null,1]
[null,"Aktiv 596",null,null,null,null,null,1]
[null,"Aktiv 597",null,null,null,null,null,1]
[null,"Aktiv 598",null,null,null,null,null,1]
[null,"Aktiv 599",null,null,null,null,null,1]
[null,"Aktiv 600",null,null,null,null,null,1,null,null,null,null,null,null,null,null,null,null,null,"Operationel lease, ikke overtaget"]
[null,"Aktiv 601",null,null,null,null,null,1]
[null,"Aktiv 602",null,null,null,null,null,1]
[null,"Aktiv 603",null,null,null,null,null,1]
[null,"Aktiv 604",null,null,null,null,null,1]
[null,"Aktiv 605",null,null,null,null,null,1]
[null,"Aktiv 606",null,null,null,null,null,1]
[null,"Aktiv 607",null,null,null,null,null,1]
[null,"Aktiv 608",null,null,null,null,null,1]
[null,"Aktiv 609",null,null,null,null,null,1]
[null,"Aktiv 610",null,null,null,null,null,1]
[null,"Aktiv 611",null,null,null,null,null,1]
[null,"Aktiv 612",null,null,null,null,null,1]
[null,"Aktiv 613",null,null,null,null,null,1]
[null,"Aktiv 614",null,null,null,null,null,1]
[null,"Aktiv 615",null,null,null,null,null,1]
[null,"Aktiv 616",null,null,null,null,null,1]
[null,"Aktiv 617",null,null,null,null,null,1]
[null,"Aktiv 618",null,null,null,null,null,1]
[null,"Aktiv 619",null,null,null,null,null,1]
[null,"Aktiv 620",null,null,null,null,null,1]
[null,"Aktiv 621",null,null,null,null,null,1]
[null,"Aktiv 622",null,null,null,null,null,1]
[null,"Aktiv 623",null,null,null,null,null,1]
[null,"Aktiv 624",null,null,null,null,null,1]
[null,"Aktiv 625",null,null,null,null,null,1]
[null,"Aktiv 626",null,null,null,null,null,1]
[null,"Aktiv 627",null,null,null,null,null,1]
[null,"Aktiv 628",null,null,null,null,null,1]
[null,"Aktiv 629",null,null,null,null,null,1]
[null,"Aktiv 630",null,null,null,null,null,1]
[null,"Aktiv 631",null,null,null,null,null,1]
[null,"Aktiv 632",null,null,null,null,null,1]
[null,"Aktiv 633",null,null,null,null,null,1]
[null,"Aktiv 634",null,null,null,null,null,1]
[null,"Aktiv 635",null,null,null,null,null,1]
[null,"Aktiv 636",null,null,null,null,null,1]
[null,"Aktiv 637",null,null,null,null,null,1]
[null,"Aktiv 638",null,null,null,null,null,1]
[null,"Aktiv 639",null,null,null,null,null,1]
[null,"Aktiv 640",null,null,null,null,null,1]
[null,"Aktiv 641",null,null,null,null,null,{"$f":"100%-(F652+G652)","v":1}]
[null,"Aktiv 642",null,null,null,null,null,1]
[null,"Aktiv 643",null,null,null,null,null,1]
[null,"Aktiv 644",null,null,null,null,null,1]
[null,"Aktiv 645",null,null,null,null,null,1]
[null,"Aktiv 646",null,null,null,null,null,1]
[null,"Aktiv 647",null,null,null,null,null,1]
[null,"Aktiv 648",null,null,null,null,null,1]
[null,"Aktiv 649",null,null,null,null,null,1]
[null,"Aktiv 650",null,null,null,null,null,1]
[null,"Aktiv 651",null,null,null,null,null,1]
[null,"Aktiv 652",null,null,null,null,null,1]
[null,"Aktiv 653",null,null,null,null,null,1]
[null,"Aktiv 654",null,null,null,null,null,1]
[null,"Aktiv 655",null,null,null,null,null,1]
[null,"Aktiv 656",null,null,null,null,null,1]
[null,"Aktiv 657",null,null,null,null,null,1]
[null,"Aktiv 658",null,null,null,null,null,1]
[null,"Aktiv 659",null,null,null,null,null,1]
[null,"Aktiv 660",null,null,null,null,null,1]
[null,"Aktiv 661",null,null,null,null,null,1]
[null,"Aktiv 662",null,null,null,null,null,1]
[null,"Aktiv 663",null,null,null,null,null,1]
[null,"Aktiv 664",null,null,null,null,null,1]
[null,"Aktiv 665",null,null,null,null,null,1]
[null,"Aktiv 666",null,null,null,null,null,1]
[null,"Aktiv 667",null,null,null,null,null,1]
[null,"Aktiv 668",null,null,null,null,null,1]
[null,"Aktiv 669",null,null,null,null,null,1]
[null,"Aktiv 670",null,null,null,null,null,1]
[null,"Aktiv 671",null,null,null,null,null,1]
[null,"Aktiv 672",null,null,null,null,null,1]
[null,"Aktiv 673",null,null,null,null,null,1]
[null,"Aktiv 674",null,null,null,null,null,1]
[null,"Aktiv 675",null,null,null,null,null,1]
[null,"Aktiv 676",null,null,null,null,null,1]
[null,"Aktiv 677",null,null,null,null,null,1]
[null,"Aktiv 678",null,null,null,null,null,1]
[null,"Aktiv 679",null,null,null,null,null,1]
[null,"Aktiv 680",null,null,null,null,null,1]
[null,"Aktiv 681",null,null,null,null,null,1]
[null,"Aktiv 682",null,null,null,null,null,1]
[null,"Aktiv 683",null,null,null,null,null,1]
[null,"Aktiv 684",null,null,null,null,null,1]
[null,"Aktiv 685",null,null,null,null,null,1]
[null,"Aktiv 686",null,null,null,null,null,1]
[null,"Aktiv 687",null,null,null,null,null,1]
[null,"Aktiv 688",null,null,null,null,null,1]
[null,"Aktiv 689",null,null,null,null,null,1]
[null,"Aktiv 690",null,null,null,null,null,1]
[null,"Aktiv 691",null,null,null,null,null,1]
[null,"Aktiv 692",null,null,null,null,null,1]
[null,"Aktiv 693",null,null,null,null,null,1]
[null,"Aktiv 694",null,null,null,null,null,1]
[null,"Aktiv 695",null,null,null,null,null,1]
[null,"Aktiv 696",null,null,null,null,null,1]
[null,"Aktiv 697",null,null,null,null,null,1]
[null,"Aktiv 698",null,null,null,null,null,1]
[null,"Aktiv 699",null,null,null,null,null,1]
[null,"Aktiv 700",null,null,null,null,null,1]
[null,"Aktiv 701",null,null,null,null,null,1]
[null,"Aktiv 702",null,null,null,null,null,1]
[null,"Aktiv 703",null,null,null,null,null,1]
[null,"Aktiv 704",null,null,null,null,null,1]
[null,"Aktiv 705",null,null,null,null,null,{"$f":"100%-(F716+G716)","v":1}]
[null,"Aktiv 706",null,null,null,null,null,1]
[null,"Aktiv 707",null,null,null,null,null,1]
[null,"Aktiv 708",null,null,null,null,null,1]
[null,"Aktiv 709",null,null,null,null,null,1]
[null,"Aktiv 710",null,null,null,null,null,1]
[null,"Aktiv 711",null,null,null,null,null,1]
[null,"Aktiv 712",null,null,null,null,null,1]
[null,"Aktiv 713",null,null,null,null,null,1]
[null,"Aktiv 714",null,null,null,null,null,1]
[null,"Aktiv 715",null,null,null,null,null,1]
[null,"Aktiv 716",null,null,null,null,null,1]
[null,"Aktiv 717",null,null,null,null,null,1]
[null,"Aktiv 718",null,null,null,null,null,1]
[null,"Aktiv 719",null,null,null,null,null,1]
[null,"Aktiv 720",null,null,null,null,null,1]
[null,"Aktiv 721",null,null,null,null,null,1]
[null,"Aktiv 722",null,null,null,null,null,1]
[null,"Aktiv 723",null,null,null,null,null,1]
[null,"Aktiv 724",null,null,null,null,null,1]
[null,"Aktiv 725",null,null,null,null,null,1]
[null,"Aktiv 726",null,null,null,null,null,1]
[null,"Aktiv 727",null,null,null,null,null,1]
[null,"Aktiv 728",null,null,null,null,null,1]
[null,"Aktiv 729",null,null,null,null,null,1]
[null,"Aktiv 730",null,null,null,null,null,1]
[null,"Aktiv 731",null,null,null,null,null,1]
[null,"Aktiv 732",null,null,null,null,null,1]
[null,"Aktiv 733",null,null,null,null,null,1]
[null,"Aktiv 734",null,null,null,null,null,1]
[null,"Aktiv 735",null,null,null,null,null,1]
[null,"Aktiv 736",null,null,null,null,null,1]
[null,"Aktiv 737",null,null,null,null,null,1]
[null,"Aktiv 738",null,null,null,null,null,1]
[null,"Aktiv 739",null,null,null,null,null,1]
[null,"Aktiv 740",null,null,null,null,null,1]
[null,"Aktiv 741",null,null,null,null,null,1]
[null,"Aktiv 742",null,null,null,null,null,1]
[null,"Aktiv 743",null,null,null,null,null,1]
[null,"Aktiv 744",null,null,null,null,null,1]
[null,"Aktiv 745",null,null,null,null,null,1]
[null,"Aktiv 746",null,null,null,null,null,1]
[null,"Aktiv 747",null,null,null,null,null,1]
[null,"Aktiv 748",null,null,null,null,null,1]
[null,"Aktiv 749",null,null,null,null,null,1]
[null,"Aktiv 750",null,null,null,null,null,1]
[null,"Aktiv 751",null,null,null,null,null,1]
[null,"Aktiv 752",null,null,null,null,null,1]
[null,"Aktiv 753",null,null,null,null,null,1]
[null,"Aktiv 754",null,null,null,null,null,1]
[null,"Aktiv 755",null,null,null,null,null,1]
[null,"Aktiv 756",null,null,null,null,null,1]
[null,"Aktiv 757",null,null,null,null,null,1]
[null,"Aktiv 758",null,null,null,null,null,1]
[null,"Aktiv 759",null,null,null,null,null,1]
[null,"Aktiv 760",null,null,null,null,null,1]
[null,"Aktiv 761",null,null,null,null,null,1]
[null,"Aktiv 762",null,null,null,null,null,1]
[null,"Aktiv 763",null,null,null,null,null,1]
[null,"Aktiv 764",null,null,null,null,null,1]
[null,"Aktiv 765",null,null,null,null,null,1]
[null,"Aktiv 766",null,null,null,null,null,1]
[null,"Aktiv 767",null,null,null,null,null,1]
[null,"Aktiv 768",null,null,null,null,null,1]
[null,"Aktiv 769",null,null,null,null,null,{"$f":"100%-(F780+G780)","v":1}]
[null,"Aktiv 770",null,null,null,null,null,1]
[null,"Aktiv 771",null,null,null,null,null,1]
[null,"Aktiv 772",null,null,null,null,null,1]
[null,"Aktiv 773",null,null,null,null,null,1]
[null,"Aktiv 774",null,null,null,null,null,1]
[null,"Aktiv 775",null,null,null,null,null,1]
[null,"Aktiv 776",null,null,null,null,null,1]
[null,"Aktiv 777",null,null,null,null,null,1]
[null,"Aktiv 778",null,null,null,null,null,1]
[null,"Aktiv 779",null,null,null,null,null,1]
[null,"Aktiv 780",null,null,null,null,null,1]
[null,"Aktiv 781",null,null,null,null,null,1]
[null,"Aktiv 782",null,null,null,null,null,1]
[null,"Aktiv 783",null,null,null,null,null,1]
[null,"Aktiv 784",null,null,null,null,null,1]
[null,"Aktiv 785",null,null,null,null,null,1]
[null,"Aktiv 786",null,null,null,null,null,1]
[null,"Aktiv 787",null,null,null,null,null,1]
[null,"Aktiv 788",null,null,null,null,null,1]
[null,"Aktiv 789",null,null,null,null,null,1]
[null,"Aktiv 790",null,null,null,null,null,1]
[null,"Aktiv 791",null,null,null,null,null,1]
[null,"Aktiv 792",null,null,null,null,null,1]
[null,"Aktiv 793",null,null,null,null,null,1]
[null,"Aktiv 794",null,null,null,null,null,1]
[null,"Aktiv 795",null,null,null,null,null,1]
[null,"Aktiv 796",null,null,null,null,null,1]
[null,"Aktiv 797",null,null,null,null,null,1]
[null,"Aktiv 798",null,null,null,null,null,1]
[null,"Aktiv 799",null,null,null,null,null,1]
[null,"Aktiv 800",null,null,null,null,null,1]
[null,"Aktiv 801",null,null,null,null,null,1]
[null,"Aktiv 802",null,null,null,null,null,1]
[null,"Aktiv 803",null,null,null,null,null,1]
[null,"Aktiv 804",null,null,null,null,null,1]
[null,"Aktiv 805",null,null,null,null,null,1]
[null,"Aktiv 806",null,null,null,null,null,1]
[null,"Aktiv 807",null,null,null,null,null,1]
[null,"Aktiv 808",null,null,null,null,null,1]
[null,"Aktiv 809",null,null,null,null,null,1]
[null,"Aktiv 810",null,null,null,null,null,1]
[null,"Aktiv 811",null,null,null,null,null,1]
[null,"Aktiv 812",null,null,null,null,null,1]
[null,"Aktiv 813",null,null,null,null,null,1]
[null,"Aktiv 814",null,null,null,null,null,1]
[null,"Aktiv 815",null,null,null,null,null,1]
[null,"Aktiv 816",null,null,null,null,null,1]
[null,"Aktiv 817",null,null,null,null,null,1]
[null,"Aktiv 818",null,null,null,null,null,1]
[null,"Aktiv 819",null,null,null,null,null,1]
[null,"Aktiv 820",null,null,null,null,null,1]
[null,"Aktiv 821",null,null,null,null,null,1]
[null,"Aktiv 822",null,null,null,null,null,1]
[null,"Aktiv 823",null,null,null,null,null,1]
[null,"Aktiv 824",null,null,null,null,null,1]
[null,"Aktiv 825",null,null,null,null,null,1]
[null,"Aktiv 826",null,null,null,null,null,1]
[null,"Aktiv 827",null,null,null,null,null,1]
[null,"Aktiv 828",null,null,null,null,null,1]
[null,"Aktiv 829",null,null,null,null,null,1]
[null,"Aktiv 830",null,null,null,null,null,1]
[null,"Aktiv 831",null,null,null,null,null,1]
[null,"Aktiv 832",null,null,null,null,null,1]
[null,"Aktiv 833",null,null,null,null,null,{"$f":"100%-(F844+G844)","v":1}]
[null,"Aktiv 834",null,null,null,null,null,1]
[null,"Aktiv 835",null,null,null,null,null,1]
[null,"Aktiv 836",null,null,null,null,null,1]
[null,"Aktiv 837",null,null,null,null,null,1]
[null,"Aktiv 838",null,null,null,null,null,1]
[null,"Aktiv 839",null,null,null,null,null,1]
[null,"Aktiv 840",null,null,null,null,null,1]
[null,"Aktiv 841",null,null,null,null,null,1]
[null,"Aktiv 842",null,null,null,null,null,1]
[null,"Aktiv 843",null,null,null,null,null,1]
[null,"Aktiv 844",null,null,null,null,null,1]
[null,"Aktiv 845",null,null,null,null,null,1]
[null,"Aktiv 846",null,null,null,null,null,1]
[null,"Aktiv 847",null,null,null,null,null,1]
[null,"Aktiv 848",null,null,null,null,null,1]
[null,"Aktiv 849",null,null,null,null,null,1]
[null,"Aktiv 850",null,null,null,null,null,1]
[null,"Aktiv 851",null,null,null,null,null,1]
[null,"Aktiv 852",null,null,null,null,null,1]
[null,"Aktiv 853",null,null,null,null,null,1]
[null,"Aktiv 854",null,null,null,null,null,1]
[null,"Aktiv 855",null,null,null,null,null,1]
[null,"Aktiv 856",null,null,null,null,null,1]
[null,"Aktiv 857",null,null,null,null,null,1]
[null,"Aktiv 858",null,null,null,null,null,1]
[null,"Aktiv 859",null,null,null,null,null,1]
[null,"Aktiv 860",null,null,null,null,null,1]
[null,"Aktiv 861",null,null,null,null,null,1]
[null,"Aktiv 862",null,null,null,null,null,1]
[null,"Aktiv 863",null,null,null,null,null,1]
[null,"Aktiv 864",null,null,null,null,null,1]
[null,"Aktiv 865",null,null,null,null,null,1]
[null,"Aktiv 866",null,null,null,null,null,1]
[null,"Aktiv 867",null,null,null,null,null,1]
[null,"Aktiv 868",null,null,null,null,null,1]
[null,"Aktiv 869",null,null,null,null,null,1]
[null,"Aktiv 870",null,null,null,null,null,1]
[null,"Aktiv 871",null,null,null,null,null,1]
[null,"Aktiv 872",null,null,null,null,null,1]
[null,"Aktiv 873",null,null,null,null,null,1]
[null,"Aktiv 874",null,null,null,null,null,1]
[null,"Aktiv 875",null,null,null,null,null,1]
[null,"Aktiv 876",null,null,null,null,null,1]
[null,"Aktiv 877",null,null,null,null,null,1]
[null,"Aktiv 878",null,null,null,null,null,1]
[null,"Aktiv 879",null,null,null,null,null,1]
[null,"Aktiv 880",null,null,null,null,null,1]
[null,"Aktiv 881",null,null,null,null,null,1]
[null,"Aktiv 882",null,null,null,null,null,1]
[null,"Aktiv 883",null,null,null,null,null,1]
[null,"Aktiv 884",null,null,null,null,null,1]
[null,"Aktiv 885",null,null,null,null,null,1]
[null,"Aktiv 886",null,null,null,null,null,1]
[null,"Aktiv 887",null,null,null,null,null,1]
[null,"Aktiv 888",null,null,null,null,null,1]
[null,"Aktiv 889",null,null,null,null,null,1]
[null,"Aktiv 890",null,null,null,null,null,1]
[null,"Aktiv 891",null,null,null,null,null,1]
[null,"Aktiv 892",null,null,null,null,null,1]
[null,"Aktiv 893",null,null,null,null,null,1]
[null,"Aktiv 894",null,null,null,null,null,1]
[null,"Aktiv 895",null,null,null,null,null,1]
[null,"Aktiv 896",null,null,null,null,null,1]
[null,"Aktiv 897",null,null,null,null,null,{"$f":"100%-(F908+G908)","v":1}]
[null,"Aktiv 898",null,null,null,null,null,1]
[null,"Aktiv 899",null,null,null,null,null,1]
[null,"Aktiv 900",null,null,null,null,null,1]
[null,"Aktiv 901",null,null,null,null,null,1]
[null,"Aktiv 902",null,null,null,null,null,1]
[null,"Aktiv 903",null,null,null,null,null,1]
[null,"Aktiv 904",null,null,null,null,null,1]
[null,"Aktiv 905",null,null,null,null,null,1]
[null,"Aktiv 906",null,null,null,null,null,1]
[null,"Aktiv 907",null,null,null,null,null,1]
[null,"Aktiv 908",null,null,null,null,null,1]
[null,"Aktiv 909",null,null,null,null,null,1]
[null,"Aktiv 910",null,null,null,null,null,1]
[null,"Aktiv 911",null,null,null,null,null,1]
[null,"Aktiv 912",null,null,null,null,null,1]
[null,"Aktiv 913",null,null,null,null,null,1]
[null,"Aktiv 914",null,null,null,null,null,1]
[null,"Aktiv 915",null,null,null,null,null,1]
[null,"Aktiv 916",null,null,null,null,null,1]
[null,"Aktiv 917",null,null,null,null,null,1]
[null,"Aktiv 918",null,null,null,null,null,1]
[null,"Aktiv 919",null,null,null,null,null,1]
[null,"Aktiv 920",null,null,null,null,null,1]
[null,"Aktiv 921",null,null,null,null,null,1]
[null,"Aktiv 922",null,null,null,null,null,1]
[null,"Aktiv 923",null,null,null,null,null,1]
[null,"Aktiv 924",null,null,null,null,null,1]
[null,"Aktiv 925",null,null,null,null,null,1]
[null,"Aktiv 926",null,null,null,null,null,1]
[null,"Aktiv 927",null,null,null,null,null,1]
[null,"Aktiv 928",null,null,null,null,null,1]
[null,"Aktiv 929",null,null,null,null,null,1]
[null,"Aktiv 930",null,null,null,null,null,1]
[null,"Aktiv 931",null,null,null,null,null,1]
[null,"Aktiv 932",null,null,null,null,null,1]
[null,"Aktiv 933",null,null,null,null,null,1]
[null,"Aktiv 934",null,null,null,null,null,1]
[null,"Aktiv 935",null,null,null,null,null,1]
[null,"Aktiv 936",null,null,null,null,null,1]
[null,"Aktiv 937",null,null,null,null,null,1]
[null,"Aktiv 938",null,null,null,null,null,1]
[null,"Aktiv 939",null,null,null,null,null,1]
[null,"Aktiv 940",null,null,null,null,null,1]
[null,"Aktiv 941",null,null,null,null,null,1]
[null,"Aktiv 942",null,null,null,null,null,1]
[null,"Aktiv 943",null,null,null,null,null,1]
[null,"Aktiv 944",null,null,null,null,null,1]
[null,"Aktiv 945",null,null,null,null,null,1]
[null,"Aktiv 946",null,null,null,null,null,1]
[null,"Aktiv 947",null,null,null,null,null,1]
[null,"Aktiv 948",null,null,null,null,null,1]
[null,"Aktiv 949",null,null,null,null,null,1]
[null,"Aktiv 950",null,null,null,null,null,1]
[null,"Aktiv 951",null,null,null,null,null,1]
[null,"Aktiv 952",null,null,null,null,null,1]
[null,"Aktiv 953",null,null,null,null,null,1]
[null,"Aktiv 954",null,null,null,null,null,1]
[null,"Aktiv 955",null,null,null,null,null,1]
[null,"Aktiv 956",null,null,null,null,null,1]
[null,"Aktiv 957",null,null,null,null,null,1]
[null,"Aktiv 958",null,null,null,null,null,1]
[null,"Aktiv 959",null,null,null,null,null,1]
[null,"Aktiv 960",null,null,null,null,null,1]
[null,"Aktiv 961",null,null,null,null,null,{"$f":"100%-(F972+G972)","v":1}]
[null,"Aktiv 962",null,null,null,null,null,1]
[null,"Aktiv 963",null,null,null,null,null,1]
[null,"Aktiv 964",null,null,null,null,null,1]
[null,"Aktiv 965",null,null,null,null,null,1]
[null,"Aktiv 966",null,null,null,null,null,1]
[null,"Aktiv 967",null,null,null,null,null,1]
[null,"Aktiv 968",null,null,null,null,null,1]
[null,"Aktiv 969",null,null,null,null,null,1]
[null,"Aktiv 970",null,null,null,null,null,1]
[null,"Aktiv 971",null,null,null,null,null,1]
[null,"Aktiv 972",null,null,null,null,null,1]
[null,"Aktiv 973",null,null,null,null,null,1]
[null,"Aktiv 974",null,null,null,null,null,1]
[null,"Aktiv 975",null,null,null,null,null,1]
[null,"Aktiv 976",null,null,null,null,null,1]
[null,"Aktiv 977",null,null,null,null,null,1]
[null,"Aktiv 978",null,null,null,null,null,1]
[null,"Aktiv 979",null,null,null,null,null,1]
[null,"Aktiv 980",null,null,null,null,null,1]
[null,"Aktiv 981",null,null,null,null,null,1]
[null,"Aktiv 982",null,null,null,null,null,1]
[null,"Aktiv 983",null,null,null,null,null,1]
[null,"Aktiv 984",null,null,null,null,null,1]
[null,"Aktiv 985",null,null,null,null,null,1]
[null,"Aktiv 986",null,null,null,null,null,1]
[null,"Aktiv 987",null,null,null,null,null,1]
[null,"Aktiv 988",null,null,null,null,null,1]
[null,"Aktiv 989",null,null,null,null,null,1]
[null,"Aktiv 990",null,null,null,null,null,1]
[null,"Aktiv 991",null,null,null,null,null,1]
[null,"Aktiv 992",null,null,null,null,null,1]
[null,"Aktiv 993",null,null,null,null,null,1]
[null,"Aktiv 994",null,null,null,null,null,1]
[null,"Aktiv 995",null,null,null,null,null,1]
[null,"Aktiv 996",null,null,null,null,null,1]
[null,"Aktiv 997",null,null,null,null,null,1]
[null,"Aktiv 998",null,null,null,null,null,1]
[null,"Aktiv 999",null,null,null,null,null,1]
[null,"Aktiv 1000",null,null,null,null,null,1]
[null,"Aktiv 1001",null,null,null,null,null,1]
[null,"Aktiv 1002",null,null,null,null,null,1]
[null,"Aktiv 1003",null,null,null,null,null,1]
[null,"Aktiv 1004",null,null,null,null,null,1]
[null,"Aktiv 1005",null,null,null,null,null,1]
[null,"Aktiv 1006",null,null,null,null,null,1]
[null,"Aktiv 1007",null,null,null,null,null,1]
[null,"Aktiv 1008",null,null,null,null,null,1]
[null,"Aktiv 1009",null,null,null,null,null,1]
[null,"Aktiv 1010",null,null,null,null,null,1]
[null,"Aktiv 1011",null,null,null,null,null,1]
[null,"Aktiv 1012",null,null,null,null,null,1]
[null,"Aktiv 1013",null,null,null,null,null,1]
[null,"Aktiv 1014",null,null,null,null,null,1]
[null,"Aktiv 1015",null,null,null,null,null,1]
[null,"Aktiv 1016",null,null,null,null,null,1]
[null,"Aktiv 1017",null,null,null,null,null,1]
[null,"Aktiv 1018",null,null,null,null,null,1]
[null,"Aktiv 1019",null,null,null,null,null,1]
[null,"Aktiv 1020",null,null,null,null,null,1]
[null,"Aktiv 1021",null,null,null,null,null,1]
[null,"Aktiv 1022",null,null,null,null,null,1]
[null,"Aktiv 1023",null,null,null,null,null,1]
[null,"Aktiv 1024",null,null,null,null,null,{"$f":"100%-(F1035+G1035)","v":1}]
[null,"Aktiv 1025",null,null,null,null,null,1]
[null,"Aktiv 1026",null,null,null,null,null,1]
[null,"Aktiv 1027",null,null,null,null,null,1]
[null,"Aktiv 1028",null,null,null,null,null,1]
[null,"Aktiv 1029",null,null,null,null,null,1]
[null,"Aktiv 1030",null,null,null,null,null,1]
[null,"Aktiv 1031",null,null,null,null,null,1]
[null,"Aktiv 1032",null,null,null,null,null,1]
[null,"Aktiv 1033",null,null,null,null,null,1]
[null,"Aktiv 1034",null,null,null,null,null,1]
[null,"Aktiv 1035",null,null,null,null,null,1]
[null,"Aktiv 1036",null,null,null,null,null,1]
[null,"Aktiv 1037",null,null,null,null,null,1]
[null,"Aktiv 1038",null,null,null,null,null,1]
[null,"Aktiv 1039",null,null,null,null,null,1]
[null,"Aktiv 1040",null,null,null,null,null,1]
[null,"Aktiv 1041",null,null,null,null,null,1]
[null,"Aktiv 1042",null,null,null,null,null,1]
[null,"Aktiv 1043",null,null,null,null,null,1]
[null,"Aktiv 1044",null,null,null,null,null,1]
[null,"Aktiv 1045",null,null,null,null,null,1]
[null,"Aktiv 1046",null,null,null,null,null,1]
[null,"Aktiv 1047",null,null,null,null,null,1]
[null,"Aktiv 1048",null,null,null,null,null,1]
[null,"Aktiv 1049",null,null,null,null,null,1]
[null,"Aktiv 1050",null,null,null,null,null,1]
[null,"Aktiv 1051",null,null,null,null,null,1]
[null,"Aktiv 1052",null,null,null,null,null,1]
[null,"Aktiv 1053",null,null,null,null,null,1]
[null,"Aktiv 1054",null,null,null,null,null,1]
[null,"Aktiv 1055",null,null,null,null,null,1]
[null,"Aktiv 1056",null,null,null,null,null,1]
[null,"Aktiv 1057",null,null,null,null,null,1]
[null,"Aktiv 1058",null,null,null,null,null,1]
[null,"Aktiv 1059",null,null,null,null,null,1]
[null,"Aktiv 1060",null,null,null,null,null,1]
[null,"Aktiv 1061",null,null,null,null,null,1]
[null,"Aktiv 1062",null,null,null,null,null,1]
[null,"Aktiv 1063",null,null,null,null,null,1]
[null,"Aktiv 1064",null,null,null,null,null,1]
[null,"Aktiv 1065",null,null,null,null,null,1]
[null,"Aktiv 1066",null,null,null,null,null,1]
[null,"Aktiv 1067",null,null,null,null,null,1]
[null,"Aktiv 1068",null,null,null,null,null,1]
[null,"Aktiv 1069",null,null,null,null,null,1]
[null,"Aktiv 1070",null,null,null,null,null,1]
[null,"Aktiv 1071",null,null,null,null,null,1]
[null,"Aktiv 1072",null,null,null,null,null,1]
[null,"Aktiv 1073",null,null,null,null,null,1]
[null,"Aktiv 1074",null,null,null,null,null,1]
[null,"Aktiv 1075",null,null,null,null,null,1]
[null,"Aktiv 1076",null,null,null,null,null,1]
[null,"Aktiv 1077",null,null,null,null,null,1]
[null,"Aktiv 1078",null,null,null,null,null,1]
[null,"Aktiv 1079",null,null,null,null,null,1]
[null,"Aktiv 1080",null,null,null,null,null,1]
[null,"Aktiv 1081",null,null,null,null,null,1]
[null,"Aktiv 1082",null,null,null,null,null,1]
[null,"Aktiv 1083",null,null,null,null,null,1]
[null,"Aktiv 1084",null,null,null,null,null,1]
[null,"Aktiv 1085",null,null,null,null,null,1]
[null,"Aktiv 1086",null,null,null,null,null,1]
[null,"Aktiv 1087",null,null,null,null,null,1]
[null,"Aktiv 1088",null,null,null,null,null,{"$f":"100%-(F1099+G1099)","v":1}]
[null,"Aktiv 1089",null,null,null,null,null,1]
[null,"Aktiv 1090",null,null,null,null,null,1]
[null,"Aktiv 1091",null,null,null,null,null,1]
[null,"Aktiv 1092",null,null,null,null,null,1]
[null,"Aktiv 1093",null,null,null,null,null,1]
[null,"Aktiv 1094",null,null,null,null,null,1]
[null,"Aktiv 1095",null,null,null,null,null,1]
[null,"Aktiv 1096",null,null,null,null,null,1]
[null,"Aktiv 1097",null,null,null,null,null,1]
[null,"Aktiv 1098",null,null,null,null,null,1]
[null,"Aktiv 1099",null,null,null,null,null,1]
[null,"Aktiv 1100",null,null,null,null,null,1,null,null,null,null,null,null,null,null,null,null,null,"Finansiel lease, ikke overtaget"]
[null,"Aktiv 1101",null,null,null,null,null,1]
[null,"Aktiv 1102",null,null,null,null,null,1]
[null,"Aktiv 1103",null,null,null,null,null,1]
[null,"Aktiv 1104",null,null,null,null,null,1]
[null,"Aktiv 1105",null,null,null,null,null,1]
[null,"Aktiv 1106",null,null,null,null,null,1]
[null,"Aktiv 1107",null,null,null,null,null,1]
[null,"Aktiv 1108",null,null,null,null,null,1]
[null,"Aktiv 1109",null,null,null,null,null,1]
[null,"Aktiv 1110",null,null,null,null,null,1]
[null,"Aktiv 1111",null,null,null,null,null,1]
[null,"Aktiv 1112",null,null,null,null,null,1]
[null,"Aktiv 1113",null,null,null,null,null,1]
[null,"Aktiv 1114",null,null,null,null,null,1]
[null,"Aktiv 1115",null,null,null,null,null,1]
[null,"Aktiv 1116",null,null,null,null,null,1]
[null,"Aktiv 1117",null,null,null,null,null,1]
[null,"Aktiv 1118",null,null,null,null,null,1]
[null,"Aktiv 1119",null,null,null,null,null,1]
[null,"Aktiv 1120",null,null,null,null,null,1]
[null,"Aktiv 1121",null,null,null,null,null,1]
[null,"Aktiv 1122",null,null,null,null,null,1]
[null,"Aktiv 1123",null,null,null,null,null,1]
[null,"Aktiv 1124",null,null,null,null,null,1]
[null,"Aktiv 1125",null,null,null,null,null,1]
[null,"Aktiv 1126",null,null,null,null,null,1]
[null,"Aktiv 1127",null,null,null,null,null,1]
[null,"Aktiv 1128",null,null,null,null,null,1]
[null,"Aktiv 1129",null,null,null,null,null,1]
[null,"Aktiv 1130",null,null,null,null,null,1]
[null,"Aktiv 1131",null,null,null,null,null,1]
[null,"Aktiv 1132",null,null,null,null,null,1]
[null,"Aktiv 1133",null,null,null,null,null,1]
[null,"Aktiv 1134",null,null,null,null,null,1]
[null,"Aktiv 1135",null,null,null,null,null,1]
[null,"Aktiv 1136",null,null,null,null,null,1]
[null,"Aktiv 1137",null,null,null,null,null,1]
[null,"Aktiv 1138",null,null,null,null,null,1]
[null,"Aktiv 1139",null,null,null,null,null,1]
[null,"Aktiv 1140",null,null,null,null,null,1]
[null,"Aktiv 1141",null,null,null,null,null,1]
[null,"Aktiv 1142",null,null,null,null,null,1]
[null,"Aktiv 1143",null,null,null,null,null,1]
[null,"Aktiv 1144",null,null,null,null,null,1]
[null,"Aktiv 1145",null,null,null,null,null,1]
[null,"Aktiv 1146",null,null,null,null,null,1]
[null,"Aktiv 1147",null,null,null,null,null,1]
[null,"Aktiv 1148",null,null,null,null,null,1]
[null,"Aktiv 1149",null,null,null,null,null,1]
[null,"Aktiv 1150",null,null,null,null,null,1]
[null,"Aktiv 1151",null,null,null,null,null,1]
[null,"Aktiv 1152",null,null,null,null,null,{"$f":"100%-(F1163+G1163)","v":1}]
[null,"Aktiv 1153",null,null,null,null,null,1]
[null,"Aktiv 1154",null,null,null,null,null,1]
[null,"Aktiv 1155",null,null,null,null,null,1]
[null,"Aktiv 1156",null,null,null,null,null,1]
[null,"Aktiv 1157",null,null,null,null,null,1]
[null,"Aktiv 1158",null,null,null,null,null,1]
[null,"Aktiv 1159",null,null,null,null,null,1]
[null,"Aktiv 1160",null,null,null,null,null,1]
[null,"Aktiv 1161",null,null,null,null,null,1]
[null,"Aktiv 1162",null,null,null,null,null,1]
[null,"Aktiv 1163",null,null,null,null,null,1]
[null,"Aktiv 1164",null,null,null,null,null,1]
[null,"Aktiv 1165",null,null,null,null,null,1]
[null,"Aktiv 1166",null,null,null,null,null,1]
[null,"Aktiv 1167",null,null,null,null,null,1]
[null,"Aktiv 1168",null,null,null,null,null,1]
[null,"Aktiv 1169",null,null,null,null,null,1]
[null,"Aktiv 1170",null,null,null,null,null,1]
[null,"Aktiv 1171",null,null,null,null,null,1]
[null,"Aktiv 1172",null,null,null,null,null,1]
[null,"Aktiv 1173",null,null,null,null,null,1]
[null,"Aktiv 1174",null,null,null,null,null,1]
[null,"Aktiv 1175",null,null,null,null,null,1]
[null,"Aktiv 1176",null,null,null,null,null,1]
[null,"Aktiv 1177",null,null,null,null,null,1]
[null,"Aktiv 1178",null,null,null,null,null,1]
[null,"Aktiv 1179",null,null,null,null,null,1]
[null,"Aktiv 1180",null,null,null,null,null,1]
[null,"Aktiv 1181",null,null,null,null,null,1]
[null,"Aktiv 1182",null,null,null,null,null,1]
[null,"Aktiv 1183",null,null,null,null,null,1]
[null,"Aktiv 1184",null,null,null,null,null,1]
[null,"Aktiv 1185",null,null,null,null,null,1]
[null,"Aktiv 1186",null,null,null,null,null,1]
[null,"Aktiv 1187",null,null,null,null,null,1]
[null,"Aktiv 1188",null,null,null,null,null,1]
[null,"Aktiv 1189",null,null,null,null,null,1]
[null,"Aktiv 1190",null,null,null,null,null,1]
[null,"Aktiv 1191",null,null,null,null,null,1]
[null,"Aktiv 1192",null,null,null,null,null,1]
[null,"Aktiv 1193",null,null,null,null,null,1]
[null,"Aktiv 1194",null,null,null,null,null,1]
[null,"Aktiv 1195",null,null,null,null,null,1]
[null,"Aktiv 1196",null,null,null,null,null,1]
[null,"Aktiv 1197",null,null,null,null,null,1]
[null,"Aktiv 1198",null,null,null,null,null,1]
[null,"Aktiv 1199",null,null,null,null,null,1]
[null,"Aktiv 1200",null,null,null,null,null,1]
[null,"Aktiv 1201",null,null,null,null,null,1]
[null,"Aktiv 1202",null,null,null,null,null,1]
[null,"Aktiv 1203",null,null,null,null,null,1]
[null,"Aktiv 1204",null,null,null,null,null,1]
[null,"Aktiv 1205",null,null,null,null,null,1]
[null,"Aktiv 1206",null,null,null,null,null,1]
[null,"Aktiv 1207",null,null,null,null,null,1]
[null,"Aktiv 1208",null,null,null,null,null,1]
[null,"Aktiv 1209",null,null,null,null,null,1]
[null,"Aktiv 1210",null,null,null,null,null,1]
[null,"Aktiv 1211",null,null,null,null,null,1]
[null,"Aktiv 1212",null,null,null,null,null,1]
[null,"Aktiv 1213",null,null,null,null,null,1]
[null,"Aktiv 1214",null,null,null,null,null,1]
[null,"Aktiv 1215",null,null,null,null,null,1]
[null,"Aktiv 1216",null,null,null,null,null,{"$f":"100%-(F1227+G1227)","v":1}]
[null,"Aktiv 1217",null,null,null,null,null,1]
[null,"Aktiv 1218",null,null,null,null,null,1]
[null,"Aktiv 1219",null,null,null,null,null,1]
[null,"Aktiv 1220",null,null,null,null,null,1]
[null,"Aktiv 1221",null,null,null,null,null,1]
[null,"Aktiv 1222",null,null,null,null,null,1]
[null,"Aktiv 1223",null,null,null,null,null,1]
[null,"Aktiv 1224",null,null,null,null,null,1]
[null,"Aktiv 1225",null,null,null,null,null,1]
[null,"Aktiv 1226",null,null,null,null,null,1]
[null,"Aktiv 1227",null,null,null,null,null,1]
[null,"Aktiv 1228",null,null,null,null,null,1]
[null,"Aktiv 1229",null,null,null,null,null,1]
[null,"Aktiv 1230",null,null,null,null,null,1]
[null,"Aktiv 1231",null,null,null,null,null,1]
[null,"Aktiv 1232",null,null,null,null,null,1]
[null,"Aktiv 1233",null,null,null,null,null,1]
[null,"Aktiv 1234",null,null,null,null,null,1]
[null,"Aktiv 1235",null,null,null,null,null,1]
[null,"Aktiv 1236",null,null,null,null,null,1]
[null,"Aktiv 1237",null,null,null,null,null,1]
[null,"Aktiv 1238",null,null,null,null,null,1]
[null,"Aktiv 1239",null,null,null,null,null,1]
[null,"Aktiv 1240",null,null,null,null,null,1]
[null,"Aktiv 1241",null,null,null,null,null,1]
[null,"Aktiv 1242",null,null,null,null,null,1]
[null,"Aktiv 1243",null,null,null,null,null,1]
[null,"Aktiv 1244",null,null,null,null,null,1]
[null,"Aktiv 1245",null,null,null,null,null,1]
[null,"Aktiv 1246",null,null,null,null,null,1]
[null,"Aktiv 1247",null,null,null,null,null,1]
[null,"Aktiv 1248",null,null,null,null,null,1]
[null,"Aktiv 1249",null,null,null,null,null,1]
[null,"Aktiv 1250",null,null,null,null,null,1]
[null,"Aktiv 1251",null,null,null,null,null,1]
[null,"Aktiv 1252",null,null,null,null,null,1]
[null,"Aktiv 1253",null,null,null,null,null,1]
[null,"Aktiv 1254",null,null,null,null,null,1]
[null,"Aktiv 1255",null,null,null,null,null,1]
[null,"Aktiv 1256",null,null,null,null,null,1]
[null,"Aktiv 1257",null,null,null,null,null,1]
[null,"Aktiv 1258",null,null,null,null,null,1]
[null,"Aktiv 1259",null,null,null,null,null,1]
[null,"Aktiv 1260",null,null,null,null,null,1]
[null,"Aktiv 1261",null,null,null,null,null,1]
[null,"Aktiv 1262",null,null,null,null,null,1]
[null,"Aktiv 1263",null,null,null,null,null,1]
[null,"Aktiv 1264",null,null,null,null,null,1]
[null,"Aktiv 1265",null,null,null,null,null,1]
[null,"Aktiv 1266",null,null,null,null,null,1]
[null,"Aktiv 1267",null,null,null,null,null,1]
[null,"Aktiv 1268",null,null,null,null,null,1]
[null,"Aktiv 1269",null,null,null,null,null,1]
[null,"Aktiv 1270",null,null,null,null,null,1]
[null,"Aktiv 1271",null,null,null,null,null,1]
[null,"Aktiv 1272",null,null,null,null,null,1]
[null,"Aktiv 1273",null,null,null,null,null,1]
[null,"Aktiv 1274",null,null,null,null,null,1]
[null,"Aktiv 1275",null,null,null,null,null,1]
[null,"Aktiv 1276",null,null,null,null,null,1]
[null,"Aktiv 1277",null,null,null,null,null,1]
[null,"Aktiv 1278",null,null,null,null,null,1]
[null,"Aktiv 1279",null,null,null,null,null,1]
[null,"Aktiv 1280",null,null,null,null,null,{"$f":"100%-(F1291+G1291)","v":1}]
[null,"Aktiv 1281",null,null,null,null,null,1]
[null,"Aktiv 1282",null,null,null,null,null,1]
[null,"Aktiv 1283",null,null,null,null,null,1]
[null,"Aktiv 1284",null,null,null,null,null,1]
[null,"Aktiv 1285",null,null,null,null,null,1]
[null,"Aktiv 1286",null,null,null,null,null,1]
[null,"Aktiv 1287",null,null,null,null,null,1]
[null,"Aktiv 1288",null,null,null,null,null,1]
[null,"Aktiv 1289",null,null,null,null,null,1]
[null,"Aktiv 1290",null,null,null,null,null,1]
[null,"Aktiv 1291",null,null,null,null,null,1]
[null,"Aktiv 1292",null,null,null,null,null,1]
[null,"Aktiv 1293",null,null,null,null,null,1]
[null,"Aktiv 1294",null,null,null,null,null,1]
[null,"Aktiv 1295",null,null,null,null,null,1]
[null,"Aktiv 1296",null,null,null,null,null,1]
[null,"Aktiv 1297",null,null,null,null,null,1]
[null,"Aktiv 1298",null,null,null,null,null,1]
[null,"Aktiv 1299",null,null,null,null,null,1]
[null,"Aktiv 1300",null,null,null,null,null,1]
[null,"Aktiv 1301",null,null,null,null,null,1]
[null,"Aktiv 1302",null,null,null,null,null,1]
[null,"Aktiv 1303",null,null,null,null,null,1]
[null,"Aktiv 1304",null,null,null,null,null,1]
[null,"Aktiv 1305",null,null,null,null,null,1]
[null,"Aktiv 1306",null,null,null,null,null,1]
[null,"Aktiv 1307",null,null,null,null,null,1]
[null,"Aktiv 1308",null,null,null,null,null,1]
[null,"Aktiv 1309",null,null,null,null,null,1]
[null,"Aktiv 1310",null,null,null,null,null,1]
[null,"Aktiv 1311",null,null,null,null,null,1]
[null,"Aktiv 1312",null,null,null,null,null,1]
[null,"Aktiv 1313",null,null,null,null,null,1]
[null,"Aktiv 1314",null,null,null,null,null,1]
[null,"Aktiv 1315",null,null,null,null,null,1]
[null,"Aktiv 1316",null,null,null,null,null,1]
[null,"Aktiv 1317",null,null,null,null,null,1]
[null,"Aktiv 1318",null,null,null,null,null,1]
[null,"Aktiv 1319",null,null,null,null,null,1]
[null,"Aktiv 1320",null,null,null,null,null,1]
[null,"Aktiv 1321",null,null,null,null,null,1]
[null,"Aktiv 1322",null,null,null,null,null,1]
[null,"Aktiv 1323",null,null,null,null,null,1]
[null,"Aktiv 1324",null,null,null,null,null,1]
[null,"Aktiv 1325",null,null,null,null,null,1]
[null,"Aktiv 1326",null,null,null,null,null,1]
[null,"Aktiv 1327",null,null,null,null,null,1]
[null,"Aktiv 1328",null,null,null,null,null,1]
[null,"Aktiv 1329",null,null,null,null,null,1]
[null,"Aktiv 1330",null,null,null,null,null,1]
[null,"Aktiv 1331",null,null,null,null,null,1]
[null,"Aktiv 1332",null,null,null,null,null,1]
[null,"Aktiv 1333",null,null,null,null,null,1]
[null,"Aktiv 1334",null,null,null,null,null,1]
[null,"Aktiv 1335",null,null,null,null,null,1]
[null,"Aktiv 1336",null,null,null,null,null,1]
[null,"Aktiv 1337",null,null,null,null,null,1]
[null,"Aktiv 1338",null,null,null,null,null,1]
[null,"Aktiv 1339",null,null,null,null,null,1]
[null,"Aktiv 1340",null,null,null,null,null,1]
[null,"Aktiv 1341",null,null,null,null,null,1]
[null,"Aktiv 1342",null,null,null,null,null,1]
[null,"Aktiv 1343",null,null,null,null,null,1]
[null,"Aktiv 1344",null,null,null,null,null,{"$f":"100%-(F1355+G1355)","v":1}]
[null,"Aktiv 1345",null,null,null,null,null,1]
[null,"Aktiv 1346",null,null,null,null,null,1]
[null,"Aktiv 1347",null,null,null,null,null,1]
[null,"Aktiv 1348",null,null,null,null,null,1]
[null,"Aktiv 1349",null,null,null,null,null,1]
[null,"Aktiv 1350",null,null,null,null,null,1]
[null,"Aktiv 1351",null,null,null,null,null,1]
[null,"Aktiv 1352",null,null,null,null,null,1]
[null,"Aktiv 1353",null,null,null,null,null,1]
[null,"Aktiv 1354",null,null,null,null,null,1]
[null,"Aktiv 1355",null,null,null,null,null,1]
[null,"Aktiv 1356",null,null,null,null,null,1]
[null,"Aktiv 1357",null,null,null,null,null,1]
[null,"Aktiv 1358",null,null,null,null,null,1]
[null,"Aktiv 1359",null,null,null,null,null,1]
[null,"Aktiv 1360",null,null,null,null,null,1]
[null,"Aktiv 1361",null,null,null,null,null,1]
[null,"Aktiv 1362",null,null,null,null,null,1]
[null,"Aktiv 1363",null,null,null,null,null,1]
[null,"Aktiv 1364",null,null,null,null,null,1]
[null,"Aktiv 1365",null,null,null,null,null,1]
[null,"Aktiv 1366",null,null,null,null,null,1]
[null,"Aktiv 1367",null,null,null,null,null,1]
[null,"Aktiv 1368",null,null,null,null,null,1]
[null,"Aktiv 1369",null,null,null,null,null,1]
[null,"Aktiv 1370",null,null,null,null,null,1]
[null,"Aktiv 1371",null,null,null,null,null,1]
[null,"Aktiv 1372",null,null,null,null,null,1]
[null,"Aktiv 1373",null,null,null,null,null,1]
[null,"Aktiv 1374",null,null,null,null,null,1]
[null,"Aktiv 1375",null,null,null,null,null,1]
[null,"Aktiv 1376",null,null,null,null,null,1]
[null,"Aktiv 1377",null,null,null,null,null,1]
[null,"Aktiv 1378",null,null,null,null,null,1]
[null,"Aktiv 1379",null,null,null,null,null,1]
[null,"Aktiv 1380",null,null,null,null,null,1]
[null,"Aktiv 1381",null,null,null,null,null,1]
[null,"Aktiv 1382",null,null,null,null,null,1]
[null,"Aktiv 1383",null,null,null,null,null,1]
[null,"Aktiv 1384",null,null,null,null,null,1]
[null,"Aktiv 1385",null,null,null,null,null,1]
[null,"Aktiv 1386",null,null,null,null,null,1]
[null,"Aktiv 1387",null,null,null,null,null,1]
[null,"Aktiv 1388",null,null,null,null,null,1]
[null,"Aktiv 1389",null,null,null,null,null,1]
[null,"Aktiv 1390",null,null,null,null,null,1]
[null,"Aktiv 1391",null,null,null,null,null,1]
[null,"Aktiv 1392",null,null,null,null,null,1]
[null,"Aktiv 1393",null,null,null,null,null,1]
[null,"Aktiv 1394",null,null,null,null,null,1]
[null,"Aktiv 1395",null,null,null,null,null,1]
[null,"Aktiv 1396",null,null,null,null,null,1]
[null,"Aktiv 1397",null,null,null,null,null,1]
[null,"Aktiv 1398",null,null,null,null,null,1]
[null,"Aktiv 1399",null,null,null,null,null,1]
[null,"Aktiv 1400",null,null,null,null,null,1]
[null,"Aktiv 1401",null,null,null,null,null,1]
[null,"Aktiv 1402",null,null,null,null,null,1]
[null,"Aktiv 1403",null,null,null,null,null,1]
[null,"Aktiv 1404",null,null,null,null,null,1]
[null,"Aktiv 1405",null,null,null,null,null,1]
[null,"Aktiv 1406",null,null,null,null,null,1]
[null,"Aktiv 1407",null,null,null,null,null,1]
[null,"Aktiv 1408",null,null,null,null,null,{"$f":"100%-(F1419+G1419)","v":1}]
[null,"Aktiv 1409",null,null,null,null,null,1]
[null,"Aktiv 1410",null,null,null,null,null,1]
[null,"Aktiv 1411",null,null,null,null,null,1]
[null,"Aktiv 1412",null,null,null,null,null,1]
[null,"Aktiv 1413",null,null,null,null,null,1]
[null,"Aktiv 1414",null,null,null,null,null,1]
[null,"Aktiv 1415",null,null,null,null,null,1]
[null,"Aktiv 1416",null,null,null,null,null,1]
[null,"Aktiv 1417",null,null,null,null,null,1]
[null,"Aktiv 1418",null,null,null,null,null,1]
[null,"Aktiv 1419",null,null,null,null,null,1]
[null,"Aktiv 1420",null,null,null,null,null,1]
[null,"Aktiv 1421",null,null,null,null,null,1]
[null,"Aktiv 1422",null,null,null,null,null,1]
[null,"Aktiv 1423",null,null,null,null,null,1]
[null,"Aktiv 1424",null,null,null,null,null,1]
[null,"Aktiv 1425",null,null,null,null,null,1]
[null,"Aktiv 1426",null,null,null,null,null,1]
[null,"Aktiv 1427",null,null,null,null,null,1]
[null,"Aktiv 1428",null,null,null,null,null,1]
[null,"Aktiv 1429",null,null,null,null,null,1]
[null,"Aktiv 1430",null,null,null,null,null,1]
[null,"Aktiv 1431",null,null,null,null,null,1]
[null,"Aktiv 1432",null,null,null,null,null,1]
[null,"Aktiv 1433",null,null,null,null,null,1]
[null,"Aktiv 1434",null,null,null,null,null,1]
[null,"Aktiv 1435",null,null,null,null,null,1]
[null,"Aktiv 1436",null,null,null,null,null,1]
[null,"Aktiv 1437",null,null,null,null,null,1]
[null,"Aktiv 1438",null,null,null,null,null,1]
[null,"Aktiv 1439",null,null,null,null,null,1]
[null,"Aktiv 1440",null,null,null,null,null,1]
[null,"Aktiv 1441",null,null,null,null,null,1]
[null,"Aktiv 1442",null,null,null,null,null,1]
[null,"Aktiv 1443",null,null,null,null,null,1]
[null,"Aktiv 1444",null,null,null,null,null,1]
[null,"Aktiv 1445",null,null,null,null,null,1]
[null,"Aktiv 1446",null,null,null,null,null,1]
[null,"Aktiv 1447",null,null,null,null,null,1]
[null,"Aktiv 1448",null,null,null,null,null,1]
[null,"Aktiv 1449",null,null,null,null,null,1]
[null,"Aktiv 1450",null,null,null,null,null,1]
[null,"Aktiv 1451",null,null,null,null,null,1]
[null,"Aktiv 1452",null,null,null,null,null,1]
[null,"Aktiv 1453",null,null,null,null,null,1]
[null,"Aktiv 1454",null,null,null,null,null,1]
[null,"Aktiv 1455",null,null,null,null,null,1]
[null,"Aktiv 1456",null,null,null,null,null,1]
[null,"Aktiv 1457",null,null,null,null,null,1]
[null,"Aktiv 1458",null,null,null,null,null,1]
[null,"Aktiv 1459",null,null,null,null,null,1]
[null,"Aktiv 1460",null,null,null,null,null,1]
[null,"Aktiv 1461",null,null,null,null,null,1]
[null,"Aktiv 1462",null,null,null,null,null,1]
[null,"Aktiv 1463",null,null,null,null,null,1]
[null,"Aktiv 1464",null,null,null,null,null,1]
[null,"Aktiv 1465",null,null,null,null,null,1]
[null,"Aktiv 1466",null,null,null,null,null,1]
[null,"Aktiv 1467",null,null,null,null,null,1]
[null,"Aktiv 1468",null,null,null,null,null,1]
[null,"Aktiv 1469",null,null,null,null,null,1]
[null,"Aktiv 1470",null,null,null,null,null,1]
[null,"Aktiv 1471",null,null,null,null,null,1]
[null,"Aktiv 1472",null,null,null,null,null,{"$f":"100%-(F1483+G1483)","v":1}]
[null,"Aktiv 1473",null,null,null,null,null,1]
[null,"Aktiv 1474",null,null,null,null,null,1]
[null,"Aktiv 1475",null,null,null,null,null,1]
[null,"Aktiv 1476",null,null,null,null,null,1]
[null,"Aktiv 1477",null,null,null,null,null,1]
[null,"Aktiv 1478",null,null,null,null,null,1]
[null,"Aktiv 1479",null,null,null,null,null,1]
[null,"Aktiv 1480",null,null,null,null,null,1]
[null,"Aktiv 1481",null,null,null,null,null,1]
[null,"Aktiv 1482",null,null,null,null,null,1]
[null,"Aktiv 1483",null,null,null,null,null,1]
[null,"Aktiv 1484",null,null,null,null,null,1]
[null,"Aktiv 1485",null,null,null,null,null,1]
[null,"Aktiv 1486",null,null,null,null,null,1]
[null,"Aktiv 1487",null,null,null,null,null,1]
[null,"Aktiv 1488",null,null,null,null,null,1]
[null,"Aktiv 1489",null,null,null,null,null,1]
[null,"Aktiv 1490",null,null,null,null,null,1]
[null,"Aktiv 1491",null,null,null,null,null,1]
[null,"Aktiv 1492",null,null,null,null,null,1]
[null,"Aktiv 1493",null,null,null,null,null,1]
[null,"Aktiv 1494",null,null,null,null,null,1]
[null,"Aktiv 1495",null,null,null,null,null,1]
[null,"Aktiv 1496",null,null,null,null,null,1]
[null,"Aktiv 1497",null,null,null,null,null,1]
[null,"Aktiv 1498",null,null,null,null,null,1]
[null,"Aktiv 1499",null,null,null,null,null,1]
[null,"Aktiv 1500",null,null,null,null,null,1]
[null,"Aktiv 1501",null,null,null,null,null,1]
[null,"Aktiv 1502",null,null,null,null,null,1]
[null,"Aktiv 1503",null,null,null,null,null,1]
[null,"Aktiv 1504",null,null,null,null,null,1]
[null,"Aktiv 1505",null,null,null,null,null,1]
[null,"Aktiv 1506",null,null,null,null,null,1]
[null,"Aktiv 1507",null,null,null,null,null,1]
[null,"Aktiv 1508",null,null,null,null,null,1]
[null,"Aktiv 1509",null,null,null,null,null,1]
[null,"Aktiv 1510",null,null,null,null,null,1]
[null,"Aktiv 1511",null,null,null,null,null,1]
[null,"Aktiv 1512",null,null,null,null,null,1]
[null,"Aktiv 1513",null,null,null,null,null,1]
[null,"Aktiv 1514",null,null,null,null,null,1]
[null,"Aktiv 1515",null,null,null,null,null,1]
[null,"Aktiv 1516",null,null,null,null,null,1]
[null,"Aktiv 1517",null,null,null,null,null,1]
[null,"Aktiv 1518",null,null,null,null,null,1]
[null,"Aktiv 1519",null,null,null,null,null,1]
[null,"Aktiv 1520",null,null,null,null,null,1]
[null,"Aktiv 1521",null,null,null,null,null,1]
[null,"Aktiv 1522",null,null,null,null,null,1]
[null,"Aktiv 1523",null,null,null,null,null,1]
[null,"Aktiv 1524",null,null,null,null,null,1]
[null,"Aktiv 1525",null,null,null,null,null,1]
[null,"Aktiv 1526",null,null,null,null,null,1]
[null,"Aktiv 1527",null,null,null,null,null,1]
[null,"Aktiv 1528",null,null,null,null,null,1]
[null,"Aktiv 1529",null,null,null,null,null,1]
[null,"Aktiv 1530",null,null,null,null,null,1]
[null,"Aktiv 1531",null,null,null,null,null,1]
[null,"Aktiv 1532",null,null,null,null,null,1]
[null,"Aktiv 1533",null,null,null,null,null,1]
[null,"Aktiv 1534",null,null,null,null,null,1]
[null,"Aktiv 1535",null,null,null,null,null,1]
[null,"Aktiv 1536",null,null,null,null,null,{"$f":"100%-(F1547+G1547)","v":1}]
[null,"Aktiv 1537",null,null,null,null,null,1]
[null,"Aktiv 1538",null,null,null,null,null,1]
[null,"Aktiv 1539",null,null,null,null,null,1]
[null,"Aktiv 1540",null,null,null,null,null,1]
[null,"Aktiv 1541",null,null,null,null,null,1]
[null,"Aktiv 1542",null,null,null,null,null,1]
[null,"Aktiv 1543",null,null,null,null,null,1]
[null,"Aktiv 1544",null,null,null,null,null,1]
[null,"Aktiv 1545",null,null,null,null,null,1]
[null,"Aktiv 1546",null,null,null,null,null,1]
[null,"Aktiv 1547",null,null,null,null,null,1]
[null,"Aktiv 1548",null,null,null,null,null,1]
[null,"Aktiv 1549",null,null,null,null,null,1]
[null,"Aktiv 1550",null,null,null,null,null,1]
[null,"Aktiv 1551",null,null,null,null,null,1]
[null,"Aktiv 1552",null,null,null,null,null,1]
[null,"Aktiv 1553",null,null,null,null,null,1]
[null,"Aktiv 1554",null,null,null,null,null,1]
[null,"Aktiv 1555",null,null,null,null,null,1]
[null,"Aktiv 1556",null,null,null,null,null,1]
[null,"Aktiv 1557",null,null,null,null,null,1]
[null,"Aktiv 1558",null,null,null,null,null,1]
[null,"Aktiv 1559",null,null,null,null,null,1]
[null,"Aktiv 1560",null,null,null,null,null,1]
[null,"Aktiv 1561",null,null,null,null,null,1]
[null,"Aktiv 1562",null,null,null,null,null,1]
[null,"Aktiv 1563",null,null,null,null,null,1]
[null,"Aktiv 1564",null,null,null,null,null,1]
[null,"Aktiv 1565",null,null,null,null,null,1]
[null,"Aktiv 1566",null,null,null,null,null,1]
[null,"Aktiv 1567",null,null,null,null,null,1]
[null,"Aktiv 1568",null,null,null,null,null,1]
[null,"Aktiv 1569",null,null,null,null,null,1]
[null,"Aktiv 1570",null,null,null,null,null,1]
[null,"Aktiv 1571",null,null,null,null,null,1]
[null,"Aktiv 1572",null,null,null,null,null,1]
[null,"Aktiv 1573",null,null,null,null,null,1]
[null,"Aktiv 1574",null,null,null,null,null,1]
[null,"Aktiv 1575",null,null,null,null,null,1]
[null,"Aktiv 1576",null,null,null,null,null,1]
[null,"Aktiv 1577",null,null,null,null,null,1]
[null,"Aktiv 1578",null,null,null,null,null,1]
[null,"Aktiv 1579",null,null,null,null,null,1]
[null,"Aktiv 1580",null,null,null,null,null,1]
[null,"Aktiv 1581",null,null,null,null,null,1]
[null,"Aktiv 1582",null,null,null,null,null,1]
[null,"Aktiv 1583",null,null,null,null,null,1]
[null,"Aktiv 1584",null,null,null,null,null,1]
[null,"Aktiv 1585",null,null,null,null,null,1]
[null,"Aktiv 1586",null,null,null,null,null,1]
[null,"Aktiv 1587",null,null,null,null,null,1]
[null,"Aktiv 1588",null,null,null,null,null,1]
[null,"Aktiv 1589",null,null,null,null,null,1]
[null,"Aktiv 1590",null,null,null,null,null,1]
[null,"Aktiv 1591",null,null,null,null,null,1]
[null,"Aktiv 1592",null,null,null,null,null,1]
[null,"Aktiv 1593",null,null,null,null,null,1]
[null,"Aktiv 1594",null,null,null,null,null,1]
[null,"Aktiv 1595",null,null,null,null,null,1]
[null,"Aktiv 1596",null,null,null,null,null,1]
[null,"Aktiv 1597",null,null,null,null,null,1]
[null,"Aktiv 1598",null,null,null,null,null,1]
[null,"Aktiv 1599",null,null,null,null,null,1]
[null,"Aktiv 1600",null,null,null,null,null,{"$f":"100%-(F1611+G1611)","v":1}]
[null,"Aktiv 1601",null,null,null,null,null,1]
[null,"Aktiv 1602",null,null,null,null,null,1]
[null,"Aktiv 1603",null,null,null,null,null,1]
[null,"Aktiv 1604",null,null,null,null,null,1]
[null,"Aktiv 1605",null,null,null,null,null,1]
[null,"Aktiv 1606",null,null,null,null,null,1]
[null,"Aktiv 1607",null,null,null,null,null,1]
[null,"Aktiv 1608",null,null,null,null,null,1]
[null,"Aktiv 1609",null,null,null,null,null,1]
[null,"Aktiv 1610",null,null,null,null,null,1]
[null,"Aktiv 1611",null,null,null,null,null,1]
[null,"Aktiv 1612",null,null,null,null,null,1]
[null,"Aktiv 1613",null,null,null,null,null,1]
[null,"Aktiv 1614",null,null,null,null,null,1]
[null,"Aktiv 1615",null,null,null,null,null,1]
[null,"Aktiv 1616",null,null,null,null,null,1]
[null,"Aktiv 1617",null,null,null,null,null,1]
[null,"Aktiv 1618",null,null,null,null,null,1]
[null,"Aktiv 1619",null,null,null,null,null,1]
[null,"Aktiv 1620",null,null,null,null,null,1]
[null,"Aktiv 1621",null,null,null,null,null,1]
[null,"Aktiv 1622",null,null,null,null,null,1]
[null,"Aktiv 1623",null,null,null,null,null,1]
[null,"Aktiv 1624",null,null,null,null,null,1]
[null,"Aktiv 1625",null,null,null,null,null,1]
[null,"Aktiv 1626",null,null,null,null,null,1]
[null,"Aktiv 1627",null,null,null,null,null,1]
[null,"Aktiv 1628",null,null,null,null,null,1]
[null,"Aktiv 1629",null,null,null,null,null,1]
[null,"Aktiv 1630",null,null,null,null,null,1]
[null,"Aktiv 1631",null,null,null,null,null,1]
[null,"Aktiv 1632",null,null,null,null,null,1]
[null,"Aktiv 1633",null,null,null,null,null,1]
[null,"Aktiv 1634",null,null,null,null,null,1]
[null,"Aktiv 1635",null,null,null,null,null,1]
[null,"Aktiv 1636",null,null,null,null,null,1]
[null,"Aktiv 1637",null,null,null,null,null,1]
[null,"Aktiv 1638",null,null,null,null,null,1]
[null,"Aktiv 1639",null,null,null,null,null,1]
[null,"Aktiv 1640",null,null,null,null,null,1]
[null,"Aktiv 1641",null,null,null,null,null,1]
[null,"Aktiv 1642",null,null,null,null,null,1]
[null,"Aktiv 1643",null,null,null,null,null,1]
[null,"Aktiv 1644",null,null,null,null,null,1]
[null,"Aktiv 1645",null,null,null,null,null,1]
[null,"Aktiv 1646",null,null,null,null,null,1]
[null,"Aktiv 1647",null,null,null,null,null,1]
[null,"Aktiv 1648",null,null,null,null,null,1]
[null,"Aktiv 1649",null,null,null,null,null,1]
[null,"Aktiv 1650",null,null,null,null,null,1]
[null,"Aktiv 1651",null,null,null,null,null,1]
[null,"Aktiv 1652",null,null,null,null,null,1]
[null,"Aktiv 1653",null,null,null,null,null,1]
[null,"Aktiv 1654",null,null,null,null,null,1]
[null,"Aktiv 1655",null,null,null,null,null,1]
[null,"Aktiv 1656",null,null,null,null,null,1]
[null,"Aktiv 1657",null,null,null,null,null,1]
[null,"Aktiv 1658",null,null,null,null,null,1]
[null,"Aktiv 1659",null,null,null,null,null,1]
[null,"Aktiv 1660",null,null,null,null,null,1]
[null,"Aktiv 1661",null,null,null,null,null,1]
[null,"Aktiv 1662",null,null,null,null,null,1]
[null,"Aktiv 1663",null,null,null,null,null,1]
[null,"Aktiv 1664",null,null,null,null,null,{"$f":"100%-(F1675+G1675)","v":1}]
[null,"Aktiv 1665",null,null,null,null,null,1]
[null,"Aktiv 1666",null,null,null,null,null,1]
[null,"Aktiv 1667",null,null,null,null,null,1]
[null,"Aktiv 1668",null,null,null,null,null,1]
[null,"Aktiv 1669",null,null,null,null,null,1]
[null,"Aktiv 1670",null,null,null,null,null,1]
[null,"Aktiv 1671",null,null,null,null,null,1]
[null,"Aktiv 1672",null,null,null,null,null,1]
[null,"Aktiv 1673",null,null,null,null,null,1]
[null,"Aktiv 1674",null,null,null,null,null,1]
[null,"Aktiv 1675",null,null,null,null,null,1]
[null,"Aktiv 1676",null,null,null,null,null,1]
[null,"Aktiv 1677",null,null,null,null,null,1]
[null,"Aktiv 1678",null,null,null,null,null,1]
[null,"Aktiv 1679",null,null,null,null,null,1]
[null,"Aktiv 1680",null,null,null,null,null,1]
[null,"Aktiv 1681",null,null,null,null,null,1]
[null,"Aktiv 1682",null,null,null,null,null,1]
[null,"Aktiv 1683",null,null,null,null,null,1]
[null,"Aktiv 1684",null,null,null,null,null,1]
[null,"Aktiv 1685",null,null,null,null,null,1]
[null,"Aktiv 1686",null,null,null,null,null,1]
[null,"Aktiv 1687",null,null,null,null,null,1]
[null,"Aktiv 1688",null,null,null,null,null,1]
[null,"Aktiv 1689",null,null,null,null,null,1]
[null,"Aktiv 1690",null,null,null,null,null,1]
[null,"Aktiv 1691",null,null,null,null,null,1]
[null,"Aktiv 1692",null,null,null,null,null,1]
[null,"Aktiv 1693",null,null,null,null,null,1]
[null,"Aktiv 1694",null,null,null,null,null,1]
[null,"Aktiv 1695",null,null,null,null,null,1]
[null,"Aktiv 1696",null,null,null,null,null,1]
[null,"Aktiv 1697",null,null,null,null,null,1]
[null,"Aktiv 1698",null,null,null,null,null,1]
[null,"Aktiv 1699",null,null,null,null,null,1]
[null,"Aktiv 1700",null,null,null,null,null,1]
[null,"Aktiv 1701",null,null,null,null,null,1]
[null,"Aktiv 1702",null,null,null,null,null,1]
[null,"Aktiv 1703",null,null,null,null,null,1]
[null,"Aktiv 1704",null,null,null,null,null,1]
[null,"Aktiv 1705",null,null,null,null,null,1]
[null,"Aktiv 1706",null,null,null,null,null,1]
[null,"Aktiv 1707",null,null,null,null,null,1]
[null,"Aktiv 1708",null,null,null,null,null,1]
[null,"Aktiv 1709",null,null,null,null,null,1]
[null,"Aktiv 1710",null,null,null,null,null,1]
[null,"Aktiv 1711",null,null,null,null,null,1]
[null,"Aktiv 1712",null,null,null,null,null,1]
[null,"Aktiv 1713",null,null,null,null,null,1]
[null,"Aktiv 1714",null,null,null,null,null,1]
[null,"Aktiv 1715",null,null,null,null,null,1]
[null,"Aktiv 1716",null,null,null,null,null,1]
[null,"Aktiv 1717",null,null,null,null,null,1]
[null,"Aktiv 1718",null,null,null,null,null,1]
[null,"Aktiv 1719",null,null,null,null,null,1]
[null,"Aktiv 1720",null,null,null,null,null,1]
[null,"Aktiv 1721",null,null,null,null,null,1]
[null,"Aktiv 1722",null,null,null,null,null,1]
[null,"Aktiv 1723",null,null,null,null,null,1]
[null,"Aktiv 1724",null,null,null,null,null,1]
[null,"Aktiv 1725",null,null,null,null,null,1]
[null,"Aktiv 1726",null,null,null,null,null,1]
[null,"Aktiv 1727",null,null,null,null,null,1]
[null,"Aktiv 1728",null,null,null,null,null,{"$f":"100%-(F1739+G1739)","v":1}]
[null,"Aktiv 1729",null,null,null,null,null,1]
[null,"Aktiv 1730",null,null,null,null,null,1]
[null,"Aktiv 1731",null,null,null,null,null,1]
[null,"Aktiv 1732",null,null,null,null,null,1]
[null,"Aktiv 1733",null,null,null,null,null,1]
[null,"Aktiv 1734",null,null,null,null,null,1]
[null,"Aktiv 1735",null,null,null,null,null,1]
[null,"Aktiv 1736",null,null,null,null,null,1]
[null,"Aktiv 1737",null,null,null,null,null,1]
[null,"Aktiv 1738",null,null,null,null,null,1]
[null,"Aktiv 1739",null,null,null,null,null,1]
[null,"Aktiv 1740",null,null,null,null,null,1]
[null,"Aktiv 1741",null,null,null,null,null,1]
[null,"Aktiv 1742",null,null,null,null,null,1]
[null,"Aktiv 1743",null,null,null,null,null,1]
[null,"Aktiv 1744",null,null,null,null,null,1]
[null,"Aktiv 1745",null,null,null,null,null,1]
[null,"Aktiv 1746",null,null,null,null,null,1]
[null,"Aktiv 1747",null,null,null,null,null,1]
[null,"Aktiv 1748",null,null,null,null,null,1]
[null,"Aktiv 1749",null,null,null,null,null,1]
[null,"Aktiv 1750",null,null,null,null,null,1]
[null,"Aktiv 1751",null,null,null,null,null,1]
[null,"Aktiv 1752",null,null,null,null,null,1]
[null,"Aktiv 1753",null,null,null,null,null,1]
[null,"Aktiv 1754",null,null,null,null,null,1]
[null,"Aktiv 1755",null,null,null,null,null,1]
[null,"Aktiv 1756",null,null,null,null,null,1]
[null,"Aktiv 1757",null,null,null,null,null,1]
[null,"Aktiv 1758",null,null,null,null,null,1]
[null,"Aktiv 1759",null,null,null,null,null,1]
[null,"Aktiv 1760",null,null,null,null,null,1]
[null,"Aktiv 1761",null,null,null,null,null,1]
[null,"Aktiv 1762",null,null,null,null,null,1]
[null,"Aktiv 1763",null,null,null,null,null,1]
[null,"Aktiv 1764",null,null,null,null,null,1]
[null,"Aktiv 1765",null,null,null,null,null,1]
[null,"Aktiv 1766",null,null,null,null,null,1]
[null,"Aktiv 1767",null,null,null,null,null,1]
[null,"Aktiv 1768",null,null,null,null,null,1]
[null,"Aktiv 1769",null,null,null,null,null,1]
[null,"Aktiv 1770",null,null,null,null,null,1]
[null,"Aktiv 1771",null,null,null,null,null,1]
[null,"Aktiv 1772",null,null,null,null,null,1]
[null,"Aktiv 1773",null,null,null,null,null,1]
[null,"Aktiv 1774",null,null,null,null,null,1]
[null,"Aktiv 1775",null,null,null,null,null,1]
[null,"Aktiv 1776",null,null,null,null,null,1]
[null,"Aktiv 1777",null,null,null,null,null,1]
[null,"Aktiv 1778",null,null,null,null,null,1]
[null,"Aktiv 1779",null,null,null,null,null,1]
[null,"Aktiv 1780",null,null,null,null,null,1]
[null,"Aktiv 1781",null,null,null,null,null,1]
[null,"Aktiv 1782",null,null,null,null,null,1]
[null,"Aktiv 1783",null,null,null,null,null,1]
[null,"Aktiv 1784",null,null,null,null,null,1]
[null,"Aktiv 1785",null,null,null,null,null,1]
[null,"Aktiv 1786",null,null,null,null,null,1]
[null,"Aktiv 1787",null,null,null,null,null,1]
[null,"Aktiv 1788",null,null,null,null,null,1]
[null,"Aktiv 1789",null,null,null,null,null,1]
[null,"Aktiv 1790",null,null,null,null,null,1]
[null,"Aktiv 1791",null,null,null,null,null,1]
[null,"Aktiv 1792",null,null,null,null,null,{"$f":"100%-(F1803+G1803)","v":1}]
[null,"Aktiv 1793",null,null,null,null,null,1]
[null,"Aktiv 1794",null,null,null,null,null,1]
[null,"Aktiv 1795",null,null,null,null,null,1]
[null,"Aktiv 1796",null,null,null,null,null,1]
[null,"Aktiv 1797",null,null,null,null,null,1]
[null,"Aktiv 1798",null,null,null,null,null,1]
[null,"Aktiv 1799",null,null,null,null,null,1]
[null,"Aktiv 1800",null,null,null,null,null,1]
[null,"Aktiv 1801",null,null,null,null,null,1]
[null,"Aktiv 1802",null,null,null,null,null,1]
[null,"Aktiv 1803",null,null,null,null,null,1]
[null,"Aktiv 1804",null,null,null,null,null,1]
[null,"Aktiv 1805",null,null,null,null,null,1]
[null,"Aktiv 1806",null,null,null,null,null,1]
[null,"Aktiv 1807",null,null,null,null,null,1]
[null,"Aktiv 1808",null,null,null,null,null,1]
[null,"Aktiv 1809",null,null,null,null,null,1]
[null,"Aktiv 1810",null,null,null,null,null,1]
[null,"Aktiv 1811",null,null,null,null,null,1]
[null,"Aktiv 1812",null,null,null,null,null,1]
[null,"Aktiv 1813",null,null,null,null,null,1]
[null,"Aktiv 1814",null,null,null,null,null,1]
[null,"Aktiv 1815",null,null,null,null,null,1]
[null,"Aktiv 1816",null,null,null,null,null,1]
[null,"Aktiv 1817",null,null,null,null,null,1]
[null,"Aktiv 1818",null,null,null,null,null,1]
[null,"Aktiv 1819",null,null,null,null,null,1]
[null,"Aktiv 1820",null,null,null,null,null,1]
[null,"Aktiv 1821",null,null,null,null,null,1]
[null,"Aktiv 1822",null,null,null,null,null,1]
[null,"Aktiv 1823",null,null,null,null,null,1]
[null,"Aktiv 1824",null,null,null,null,null,1]
[null,"Aktiv 1825",null,null,null,null,null,1]
[null,"Aktiv 1826",null,null,null,null,null,1]
[null,"Aktiv 1827",null,null,null,null,null,1]
[null,"Aktiv 1828",null,null,null,null,null,1]
[null,"Aktiv 1829",null,null,null,null,null,1]
[null,"Aktiv 1830",null,null,null,null,null,1]
[null,"Aktiv 1831",null,null,null,null,null,1]
[null,"Aktiv 1832",null,null,null,null,null,1]
[null,"Aktiv 1833",null,null,null,null,null,1]
[null,"Aktiv 1834",null,null,null,null,null,1]
[null,"Aktiv 1835",null,null,null,null,null,1]
[null,"Aktiv 1836",null,null,null,null,null,1]
[null,"Aktiv 1837",null,null,null,null,null,1]
[null,"Aktiv 1838",null,null,null,null,null,1]
[null,"Aktiv 1839",null,null,null,null,null,1]
[null,"Aktiv 1840",null,null,null,null,null,1]
[null,"Aktiv 1841",null,null,null,null,null,1]
[null,"Aktiv 1842",null,null,null,null,null,1]
[null,"Aktiv 1843",null,null,null,null,null,1]
[null,"Aktiv 1844",null,null,null,null,null,1]
[null,"Aktiv 1845",null,null,null,null,null,1]
[null,"Aktiv 1846",null,null,null,null,null,1]
[null,"Aktiv 1847",null,null,null,null,null,1]
[null,"Aktiv 1848",null,null,null,null,null,1]
[null,"Aktiv 1849",null,null,null,null,null,1]
[null,"Aktiv 1850",null,null,null,null,null,1]
[null,"Aktiv 1851",null,null,null,null,null,1]
[null,"Aktiv 1852",null,null,null,null,null,1]
[null,"Aktiv 1853",null,null,null,null,null,1]
[null,"Aktiv 1854",null,null,null,null,null,1]
[null,"Aktiv 1855",null,null,null,null,null,1]
[null,"Aktiv 1856",null,null,null,null,null,{"$f":"100%-(F1867+G1867)","v":1}]
[null,"Aktiv 1857",null,null,null,null,null,1]
[null,"Aktiv 1858",null,null,null,null,null,1]
[null,"Aktiv 1859",null,null,null,null,null,1]
[null,"Aktiv 1860",null,null,null,null,null,1]
[null,"Aktiv 1861",null,null,null,null,null,1]
[null,"Aktiv 1862",null,null,null,null,null,1]
[null,"Aktiv 1863",null,null,null,null,null,1]
[null,"Aktiv 1864",null,null,null,null,null,1]
[null,"Aktiv 1865",null,null,null,null,null,1]
[null,"Aktiv 1866",null,null,null,null,null,1]
[null,"Aktiv 1867",null,null,null,null,null,1]
[null,"Aktiv 1868",null,null,null,null,null,1]
[null,"Aktiv 1869",null,null,null,null,null,1]
[null,"Aktiv 1870",null,null,null,null,null,1]
[null,"Aktiv 1871",null,null,null,null,null,1]
[null,"Aktiv 1872",null,null,null,null,null,1]
[null,"Aktiv 1873",null,null,null,null,null,1]
[null,"Aktiv 1874",null,null,null,null,null,1]
[null,"Aktiv 1875",null,null,null,null,null,1]
[null,"Aktiv 1876",null,null,null,null,null,1]
[null,"Aktiv 1877",null,null,null,null,null,1]
[null,"Aktiv 1878",null,null,null,null,null,1]
[null,"Aktiv 1879",null,null,null,null,null,1]
[null,"Aktiv 1880",null,null,null,null,null,1]
[null,"Aktiv 1881",null,null,null,null,null,1]
[null,"Aktiv 1882",null,null,null,null,null,1]
[null,"Aktiv 1883",null,null,null,null,null,1]
[null,"Aktiv 1884",null,null,null,null,null,1]
[null,"Aktiv 1885",null,null,null,null,null,1]
[null,"Aktiv 1886",null,null,null,null,null,1]
[null,"Aktiv 1887",null,null,null,null,null,1]
[null,"Aktiv 1888",null,null,null,null,null,1]
[null,"Aktiv 1889",null,null,null,null,null,1]
[null,"Aktiv 1890",null,null,null,null,null,1]
[null,"Aktiv 1891",null,null,null,null,null,1]
[null,"Aktiv 1892",null,null,null,null,null,1]
[null,"Aktiv 1893",null,null,null,null,null,1]
[null,"Aktiv 1894",null,null,null,null,null,1]
[null,"Aktiv 1895",null,null,null,null,null,1]
[null,"Aktiv 1896",null,null,null,null,null,1]
[null,"Aktiv 1897",null,null,null,null,null,1]
[null,"Aktiv 1898",null,null,null,null,null,1]
[null,"Aktiv 1899",null,null,null,null,null,1]
[null,"Aktiv 1900",null,null,null,null,null,1]
[null,"Aktiv 1901",null,null,null,null,null,1]
[null,"Aktiv 1902",null,null,null,null,null,1]
[null,"Aktiv 1903",null,null,null,null,null,1]
[null,"Aktiv 1904",null,null,null,null,null,1]
[null,"Aktiv 1905",null,null,null,null,null,1]
[null,"Aktiv 1906",null,null,null,null,null,1]
[null,"Aktiv 1907",null,null,null,null,null,1]
[null,"Aktiv 1908",null,null,null,null,null,1]
[null,"Aktiv 1909",null,null,null,null,null,1]
[null,"Aktiv 1910",null,null,null,null,null,1]
[null,"Aktiv 1911",null,null,null,null,null,1]
[null,"Aktiv 1912",null,null,null,null,null,1]
[null,"Aktiv 1913",null,null,null,null,null,1]
[null,"Aktiv 1914",null,null,null,null,null,1]
[null,"Aktiv 1915",null,null,null,null,null,1]
[null,"Aktiv 1916",null,null,null,null,null,1]
[null,"Aktiv 1917",null,null,null,null,null,1]
[null,"Aktiv 1918",null,null,null,null,null,1]
[null,"Aktiv 1919",null,null,null,null,null,1]
[null,"Aktiv 1920",null,null,null,null,null,{"$f":"100%-(F1931+G1931)","v":1}]
[null,"Aktiv 1921",null,null,null,null,null,1]
[null,"Aktiv 1922",null,null,null,null,null,1]
[null,"Aktiv 1923",null,null,null,null,null,1]
[null,"Aktiv 1924",null,null,null,null,null,1]
[null,"Aktiv 1925",null,null,null,null,null,1]
[null,"Aktiv 1926",null,null,null,null,null,1]
[null,"Aktiv 1927",null,null,null,null,null,1]
[null,"Aktiv 1928",null,null,null,null,null,1]
[null,"Aktiv 1929",null,null,null,null,null,1]
[null,"Aktiv 1930",null,null,null,null,null,1]
[null,"Aktiv 1931",null,null,null,null,null,1]
[null,"Aktiv 1932",null,null,null,null,null,1]
[null,"Aktiv 1933",null,null,null,null,null,1]
[null,"Aktiv 1934",null,null,null,null,null,1]
[null,"Aktiv 1935",null,null,null,null,null,1]
[null,"Aktiv 1936",null,null,null,null,null,1]
[null,"Aktiv 1937",null,null,null,null,null,1]
[null,"Aktiv 1938",null,null,null,null,null,1]
[null,"Aktiv 1939",null,null,null,null,null,1]
[null,"Aktiv 1940",null,null,null,null,null,1]
[null,"Aktiv 1941",null,null,null,null,null,1]
[null,"Aktiv 1942",null,null,null,null,null,1]
[null,"Aktiv 1943",null,null,null,null,null,1]
[null,"Aktiv 1944",null,null,null,null,null,1]
[null,"Aktiv 1945",null,null,null,null,null,1]
[null,"Aktiv 1946",null,null,null,null,null,1]
[null,"Aktiv 1947",null,null,null,null,null,1]
[null,"Aktiv 1948",null,null,null,null,null,1]
[null,"Aktiv 1949",null,null,null,null,null,1]
[null,"Aktiv 1950",null,null,null,null,null,1]
[null,"Aktiv 1951",null,null,null,null,null,1]
[null,"Aktiv 1952",null,null,null,null,null,1]
[null,"Aktiv 1953",null,null,null,null,null,1]
[null,"Aktiv 1954",null,null,null,null,null,1]
[null,"Aktiv 1955",null,null,null,null,null,1]
[null,"Aktiv 1956",null,null,null,null,null,1]
[null,"Aktiv 1957",null,null,null,null,null,1]
[null,"Aktiv 1958",null,null,null,null,null,1]
[null,"Aktiv 1959",null,null,null,null,null,1]
[null,"Aktiv 1960",null,null,null,null,null,1]
[null,"Aktiv 1961",null,null,null,null,null,1]
[null,"Aktiv 1962",null,null,null,null,null,1]
[null,"Aktiv 1963",null,null,null,null,null,1]
[null,"Aktiv 1964",null,null,null,null,null,1]
[null,"Aktiv 1965",null,null,null,null,null,1]
[null,"Aktiv 1966",null,null,null,null,null,1]
[null,"Aktiv 1967",null,null,null,null,null,1]
[null,"Aktiv 1968",null,null,null,null,null,1]
[null,"Aktiv 1969",null,null,null,null,null,1]
[null,"Aktiv 1970",null,null,null,null,null,1]
[null,"Aktiv 1971",null,null,null,null,null,1]
[null,"Aktiv 1972",null,null,null,null,null,1]
[null,"Aktiv 1973",null,null,null,null,null,1]
[null,"Aktiv 1974",null,null,null,null,null,1]
[null,"Aktiv 1975",null,null,null,null,null,1]
[null,"Aktiv 1976",null,null,null,null,null,1]
[null,"Aktiv 1977",null,null,null,null,null,1]
[null,"Aktiv 1978",null,null,null,null,null,1]
[null,"Aktiv 1979",null,null,null,null,null,1]
[null,"Aktiv 1980",null,null,null,null,null,1]
[null,"Aktiv 1981",null,null,null,null,null,1]
[null,"Aktiv 1982",null,null,null,null,null,1]
[null,"Aktiv 1983",null,null,null,null,null,1]
[null,"Aktiv 1984",null,null,null,null,null,{"$f":"100%-(F1995+G1995)","v":1}]
[null,"Aktiv 1985",null,null,null,null,null,1]
[null,"Aktiv 1986",null,null,null,null,null,1]
[null,"Aktiv 1987",null,null,null,null,null,1]
[null,"Aktiv 1988",null,null,null,null,null,1]
[null,"Aktiv 1989",null,null,null,null,null,1]
[null,"Aktiv 1990",null,null,null,null,null,1]
[null,"Aktiv 1991",null,null,null,null,null,1]
[null,"Aktiv 1992",null,null,null,null,null,1]
[null,"Aktiv 1993",null,null,null,null,null,1]
[null,"Aktiv 1994",null,null,null,null,null,1]
[null,"Aktiv 1995",null,null,null,null,null,1]
[null,"Aktiv 1996",null,null,null,null,null,1]
[null,"Aktiv 1997",null,null,null,null,null,1]
[null,"Aktiv 1998",null,null,null,null,null,1]
[null,"Aktiv 1999",null,null,null,null,null,1]
[null,"Aktiv 2000",null,null,null,null,null,1]
[null,"Aktiv 2001",null,null,null,null,null,1]
[null,"Aktiv 2002",null,null,null,null,null,1]
[null,"Aktiv 2003",null,null,null,null,null,1]
[null,"Aktiv 2004",null,null,null,null,null,1]
[null,"Aktiv 2005",null,null,null,null,null,1]
[null,"Aktiv 2006",null,null,null,null,null,1]
[null,"Aktiv 2007",null,null,null,null,null,1]
[null,"Aktiv 2008",null,null,null,null,null,1]
[null,"Aktiv 2009",null,null,null,null,null,1]
[null,"Aktiv 2010",null,null,null,null,null,1]
[null,"Aktiv 2011",null,null,null,null,null,1]
[null,"Aktiv 2012",null,null,null,null,null,1]
[null,"Aktiv 2013",null,null,null,null,null,1]
[null,"Aktiv 2014",null,null,null,null,null,1]
[null,"Aktiv 2015",null,null,null,null,null,1]
[null,"Aktiv 2016",null,null,null,null,null,1]
[null,"Aktiv 2017",null,null,null,null,null,1]
[null,"Aktiv 2018",null,null,null,null,null,1]
[null,"Aktiv 2019",null,null,null,null,null,1]
[null,"Aktiv 2020",null,null,null,null,null,1]
[null,"Aktiv 2021",null,null,null,null,null,1]
[null,"Aktiv 2022",null,null,null,null,null,1]
[null,"Aktiv 2023",null,null,null,null,null,1]
[null,"Aktiv 2024",null,null,null,null,null,1]
[null,"Aktiv 2025",null,null,null,null,null,1]
[null,"Aktiv 2026",null,null,null,null,null,1]
[null,"Aktiv 2027",null,null,null,null,null,1]
[null,"Aktiv 2028",null,null,null,null,null,1]
[null,"Aktiv 2029",null,null,null,null,null,1]
[null,"Aktiv 2030",null,null,null,null,null,1]
[null,"Aktiv 2031",null,null,null,null,null,1]
[null,"Aktiv 2032",null,null,null,null,null,1]
[null,"Aktiv 2033",null,null,null,null,null,1]
[null,"Aktiv 2034",null,null,null,null,null,1]
[null,"Aktiv 2035",null,null,null,null,null,1]
[null,"Aktiv 2036",null,null,null,null,null,1]
[null,"Aktiv 2037",null,null,null,null,null,1]
[null,"Aktiv 2038",null,null,null,null,null,1]
[null,"Aktiv 2039",null,null,null,null,null,1]
[null,"Aktiv 2040",null,null,null,null,null,1]
[null,"Aktiv 2041",null,null,null,null,null,1]
[null,"Aktiv 2042",null,null,null,null,null,1]
[null,"Aktiv 2043",null,null,null,null,null,1]
[null,"Aktiv 2044",null,null,null,null,null,1]
[null,"Aktiv 2045",null,null,null,null,null,1]
[null,"Aktiv 2046",null,null,null,null,null,1]
[null,"Aktiv 2047",null,null,null,null,null,{"$f":"100%-(F2058+G2058)","v":1}]
[null,"Aktiv 2048",null,null,null,null,null,1]
[null,"Aktiv 2049",null,null,null,null,null,1]
[null,"Aktiv 2050",null,null,null,null,null,1]
[null,"Aktiv 2051",null,null,null,null,null,1]
[null,"Aktiv 2052",null,null,null,null,null,1]
[null,"Aktiv 2053",null,null,null,null,null,1]
[null,"Aktiv 2054",null,null,null,null,null,1]
[null,"Aktiv 2055",null,null,null,null,null,1]
[null,"Aktiv 2056",null,null,null,null,null,1]
[null,"Aktiv 2057",null,null,null,null,null,1]
[null,"Aktiv 2058",null,null,null,null,null,1]
[null,"Aktiv 2059",null,null,null,null,null,1]
[null,"Aktiv 2060",null,null,null,null,null,1]
[null,"Aktiv 2061",null,null,null,null,null,1]
[null,"Aktiv 2062",null,null,null,null,null,1]
[null,"Aktiv 2063",null,null,null,null,null,1]
[null,"Aktiv 2064",null,null,null,null,null,1]
[null,"Aktiv 2065",null,null,null,null,null,1]
[null,"Aktiv 2066",null,null,null,null,null,1]
[null,"Aktiv 2067",null,null,null,null,null,1]
[null,"Aktiv 2068",null,null,null,null,null,1]
[null,"Aktiv 2069",null,null,null,null,null,1]
[null,"Aktiv 2070",null,null,null,null,null,1]
[null,"Aktiv 2071",null,null,null,null,null,1]
[null,"Aktiv 2072",null,null,null,null,null,1]
[null,"Aktiv 2073",null,null,null,null,null,1]
[null,"Aktiv 2074",null,null,null,null,null,1]
[null,"Aktiv 2075",null,null,null,null,null,1]
[null,"Aktiv 2076",null,null,null,null,null,1]
[null,"Aktiv 2077",null,null,null,null,null,1]
[null,"Aktiv 2078",null,null,null,null,null,1]
[null,"Aktiv 2079",null,null,null,null,null,1]
[null,"Aktiv 2080",null,null,null,null,null,1]
[null,"Aktiv 2081",null,null,null,null,null,1]
[null,"Aktiv 2082",null,null,null,null,null,1]
[null,"Aktiv 2083",null,null,null,null,null,1]
[null,"Aktiv 2084",null,null,null,null,null,1]
[null,"Aktiv 2085",null,null,null,null,null,1]
[null,"Aktiv 2086",null,null,null,null,null,1]
[null,"Aktiv 2087",null,null,null,null,null,1]
[null,"Aktiv 2088",null,null,null,null,null,1]
[null,"Aktiv 2089",null,null,null,null,null,1]
[null,"Aktiv 2090",null,null,null,null,null,1]
[null,"Aktiv 2091",null,null,null,null,null,1]
[null,"Aktiv 2092",null,null,null,null,null,1]
[null,"Aktiv 2093",null,null,null,null,null,1]
[null,"Aktiv 2094",null,null,null,null,null,1]
[null,"Aktiv 2095",null,null,null,null,null,1]
[null,"Aktiv 2096",null,null,null,null,null,1]
[null,"Aktiv 2097",null,null,null,null,null,1]
[null,"Aktiv 2098",null,null,null,null,null,1]
[null,"Aktiv 2099",null,null,null,null,null,1]
[null,"Aktiv 2100",null,null,null,null,null,1]
[null,"Aktiv 2101",null,null,null,null,null,1]
[null,"Aktiv 2102",null,null,null,null,null,1]
[null,"Aktiv 2103",null,null,null,null,null,1]
[null,"Aktiv 2104",null,null,null,null,null,1]
[null,"Aktiv 2105",null,null,null,null,null,1]
[null,"Aktiv 2106",null,null,null,null,null,1]
[null,"Aktiv 2107",null,null,null,null,null,1]
[null,"Aktiv 2108",null,null,null,null,null,1]
[null,"Aktiv 2109",null,null,null,null,null,1]
[null,"Aktiv 2110",null,null,null,null,null,1]
[null,"Aktiv 2111",null,null,null,null,null,{"$f":"100%-(F2122+G2122)","v":1}]
[null,"Aktiv 2112",null,null,null,null,null,1]
[null,"Aktiv 2113",null,null,null,null,null,1]
[null,"Aktiv 2114",null,null,null,null,null,1]
[null,"Aktiv 2115",null,null,null,null,null,1]
[null,"Aktiv 2116",null,null,null,null,null,1]
[null,"Aktiv 2117",null,null,null,null,null,1]
[null,"Aktiv 2118",null,null,null,null,null,1]
[null,"Aktiv 2119",null,null,null,null,null,1]
[null,"Aktiv 2120",null,null,null,null,null,1]
[null,"Aktiv 2121",null,null,null,null,null,1]
[null,"Aktiv 2122",null,null,null,null,null,1]
[null,"Aktiv 2123",null,null,null,null,null,1]
[null,"Aktiv 2124",null,null,null,null,null,1]
[null,"Aktiv 2125",null,null,null,null,null,1]
[null,"Aktiv 2126",null,null,null,null,null,1]
[null,"Aktiv 2127",null,null,null,null,null,1]
[null,"Aktiv 2128",null,null,null,null,null,1]
[null,"Aktiv 2129",null,null,null,null,null,1]
[null,"Aktiv 2130",null,null,null,null,null,1]
[null,"Aktiv 2131",null,null,null,null,null,1]
[null,"Aktiv 2132",null,null,null,null,null,1]
[null,"Aktiv 2133",null,null,null,null,null,1]
[null,"Aktiv 2134",null,null,null,null,null,1]
[null,"Aktiv 2135",null,null,null,null,null,1]
[null,"Aktiv 2136",null,null,null,null,null,1]
[null,"Aktiv 2137",null,null,null,null,null,1]
[null,"Aktiv 2138",null,null,null,null,null,1]
[null,"Aktiv 2139",null,null,null,null,null,1]
[null,"Aktiv 2140",null,null,null,null,null,1]
[null,"Aktiv 2141",null,null,null,null,null,1]
[null,"Aktiv 2142",null,null,null,null,null,1]
[null,"Aktiv 2143",null,null,null,null,null,1]
[null,"Aktiv 2144",null,null,null,null,null,1]
[null,"Aktiv 2145",null,null,null,null,null,1]
[null,"Aktiv 2146",null,null,null,null,null,1]
[null,"Aktiv 2147",null,null,null,null,null,1]
[null,"Aktiv 2148",null,null,null,null,null,1]
[null,"Aktiv 2149",null,null,null,null,null,1]
[null,"Aktiv 2150",null,null,null,null,null,1]
[null,"Aktiv 2151",null,null,null,null,null,1]
[null,"Aktiv 2152",null,null,null,null,null,1]
[null,"Aktiv 2153",null,null,null,null,null,1]
[null,"Aktiv 2154",null,null,null,null,null,1]
[null,"Aktiv 2155",null,null,null,null,null,1]
[null,"Aktiv 2156",null,null,null,null,null,1]
[null,"Aktiv 2157",null,null,null,null,null,1]
[null,"Aktiv 2158",null,null,null,null,null,1]
[null,"Aktiv 2159",null,null,null,null,null,1]
[null,"Aktiv 2160",null,null,null,null,null,1]
[null,"Aktiv 2161",null,null,null,null,null,1]
[null,"Aktiv 2162",null,null,null,null,null,1]
[null,"Aktiv 2163",null,null,null,null,null,1]
[null,"Aktiv 2164",null,null,null,null,null,1]
[null,"Aktiv 2165",null,null,null,null,null,1]
[null,"Aktiv 2166",null,null,null,null,null,1]
[null,"Aktiv 2167",null,null,null,null,null,1]
[null,"Aktiv 2168",null,null,null,null,null,1]
[null,"Aktiv 2169",null,null,null,null,null,1]
[null,"Aktiv 2170",null,null,null,null,null,1]
[null,"Aktiv 2171",null,null,null,null,null,1]
[null,"Aktiv 2172",null,null,null,null,null,1]
[null,"Aktiv 2173",null,null,null,null,null,1]
[null,"Aktiv 2174",null,null,null,null,null,1]
[null,"Aktiv 2175",null,null,null,null,null,{"$f":"100%-(F2186+G2186)","v":1}]
[null,"Aktiv 2176",null,null,null,null,null,1]
[null,"Aktiv 2177",null,null,null,null,null,1]
[null,"Aktiv 2178",null,null,null,null,null,1]
[null,"Aktiv 2179",null,null,null,null,null,1]
[null,"Aktiv 2180",null,null,null,null,null,1]
[null,"Aktiv 2181",null,null,null,null,null,1]
[null,"Aktiv 2182",null,null,null,null,null,1]
[null,"Aktiv 2183",null,null,null,null,null,1]
[null,"Aktiv 2184",null,null,null,null,null,1]
[null,"Aktiv 2185",null,null,null,null,null,1]
[null,"Aktiv 2186",null,null,null,null,null,1]
[null,"Aktiv 2187",null,null,null,null,null,1]
[null,"Aktiv 2188",null,null,null,null,null,1]
[null,"Aktiv 2189",null,null,null,null,null,1]
[null,"Aktiv 2190",null,null,null,null,null,1]
[null,"Aktiv 2191",null,null,null,null,null,1]
[null,"Aktiv 2192",null,null,null,null,null,1]
[null,"Aktiv 2193",null,null,null,null,null,1]
[null,"Aktiv 2194",null,null,null,null,null,1]
[null,"Aktiv 2195",null,null,null,null,null,1]
[null,"Aktiv 2196",null,null,null,null,null,1]
[null,"Aktiv 2197",null,null,null,null,null,1]
[null,"Aktiv 2198",null,null,null,null,null,1]
[null,"Aktiv 2199",null,null,null,null,null,1]
[null,"Aktiv 2200",null,null,null,null,null,1]
[null,"Aktiv 2201",null,null,null,null,null,1]
[null,"Aktiv 2202",null,null,null,null,null,1]
[null,"Aktiv 2203",null,null,null,null,null,1]
[null,"Aktiv 2204",null,null,null,null,null,1]
[null,"Aktiv 2205",null,null,null,null,null,1]
[null,"Aktiv 2206",null,null,null,null,null,1]
[null,"Aktiv 2207",null,null,null,null,null,1]
[null,"Aktiv 2208",null,null,null,null,null,1]
[null,"Aktiv 2209",null,null,null,null,null,1]
[null,"Aktiv 2210",null,null,null,null,null,1]
[null,"Aktiv 2211",null,null,null,null,null,1]
[null,"Aktiv 2212",null,null,null,null,null,1]
[null,"Aktiv 2213",null,null,null,null,null,1]
[null,"Aktiv 2214",null,null,null,null,null,1]
[null,"Aktiv 2215",null,null,null,null,null,1]
[null,"Aktiv 2216",null,null,null,null,null,1]
[null,"Aktiv 2217",null,null,null,null,null,1]
[null,"Aktiv 2218",null,null,null,null,null,1]
[null,"Aktiv 2219",null,null,null,null,null,1]
[null,"Aktiv 2220",null,null,null,null,null,1]
[null,"Aktiv 2221",null,null,null,null,null,1]
[null,"Aktiv 2222",null,null,null,null,null,1]
[null,"Aktiv 2223",null,null,null,null,null,1]
[null,"Aktiv 2224",null,null,null,null,null,1]
[null,"Aktiv 2225",null,null,null,null,null,1]
[null,"Aktiv 2226",null,null,null,null,null,1]
[null,"Aktiv 2227",null,null,null,null,null,1]
[null,"Aktiv 2228",null,null,null,null,null,1]
[null,"Aktiv 2229",null,null,null,null,null,1]
[null,"Aktiv 2230",null,null,null,null,null,1]
[null,"Aktiv 2231",null,null,null,null,null,1]
[null,"Aktiv 2232",null,null,null,null,null,1]
[null,"Aktiv 2233",null,null,null,null,null,1]
[null,"Aktiv 2234",null,null,null,null,null,1]
[null,"Aktiv 2235",null,null,null,null,null,1]
[null,"Aktiv 2236",null,null,null,null,null,1]
[null,"Aktiv 2237",null,null,null,null,null,1]
[null,"Aktiv 2238",null,null,null,null,null,1]
[null,"Aktiv 2239",null,null,null,null,null,{"$f":"100%-(F2250+G2250)","v":1}]
[null,"Aktiv 2240",null,null,null,null,null,1]
[null,"Aktiv 2241",null,null,null,null,null,1]
[null,"Aktiv 2242",null,null,null,null,null,1]
[null,"Aktiv 2243",null,null,null,null,null,1]
[null,"Aktiv 2244",null,null,null,null,null,1]
[null,"Aktiv 2245",null,null,null,null,null,1]
[null,"Aktiv 2246",null,null,null,null,null,1]
[null,"Aktiv 2247",null,null,null,null,null,1]
[null,"Aktiv 2248",null,null,null,null,null,1]
[null,"Aktiv 2249",null,null,null,null,null,1]
[null,"Aktiv 2250",null,null,null,null,null,1]
[null,"Aktiv 2251",null,null,null,null,null,1]
[null,"Aktiv 2252",null,null,null,null,null,1]
[null,"Aktiv 2253",null,null,null,null,null,1]
[null,"Aktiv 2254",null,null,null,null,null,1]
[null,"Aktiv 2255",null,null,null,null,null,1]
[null,"Aktiv 2256",null,null,null,null,null,1]
[null,"Aktiv 2257",null,null,null,null,null,1]
[null,"Aktiv 2258",null,null,null,null,null,1]
[null,"Aktiv 2259",null,null,null,null,null,1]
[null,"Aktiv 2260",null,null,null,null,null,1]
[null,"Aktiv 2261",null,null,null,null,null,1]
[null,"Aktiv 2262",null,null,null,null,null,1]
[null,"Aktiv 2263",null,null,null,null,null,1]
[null,"Aktiv 2264",null,null,null,null,null,1]
[null,"Aktiv 2265",null,null,null,null,null,1]
[null,"Aktiv 2266",null,null,null,null,null,1]
[null,"Aktiv 2267",null,null,null,null,null,1]
[null,"Aktiv 2268",null,null,null,null,null,1]
[null,"Aktiv 2269",null,null,null,null,null,1]
[null,"Aktiv 2270",null,null,null,null,null,1]
[null,"Aktiv 2271",null,null,null,null,null,1]
[null,"Aktiv 2272",null,null,null,null,null,1]
[null,"Aktiv 2273",null,null,null,null,null,1]
[null,"Aktiv 2274",null,null,null,null,null,1]
[null,"Aktiv 2275",null,null,null,null,null,1]
[null,"Aktiv 2276",null,null,null,null,null,1]
[null,"Aktiv 2277",null,null,null,null,null,1]
[null,"Aktiv 2278",null,null,null,null,null,1]
[null,"Aktiv 2279",null,null,null,null,null,1]
[null,"Aktiv 2280",null,null,null,null,null,1]
[null,"Aktiv 2281",null,null,null,null,null,1]
[null,"Aktiv 2282",null,null,null,null,null,1]
[null,"Aktiv 2283",null,null,null,null,null,1]
[null,"Aktiv 2284",null,null,null,null,null,1]
[null,"Aktiv 2285",null,null,null,null,null,1]
[null,"Aktiv 2286",null,null,null,null,null,1]
[null,"Aktiv 2287",null,null,null,null,null,1]
[null,"Aktiv 2288",null,null,null,null,null,1]
[null,"Aktiv 2289",null,null,null,null,null,1]
[null,"Aktiv 2290",null,null,null,null,null,1]
[null,"Aktiv 2291",null,null,null,null,null,1]
[null,"Aktiv 2292",null,null,null,null,null,1]
[null,"Aktiv 2293",null,null,null,null,null,1]
[null,"Aktiv 2294",null,null,null,null,null,1]
[null,"Aktiv 2295",null,null,null,null,null,1]
[null,"Aktiv 2296",null,null,null,null,null,1]
[null,"Aktiv 2297",null,null,null,null,null,1]
[null,"Aktiv 2298",null,null,null,null,null,1]
[null,"Aktiv 2299",null,null,null,null,null,1]
[null,"Aktiv 2300",null,null,null,null,null,1]
[null,"Aktiv 2301",null,null,null,null,null,1]
[null,"Aktiv 2302",null,null,null,null,null,1]
[null,"Aktiv 2303",null,null,null,null,null,{"$f":"100%-(F2314+G2314)","v":1}]
[null,"Aktiv 2304",null,null,null,null,null,1]
[null,"Aktiv 2305",null,null,null,null,null,1]
[null,"Aktiv 2306",null,null,null,null,null,1]
[null,"Aktiv 2307",null,null,null,null,null,1]
[null,"Aktiv 2308",null,null,null,null,null,1]
[null,"Aktiv 2309",null,null,null,null,null,1]
[null,"Aktiv 2310",null,null,null,null,null,1]
[null,"Aktiv 2311",null,null,null,null,null,1]
[null,"Aktiv 2312",null,null,null,null,null,1]
[null,"Aktiv 2313",null,null,null,null,null,1]
[null,"Aktiv 2314",null,null,null,null,null,1]
[null,"Aktiv 2315",null,null,null,null,null,1]
[null,"Aktiv 2316",null,null,null,null,null,1]
[null,"Aktiv 2317",null,null,null,null,null,1]
[null,"Aktiv 2318",null,null,null,null,null,1]
[null,"Aktiv 2319",null,null,null,null,null,1]
[null,"Aktiv 2320",null,null,null,null,null,1]
[null,"Aktiv 2321",null,null,null,null,null,1]
[null,"Aktiv 2322",null,null,null,null,null,1]
[null,"Aktiv 2323",null,null,null,null,null,1]
[null,"Aktiv 2324",null,null,null,null,null,1]
[null,"Aktiv 2325",null,null,null,null,null,1]
[null,"Aktiv 2326",null,null,null,null,null,1]
[null,"Aktiv 2327",null,null,null,null,null,1]
[null,"Aktiv 2328",null,null,null,null,null,1]
[null,"Aktiv 2329",null,null,null,null,null,1]
[null,"Aktiv 2330",null,null,null,null,null,1]
[null,"Aktiv 2331",null,null,null,null,null,1]
[null,"Aktiv 2332",null,null,null,null,null,1]
[null,"Aktiv 2333",null,null,null,null,null,1]
[null,"Aktiv 2334",null,null,null,null,null,1]
[null,"Aktiv 2335",null,null,null,null,null,1]
[null,"Aktiv 2336",null,null,null,null,null,1]
[null,"Aktiv 2337",null,null,null,null,null,1]
[null,"Aktiv 2338",null,null,null,null,null,1]
[null,"Aktiv 2339",null,null,null,null,null,1]
[null,"Aktiv 2340",null,null,null,null,null,1]
[null,"Aktiv 2341",null,null,null,null,null,1]
[null,"Aktiv 2342",null,null,null,null,null,1]
[null,"Aktiv 2343",null,null,null,null,null,1]
[null,"Aktiv 2344",null,null,null,null,null,1]
[null,"Aktiv 2345",null,null,null,null,null,1]
[null,"Aktiv 2346",null,null,null,null,null,1]
[null,"Aktiv 2347",null,null,null,null,null,1]
[null,"Aktiv 2348",null,null,null,null,null,1]
[null,"Aktiv 2349",null,null,null,null,null,1]
[null,"Aktiv 2350",null,null,null,null,null,1]
[null,"Aktiv 2351",null,null,null,null,null,1]
[null,"Aktiv 2352",null,null,null,null,null,1]
[null,"Aktiv 2353",null,null,null,null,null,1]
[null,"Aktiv 2354",null,null,null,null,null,1]
[null,"Aktiv 2355",null,null,null,null,null,1]
[null,"Aktiv 2356",null,null,null,null,null,1]
[null,"Aktiv 2357",null,null,null,null,null,1]
[null,"Aktiv 2358",null,null,null,null,null,1]
[null,"Aktiv 2359",null,null,null,null,null,1]
[null,"Aktiv 2360",null,null,null,null,null,1]
[null,"Aktiv 2361",null,null,null,null,null,1]
[null,"Aktiv 2362",null,null,null,null,null,1]
[null,"Aktiv 2363",null,null,null,null,null,1]
[null,"Aktiv 2364",null,null,null,null,null,1]
[null,"Aktiv 2365",null,null,null,null,null,1]
[null,"Aktiv 2366",null,null,null,null,null,1]
[null,"Aktiv 2367",null,null,null,null,null,{"$f":"100%-(F2378+G2378)","v":1}]
[null,"Aktiv 2368",null,null,null,null,null,1]
[null,"Aktiv 2369",null,null,null,null,null,1]
[null,"Aktiv 2370",null,null,null,null,null,1]
[null,"Aktiv 2371",null,null,null,null,null,1]
[null,"Aktiv 2372",null,null,null,null,null,1]
[null,"Aktiv 2373",null,null,null,null,null,1]
[null,"Aktiv 2374",null,null,null,null,null,1]
[null,"Aktiv 2375",null,null,null,null,null,1]
[null,"Aktiv 2376",null,null,null,null,null,1]
[null,"Aktiv 2377",null,null,null,null,null,1]
[null,"Aktiv 2378",null,null,null,null,null,1]
[null,"Aktiv 2379",null,null,null,null,null,1]
[null,"Aktiv 2380",null,null,null,null,null,1]
[null,"Aktiv 2381",null,null,null,null,null,1]
[null,"Aktiv 2382",null,null,null,null,null,1]
[null,"Aktiv 2383",null,null,null,null,null,1]
[null,"Aktiv 2384",null,null,null,null,null,1]
[null,"Aktiv 2385",null,null,null,null,null,1]
[null,"Aktiv 2386",null,null,null,null,null,1]
[null,"Aktiv 2387",null,null,null,null,null,1]
[null,"Aktiv 2388",null,null,null,null,null,1]
[null,"Aktiv 2389",null,null,null,null,null,1]
[null,"Aktiv 2390",null,null,null,null,null,1]
[null,"Aktiv 2391",null,null,null,null,null,1]
[null,"Aktiv 2392",null,null,null,null,null,1]
[null,"Aktiv 2393",null,null,null,null,null,1]
[null,"Aktiv 2394",null,null,null,null,null,1]
[null,"Aktiv 2395",null,null,null,null,null,1]
[null,"Aktiv 2396",null,null,null,null,null,1]
[null,"Aktiv 2397",null,null,null,null,null,1]
[null,"Aktiv 2398",null,null,null,null,null,1]
[null,"Aktiv 2399",null,null,null,null,null,1]
[null,"Aktiv 2400",null,null,null,null,null,1]
[null,"Aktiv 2401",null,null,null,null,null,1]
[null,"Aktiv 2402",null,null,null,null,null,1]
[null,"Aktiv 2403",null,null,null,null,null,1]
[null,"Aktiv 2404",null,null,null,null,null,1]
[null,"Aktiv 2405",null,null,null,null,null,1]
[null,"Aktiv 2406",null,null,null,null,null,1]
[null,"Aktiv 2407",null,null,null,null,null,1]
[null,"Aktiv 2408",null,null,null,null,null,1]
[null,"Aktiv 2409",null,null,null,null,null,1]
[null,"Aktiv 2410",null,null,null,null,null,1]
[null,"Aktiv 2411",null,null,null,null,null,1]
[null,"Aktiv 2412",null,null,null,null,null,1]
[null,"Aktiv 2413",null,null,null,null,null,1]
[null,"Aktiv 2414",null,null,null,null,null,1]
[null,"Aktiv 2415",null,null,null,null,null,1]
[null,"Aktiv 2416",null,null,null,null,null,1]
[null,"Aktiv 2417",null,null,null,null,null,1]
[null,"Aktiv 2418",null,null,null,null,null,1]
[null,"Aktiv 2419",null,null,null,null,null,1]
[null,"Aktiv 2420",null,null,null,null,null,1]
[null,"Aktiv 2421",null,null,null,null,null,1]
[null,"Aktiv 2422",null,null,null,null,null,1]
[null,"Aktiv 2423",null,null,null,null,null,1]
[null,"Aktiv 2424",null,null,null,null,null,1]
[null,"Aktiv 2425",null,null,null,null,null,1]
[null,"Aktiv 2426",null,null,null,null,null,1]
[null,"Aktiv 2427",null,null,null,null,null,1]
[null,"Aktiv 2428",null,null,null,null,null,1]
[null,"Aktiv 2429",null,null,null,null,null,1]
[null,"Aktiv 2430",null,null,null,null,null,1]
[null,"Aktiv 2431",null,null,null,null,null,{"$f":"100%-(F2442+G2442)","v":1}]
[null,"Aktiv 2432",null,null,null,null,null,1]
[null,"Aktiv 2433",null,null,null,null,null,1]
[null,"Aktiv 2434",null,null,null,null,null,1]
[null,"Aktiv 2435",null,null,null,null,null,1]
[null,"Aktiv 2436",null,null,null,null,null,1]
[null,"Aktiv 2437",null,null,null,null,null,1]
[null,"Aktiv 2438",null,null,null,null,null,1]
[null,"Aktiv 2439",null,null,null,null,null,1]
[null,"Aktiv 2440",null,null,null,null,null,1]
[null,"Aktiv 2441",null,null,null,null,null,1]
[null,"Aktiv 2442",null,null,null,null,null,1]
[null,"Aktiv 2443",null,null,null,null,null,1]
[null,"Aktiv 2444",null,null,null,null,null,1]
[null,"Aktiv 2445",null,null,null,null,null,1]
[null,"Aktiv 2446",null,null,null,null,null,1]
[null,"Aktiv 2447",null,null,null,null,null,1]
[null,"Aktiv 2448",null,null,null,null,null,1]
[null,"Aktiv 2449",null,null,null,null,null,1]
[null,"Aktiv 2450",null,null,null,null,null,1]
[null,"Aktiv 2451",null,null,null,null,null,1]
[null,"Aktiv 2452",null,null,null,null,null,1]
[null,"Aktiv 2453",null,null,null,null,null,1]
[null,"Aktiv 2454",null,null,null,null,null,1]
[null,"Aktiv 2455",null,null,null,null,null,1]
[null,"Aktiv 2456",null,null,null,null,null,1]
[null,"Aktiv 2457",null,null,null,null,null,1]
[null,"Aktiv 2458",null,null,null,null,null,1]
[null,"Aktiv 2459",null,null,null,null,null,1]
[null,"Aktiv 2460",null,null,null,null,null,1]
[null,"Aktiv 2461",null,null,null,null,null,1]
[null,"Aktiv 2462",null,null,null,null,null,1]
[null,"Aktiv 2463",null,null,null,null,null,1]
[null,"Aktiv 2464",null,null,null,null,null,1]
[null,"Aktiv 2465",null,null,null,null,null,1]
[null,"Aktiv 2466",null,null,null,null,null,1]
[null,"Aktiv 2467",null,null,null,null,null,1]
[null,"Aktiv 2468",null,null,null,null,null,1]
[null,"Aktiv 2469",null,null,null,null,null,1]
[null,"Aktiv 2470",null,null,null,null,null,1]
[null,"Aktiv 2471",null,null,null,null,null,1]
[null,"Aktiv 2472",null,null,null,null,null,1]
[null,"Aktiv 2473",null,null,null,null,null,1]
[null,"Aktiv 2474",null,null,null,null,null,1]
[null,"Aktiv 2475",null,null,null,null,null,1]
[null,"Aktiv 2476",null,null,null,null,null,1]
[null,"Aktiv 2477",null,null,null,null,null,1]
[null,"Aktiv 2478",null,null,null,null,null,1]
[null,"Aktiv 2479",null,null,null,null,null,1]
[null,"Aktiv 2480",null,null,null,null,null,1]
[null,"Aktiv 2481",null,null,null,null,null,1]
[null,"Aktiv 2482",null,null,null,null,null,1]
[null,"Aktiv 2483",null,null,null,null,null,1]
[null,"Aktiv 2484",null,null,null,null,null,1]
[null,"Aktiv 2485",null,null,null,null,null,1]
[null,"Aktiv 2486",null,null,null,null,null,1]
[null,"Aktiv 2487",null,null,null,null,null,1]
[null,"Aktiv 2488",null,null,null,null,null,1]
[null,"Aktiv 2489",null,null,null,null,null,1]
[null,"Aktiv 2490",null,null,null,null,null,1]
[null,"Aktiv 2491",null,null,null,null,null,1]
[null,"Aktiv 2492",null,null,null,null,null,1]
[null,"Aktiv 2493",null,null,null,null,null,1]
[null,"Aktiv 2494",null,null,null,null,null,1]
[null,"Aktiv 2495",null,null,null,null,null,{"$f":"100%-(F2506+G2506)","v":1}]
[null,"Aktiv 2496",null,null,null,null,null,1]
[null,"Aktiv 2497",null,null,null,null,null,1]
[null,"Aktiv 2498",null,null,null,null,null,1]
[null,"Aktiv 2499",null,null,null,null,null,1]
[null,"Aktiv 2500",null,null,null,null,null,1]
[null,"Aktiv 2501",null,null,null,null,null,1]
[null,"Aktiv 2502",null,null,null,null,null,1]
[null,"Aktiv 2503",null,null,null,null,null,1]
[null,"Aktiv 2504",null,null,null,null,null,1]
[null,"Aktiv 2505",null,null,null,null,null,1]
[null,"Aktiv 2506",null,null,null,null,null,1]
[null,"Aktiv 2507",null,null,null,null,null,1]
[null,"Aktiv 2508",null,null,null,null,null,1]
[null,"Aktiv 2509",null,null,null,null,null,1]
[null,"Aktiv 2510",null,null,null,null,null,1]
[null,"Aktiv 2511",null,null,null,null,null,1]
[null,"Aktiv 2512",null,null,null,null,null,1]
[null,"Aktiv 2513",null,null,null,null,null,1]
[null,"Aktiv 2514",null,null,null,null,null,1]
[null,"Aktiv 2515",null,null,null,null,null,1]
[null,"Aktiv 2516",null,null,null,null,null,1]
[null,"Aktiv 2517",null,null,null,null,null,1]
[null,"Aktiv 2518",null,null,null,null,null,1]
[null,"Aktiv 2519",null,null,null,null,null,1]
[null,"Aktiv 2520",null,null,null,null,null,1]
[null,"Aktiv 2521",null,null,null,null,null,1]
[null,"Aktiv 2522",null,null,null,null,null,1]
[null,"Aktiv 2523",null,null,null,null,null,1]
[null,"Aktiv 2524",null,null,null,null,null,1]
[null,"Aktiv 2525",null,null,null,null,null,1]
[null,"Aktiv 2526",null,null,null,null,null,1]
[null,"Aktiv 2527",null,null,null,null,null,1]
[null,"Aktiv 2528",null,null,null,null,null,1]
[null,"Aktiv 2529",null,null,null,null,null,1]
[null,"Aktiv 2530",null,null,null,null,null,1]
[null,"Aktiv 2531",null,null,null,null,null,1]
[null,"Aktiv 2532",null,null,null,null,null,1]
[null,"Aktiv 2533",null,null,null,null,null,1]
[null,"Aktiv 2534",null,null,null,null,null,1]
[null,"Aktiv 2535",null,null,null,null,null,1]
[null,"Aktiv 2536",null,null,null,null,null,1]
[null,"Aktiv 2537",null,null,null,null,null,1]
[null,"Aktiv 2538",null,null,null,null,null,1]
[null,"Aktiv 2539",null,null,null,null,null,1]
[null,"Aktiv 2540",null,null,null,null,null,1]
[null,"Aktiv 2541",null,null,null,null,null,1]
[null,"Aktiv 2542",null,null,null,null,null,1]
[null,"Aktiv 2543",null,null,null,null,null,1]
[null,"Aktiv 2544",null,null,null,null,null,1]
[null,"Aktiv 2545",null,null,null,null,null,1]
[null,"Aktiv 2546",null,null,null,null,null,1]
[null,"Aktiv 2547",null,null,null,null,null,1]
[null,"Aktiv 2548",null,null,null,null,null,1]
[null,"Aktiv 2549",null,null,null,null,null,1]
[null,"Aktiv 2550",null,null,null,null,null,1]
[null,"Aktiv 2551",null,null,null,null,null,1]
[null,"Aktiv 2552",null,null,null,null,null,1]
[null,"Aktiv 2553",null,null,null,null,null,1]
[null,"Aktiv 2554",null,null,null,null,null,1]
[null,"Aktiv 2555",null,null,null,null,null,1]
[null,"Aktiv 2556",null,null,null,null,null,1]
[null,"Aktiv 2557",null,null,null,null,null,1]
[null,"Aktiv 2558",null,null,null,null,null,1]
[null,"Aktiv 2559",null,null,null,null,null,{"$f":"100%-(F2570+G2570)","v":1}]
[null,"Aktiv 2560",null,null,null,null,null,1]
[null,"Aktiv 2561",null,null,null,null,null,1]
[null,"Aktiv 2562",null,null,null,null,null,1]
[null,"Aktiv 2563",null,null,null,null,null,1]
[null,"Aktiv 2564",null,null,null,null,null,1]
[null,"Aktiv 2565",null,null,null,null,null,1]
[null,"Aktiv 2566",null,null,null,null,null,1]
[null,"Aktiv 2567",null,null,null,null,null,1]
[null,"Aktiv 2568",null,null,null,null,null,1]
[null,"Aktiv 2569",null,null,null,null,null,1]
[null,"Aktiv 2570",null,null,null,null,null,1]
[null,"Aktiv 2571",null,null,null,null,null,1]
[null,"Aktiv 2572",null,null,null,null,null,1]
[null,"Aktiv 2573",null,null,null,null,null,1]
[null,"Aktiv 2574",null,null,null,null,null,1]
[null,"Aktiv 2575",null,null,null,null,null,1]
[null,"Aktiv 2576",null,null,null,null,null,1]
[null,"Aktiv 2577",null,null,null,null,null,1]
[null,"Aktiv 2578",null,null,null,null,null,1]
[null,"Aktiv 2579",null,null,null,null,null,1]
[null,"Aktiv 2580",null,null,null,null,null,1]
[null,"Aktiv 2581",null,null,null,null,null,1]
[null,"Aktiv 2582",null,null,null,null,null,1]
[null,"Aktiv 2583",null,null,null,null,null,1]
[null,"Aktiv 2584",null,null,null,null,null,1]
[null,"Aktiv 2585",null,null,null,null,null,1]
[null,"Aktiv 2586",null,null,null,null,null,1]
[null,"Aktiv 2587",null,null,null,null,null,1]
[null,"Aktiv 2588",null,null,null,null,null,1]
[null,"Aktiv 2589",null,null,null,null,null,1]
[null,"Aktiv 2590",null,null,null,null,null,1]
[null,"Aktiv 2591",null,null,null,null,null,1]
[null,"Aktiv 2592",null,null,null,null,null,1]
[null,"Aktiv 2593",null,null,null,null,null,1]
[null,"Aktiv 2594",null,null,null,null,null,1]
[null,"Aktiv 2595",null,null,null,null,null,1]
[null,"Aktiv 2596",null,null,null,null,null,1]
[null,"Aktiv 2597",null,null,null,null,null,1]
[null,"Aktiv 2598",null,null,null,null,null,1]
[null,"Aktiv 2599",null,null,null,null,null,1]
[null,"Aktiv 2600",null,null,null,null,null,1]
[null,"Aktiv 2601",null,null,null,null,null,1]
[null,"Aktiv 2602",null,null,null,null,null,1]
[null,"Aktiv 2603",null,null,null,null,null,1]
[null,"Aktiv 2604",null,null,null,null,null,1]
[null,"Aktiv 2605",null,null,null,null,null,1]
[null,"Aktiv 2606",null,null,null,null,null,1]
[null,"Aktiv 2607",null,null,null,null,null,1]
[null,"Aktiv 2608",null,null,null,null,null,1]
[null,"Aktiv 2609",null,null,null,null,null,1]
[null,"Aktiv 2610",null,null,null,null,null,1]
[null,"Aktiv 2611",null,null,null,null,null,1]
[null,"Aktiv 2612",null,null,null,null,null,1]
[null,"Aktiv 2613",null,null,null,null,null,1]
[null,"Aktiv 2614",null,null,null,null,null,1]
[null,"Aktiv 2615",null,null,null,null,null,1]
[null,"Aktiv 2616",null,null,null,null,null,1]
[null,"Aktiv 2617",null,null,null,null,null,1]
[null,"Aktiv 2618",null,null,null,null,null,1]
[null,"Aktiv 2619",null,null,null,null,null,1]
[null,"Aktiv 2620",null,null,null,null,null,1]
[null,"Aktiv 2621",null,null,null,null,null,1]
[null,"Aktiv 2622",null,null,null,null,null,1]
[null,"Aktiv 2623",null,null,null,null,null,{"$f":"100%-(F2634+G2634)","v":1}]
[null,"Aktiv 2624",null,null,null,null,null,1]
[null,"Aktiv 2625",null,null,null,null,null,1]
[null,"Aktiv 2626",null,null,null,null,null,1]
[null,"Aktiv 2627",null,null,null,null,null,1]
[null,"Aktiv 2628",null,null,null,null,null,1]
[null,"Aktiv 2629",null,null,null,null,null,1]
[null,"Aktiv 2630",null,null,null,null,null,1]
[null,"Aktiv 2631",null,null,null,null,null,1]
[null,"Aktiv 2632",null,null,null,null,null,1]
[null,"Aktiv 2633",null,null,null,null,null,1]
[null,"Aktiv 2634",null,null,null,null,null,1]
[null,"Aktiv 2635",null,null,null,null,null,1]
[null,"Aktiv 2636",null,null,null,null,null,1]
[null,"Aktiv 2637",null,null,null,null,null,1]
[null,"Aktiv 2638",null,null,null,null,null,1]
[null,"Aktiv 2639",null,null,null,null,null,1]
[null,"Aktiv 2640",null,null,null,null,null,1]
[null,"Aktiv 2641",null,null,null,null,null,1]
[null,"Aktiv 2642",null,null,null,null,null,1]
[null,"Aktiv 2643",null,null,null,null,null,1]
[null,"Aktiv 2644",null,null,null,null,null,1]
[null,"Aktiv 2645",null,null,null,null,null,1]
[null,"Aktiv 2646",null,null,null,null,null,1]
[null,"Aktiv 2647",null,null,null,null,null,1]
[null,"Aktiv 2648",null,null,null,null,null,1]
[null,"Aktiv 2649",null,null,null,null,null,1]
[null,"Aktiv 2650",null,null,null,null,null,1]
[null,"Aktiv 2651",null,null,null,null,null,1]
[null,"Aktiv 2652",null,null,null,null,null,1]
[null,"Aktiv 2653",null,null,null,null,null,1]
[null,"Aktiv 2654",null,null,null,null,null,1]
[null,"Aktiv 2655",null,null,null,null,null,1]
[null,"Aktiv 2656",null,null,null,null,null,1]
[null,"Aktiv 2657",null,null,null,null,null,1]
[null,"Aktiv 2658",null,null,null,null,null,1]
[null,"Aktiv 2659",null,null,null,null,null,1]
[null,"Aktiv 2660",null,null,null,null,null,1]
[null,"Aktiv 2661",null,null,null,null,null,1]
[null,"Aktiv 2662",null,null,null,null,null,1]
[null,"Aktiv 2663",null,null,null,null,null,1]
[null,"Aktiv 2664",null,null,null,null,null,1]
[null,"Aktiv 2665",null,null,null,null,null,1]
[null,"Aktiv 2666",null,null,null,null,null,1]
[null,"Aktiv 2667",null,null,null,null,null,1]
[null,"Aktiv 2668",null,null,null,null,null,1]
[null,"Aktiv 2669",null,null,null,null,null,1]
[null,"Aktiv 2670",null,null,null,null,null,1]
[null,"Aktiv 2671",null,null,null,null,null,1]
[null,"Aktiv 2672",null,null,null,null,null,1]
[null,"Aktiv 2673",null,null,null,null,null,1]
[null,"Aktiv 2674",null,null,null,null,null,1]
[null,"Aktiv 2675",null,null,null,null,null,1]
[null,"Aktiv 2676",null,null,null,null,null,1]
[null,"Aktiv 2677",null,null,null,null,null,1]
[null,"Aktiv 2678",null,null,null,null,null,1]
[null,"Aktiv 2679",null,null,null,null,null,1]
[null,"Aktiv 2680",null,null,null,null,null,1]
[null,"Aktiv 2681",null,null,null,null,null,1]
[null,"Aktiv 2682",null,null,null,null,null,1]
[null,"Aktiv 2683",null,null,null,null,null,1]
[null,"Aktiv 2684",null,null,null,null,null,1]
[null,"Aktiv 2685",null,null,null,null,null,1]
[null,"Aktiv 2686",null,null,null,null,null,1]
[null,"Aktiv 2687",null,null,null,null,null,{"$f":"100%-(F2698+G2698)","v":1}]
[null,"Aktiv 2688",null,null,null,null,null,1]
[null,"Aktiv 2689",null,null,null,null,null,1]
[null,"Aktiv 2690",null,null,null,null,null,1]
[null,"Aktiv 2691",null,null,null,null,null,1]
[null,"Aktiv 2692",null,null,null,null,null,1]
[null,"Aktiv 2693",null,null,null,null,null,1]
[null,"Aktiv 2694",null,null,null,null,null,1]
[null,"Aktiv 2695",null,null,null,null,null,1]
[null,"Aktiv 2696",null,null,null,null,null,1]
[null,"Aktiv 2697",null,null,null,null,null,1]
[null,"Aktiv 2698",null,null,null,null,null,1]
[null,"Aktiv 2699",null,null,null,null,null,1]
[null,"Aktiv 2700",null,null,null,null,null,1]
[null,"Aktiv 2701",null,null,null,null,null,1]
[null,"Aktiv 2702",null,null,null,null,null,1]
[null,"Aktiv 2703",null,null,null,null,null,1]
[null,"Aktiv 2704",null,null,null,null,null,1]
[null,"Aktiv 2705",null,null,null,null,null,1]
[null,"Aktiv 2706",null,null,null,null,null,1]
[null,"Aktiv 2707",null,null,null,null,null,1]
[null,"Aktiv 2708",null,null,null,null,null,1]
[null,"Aktiv 2709",null,null,null,null,null,1]
[null,"Aktiv 2710",null,null,null,null,null,1]
[null,"Aktiv 2711",null,null,null,null,null,1]
[null,"Aktiv 2712",null,null,null,null,null,1]
[null,"Aktiv 2713",null,null,null,null,null,1]
[null,"Aktiv 2714",null,null,null,null,null,1]
[null,"Aktiv 2715",null,null,null,null,null,1]
[null,"Aktiv 2716",null,null,null,null,null,1]
[null,"Aktiv 2717",null,null,null,null,null,1]
[null,"Aktiv 2718",null,null,null,null,null,1]
[null,"Aktiv 2719",null,null,null,null,null,1]
[null,"Aktiv 2720",null,null,null,null,null,1]
[null,"Aktiv 2721",null,null,null,null,null,1]
[null,"Aktiv 2722",null,null,null,null,null,1]
[null,"Aktiv 2723",null,null,null,null,null,1]
[null,"Aktiv 2724",null,null,null,null,null,1]
[null,"Aktiv 2725",null,null,null,null,null,1]
[null,"Aktiv 2726",null,null,null,null,null,1]
[null,"Aktiv 2727",null,null,null,null,null,1]
[null,"Aktiv 2728",null,null,null,null,null,1]
[null,"Aktiv 2729",null,null,null,null,null,1]
[null,"Aktiv 2730",null,null,null,null,null,1]
[null,"Aktiv 2731",null,null,null,null,null,1]
[null,"Aktiv 2732",null,null,null,null,null,1]
[null,"Aktiv 2733",null,null,null,null,null,1]
[null,"Aktiv 2734",null,null,null,null,null,1]
[null,"Aktiv 2735",null,null,null,null,null,1]
[null,"Aktiv 2736",null,null,null,null,null,1]
[null,"Aktiv 2737",null,null,null,null,null,1]
[null,"Aktiv 2738",null,null,null,null,null,1]
[null,"Aktiv 2739",null,null,null,null,null,1]
[null,"Aktiv 2740",null,null,null,null,null,1]
[null,"Aktiv 2741",null,null,null,null,null,1]
[null,"Aktiv 2742",null,null,null,null,null,1]
[null,"Aktiv 2743",null,null,null,null,null,1]
[null,"Aktiv 2744",null,null,null,null,null,1]
[null,"Aktiv 2745",null,null,null,null,null,1]
[null,"Aktiv 2746",null,null,null,null,null,1]
[null,"Aktiv 2747",null,null,null,null,null,1]
[null,"Aktiv 2748",null,null,null,null,null,1]
[null,"Aktiv 2749",null,null,null,null,null,1]
[null,"Aktiv 2750",null,null,null,null,null,1]
[null,"Aktiv 2751",null,null,null,null,null,{"$f":"100%-(F2762+G2762)","v":1}]
[null,"Aktiv 2752",null,null,null,null,null,1]
[null,"Aktiv 2753",null,null,null,null,null,1]
[null,"Aktiv 2754",null,null,null,null,null,1]
[null,"Aktiv 2755",null,null,null,null,null,1]
[null,"Aktiv 2756",null,null,null,null,null,1]
[null,"Aktiv 2757",null,null,null,null,null,1]
[null,"Aktiv 2758",null,null,null,null,null,1]
[null,"Aktiv 2759",null,null,null,null,null,1]
[null,"Aktiv 2760",null,null,null,null,null,1]
[null,"Aktiv 2761",null,null,null,null,null,1]
[null,"Aktiv 2762",null,null,null,null,null,1]
[null,"Aktiv 2763",null,null,null,null,null,1]
[null,"Aktiv 2764",null,null,null,null,null,1]
[null,"Aktiv 2765",null,null,null,null,null,1]
[null,"Aktiv 2766",null,null,null,null,null,1]
[null,"Aktiv 2767",null,null,null,null,null,1]
[null,"Aktiv 2768",null,null,null,null,null,1]
[null,"Aktiv 2769",null,null,null,null,null,1]
[null,"Aktiv 2770",null,null,null,null,null,1]
[null,"Aktiv 2771",null,null,null,null,null,1]
[null,"Aktiv 2772",null,null,null,null,null,1]
[null,"Aktiv 2773",null,null,null,null,null,1]
[null,"Aktiv 2774",null,null,null,null,null,1]
[null,"Aktiv 2775",null,null,null,null,null,1]
[null,"Aktiv 2776",null,null,null,null,null,1]
[null,"Aktiv 2777",null,null,null,null,null,1]
[null,"Aktiv 2778",null,null,null,null,null,1]
[null,"Aktiv 2779",null,null,null,null,null,1]
[null,"Aktiv 2780",null,null,null,null,null,1]
[null,"Aktiv 2781",null,null,null,null,null,1]
[null,"Aktiv 2782",null,null,null,null,null,1]
[null,"Aktiv 2783",null,null,null,null,null,1]
[null,"Aktiv 2784",null,null,null,null,null,1]
[null,"Aktiv 2785",null,null,null,null,null,1]
[null,"Aktiv 2786",null,null,null,null,null,1]
[null,"Aktiv 2787",null,null,null,null,null,1]
[null,"Aktiv 2788",null,null,null,null,null,1]
[null,"Aktiv 2789",null,null,null,null,null,1]
[null,"Aktiv 2790",null,null,null,null,null,1]
[null,"Aktiv 2791",null,null,null,null,null,1]
[null,"Aktiv 2792",null,null,null,null,null,1]
[null,"Aktiv 2793",null,null,null,null,null,1]
[null,"Aktiv 2794",null,null,null,null,null,1]
[null,"Aktiv 2795",null,null,null,null,null,1]
[null,"Aktiv 2796",null,null,null,null,null,1]
[null,"Aktiv 2797",null,null,null,null,null,1]
[null,"Aktiv 2798",null,null,null,null,null,1]
[null,"Aktiv 2799",null,null,null,null,null,1]
[null,"Aktiv 2800",null,null,null,null,null,1]
[null,"Aktiv 2801",null,null,null,null,null,1]
[null,"Aktiv 2802",null,null,null,null,null,1]
[null,"Aktiv 2803",null,null,null,null,null,1]
[null,"Aktiv 2804",null,null,null,null,null,1]
[null,"Aktiv 2805",null,null,null,null,null,1]
[null,"Aktiv 2806",null,null,null,null,null,1]
[null,"Aktiv 2807",null,null,null,null,null,1]
[null,"Aktiv 2808",null,null,null,null,null,1]
[null,"Aktiv 2809",null,null,null,null,null,1]
[null,"Aktiv 2810",null,null,null,null,null,1]
[null,"Aktiv 2811",null,null,null,null,null,1]
[null,"Aktiv 2812",null,null,null,null,null,1]
[null,"Aktiv 2813",null,null,null,null,null,1]
[null,"Aktiv 2814",null,null,null,null,null,1]
[null,"Aktiv 2815",null,null,null,null,null,{"$f":"100%-(F2826+G2826)","v":1}]
[null,"Aktiv 2816",null,null,null,null,null,1]
[null,"Aktiv 2817",null,null,null,null,null,1]
[null,"Aktiv 2818",null,null,null,null,null,1]
[null,"Aktiv 2819",null,null,null,null,null,1]
[null,"Aktiv 2820",null,null,null,null,null,1]
[null,"Aktiv 2821",null,null,null,null,null,1]
[null,"Aktiv 2822",null,null,null,null,null,1]
[null,"Aktiv 2823",null,null,null,null,null,1]
[null,"Aktiv 2824",null,null,null,null,null,1]
[null,"Aktiv 2825",null,null,null,null,null,1]
[null,"Aktiv 2826",null,null,null,null,null,1]
[null,"Aktiv 2827",null,null,null,null,null,1]
[null,"Aktiv 2828",null,null,null,null,null,1]
[null,"Aktiv 2829",null,null,null,null,null,1]
[null,"Aktiv 2830",null,null,null,null,null,1]
[null,"Aktiv 2831",null,null,null,null,null,1]
[null,"Aktiv 2832",null,null,null,null,null,1]
[null,"Aktiv 2833",null,null,null,null,null,1]
[null,"Aktiv 2834",null,null,null,null,null,1]
[null,"Aktiv 2835",null,null,null,null,null,1]
[null,"Aktiv 2836",null,null,null,null,null,1]
[null,"Aktiv 2837",null,null,null,null,null,1]
[null,"Aktiv 2838",null,null,null,null,null,1]
[null,"Aktiv 2839",null,null,null,null,null,1]
[null,"Aktiv 2840",null,null,null,null,null,1]
[null,"Aktiv 2841",null,null,null,null,null,1]
[null,"Aktiv 2842",null,null,null,null,null,1]
[null,"Aktiv 2843",null,null,null,null,null,1]
[null,"Aktiv 2844",null,null,null,null,null,1]
[null,"Aktiv 2845",null,null,null,null,null,1]
[null,"Aktiv 2846",null,null,null,null,null,1]
[null,"Aktiv 2847",null,null,null,null,null,1]
[null,"Aktiv 2848",null,null,null,null,null,1]
[null,"Aktiv 2849",null,null,null,null,null,1]
[null,"Aktiv 2850",null,null,null,null,null,1]
[null,"Aktiv 2851",null,null,null,null,null,1]
[null,"Aktiv 2852",null,null,null,null,null,1]
[null,"Aktiv 2853",null,null,null,null,null,1]
[null,"Aktiv 2854",null,null,null,null,null,1]
[null,"Aktiv 2855",null,null,null,null,null,1]
[null,"Aktiv 2856",null,null,null,null,null,1]
[null,"Aktiv 2857",null,null,null,null,null,1]
[null,"Aktiv 2858",null,null,null,null,null,1]
[null,"Aktiv 2859",null,null,null,null,null,1]
[null,"Aktiv 2860",null,null,null,null,null,1]
[null,"Aktiv 2861",null,null,null,null,null,1]
[null,"Aktiv 2862",null,null,null,null,null,1]
[null,"Aktiv 2863",null,null,null,null,null,1]
[null,"Aktiv 2864",null,null,null,null,null,1]
[null,"Aktiv 2865",null,null,null,null,null,1]
[null,"Aktiv 2866",null,null,null,null,null,1]
[null,"Aktiv 2867",null,null,null,null,null,1]
[null,"Aktiv 2868",null,null,null,null,null,1]
[null,"Aktiv 2869",null,null,null,null,null,1]
[null,"Aktiv 2870",null,null,null,null,null,1]
[null,"Aktiv 2871",null,null,null,null,null,1]
[null,"Aktiv 2872",null,null,null,null,null,1]
[null,"Aktiv 2873",null,null,null,null,null,1]
[null,"Aktiv 2874",null,null,null,null,null,1]
[null,"Aktiv 2875",null,null,null,null,null,1]
[null,"Aktiv 2876",null,null,null,null,null,1]
[null,"Aktiv 2877",null,null,null,null,null,1]
[null,"Aktiv 2878",null,null,null,null,null,1]
[null,"Aktiv 2879",null,null,null,null,null,{"$f":"100%-(F2890+G2890)","v":1}]
[null,"Aktiv 2880",null,null,null,null,null,1]
[null,"Aktiv 2881",null,null,null,null,null,1]
[null,"Aktiv 2882",null,null,null,null,null,1]
[null,"Aktiv 2883",null,null,null,null,null,1]
[null,"Aktiv 2884",null,null,null,null,null,1]
[null,"Aktiv 2885",null,null,null,null,null,1]
[null,"Aktiv 2886",null,null,null,null,null,1]
[null,"Aktiv 2887",null,null,null,null,null,1]
[null,"Aktiv 2888",null,null,null,null,null,1]
[null,"Aktiv 2889",null,null,null,null,null,1]
[null,"Aktiv 2890",null,null,null,null,null,1]
[null,"Aktiv 2891",null,null,null,null,null,1]
[null,"Aktiv 2892",null,null,null,null,null,1]
[null,"Aktiv 2893",null,null,null,null,null,1]
[null,"Aktiv 2894",null,null,null,null,null,1]
[null,"Aktiv 2895",null,null,null,null,null,1]
[null,"Aktiv 2896",null,null,null,null,null,1]
[null,"Aktiv 2897",null,null,null,null,null,1]
[null,"Aktiv 2898",null,null,null,null,null,1]
[null,"Aktiv 2899",null,null,null,null,null,1]
[null,"Aktiv 2900",null,null,null,null,null,1]
[null,"Aktiv 2901",null,null,null,null,null,1]
[null,"Aktiv 2902",null,null,null,null,null,1]
[null,"Aktiv 2903",null,null,null,null,null,1]
[null,"Aktiv 2904",null,null,null,null,null,1]
[null,"Aktiv 2905",null,null,null,null,null,1]
[null,"Aktiv 2906",null,null,null,null,null,1]
[null,"Aktiv 2907",null,null,null,null,null,1]
[null,"Aktiv 2908",null,null,null,null,null,1]
[null,"Aktiv 2909",null,null,null,null,null,1]
[null,"Aktiv 2910",null,null,null,null,null,1]
[null,"Aktiv 2911",null,null,null,null,null,1]
[null,"Aktiv 2912",null,null,null,null,null,1]
[null,"Aktiv 2913",null,null,null,null,null,1]
[null,"Aktiv 2914",null,null,null,null,null,1]
[null,"Aktiv 2915",null,null,null,null,null,1]
[null,"Aktiv 2916",null,null,null,null,null,1]
[null,"Aktiv 2917",null,null,null,null,null,1]
[null,"Aktiv 2918",null,null,null,null,null,1]
[null,"Aktiv 2919",null,null,null,null,null,1]
[null,"Aktiv 2920",null,null,null,null,null,1]
[null,"Aktiv 2921",null,null,null,null,null,1]
[null,"Aktiv 2922",null,null,null,null,null,1]
[null,"Aktiv 2923",null,null,null,null,null,1]
[null,"Aktiv 2924",null,null,null,null,null,1]
[null,"Aktiv 2925",null,null,null,null,null,1]
[null,"Aktiv 2926",null,null,null,null,null,1]
[null,"Aktiv 2927",null,null,null,null,null,1]
[null,"Aktiv 2928",null,null,null,null,null,1]
[null,"Aktiv 2929",null,null,null,null,null,1]
[null,"Aktiv 2930",null,null,null,null,null,1]
[null,"Aktiv 2931",null,null,null,null,null,1]
[null,"Aktiv 2932",null,null,null,null,null,1]
[null,"Aktiv 2933",null,null,null,null,null,1]
[null,"Aktiv 2934",null,null,null,null,null,1]
[null,"Aktiv 2935",null,null,null,null,null,1]
[null,"Aktiv 2936",null,null,null,null,null,1]
[null,"Aktiv 2937",null,null,null,null,null,1]
[null,"Aktiv 2938",null,null,null,null,null,1]
[null,"Aktiv 2939",null,null,null,null,null,1]
[null,"Aktiv 2940",null,null,null,null,null,1]
[null,"Aktiv 2941",null,null,null,null,null,1]
[null,"Aktiv 2942",null,null,null,null,null,1]
[null,"Aktiv 2943",null,null,null,null,null,{"$f":"100%-(F2954+G2954)","v":1}]
[null,"Aktiv 2944",null,null,null,null,null,1]
[null,"Aktiv 2945",null,null,null,null,null,1]
[null,"Aktiv 2946",null,null,null,null,null,1]
[null,"Aktiv 2947",null,null,null,null,null,1]
[null,"Aktiv 2948",null,null,null,null,null,1]
[null,"Aktiv 2949",null,null,null,null,null,1]
[null,"Aktiv 2950",null,null,null,null,null,1]
[null,"Aktiv 2951",null,null,null,null,null,1]
[null,"Aktiv 2952",null,null,null,null,null,1]
[null,"Aktiv 2953",null,null,null,null,null,1]
[null,"Aktiv 2954",null,null,null,null,null,1]
[null,"Aktiv 2955",null,null,null,null,null,1]
[null,"Aktiv 2956",null,null,null,null,null,1]
[null,"Aktiv 2957",null,null,null,null,null,1]
[null,"Aktiv 2958",null,null,null,null,null,1]
[null,"Aktiv 2959",null,null,null,null,null,1]
[null,"Aktiv 2960",null,null,null,null,null,1]
[null,"Aktiv 2961",null,null,null,null,null,1]
[null,"Aktiv 2962",null,null,null,null,null,1]
[null,"Aktiv 2963",null,null,null,null,null,1]
[null,"Aktiv 2964",null,null,null,null,null,1]
[null,"Aktiv 2965",null,null,null,null,null,1]
[null,"Aktiv 2966",null,null,null,null,null,1]
[null,"Aktiv 2967",null,null,null,null,null,1]
[null,"Aktiv 2968",null,null,null,null,null,1]
[null,"Aktiv 2969",null,null,null,null,null,1]
[null,"Aktiv 2970",null,null,null,null,null,1]
[null,"Aktiv 2971",null,null,null,null,null,1]
[null,"Aktiv 2972",null,null,null,null,null,1]
[null,"Aktiv 2973",null,null,null,null,null,1]
[null,"Aktiv 2974",null,null,null,null,null,1]
[null,"Aktiv 2975",null,null,null,null,null,1]
[null,"Aktiv 2976",null,null,null,null,null,1]
[null,"Aktiv 2977",null,null,null,null,null,1]
[null,"Aktiv 2978",null,null,null,null,null,1]
[null,"Aktiv 2979",null,null,null,null,null,1]
[null,"Aktiv 2980",null,null,null,null,null,1]
[null,"Aktiv 2981",null,null,null,null,null,1]
[null,"Aktiv 2982",null,null,null,null,null,1]
[null,"Aktiv 2983",null,null,null,null,null,1]
[null,"Aktiv 2984",null,null,null,null,null,1]
[null,"Aktiv 2985",null,null,null,null,null,1]
[null,"Aktiv 2986",null,null,null,null,null,1]
[null,"Aktiv 2987",null,null,null,null,null,1]
[null,"Aktiv 2988",null,null,null,null,null,1]
[null,"Aktiv 2989",null,null,null,null,null,1]
[null,"Aktiv 2990",null,null,null,null,null,1]
[null,"Aktiv 2991",null,null,null,null,null,1]
[null,"Aktiv 2992",null,null,null,null,null,1]
[null,"Aktiv 2993",null,null,null,null,null,1]
[null,"Aktiv 2994",null,null,null,null,null,1]
[null,"Aktiv 2995",null,null,null,null,null,1]
[null,"Aktiv 2996",null,null,null,null,null,1]
[null,"Aktiv 2997",null,null,null,null,null,1]
[null,"Aktiv 2998",null,null,null,null,null,1]
[null,"Aktiv 2999",null,null,null,null,null,1]
[null,"Aktiv 3000",null,null,null,null,null,1]
[null,"Aktiv 3001",null,null,null,null,null,1]
[null,"Aktiv 3002",null,null,null,null,null,1]
[null,"Aktiv 3003",null,null,null,null,null,1]
[null,"Aktiv 3004",null,null,null,null,null,1]
[null,"Aktiv 3005",null,null,null,null,null,1]
[null,"Aktiv 3006",null,null,null,null,null,{"$f":"100%-(F3017+G3017)","v":1}]
[null,"Aktiv 3007",null,null,null,null,null,1]
[null,"Aktiv 3008",null,null,null,null,null,1]
[null,"Aktiv 3009",null,null,null,null,null,1]
[null,"Aktiv 3010",null,null,null,null,null,1]
[null,"Aktiv 3011",null,null,null,null,null,1]
[null,"Aktiv 3012",null,null,null,null,null,1]
[null,"Aktiv 3013",null,null,null,null,null,1]
[null,"Aktiv 3014",null,null,null,null,null,1]
[null,"Aktiv 3015",null,null,null,null,null,1]
[null,"Aktiv 3016",null,null,null,null,null,1]
[null,"Aktiv 3017",null,null,null,null,null,1]
[null,"Aktiv 3018",null,null,null,null,null,1]
[null,"Aktiv 3019",null,null,null,null,null,1]
[null,"Aktiv 3020",null,null,null,null,null,1]
[null,"Aktiv 3021",null,null,null,null,null,1]
[null,"Aktiv 3022",null,null,null,null,null,1]
[null,"Aktiv 3023",null,null,null,null,null,1]
[null,"Aktiv 3024",null,null,null,null,null,1]
[null,"Aktiv 3025",null,null,null,null,null,1]
[null,"Aktiv 3026",null,null,null,null,null,1]
[null,"Aktiv 3027",null,null,null,null,null,1]
[null,"Aktiv 3028",null,null,null,null,null,1]
[null,"Aktiv 3029",null,null,null,null,null,1]
[null,"Aktiv 3030",null,null,null,null,null,1]
[null,"Aktiv 3031",null,null,null,null,null,1]
[null,"Aktiv 3032",null,null,null,null,null,1]
[null,"Aktiv 3033",null,null,null,null,null,1]
[null,"Aktiv 3034",null,null,null,null,null,1]
[null,"Aktiv 3035",null,null,null,null,null,1]
[null,"Aktiv 3036",null,null,null,null,null,1]
[null,"Aktiv 3037",null,null,null,null,null,1]
[null,"Aktiv 3038",null,null,null,null,null,1]
[null,"Aktiv 3039",null,null,null,null,null,1]
[null,"Aktiv 3040",null,null,null,null,null,1]
[null,"Aktiv 3041",null,null,null,null,null,1]
[null,"Aktiv 3042",null,null,null,null,null,1]
[null,"Aktiv 3043",null,null,null,null,null,1]
[null,"Aktiv 3044",null,null,null,null,null,1]
[null,"Aktiv 3045",null,null,null,null,null,1]
[null,"Aktiv 3046",null,null,null,null,null,1]
[null,"Aktiv 3047",null,null,null,null,null,1]
[null,"Aktiv 3048",null,null,null,null,null,1]
[null,"Aktiv 3049",null,null,null,null,null,1]
[null,"Aktiv 3050",null,null,null,null,null,1]
[null,"Aktiv 3051",null,null,null,null,null,1]
[null,"Aktiv 3052",null,null,null,null,null,1]
[null,"Aktiv 3053",null,null,null,null,null,1]
[null,"Aktiv 3054",null,null,null,null,null,1]
[null,"Aktiv 3055",null,null,null,null,null,1]
[null,"Aktiv 3056",null,null,null,null,null,1]
[null,"Aktiv 3057",null,null,null,null,null,1]
[null,"Aktiv 3058",null,null,null,null,null,1]
[null,"Aktiv 3059",null,null,null,null,null,1]
[null,"Aktiv 3060",null,null,null,null,null,1]
[null,"Aktiv 3061",null,null,null,null,null,1]
[null,"Aktiv 3062",null,null,null,null,null,1]
[null,"Aktiv 3063",null,null,null,null,null,1]
[null,"Aktiv 3064",null,null,null,null,null,1]
[null,"Aktiv 3065",null,null,null,null,null,1]
[null,"Aktiv 3066",null,null,null,null,null,1]
[null,"Aktiv 3067",null,null,null,null,null,1]
[null,"Aktiv 3068",null,null,null,null,null,1]
[null,"Aktiv 3069",null,null,null,null,null,1]
[null,"Aktiv 3070",null,null,null,null,null,{"$f":"100%-(F3081+G3081)","v":1}]
[null,"Aktiv 3071",null,null,null,null,null,1]
[null,"Aktiv 3072",null,null,null,null,null,1]
[null,"Aktiv 3073",null,null,null,null,null,1]
[null,"Aktiv 3074",null,null,null,null,null,1]
[null,"Aktiv 3075",null,null,null,null,null,1]
[null,"Aktiv 3076",null,null,null,null,null,1]
[null,"Aktiv 3077",null,null,null,null,null,1]
[null,"Aktiv 3078",null,null,null,null,null,1]
[null,"Aktiv 3079",null,null,null,null,null,1]
[null,"Aktiv 3080",null,null,null,null,null,1]
[null,"Aktiv 3081",null,null,null,null,null,1]
[null,"Aktiv 3082",null,null,null,null,null,1]
[null,"Aktiv 3083",null,null,null,null,null,1]
[null,"Aktiv 3084",null,null,null,null,null,1]
[null,"Aktiv 3085",null,null,null,null,null,1]
[null,"Aktiv 3086",null,null,null,null,null,1]
[null,"Aktiv 3087",null,null,null,null,null,1]
[null,"Aktiv 3088",null,null,null,null,null,1]
[null,"Aktiv 3089",null,null,null,null,null,1]
[null,"Aktiv 3090",null,null,null,null,null,1]
[null,"Aktiv 3091",null,null,null,null,null,1]
[null,"Aktiv 3092",null,null,null,null,null,1]
[null,"Aktiv 3093",null,null,null,null,null,1]
[null,"Aktiv 3094",null,null,null,null,null,1]
[null,"Aktiv 3095",null,null,null,null,null,1]
[null,"Aktiv 3096",null,null,null,null,null,1]
[null,"Aktiv 3097",null,null,null,null,null,1]
[null,"Aktiv 3098",null,null,null,null,null,1]
[null,"Aktiv 3099",null,null,null,null,null,1]
[null,"Aktiv 3100",null,null,null,null,null,1]
[null,"Aktiv 3101",null,null,null,null,null,1]
[null,"Aktiv 3102",null,null,null,null,null,1]
[null,"Aktiv 3103",null,null,null,null,null,1]
[null,"Aktiv 3104",null,null,null,null,null,1]
[null,"Aktiv 3105",null,null,null,null,null,1]
[null,"Aktiv 3106",null,null,null,null,null,1]
[null,"Aktiv 3107",null,null,null,null,null,1]
[null,"Aktiv 3108",null,null,null,null,null,1]
[null,"Aktiv 3109",null,null,null,null,null,1]
[null,"Aktiv 3110",null,null,null,null,null,1]
[null,"Aktiv 3111",null,null,null,null,null,1]
[null,"Aktiv 3112",null,null,null,null,null,1]
[null,"Aktiv 3113",null,null,null,null,null,1]
[null,"Aktiv 3114",null,null,null,null,null,1]
[null,"Aktiv 3115",null,null,null,null,null,1]
[null,"Aktiv 3116",null,null,null,null,null,1]
[null,"Aktiv 3117",null,null,null,null,null,1]
[null,"Aktiv 3118",null,null,null,null,null,1]
[null,"Aktiv 3119",null,null,null,null,null,1]
[null,"Aktiv 3120",null,null,null,null,null,1]
[null,"Aktiv 3121",null,null,null,null,null,1]
[null,"Aktiv 3122",null,null,null,null,null,1]
[null,"Aktiv 3123",null,null,null,null,null,1]
[null,"Aktiv 3124",null,null,null,null,null,1]
[null,"Aktiv 3125",null,null,null,null,null,1]
[null,"Aktiv 3126",null,null,null,null,null,1]
[null,"Aktiv 3127",null,null,null,null,null,1]
[null,"Aktiv 3128",null,null,null,null,null,1]
[null,"Aktiv 3129",null,null,null,null,null,1]
[null,"Aktiv 3130",null,null,null,null,null,1]
[null,"Aktiv 3131",null,null,null,null,null,1]
[null,"Aktiv 3132",null,null,null,null,null,1]
[null,"Aktiv 3133",null,null,null,null,null,1]
[null,"Aktiv 3134",null,null,null,null,null,{"$f":"100%-(F3145+G3145)","v":1}]
[null,"Aktiv 3135",null,null,null,null,null,1]
[null,"Aktiv 3136",null,null,null,null,null,1]
[null,"Aktiv 3137",null,null,null,null,null,1]
[null,"Aktiv 3138",null,null,null,null,null,1]
[null,"Aktiv 3139",null,null,null,null,null,1]
[null,"Aktiv 3140",null,null,null,null,null,1]
[null,"Aktiv 3141",null,null,null,null,null,1]
[null,"Aktiv 3142",null,null,null,null,null,1]
[null,"Aktiv 3143",null,null,null,null,null,1]
[null,"Aktiv 3144",null,null,null,null,null,1]
[null,"Aktiv 3145",null,null,null,null,null,1]
[null,"Aktiv 3146",null,null,null,null,null,1]
[null,"Aktiv 3147",null,null,null,null,null,1]
[null,"Aktiv 3148",null,null,null,null,null,1]
[null,"Aktiv 3149",null,null,null,null,null,1]
[null,"Aktiv 3150",null,null,null,null,null,1]
[null,"Aktiv 3151",null,null,null,null,null,1]
[null,"Aktiv 3152",null,null,null,null,null,1]
[null,"Aktiv 3153",null,null,null,null,null,1]
[null,"Aktiv 3154",null,null,null,null,null,1]
[null,"Aktiv 3155",null,null,null,null,null,1]
[null,"Aktiv 3156",null,null,null,null,null,1]
[null,"Aktiv 3157",null,null,null,null,null,1]
[null,"Aktiv 3158",null,null,null,null,null,1]
[null,"Aktiv 3159",null,null,null,null,null,1]
[null,"Aktiv 3160",null,null,null,null,null,1]
[null,"Aktiv 3161",null,null,null,null,null,1]
[null,"Aktiv 3162",null,null,null,null,null,1]
[null,"Aktiv 3163",null,null,null,null,null,1]
[null,"Aktiv 3164",null,null,null,null,null,1]
[null,"Aktiv 3165",null,null,null,null,null,1]
[null,"Aktiv 3166",null,null,null,null,null,1]
[null,"Aktiv 3167",null,null,null,null,null,1]
[null,"Aktiv 3168",null,null,null,null,null,1]
[null,"Aktiv 3169",null,null,null,null,null,1]
[null,"Aktiv 3170",null,null,null,null,null,1]
[null,"Aktiv 3171",null,null,null,null,null,1]
[null,"Aktiv 3172",null,null,null,null,null,1]
[null,"Aktiv 3173",null,null,null,null,null,1]
[null,"Aktiv 3174",null,null,null,null,null,1]
[null,"Aktiv 3175",null,null,null,null,null,1]
[null,"Aktiv 3176",null,null,null,null,null,1]
[null,"Aktiv 3177",null,null,null,null,null,1]
[null,"Aktiv 3178",null,null,null,null,null,1]
[null,"Aktiv 3179",null,null,null,null,null,1]
[null,"Aktiv 3180",null,null,null,null,null,1]
[null,"Aktiv 3181",null,null,null,null,null,1]
[null,"Aktiv 3182",null,null,null,null,null,1]
[null,"Aktiv 3183",null,null,null,null,null,1]
[null,"Aktiv 3184",null,null,null,null,null,1]
[null,"Aktiv 3185",null,null,null,null,null,1]
[null,"Aktiv 3186",null,null,null,null,null,1]
[null,"Aktiv 3187",null,null,null,null,null,1]
[null,"Aktiv 3188",null,null,null,null,null,1]
[null,"Aktiv 3189",null,null,null,null,null,1]
[null,"Aktiv 3190",null,null,null,null,null,1]
[null,"Aktiv 3191",null,null,null,null,null,1]
[null,"Aktiv 3192",null,null,null,null,null,1]
[null,"Aktiv 3193",null,null,null,null,null,1]
[null,"Aktiv 3194",null,null,null,null,null,1]
[null,"Aktiv 3195",null,null,null,null,null,1]
[null,"Aktiv 3196",null,null,null,null,null,1]
[null,"Aktiv 3197",null,null,null,null,null,1]
[null,"Aktiv 3198",null,null,null,null,null,{"$f":"100%-(F3209+G3209)","v":1}]
[null,"Aktiv 3199",null,null,null,null,null,1]
[null,"Aktiv 3200",null,null,null,null,null,1]
[null,"Aktiv 3201",null,null,null,null,null,1]
[null,"Aktiv 3202",null,null,null,null,null,1]
[null,"Aktiv 3203",null,null,null,null,null,1]
[null,"Aktiv 3204",null,null,null,null,null,1]
[null,"Aktiv 3205",null,null,null,null,null,1]
[null,"Aktiv 3206",null,null,null,null,null,1]
[null,"Aktiv 3207",null,null,null,null,null,1]
[null,"Aktiv 3208",null,null,null,null,null,1]
[null,"Aktiv 3209",null,null,null,null,null,1]
[null,"Aktiv 3210",null,null,null,null,null,1]
[null,"Aktiv 3211",null,null,null,null,null,1]
[null,"Aktiv 3212",null,null,null,null,null,1]
[null,"Aktiv 3213",null,null,null,null,null,1]
[null,"Aktiv 3214",null,null,null,null,null,1]
[null,"Aktiv 3215",null,null,null,null,null,1]
[null,"Aktiv 3216",null,null,null,null,null,1]
[null,"Aktiv 3217",null,null,null,null,null,1]
[null,"Aktiv 3218",null,null,null,null,null,1]
[null,"Aktiv 3219",null,null,null,null,null,1]
[null,"Aktiv 3220",null,null,null,null,null,1]
[null,"Aktiv 3221",null,null,null,null,null,1]
[null,"Aktiv 3222",null,null,null,null,null,1]
[null,"Aktiv 3223",null,null,null,null,null,1]
[null,"Aktiv 3224",null,null,null,null,null,1]
[null,"Aktiv 3225",null,null,null,null,null,1]
[null,"Aktiv 3226",null,null,null,null,null,1]
[null,"Aktiv 3227",null,null,null,null,null,1]
[null,"Aktiv 3228",null,null,null,null,null,1]
[null,"Aktiv 3229",null,null,null,null,null,1]
[null,"Aktiv 3230",null,null,null,null,null,1]
[null,"Aktiv 3231",null,null,null,null,null,1]
[null,"Aktiv 3232",null,null,null,null,null,1]
[null,"Aktiv 3233",null,null,null,null,null,1]
[null,"Aktiv 3234",null,null,null,null,null,1]
[null,"Aktiv 3235",null,null,null,null,null,1]
[null,"Aktiv 3236",null,null,null,null,null,1]
[null,"Aktiv 3237",null,null,null,null,null,1]
[null,"Aktiv 3238",null,null,null,null,null,1]
[null,"Aktiv 3239",null,null,null,null,null,1]
[null,"Aktiv 3240",null,null,null,null,null,1]
[null,"Aktiv 3241",null,null,null,null,null,1]
[null,"Aktiv 3242",null,null,null,null,null,1]
[null,"Aktiv 3243",null,null,null,null,null,1]
[null,"Aktiv 3244",null,null,null,null,null,1]
[null,"Aktiv 3245",null,null,null,null,null,1]
[null,"Aktiv 3246",null,null,null,null,null,1]
[null,"Aktiv 3247",null,null,null,null,null,1]
[null,"Aktiv 3248",null,null,null,null,null,1]
[null,"Aktiv 3249",null,null,null,null,null,1]
[null,"Aktiv 3250",null,null,null,null,null,1]
[null,"Aktiv 3251",null,null,null,null,null,1]
[null,"Aktiv 3252",null,null,null,null,null,1]
[null,"Aktiv 3253",null,null,null,null,null,1]
[null,"Aktiv 3254",null,null,null,null,null,1]
[null,"Aktiv 3255",null,null,null,null,null,1]
[null,"Aktiv 3256",null,null,null,null,null,1]
[null,"Aktiv 3257",null,null,null,null,null,1]
[null,"Aktiv 3258",null,null,null,null,null,1]
[null,"Aktiv 3259",null,null,null,null,null,1]
[null,"Aktiv 3260",null,null,null,null,null,1]
[null,"Aktiv 3261",null,null,null,null,null,1]
[null,"Aktiv 3262",null,null,null,null,null,{"$f":"100%-(F3273+G3273)","v":1}]
[null,"Aktiv 3263",null,null,null,null,null,1]
[null,"Aktiv 3264",null,null,null,null,null,1]
[null,"Aktiv 3265",null,null,null,null,null,1]
[null,"Aktiv 3266",null,null,null,null,null,1]
[null,"Aktiv 3267",null,null,null,null,null,1]
[null,"Aktiv 3268",null,null,null,null,null,1]
[null,"Aktiv 3269",null,null,null,null,null,1]
[null,"Aktiv 3270",null,null,null,null,null,1]
[null,"Aktiv 3271",null,null,null,null,null,1]
[null,"Aktiv 3272",null,null,null,null,null,1]
[null,"Aktiv 3273",null,null,null,null,null,1]
[null,"Aktiv 3274",null,null,null,null,null,1]
[null,"Aktiv 3275",null,null,null,null,null,1]
[null,"Aktiv 3276",null,null,null,null,null,1]
[null,"Aktiv 3277",null,null,null,null,null,1]
[null,"Aktiv 3278",null,null,null,null,null,1]
[null,"Aktiv 3279",null,null,null,null,null,1]
[null,"Aktiv 3280",null,null,null,null,null,1]
[null,"Aktiv 3281",null,null,null,null,null,1]
[null,"Aktiv 3282",null,null,null,null,null,1]
[null,"Aktiv 3283",null,null,null,null,null,1]
[null,"Aktiv 3284",null,null,null,null,null,1]
[null,"Aktiv 3285",null,null,null,null,null,1]
[null,"Aktiv 3286",null,null,null,null,null,1]
[null,"Aktiv 3287",null,null,null,null,null,1]
[null,"Aktiv 3288",null,null,null,null,null,1]
[null,"Aktiv 3289",null,null,null,null,null,1]
[null,"Aktiv 3290",null,null,null,null,null,1]
[null,"Aktiv 3291",null,null,null,null,null,1]
[null,"Aktiv 3292",null,null,null,null,null,1]
[null,"Aktiv 3293",null,null,null,null,null,1]
[null,"Aktiv 3294",null,null,null,null,null,1]
[null,"Aktiv 3295",null,null,null,null,null,1]
[null,"Aktiv 3296",null,null,null,null,null,1]
[null,"Aktiv 3297",null,null,null,null,null,1]
[null,"Aktiv 3298",null,null,null,null,null,1]
[null,"Aktiv 3299",null,null,null,null,null,1]
[null,"Aktiv 3300",null,null,null,null,null,1]
[null,"Aktiv 3301",null,null,null,null,null,1]
[null,"Aktiv 3302",null,null,null,null,null,1]
[null,"Aktiv 3303",null,null,null,null,null,1]
[null,"Aktiv 3304",null,null,null,null,null,1]
[null,"Aktiv 3305",null,null,null,null,null,1]
[null,"Aktiv 3306",null,null,null,null,null,1]
[null,"Aktiv 3307",null,null,null,null,null,1]
[null,"Aktiv 3308",null,null,null,null,null,1]
[null,"Aktiv 3309",null,null,null,null,null,1]
[null,"Aktiv 3310",null,null,null,null,null,1]
[null,"Aktiv 3311",null,null,null,null,null,1]
[null,"Aktiv 3312",null,null,null,null,null,1]
[null,"Aktiv 3313",null,null,null,null,null,1]
[null,"Aktiv 3314",null,null,null,null,null,1]
[null,"Aktiv 3315",null,null,null,null,null,1]
[null,"Aktiv 3316",null,null,null,null,null,1]
[null,"Aktiv 3317",null,null,null,null,null,1]
[null,"Aktiv 3318",null,null,null,null,null,1]
[null,"Aktiv 3319",null,null,null,null,null,1]
[null,"Aktiv 3320",null,null,null,null,null,1]
[null,"Aktiv 3321",null,null,null,null,null,1]
[null,"Aktiv 3322",null,null,null,null,null,1]
[null,"Aktiv 3323",null,null,null,null,null,1]
[null,"Aktiv 3324",null,null,null,null,null,1]
[null,"Aktiv 3325",null,null,null,null,null,1]
[null,"Aktiv 3326",null,null,null,null,null,{"$f":"100%-(F3337+G3337)","v":1}]
[null,"Aktiv 3327",null,null,null,null,null,1]
[null,"Aktiv 3328",null,null,null,null,null,1]
[null,"Aktiv 3329",null,null,null,null,null,1]
[null,"Aktiv 3330",null,null,null,null,null,1]
[null,"Aktiv 3331",null,null,null,null,null,1]
[null,"Aktiv 3332",null,null,null,null,null,1]
[null,"Aktiv 3333",null,null,null,null,null,1]
[null,"Aktiv 3334",null,null,null,null,null,1]
[null,"Aktiv 3335",null,null,null,null,null,1]
[null,"Aktiv 3336",null,null,null,null,null,1]
[null,"Aktiv 3337",null,null,null,null,null,1]
[null,"Aktiv 3338",null,null,null,null,null,1]
[null,"Aktiv 3339",null,null,null,null,null,1]
[null,"Aktiv 3340",null,null,null,null,null,1]
[null,"Aktiv 3341",null,null,null,null,null,1]
[null,"Aktiv 3342",null,null,null,null,null,1]
[null,"Aktiv 3343",null,null,null,null,null,1]
[null,"Aktiv 3344",null,null,null,null,null,1]
[null,"Aktiv 3345",null,null,null,null,null,1]
[null,"Aktiv 3346",null,null,null,null,null,1]
[null,"Aktiv 3347",null,null,null,null,null,1]
[null,"Aktiv 3348",null,null,null,null,null,1]
[null,"Aktiv 3349",null,null,null,null,null,1]
[null,"Aktiv 3350",null,null,null,null,null,1]
[null,"Aktiv 3351",null,null,null,null,null,1]
[null,"Aktiv 3352",null,null,null,null,null,1]
[null,"Aktiv 3353",null,null,null,null,null,1]
[null,"Aktiv 3354",null,null,null,null,null,1]
[null,"Aktiv 3355",null,null,null,null,null,1]
[null,"Aktiv 3356",null,null,null,null,null,1]
[null,"Aktiv 3357",null,null,null,null,null,1]
[null,"Aktiv 3358",null,null,null,null,null,1]
[null,"Aktiv 3359",null,null,null,null,null,1]
[null,"Aktiv 3360",null,null,null,null,null,1]
[null,"Aktiv 3361",null,null,null,null,null,1]
[null,"Aktiv 3362",null,null,null,null,null,1]
[null,"Aktiv 3363",null,null,null,null,null,1]
[null,"Aktiv 3364",null,null,null,null,null,1]
[null,"Aktiv 3365",null,null,null,null,null,1]
[null,"Aktiv 3366",null,null,null,null,null,1]
[null,"Aktiv 3367",null,null,null,null,null,1]
[null,"Aktiv 3368",null,null,null,null,null,1]
[null,"Aktiv 3369",null,null,null,null,null,1]
[null,"Aktiv 3370",null,null,null,null,null,1]
[null,"Aktiv 3371",null,null,null,null,null,1]
[null,"Aktiv 3372",null,null,null,null,null,1]
[null,"Aktiv 3373",null,null,null,null,null,1]
[null,"Aktiv 3374",null,null,null,null,null,1]
[null,"Aktiv 3375",null,null,null,null,null,1]
[null,"Aktiv 3376",null,null,null,null,null,1]
[null,"Aktiv 3377",null,null,null,null,null,1]
[null,"Aktiv 3378",null,null,null,null,null,1]
[null,"Aktiv 3379",null,null,null,null,null,1]
[null,"Aktiv 3380",null,null,null,null,null,1]
[null,"Aktiv 3381",null,null,null,null,null,1]
[null,"Aktiv 3382",null,null,null,null,null,1]
[null,"Aktiv 3383",null,null,null,null,null,1]
[null,"Aktiv 3384",null,null,null,null,null,1]
[null,"Aktiv 3385",null,null,null,null,null,1]
[null,"Aktiv 3386",null,null,null,null,null,1]
[null,"Aktiv 3387",null,null,null,null,null,1]
[null,"Aktiv 3388",null,null,null,null,null,1]
[null,"Aktiv 3389",null,null,null,null,null,1]
[null,"Aktiv 3390",null,null,null,null,null,{"$f":"100%-(F3401+G3401)","v":1}]
[null,"Aktiv 3391",null,null,null,null,null,1]
[null,"Aktiv 3392",null,null,null,null,null,1]
[null,"Aktiv 3393",null,null,null,null,null,1]
[null,"Aktiv 3394",null,null,null,null,null,1]
[null,"Aktiv 3395",null,null,null,null,null,1]
[null,"Aktiv 3396",null,null,null,null,null,1]
[null,"Aktiv 3397",null,null,null,null,null,1]
[null,"Aktiv 3398",null,null,null,null,null,1]
[null,"Aktiv 3399",null,null,null,null,null,1]
[null,"Aktiv 3400",null,null,null,null,null,1]
[null,"Aktiv 3401",null,null,null,null,null,1]
[null,"Aktiv 3402",null,null,null,null,null,1]
[null,"Aktiv 3403",null,null,null,null,null,1]
[null,"Aktiv 3404",null,null,null,null,null,1]
[null,"Aktiv 3405",null,null,null,null,null,1]
[null,"Aktiv 3406",null,null,null,null,null,1]
[null,"Aktiv 3407",null,null,null,null,null,1]
[null,"Aktiv 3408",null,null,null,null,null,1]
[null,"Aktiv 3409",null,null,null,null,null,1]
[null,"Aktiv 3410",null,null,null,null,null,1]
[null,"Aktiv 3411",null,null,null,null,null,1]
[null,"Aktiv 3412",null,null,null,null,null,1]
[null,"Aktiv 3413",null,null,null,null,null,1]
[null,"Aktiv 3414",null,null,null,null,null,1]
[null,"Aktiv 3415",null,null,null,null,null,1]
[null,"Aktiv 3416",null,null,null,null,null,1]
[null,"Aktiv 3417",null,null,null,null,null,1]
[null,"Aktiv 3418",null,null,null,null,null,1]
[null,"Aktiv 3419",null,null,null,null,null,1]
[null,"Aktiv 3420",null,null,null,null,null,1]
[null,"Aktiv 3421",null,null,null,null,null,1]
[null,"Aktiv 3422",null,null,null,null,null,1]
[null,"Aktiv 3423",null,null,null,null,null,1]
[null,"Aktiv 3424",null,null,null,null,null,1]
[null,"Aktiv 3425",null,null,null,null,null,1]
[null,"Aktiv 3426",null,null,null,null,null,1]
[null,"Aktiv 3427",null,null,null,null,null,1]
[null,"Aktiv 3428",null,null,null,null,null,1]
[null,"Aktiv 3429",null,null,null,null,null,1]
[null,"Aktiv 3430",null,null,null,null,null,1]
[null,"Aktiv 3431",null,null,null,null,null,1]
[null,"Aktiv 3432",null,null,null,null,null,1]
[null,"Aktiv 3433",null,null,null,null,null,1]
[null,"Aktiv 3434",null,null,null,null,null,1]
[null,"Aktiv 3435",null,null,null,null,null,1]
[null,"Aktiv 3436",null,null,null,null,null,1]
[null,"Aktiv 3437",null,null,null,null,null,1]
[null,"Aktiv 3438",null,null,null,null,null,1]
[null,"Aktiv 3439",null,null,null,null,null,1]
[null,"Aktiv 3440",null,null,null,null,null,1]
[null,"Aktiv 3441",null,null,null,null,null,1]
[null,"Aktiv 3442",null,null,null,null,null,1]
[null,"Aktiv 3443",null,null,null,null,null,1]
[null,"Aktiv 3444",null,null,null,null,null,1]
[null,"Aktiv 3445",null,null,null,null,null,1]
[null,"Aktiv 3446",null,null,null,null,null,1]
[null,"Aktiv 3447",null,null,null,null,null,1]
[null,"Aktiv 3448",null,null,null,null,null,1]
[null,"Aktiv 3449",null,null,null,null,null,1]
[null,"Aktiv 3450",null,null,null,null,null,1]
[null,"Aktiv 3451",null,null,null,null,null,1]
[null,"Aktiv 3452",null,null,null,null,null,1]
[null,"Aktiv 3453",null,null,null,null,null,1]
[null,"Aktiv 3454",null,null,null,null,null,{"$f":"100%-(F3465+G3465)","v":1}]
[null,"Aktiv 3455",null,null,null,null,null,1]
[null,"Aktiv 3456",null,null,null,null,null,1]
[null,"Aktiv 3457",null,null,null,null,null,1]
[null,"Aktiv 3458",null,null,null,null,null,1]
[null,"Aktiv 3459",null,null,null,null,null,1]
[null,"Aktiv 3460",null,null,null,null,null,1]
[null,"Aktiv 3461",null,null,null,null,null,1]
[null,"Aktiv 3462",null,null,null,null,null,1]
[null,"Aktiv 3463",null,null,null,null,null,1]
[null,"Aktiv 3464",null,null,null,null,null,1]
[null,"Aktiv 3465",null,null,null,null,null,1]
[null,"Aktiv 3466",null,null,null,null,null,1]
[null,"Aktiv 3467",null,null,null,null,null,1]
[null,"Aktiv 3468",null,null,null,null,null,1]
[null,"Aktiv 3469",null,null,null,null,null,1]
[null,"Aktiv 3470",null,null,null,null,null,1]
[null,"Aktiv 3471",null,null,null,null,null,1]
[null,"Aktiv 3472",null,null,null,null,null,1]
[null,"Aktiv 3473",null,null,null,null,null,1]
[null,"Aktiv 3474",null,null,null,null,null,1]
[null,"Aktiv 3475",null,null,null,null,null,1]
[null,"Aktiv 3476",null,null,null,null,null,1]
[null,"Aktiv 3477",null,null,null,null,null,1]
[null,"Aktiv 3478",null,null,null,null,null,1]
[null,"Aktiv 3479",null,null,null,null,null,1]
[null,"Aktiv 3480",null,null,null,null,null,1]
[null,"Aktiv 3481",null,null,null,null,null,1]
[null,"Aktiv 3482",null,null,null,null,null,1]
[null,"Aktiv 3483",null,null,null,null,null,1]
[null,"Aktiv 3484",null,null,null,null,null,1]
[null,"Aktiv 3485",null,null,null,null,null,1]
[null,"Aktiv 3486",null,null,null,null,null,1]
[null,"Aktiv 3487",null,null,null,null,null,1]
[null,"Aktiv 3488",null,null,null,null,null,1]
[null,"Aktiv 3489",null,null,null,null,null,1]
[null,"Aktiv 3490",null,null,null,null,null,1]
[null,"Aktiv 3491",null,null,null,null,null,1]
[null,"Aktiv 3492",null,null,null,null,null,1]
[null,"Aktiv 3493",null,null,null,null,null,1]
[null,"Aktiv 3494",null,null,null,null,null,1]
[null,"Aktiv 3495",null,null,null,null,null,1]
[null,"Aktiv 3496",null,null,null,null,null,1]
[null,"Aktiv 3497",null,null,null,null,null,1]
[null,"Aktiv 3498",null,null,null,null,null,1]
[null,"Aktiv 3499",null,null,null,null,null,1]
[null,"Aktiv 3500",null,null,null,null,null,1]
[null,"Aktiv 3501",null,null,null,null,null,1]
[null,"Aktiv 3502",null,null,null,null,null,1]
[null,"Aktiv 3503",null,null,null,null,null,1]
[null,"Aktiv 3504",null,null,null,null,null,1]
[null,"Aktiv 3505",null,null,null,null,null,1]
[null,"Aktiv 3506",null,null,null,null,null,1]
[null,"Aktiv 3507",null,null,null,null,null,1]
[null,"Aktiv 3508",null,null,null,null,null,1]
[null,"Aktiv 3509",null,null,null,null,null,1]
[null,"Aktiv 3510",null,null,null,null,null,1]
[null,"Aktiv 3511",null,null,null,null,null,1]
[null,"Aktiv 3512",null,null,null,null,null,1]
[null,"Aktiv 3513",null,null,null,null,null,1]
[null,"Aktiv 3514",null,null,null,null,null,1]
[null,"Aktiv 3515",null,null,null,null,null,1]
[null,"Aktiv 3516",null,null,null,null,null,1]
[null,"Aktiv 3517",null,null,null,null,null,1]
[null,"Aktiv 3518",null,null,null,null,null,{"$f":"100%-(F3529+G3529)","v":1}]
[null,"Aktiv 3519",null,null,null,null,null,1]
[null,"Aktiv 3520",null,null,null,null,null,1]
[null,"Aktiv 3521",null,null,null,null,null,1]
[null,"Aktiv 3522",null,null,null,null,null,1]
[null,"Aktiv 3523",null,null,null,null,null,1]
[null,"Aktiv 3524",null,null,null,null,null,1]
[null,"Aktiv 3525",null,null,null,null,null,1]
[null,"Aktiv 3526",null,null,null,null,null,1]
[null,"Aktiv 3527",null,null,null,null,null,1]
[null,"Aktiv 3528",null,null,null,null,null,1]
[null,"Aktiv 3529",null,null,null,null,null,1]
[null,"Aktiv 3530",null,null,null,null,null,1]
[null,"Aktiv 3531",null,null,null,null,null,1]
[null,"Aktiv 3532",null,null,null,null,null,1]
[null,"Aktiv 3533",null,null,null,null,null,1]
[null,"Aktiv 3534",null,null,null,null,null,1]
[null,"Aktiv 3535",null,null,null,null,null,1]
[null,"Aktiv 3536",null,null,null,null,null,1]
[null,"Aktiv 3537",null,null,null,null,null,1]
[null,"Aktiv 3538",null,null,null,null,null,1]
[null,"Aktiv 3539",null,null,null,null,null,1]
[null,"Aktiv 3540",null,null,null,null,null,1]
[null,"Aktiv 3541",null,null,null,null,null,1]
[null,"Aktiv 3542",null,null,null,null,null,1]
[null,"Aktiv 3543",null,null,null,null,null,1]
[null,"Aktiv 3544",null,null,null,null,null,1]
[null,"Aktiv 3545",null,null,null,null,null,1]
[null,"Aktiv 3546",null,null,null,null,null,1]
[null,"Aktiv 3547",null,null,null,null,null,1]
[null,"Aktiv 3548",null,null,null,null,null,1]
[null,"Aktiv 3549",null,null,null,null,null,1]
[null,"Aktiv 3550",null,null,null,null,null,1]
[null,"Aktiv 3551",null,null,null,null,null,1]
[null,"Aktiv 3552",null,null,null,null,null,1]
[null,"Aktiv 3553",null,null,null,null,null,1]
[null,"Aktiv 3554",null,null,null,null,null,1]
[null,"Aktiv 3555",null,null,null,null,null,1]
[null,"Aktiv 3556",null,null,null,null,null,1]
[null,"Aktiv 3557",null,null,null,null,null,1]
[null,"Aktiv 3558",null,null,null,null,null,1]
[null,"Aktiv 3559",null,null,null,null,null,1]
[null,"Aktiv 3560",null,null,null,null,null,1]
[null,"Aktiv 3561",null,null,null,null,null,1]
[null,"Aktiv 3562",null,null,null,null,null,1]
[null,"Aktiv 3563",null,null,null,null,null,1]
[null,"Aktiv 3564",null,null,null,null,null,1]
[null,"Aktiv 3565",null,null,null,null,null,1]
[null,"Aktiv 3566",null,null,null,null,null,1]
[null,"Aktiv 3567",null,null,null,null,null,1]
[null,"Aktiv 3568",null,null,null,null,null,1]
[null,"Aktiv 3569",null,null,null,null,null,1]
[null,"Aktiv 3570",null,null,null,null,null,1]
[null,"Aktiv 3571",null,null,null,null,null,1]
[null,"Aktiv 3572",null,null,null,null,null,1]
[null,"Aktiv 3573",null,null,null,null,null,1]
[null,"Aktiv 3574",null,null,null,null,null,1]
[null,"Aktiv 3575",null,null,null,null,null,1]
[null,"Aktiv 3576",null,null,null,null,null,1]
[null,"Aktiv 3577",null,null,null,null,null,1]
[null,"Aktiv 3578",null,null,null,null,null,1]
[null,"Aktiv 3579",null,null,null,null,null,1]
[null,"Aktiv 3580",null,null,null,null,null,1]
[null,"Aktiv 3581",null,null,null,null,null,1]
[null,"Aktiv 3582",null,null,null,null,null,{"$f":"100%-(F3593+G3593)","v":1}]
[null,"Aktiv 3583",null,null,null,null,null,1]
[null,"Aktiv 3584",null,null,null,null,null,1]
[null,"Aktiv 3585",null,null,null,null,null,1]
[null,"Aktiv 3586",null,null,null,null,null,1]
[null,"Aktiv 3587",null,null,null,null,null,1]
[null,"Aktiv 3588",null,null,null,null,null,1]
[null,"Aktiv 3589",null,null,null,null,null,1]
[null,"Aktiv 3590",null,null,null,null,null,1]
[null,"Aktiv 3591",null,null,null,null,null,1]
[null,"Aktiv 3592",null,null,null,null,null,1]
[null,"Aktiv 3593",null,null,null,null,null,1]
[null,"Aktiv 3594",null,null,null,null,null,1]
[null,"Aktiv 3595",null,null,null,null,null,1]
[null,"Aktiv 3596",null,null,null,null,null,1]
[null,"Aktiv 3597",null,null,null,null,null,1]
[null,"Aktiv 3598",null,null,null,null,null,1]
[null,"Aktiv 3599",null,null,null,null,null,1]
[null,"Aktiv 3600",null,null,null,null,null,1]
[null,"Aktiv 3601",null,null,null,null,null,1]
[null,"Aktiv 3602",null,null,null,null,null,1]
[null,"Aktiv 3603",null,null,null,null,null,1]
[null,"Aktiv 3604",null,null,null,null,null,1]
[null,"Aktiv 3605",null,null,null,null,null,1]
[null,"Aktiv 3606",null,null,null,null,null,1]
[null,"Aktiv 3607",null,null,null,null,null,1]
[null,"Aktiv 3608",null,null,null,null,null,1]
[null,"Aktiv 3609",null,null,null,null,null,1]
[null,"Aktiv 3610",null,null,null,null,null,1]
[null,"Aktiv 3611",null,null,null,null,null,1]
[null,"Aktiv 3612",null,null,null,null,null,1]
[null,"Aktiv 3613",null,null,null,null,null,1]
[null,"Aktiv 3614",null,null,null,null,null,1]
[null,"Aktiv 3615",null,null,null,null,null,1]
[null,"Aktiv 3616",null,null,null,null,null,1]
[null,"Aktiv 3617",null,null,null,null,null,1]
[null,"Aktiv 3618",null,null,null,null,null,1]
[null,"Aktiv 3619",null,null,null,null,null,1]
[null,"Aktiv 3620",null,null,null,null,null,1]
[null,"Aktiv 3621",null,null,null,null,null,1]
[null,"Aktiv 3622",null,null,null,null,null,1]
[null,"Aktiv 3623",null,null,null,null,null,1]
[null,"Aktiv 3624",null,null,null,null,null,1]
[null,"Aktiv 3625",null,null,null,null,null,1]
[null,"Aktiv 3626",null,null,null,null,null,1]
[null,"Aktiv 3627",null,null,null,null,null,1]
[null,"Aktiv 3628",null,null,null,null,null,1]
[null,"Aktiv 3629",null,null,null,null,null,1]
[null,"Aktiv 3630",null,null,null,null,null,1]
[null,"Aktiv 3631",null,null,null,null,null,1]
[null,"Aktiv 3632",null,null,null,null,null,1]
[null,"Aktiv 3633",null,null,null,null,null,1]
[null,"Aktiv 3634",null,null,null,null,null,1]
[null,"Aktiv 3635",null,null,null,null,null,1]
[null,"Aktiv 3636",null,null,null,null,null,1]
[null,"Aktiv 3637",null,null,null,null,null,1]
[null,"Aktiv 3638",null,null,null,null,null,1]
[null,"Aktiv 3639",null,null,null,null,null,1]
[null,"Aktiv 3640",null,null,null,null,null,1]
[null,"Aktiv 3641",null,null,null,null,null,1]
[null,"Aktiv 3642",null,null,null,null,null,1]
[null,"Aktiv 3643",null,null,null,null,null,1]
[null,"Aktiv 3644",null,null,null,null,null,1]
[null,"Aktiv 3645",null,null,null,null,null,1]
[null,"Aktiv 3646",null,null,null,null,null,{"$f":"100%-(F3657+G3657)","v":1}]
[null,"Aktiv 3647",null,null,null,null,null,1]
[null,"Aktiv 3648",null,null,null,null,null,1]
[null,"Aktiv 3649",null,null,null,null,null,1]
[null,"Aktiv 3650",null,null,null,null,null,1]
[null,"Aktiv 3651",null,null,null,null,null,1]
[null,"Aktiv 3652",null,null,null,null,null,1]
[null,"Aktiv 3653",null,null,null,null,null,1]
[null,"Aktiv 3654",null,null,null,null,null,1]
[null,"Aktiv 3655",null,null,null,null,null,1]
[null,"Aktiv 3656",null,null,null,null,null,1]
[null,"Aktiv 3657",null,null,null,null,null,1]
[null,"Aktiv 3658",null,null,null,null,null,1]
[null,"Aktiv 3659",null,null,null,null,null,1]
[null,"Aktiv 3660",null,null,null,null,null,1]
[null,"Aktiv 3661",null,null,null,null,null,1]
[null,"Aktiv 3662",null,null,null,null,null,1]
[null,"Aktiv 3663",null,null,null,null,null,1]
[null,"Aktiv 3664",null,null,null,null,null,1]
[null,"Aktiv 3665",null,null,null,null,null,1]
[null,"Aktiv 3666",null,null,null,null,null,1]
[null,"Aktiv 3667",null,null,null,null,null,1]
[null,"Aktiv 3668",null,null,null,null,null,1]
[null,"Aktiv 3669",null,null,null,null,null,1]
[null,"Aktiv 3670",null,null,null,null,null,1]
[null,"Aktiv 3671",null,null,null,null,null,1]
[null,"Aktiv 3672",null,null,null,null,null,1]
[null,"Aktiv 3673",null,null,null,null,null,1]
[null,"Aktiv 3674",null,null,null,null,null,1]
[null,"Aktiv 3675",null,null,null,null,null,1]
[null,"Aktiv 3676",null,null,null,null,null,1]
[null,"Aktiv 3677",null,null,null,null,null,1]
[null,"Aktiv 3678",null,null,null,null,null,1]
[null,"Aktiv 3679",null,null,null,null,null,1]
[null,"Aktiv 3680",null,null,null,null,null,1]
[null,"Aktiv 3681",null,null,null,null,null,1]
[null,"Aktiv 3682",null,null,null,null,null,1]
[null,"Aktiv 3683",null,null,null,null,null,1]
[null,"Aktiv 3684",null,null,null,null,null,1]
[null,"Aktiv 3685",null,null,null,null,null,1]
[null,"Aktiv 3686",null,null,null,null,null,1]
[null,"Aktiv 3687",null,null,null,null,null,1]
[null,"Aktiv 3688",null,null,null,null,null,1]
[null,"Aktiv 3689",null,null,null,null,null,1]
[null,"Aktiv 3690",null,null,null,null,null,1]
[null,"Aktiv 3691",null,null,null,null,null,1]
[null,"Aktiv 3692",null,null,null,null,null,1]
[null,"Aktiv 3693",null,null,null,null,null,1]
[null,"Aktiv 3694",null,null,null,null,null,1]
[null,"Aktiv 3695",null,null,null,null,null,1]
[null,"Aktiv 3696",null,null,null,null,null,1]
[null,"Aktiv 3697",null,null,null,null,null,1]
[null,"Aktiv 3698",null,null,null,null,null,1]
[null,"Aktiv 3699",null,null,null,null,null,1]
[null,"Aktiv 3700",null,null,null,null,null,1]
[null,"Aktiv 3701",null,null,null,null,null,1]
[null,"Aktiv 3702",null,null,null,null,null,1]
[null,"Aktiv 3703",null,null,null,null,null,1]
[null,"Aktiv 3704",null,null,null,null,null,1]
[null,"Aktiv 3705",null,null,null,null,null,1]
[null,"Aktiv 3706",null,null,null,null,null,1]
[null,"Aktiv 3707",null,null,null,null,null,1]
[null,"Aktiv 3708",null,null,null,null,null,1]
[null,"Aktiv 3709",null,null,null,null,null,1]
[null,"Aktiv 3710",null,null,null,null,null,{"$f":"100%-(F3721+G3721)","v":1}]
[null,"Aktiv 3711",null,null,null,null,null,1]
[null,"Aktiv 3712",null,null,null,null,null,1]
[null,"Aktiv 3713",null,null,null,null,null,1]
[null,"Aktiv 3714",null,null,null,null,null,1]
[null,"Aktiv 3715",null,null,null,null,null,1]
[null,"Aktiv 3716",null,null,null,null,null,1]
[null,"Aktiv 3717",null,null,null,null,null,1]
[null,"Aktiv 3718",null,null,null,null,null,1]
[null,"Aktiv 3719",null,null,null,null,null,1]
[null,"Aktiv 3720",null,null,null,null,null,1]
[null,"Aktiv 3721",null,null,null,null,null,1]
[null,"Aktiv 3722",null,null,null,null,null,1]
[null,"Aktiv 3723",null,null,null,null,null,1]
[null,"Aktiv 3724",null,null,null,null,null,1]
[null,"Aktiv 3725",null,null,null,null,null,1]
[null,"Aktiv 3726",null,null,null,null,null,1]
[null,"Aktiv 3727",null,null,null,null,null,1]
[null,"Aktiv 3728",null,null,null,null,null,1]
[null,"Aktiv 3729",null,null,null,null,null,1]
[null,"Aktiv 3730",null,null,null,null,null,1]
[null,"Aktiv 3731",null,null,null,null,null,1]
[null,"Aktiv 3732",null,null,null,null,null,1]
[null,"Aktiv 3733",null,null,null,null,null,1]
[null,"Aktiv 3734",null,null,null,null,null,1]
[null,"Aktiv 3735",null,null,null,null,null,1]
[null,"Aktiv 3736",null,null,null,null,null,1]
[null,"Aktiv 3737",null,null,null,null,null,1]
[null,"Aktiv 3738",null,null,null,null,null,1]
[null,"Aktiv 3739",null,null,null,null,null,1]
[null,"Aktiv 3740",null,null,null,null,null,1]
[null,"Aktiv 3741",null,null,null,null,null,1]
[null,"Aktiv 3742",null,null,null,null,null,1]
[null,"Aktiv 3743",null,null,null,null,null,1]
[null,"Aktiv 3744",null,null,null,null,null,1]
[null,"Aktiv 3745",null,null,null,null,null,1]
[null,"Aktiv 3746",null,null,null,null,null,1]
[null,"Aktiv 3747",null,null,null,null,null,1]
[null,"Aktiv 3748",null,null,null,null,null,1]
[null,"Aktiv 3749",null,null,null,null,null,1]
[null,"Aktiv 3750",null,null,null,null,null,1]
[null,"Aktiv 3751",null,null,null,null,null,1]
[null,"Aktiv 3752",null,null,null,null,null,1]
[null,"Aktiv 3753",null,null,null,null,null,1]
[null,"Aktiv 3754",null,null,null,null,null,1]
[null,"Aktiv 3755",null,null,null,null,null,1]
[null,"Aktiv 3756",null,null,null,null,null,1]
[null,"Aktiv 3757",null,null,null,null,null,1]
[null,"Aktiv 3758",null,null,null,null,null,1]
[null,"Aktiv 3759",null,null,null,null,null,1]
[null,"Aktiv 3760",null,null,null,null,null,1]
[null,"Aktiv 3761",null,null,null,null,null,1]
[null,"Aktiv 3762",null,null,null,null,null,1]
[null,"Aktiv 3763",null,null,null,null,null,1]
[null,"Aktiv 3764",null,null,null,null,null,1]
[null,"Aktiv 3765",null,null,null,null,null,1]
[null,"Aktiv 3766",null,null,null,null,null,1]
[null,"Aktiv 3767",null,null,null,null,null,1]
[null,"Aktiv 3768",null,null,null,null,null,1]
[null,"Aktiv 3769",null,null,null,null,null,1]
[null,"Aktiv 3770",null,null,null,null,null,1]
[null,"Aktiv 3771",null,null,null,null,null,1]
[null,"Aktiv 3772",null,null,null,null,null,1]
[null,"Aktiv 3773",null,null,null,null,null,1]
[null,"Aktiv 3774",null,null,null,null,null,{"$f":"100%-(F3785+G3785)","v":1}]
[null,"Aktiv 3775",null,null,null,null,null,1]
[null,"Aktiv 3776",null,null,null,null,null,1]
[null,"Aktiv 3777",null,null,null,null,null,1]
[null,"Aktiv 3778",null,null,null,null,null,1]
[null,"Aktiv 3779",null,null,null,null,null,1]
[null,"Aktiv 3780",null,null,null,null,null,1]
[null,"Aktiv 3781",null,null,null,null,null,1]
[null,"Aktiv 3782",null,null,null,null,null,1]
[null,"Aktiv 3783",null,null,null,null,null,1]
[null,"Aktiv 3784",null,null,null,null,null,1]
[null,"Aktiv 3785",null,null,null,null,null,1]
[null,"Aktiv 3786",null,null,null,null,null,1]
[null,"Aktiv 3787",null,null,null,null,null,1]
[null,"Aktiv 3788",null,null,null,null,null,1]
[null,"Aktiv 3789",null,null,null,null,null,1]
[null,"Aktiv 3790",null,null,null,null,null,1]
[null,"Aktiv 3791",null,null,null,null,null,1]
[null,"Aktiv 3792",null,null,null,null,null,1]
[null,"Aktiv 3793",null,null,null,null,null,1]
[null,"Aktiv 3794",null,null,null,null,null,1]
[null,"Aktiv 3795",null,null,null,null,null,1]
[null,"Aktiv 3796",null,null,null,null,null,1]
[null,"Aktiv 3797",null,null,null,null,null,1]
[null,"Aktiv 3798",null,null,null,null,null,1]
[null,"Aktiv 3799",null,null,null,null,null,1]
[null,"Aktiv 3800",null,null,null,null,null,1]
[null,"Aktiv 3801",null,null,null,null,null,1]
[null,"Aktiv 3802",null,null,null,null,null,1]
[null,"Aktiv 3803",null,null,null,null,null,1]
[null,"Aktiv 3804",null,null,null,null,null,1]
[null,"Aktiv 3805",null,null,null,null,null,1]
[null,"Aktiv 3806",null,null,null,null,null,1]
[null,"Aktiv 3807",null,null,null,null,null,1]
[null,"Aktiv 3808",null,null,null,null,null,1]
[null,"Aktiv 3809",null,null,null,null,null,1]
[null,"Aktiv 3810",null,null,null,null,null,1]
[null,"Aktiv 3811",null,null,null,null,null,1]
[null,"Aktiv 3812",null,null,null,null,null,1]
[null,"Aktiv 3813",null,null,null,null,null,1]
[null,"Aktiv 3814",null,null,null,null,null,1]
[null,"Aktiv 3815",null,null,null,null,null,1]
[null,"Aktiv 3816",null,null,null,null,null,1]
[null,"Aktiv 3817",null,null,null,null,null,1]
[null,"Aktiv 3818",null,null,null,null,null,1]
[null,"Aktiv 3819",null,null,null,null,null,1]
[null,"Aktiv 3820",null,null,null,null,null,1]
[null,"Aktiv 3821",null,null,null,null,null,1]
[null,"Aktiv 3822",null,null,null,null,null,1]
[null,"Aktiv 3823",null,null,null,null,null,1]
[null,"Aktiv 3824",null,null,null,null,null,1]
[null,"Aktiv 3825",null,null,null,null,null,1]
[null,"Aktiv 3826",null,null,null,null,null,1]
[null,"Aktiv 3827",null,null,null,null,null,1]
[null,"Aktiv 3828",null,null,null,null,null,1]
[null,"Aktiv 3829",null,null,null,null,null,1]
[null,"Aktiv 3830",null,null,null,null,null,1]
[null,"Aktiv 3831",null,null,null,null,null,1]
[null,"Aktiv 3832",null,null,null,null,null,1]
[null,"Aktiv 3833",null,null,null,null,null,1]
[null,"Aktiv 3834",null,null,null,null,null,1]
[null,"Aktiv 3835",null,null,null,null,null,1]
[null,"Aktiv 3836",null,null,null,null,null,1]
[null,"Aktiv 3837",null,null,null,null,null,1]
[null,"Aktiv 3838",null,null,null,null,null,{"$f":"100%-(F3849+G3849)","v":1}]
[null,"Aktiv 3839",null,null,null,null,null,1]
[null,"Aktiv 3840",null,null,null,null,null,1]
[null,"Aktiv 3841",null,null,null,null,null,1]
[null,"Aktiv 3842",null,null,null,null,null,1]
[null,"Aktiv 3843",null,null,null,null,null,1]
[null,"Aktiv 3844",null,null,null,null,null,1]
[null,"Aktiv 3845",null,null,null,null,null,1]
[null,"Aktiv 3846",null,null,null,null,null,1]
[null,"Aktiv 3847",null,null,null,null,null,1]
[null,"Aktiv 3848",null,null,null,null,null,1]
[null,"Aktiv 3849",null,null,null,null,null,1]
[null,"Aktiv 3850",null,null,null,null,null,1]
[null,"Aktiv 3851",null,null,null,null,null,1]
[null,"Aktiv 3852",null,null,null,null,null,1]
[null,"Aktiv 3853",null,null,null,null,null,1]
[null,"Aktiv 3854",null,null,null,null,null,1]
[null,"Aktiv 3855",null,null,null,null,null,1]
[null,"Aktiv 3856",null,null,null,null,null,1]
[null,"Aktiv 3857",null,null,null,null,null,1]
[null,"Aktiv 3858",null,null,null,null,null,1]
[null,"Aktiv 3859",null,null,null,null,null,1]
[null,"Aktiv 3860",null,null,null,null,null,1]
[null,"Aktiv 3861",null,null,null,null,null,1]
[null,"Aktiv 3862",null,null,null,null,null,1]
[null,"Aktiv 3863",null,null,null,null,null,1]
[null,"Aktiv 3864",null,null,null,null,null,1]
[null,"Aktiv 3865",null,null,null,null,null,1]
[null,"Aktiv 3866",null,null,null,null,null,1]
[null,"Aktiv 3867",null,null,null,null,null,1]
[null,"Aktiv 3868",null,null,null,null,null,1]
[null,"Aktiv 3869",null,null,null,null,null,1]
[null,"Aktiv 3870",null,null,null,null,null,1]
[null,"Aktiv 3871",null,null,null,null,null,1]
[null,"Aktiv 3872",null,null,null,null,null,1]
[null,"Aktiv 3873",null,null,null,null,null,1]
[null,"Aktiv 3874",null,null,null,null,null,1]
[null,"Aktiv 3875",null,null,null,null,null,1]
[null,"Aktiv 3876",null,null,null,null,null,1]
[null,"Aktiv 3877",null,null,null,null,null,1]
[null,"Aktiv 3878",null,null,null,null,null,1]
[null,"Aktiv 3879",null,null,null,null,null,1]
[null,"Aktiv 3880",null,null,null,null,null,1]
[null,"Aktiv 3881",null,null,null,null,null,1]
[null,"Aktiv 3882",null,null,null,null,null,1]
[null,"Aktiv 3883",null,null,null,null,null,1]
[null,"Aktiv 3884",null,null,null,null,null,1]
[null,"Aktiv 3885",null,null,null,null,null,1]
[null,"Aktiv 3886",null,null,null,null,null,1]
[null,"Aktiv 3887",null,null,null,null,null,1]
[null,"Aktiv 3888",null,null,null,null,null,1]
[null,"Aktiv 3889",null,null,null,null,null,1]
[null,"Aktiv 3890",null,null,null,null,null,1]
[null,"Aktiv 3891",null,null,null,null,null,1]
[null,"Aktiv 3892",null,null,null,null,null,1]
[null,"Aktiv 3893",null,null,null,null,null,1]
[null,"Aktiv 3894",null,null,null,null,null,1]
[null,"Aktiv 3895",null,null,null,null,null,1]
[null,"Aktiv 3896",null,null,null,null,null,1]
[null,"Aktiv 3897",null,null,null,null,null,1]
[null,"Aktiv 3898",null,null,null,null,null,1]
[null,"Aktiv 3899",null,null,null,null,null,1]
[null,"Aktiv 3900",null,null,null,null,null,1]
[null,"Aktiv 3901",null,null,null,null,null,1]
[null,"Aktiv 3902",null,null,null,null,null,{"$f":"100%-(F3913+G3913)","v":1}]
[null,"Aktiv 3903",null,null,null,null,null,1]
[null,"Aktiv 3904",null,null,null,null,null,1]
[null,"Aktiv 3905",null,null,null,null,null,1]
[null,"Aktiv 3906",null,null,null,null,null,1]
[null,"Aktiv 3907",null,null,null,null,null,1]
[null,"Aktiv 3908",null,null,null,null,null,1]
[null,"Aktiv 3909",null,null,null,null,null,1]
[null,"Aktiv 3910",null,null,null,null,null,1]
[null,"Aktiv 3911",null,null,null,null,null,1]
[null,"Aktiv 3912",null,null,null,null,null,1]
[null,"Aktiv 3913",null,null,null,null,null,1]
[null,"Aktiv 3914",null,null,null,null,null,1]
[null,"Aktiv 3915",null,null,null,null,null,1]
[null,"Aktiv 3916",null,null,null,null,null,1]
[null,"Aktiv 3917",null,null,null,null,null,1]
[null,"Aktiv 3918",null,null,null,null,null,1]
[null,"Aktiv 3919",null,null,null,null,null,1]
[null,"Aktiv 3920",null,null,null,null,null,1]
[null,"Aktiv 3921",null,null,null,null,null,1]
[null,"Aktiv 3922",null,null,null,null,null,1]
[null,"Aktiv 3923",null,null,null,null,null,1]
[null,"Aktiv 3924",null,null,null,null,null,1]
[null,"Aktiv 3925",null,null,null,null,null,1]
[null,"Aktiv 3926",null,null,null,null,null,1]
[null,"Aktiv 3927",null,null,null,null,null,1]
[null,"Aktiv 3928",null,null,null,null,null,1]
[null,"Aktiv 3929",null,null,null,null,null,1]
[null,"Aktiv 3930",null,null,null,null,null,1]
[null,"Aktiv 3931",null,null,null,null,null,1]
[null,"Aktiv 3932",null,null,null,null,null,1]
[null,"Aktiv 3933",null,null,null,null,null,1]
[null,"Aktiv 3934",null,null,null,null,null,1]
[null,"Aktiv 3935",null,null,null,null,null,1]
[null,"Aktiv 3936",null,null,null,null,null,1]
[null,"Aktiv 3937",null,null,null,null,null,1]
[null,"Aktiv 3938",null,null,null,null,null,1]
[null,"Aktiv 3939",null,null,null,null,null,1]
[null,"Aktiv 3940",null,null,null,null,null,1]
[null,"Aktiv 3941",null,null,null,null,null,1]
[null,"Aktiv 3942",null,null,null,null,null,1]
[null,"Aktiv 3943",null,null,null,null,null,1]
[null,"Aktiv 3944",null,null,null,null,null,1]
[null,"Aktiv 3945",null,null,null,null,null,1]
[null,"Aktiv 3946",null,null,null,null,null,1]
[null,"Aktiv 3947",null,null,null,null,null,1]
[null,"Aktiv 3948",null,null,null,null,null,1]
[null,"Aktiv 3949",null,null,null,null,null,1]
[null,"Aktiv 3950",null,null,null,null,null,1]
[null,"Aktiv 3951",null,null,null,null,null,1]
[null,"Aktiv 3952",null,null,null,null,null,1]
[null,"Aktiv 3953",null,null,null,null,null,1]
[null,"Aktiv 3954",null,null,null,null,null,1]
[null,"Aktiv 3955",null,null,null,null,null,1]
[null,"Aktiv 3956",null,null,null,null,null,1]
[null,"Aktiv 3957",null,null,null,null,null,1]
[null,"Aktiv 3958",null,null,null,null,null,1]
[null,"Aktiv 3959",null,null,null,null,null,1]
[null,"Aktiv 3960",null,null,null,null,null,1]
[null,"Aktiv 3961",null,null,null,null,null,1]
[null,"Aktiv 3962",null,null,null,null,null,1]
[null,"Aktiv 3963",null,null,null,null,null,1]
[null,"Aktiv 3964",null,null,null,null,null,1]
[null,"Aktiv 3965",null,null,null,null,null,1]
[null,"Aktiv 3966",null,null,null,null,null,{"$f":"100%-(F3977+G3977)","v":1}]
[null,"Aktiv 3967",null,null,null,null,null,1]
[null,"Aktiv 3968",null,null,null,null,null,1]
[null,"Aktiv 3969",null,null,null,null,null,1]
[null,"Aktiv 3970",null,null,null,null,null,1]
[null,"Aktiv 3971",null,null,null,null,null,1]
[null,"Aktiv 3972",null,null,null,null,null,1]
[null,"Aktiv 3973",null,null,null,null,null,1]
[null,"Aktiv 3974",null,null,null,null,null,1]
[null,"Aktiv 3975",null,null,null,null,null,1]
[null,"Aktiv 3976",null,null,null,null,null,1]
[null,"Aktiv 3977",null,null,null,null,null,1]
[null,"Aktiv 3978",null,null,null,null,null,1]
[null,"Aktiv 3979",null,null,null,null,null,1]
[null,"Aktiv 3980",null,null,null,null,null,1]
[null,"Aktiv 3981",null,null,null,null,null,1]
[null,"Aktiv 3982",null,null,null,null,null,1]
[null,"Aktiv 3983",null,null,null,null,null,1]
[null,"Aktiv 3984",null,null,null,null,null,1]
[null,"Aktiv 3985",null,null,null,null,null,1]
[null,"Aktiv 3986",null,null,null,null,null,1]
[null,"Aktiv 3987",null,null,null,null,null,1]
[null,"Aktiv 3988",null,null,null,null,null,1]
[null,"Aktiv 3989",null,null,null,null,null,1]
[null,"Aktiv 3990",null,null,null,null,null,1]
[null,"Aktiv 3991",null,null,null,null,null,1]
[null,"Aktiv 3992",null,null,null,null,null,1]
[null,"Aktiv 3993",null,null,null,null,null,1]
[null,"Aktiv 3994",null,null,null,null,null,1]
[null,"Aktiv 3995",null,null,null,null,null,1]
[null,"Aktiv 3996",null,null,null,null,null,1]
[null,"Aktiv 3997",null,null,null,null,null,1]
[null,"Aktiv 3998",null,null,null,null,null,1]
[null,"Aktiv 3999",null,null,null,null,null,1]
[null,"Aktiv 4000",null,null,null,null,null,1]
[null,"Aktiv 4001",null,null,null,null,null,1]
[null,"Aktiv 4002",null,null,null,null,null,1]
[null,"Aktiv 4003",null,null,null,null,null,1]
[null,"Aktiv 4004",null,null,null,null,null,1]
[null,"Aktiv 4005",null,null,null,null,null,1]
[null,"Aktiv 4006",null,null,null,null,null,1]
[null,"Aktiv 4007",null,null,null,null,null,1]
[null,"Aktiv 4008",null,null,null,null,null,1]
[null,"Aktiv 4009",null,null,null,null,null,1]
[null,"Aktiv 4010",null,null,null,null,null,1]
[null,"Aktiv 4011",null,null,null,null,null,1]
[null,"Aktiv 4012",null,null,null,null,null,1]
[null,"Aktiv 4013",null,null,null,null,null,1]
[null,"Aktiv 4014",null,null,null,null,null,1]
[null,"Aktiv 4015",null,null,null,null,null,1]
[null,"Aktiv 4016",null,null,null,null,null,1]
[null,"Aktiv 4017",null,null,null,null,null,1]
[null,"Aktiv 4018",null,null,null,null,null,1]
[null,"Aktiv 4019",null,null,null,null,null,1]
[null,"Aktiv 4020",null,null,null,null,null,1]
[null,"Aktiv 4021",null,null,null,null,null,1]
[null,"Aktiv 4022",null,null,null,null,null,1]
[null,"Aktiv 4023",null,null,null,null,null,1]
[null,"Aktiv 4024",null,null,null,null,null,1]
[null,"Aktiv 4025",null,null,null,null,null,1]
[null,"Aktiv 4026",null,null,null,null,null,1]
[null,"Aktiv 4027",null,null,null,null,null,1]
[null,"Aktiv 4028",null,null,null,null,null,1]
[null,"Aktiv 4029",null,null,null,null,null,{"$f":"100%-(F4040+G4040)","v":1}]
[null,"Aktiv 4030",null,null,null,null,null,1]
[null,"Aktiv 4031",null,null,null,null,null,1]
[null,"Aktiv 4032",null,null,null,null,null,1]
[null,"Aktiv 4033",null,null,null,null,null,1]
[null,"Aktiv 4034",null,null,null,null,null,1]
[null,"Aktiv 4035",null,null,null,null,null,1]
[null,"Aktiv 4036",null,null,null,null,null,1]
[null,"Aktiv 4037",null,null,null,null,null,1]
[null,"Aktiv 4038",null,null,null,null,null,1]
[null,"Aktiv 4039",null,null,null,null,null,1]
[null,"Aktiv 4040",null,null,null,null,null,1]
[null,"Aktiv 4041",null,null,null,null,null,1]
[null,"Aktiv 4042",null,null,null,null,null,1]
[null,"Aktiv 4043",null,null,null,null,null,1]
[null,"Aktiv 4044",null,null,null,null,null,1]
[null,"Aktiv 4045",null,null,null,null,null,1]
[null,"Aktiv 4046",null,null,null,null,null,1]
[null,"Aktiv 4047",null,null,null,null,null,1]
[null,"Aktiv 4048",null,null,null,null,null,1]
[null,"Aktiv 4049",null,null,null,null,null,1]
[null,"Aktiv 4050",null,null,null,null,null,1]
[null,"Aktiv 4051",null,null,null,null,null,1]
[null,"Aktiv 4052",null,null,null,null,null,1]
[null,"Aktiv 4053",null,null,null,null,null,1]
[null,"Aktiv 4054",null,null,null,null,null,1]
[null,"Aktiv 4055",null,null,null,null,null,1]
[null,"Aktiv 4056",null,null,null,null,null,1]
[null,"Aktiv 4057",null,null,null,null,null,1]
[null,"Aktiv 4058",null,null,null,null,null,1]
[null,"Aktiv 4059",null,null,null,null,null,1]
[null,"Aktiv 4060",null,null,null,null,null,1]
[null,"Aktiv 4061",null,null,null,null,null,1]
[null,"Aktiv 4062",null,null,null,null,null,1]
[null,"Aktiv 4063",null,null,null,null,null,1]
[null,"Aktiv 4064",null,null,null,null,null,1]
[null,"Aktiv 4065",null,null,null,null,null,1]
[null,"Aktiv 4066",null,null,null,null,null,1]
[null,"Aktiv 4067",null,null,null,null,null,1]
[null,"Aktiv 4068",null,null,null,null,null,1]
[null,"Aktiv 4069",null,null,null,null,null,1]
[null,"Aktiv 4070",null,null,null,null,null,1]
[null,"Aktiv 4071",null,null,null,null,null,1]
[null,"Aktiv 4072",null,null,null,null,null,1]
[null,"Aktiv 4073",null,null,null,null,null,1]
[null,"Aktiv 4074",null,null,null,null,null,1]
[null,"Aktiv 4075",null,null,null,null,null,1]
[null,"Aktiv 4076",null,null,null,null,null,1]
[null,"Aktiv 4077",null,null,null,null,null,1]
[null,"Aktiv 4078",null,null,null,null,null,1]
[null,"Aktiv 4079",null,null,null,null,null,1]
[null,"Aktiv 4080",null,null,null,null,null,1]
[null,"Aktiv 4081",null,null,null,null,null,1]
[null,"Aktiv 4082",null,null,null,null,null,1]
[null,"Aktiv 4083",null,null,null,null,null,1]
[null,"Aktiv 4084",null,null,null,null,null,1]
[null,"Aktiv 4085",null,null,null,null,null,1]
[null,"Aktiv 4086",null,null,null,null,null,1]
[null,"Aktiv 4087",null,null,null,null,null,1]
[null,"Aktiv 4088",null,null,null,null,null,1]
[null,"Aktiv 4089",null,null,null,null,null,1]
[null,"Aktiv 4090",null,null,null,null,null,1]
[null,"Aktiv 4091",null,null,null,null,null,1]
[null,"Aktiv 4092",null,null,null,null,null,1]
[null,"Aktiv 4093",null,null,null,null,null,{"$f":"100%-(F4104+G4104)","v":1}]
[null,"Aktiv 4094",null,null,null,null,null,1]
[null,"Aktiv 4095",null,null,null,null,null,1]
[null,"Aktiv 4096",null,null,null,null,null,1]
[null,"Aktiv 4097",null,null,null,null,null,1]
[null,"Aktiv 4098",null,null,null,null,null,1]
[null,"Aktiv 4099",null,null,null,null,null,1]
[null,"Aktiv 4100",null,null,null,null,null,1]
[null,"Aktiv 4101",null,null,null,null,null,1]
[null,"Aktiv 4102",null,null,null,null,null,1]
[null,"Aktiv 4103",null,null,null,null,null,1]
[null,"Aktiv 4104",null,null,null,null,null,1]
[null,"Aktiv 4105",null,null,null,null,null,1]
[null,"Aktiv 4106",null,null,null,null,null,1]
[null,"Aktiv 4107",null,null,null,null,null,1]
[null,"Aktiv 4108",null,null,null,null,null,1]
[null,"Aktiv 4109",null,null,null,null,null,1]
[null,"Aktiv 4110",null,null,null,null,null,1]
[null,"Aktiv 4111",null,null,null,null,null,1]
[null,"Aktiv 4112",null,null,null,null,null,1]
[null,"Aktiv 4113",null,null,null,null,null,1]
[null,"Aktiv 4114",null,null,null,null,null,1]
[null,"Aktiv 4115",null,null,null,null,null,1]
[null,"Aktiv 4116",null,null,null,null,null,1]
[null,"Aktiv 4117",null,null,null,null,null,1]
[null,"Aktiv 4118",null,null,null,null,null,1]
[null,"Aktiv 4119",null,null,null,null,null,1]
[null,"Aktiv 4120",null,null,null,null,null,1]
[null,"Aktiv 4121",null,null,null,null,null,1]
[null,"Aktiv 4122",null,null,null,null,null,1]
[null,"Aktiv 4123",null,null,null,null,null,1]
[null,"Aktiv 4124",null,null,null,null,null,1]
[null,"Aktiv 4125",null,null,null,null,null,1]
[null,"Aktiv 4126",null,null,null,null,null,1]
[null,"Aktiv 4127",null,null,null,null,null,1]
[null,"Aktiv 4128",null,null,null,null,null,1]
[null,"Aktiv 4129",null,null,null,null,null,1]
[null,"Aktiv 4130",null,null,null,null,null,1]
[null,"Aktiv 4131",null,null,null,null,null,1]
[null,"Aktiv 4132",null,null,null,null,null,1]
[null,"Aktiv 4133",null,null,null,null,null,1]
[null,"Aktiv 4134",null,null,null,null,null,1]
[null,"Aktiv 4135",null,null,null,null,null,1]
[null,"Aktiv 4136",null,null,null,null,null,1]
[null,"Aktiv 4137",null,null,null,null,null,1]
[null,"Aktiv 4138",null,null,null,null,null,1]
[null,"Aktiv 4139",null,null,null,null,null,1]
[null,"Aktiv 4140",null,null,null,null,null,1]
[null,"Aktiv 4141",null,null,null,null,null,1]
[null,"Aktiv 4142",null,null,null,null,null,1]
[null,"Aktiv 4143",null,null,null,null,null,1]
[null,"Aktiv 4144",null,null,null,null,null,1]
[null,"Aktiv 4145",null,null,null,null,null,1]
[null,"Aktiv 4146",null,null,null,null,null,1]
[null,"Aktiv 4147",null,null,null,null,null,1]
[null,"Aktiv 4148",null,null,null,null,null,1]
[null,"Aktiv 4149",null,null,null,null,null,1]
[null,"Aktiv 4150",null,null,null,null,null,1]
[null,"Aktiv 4151",null,null,null,null,null,1]
[null,"Aktiv 4152",null,null,null,null,null,1]
[null,"Aktiv 4153",null,null,null,null,null,1]
[null,"Aktiv 4154",null,null,null,null,null,1]
[null,"Aktiv 4155",null,null,null,null,null,1]
[null,"Aktiv 4156",null,null,null,null,null,1]
[null,"Aktiv 4157",null,null,null,null,null,{"$f":"100%-(F4168+G4168)","v":1}]
[null,"Aktiv 4158",null,null,null,null,null,1]
[null,"Aktiv 4159",null,null,null,null,null,1]
[null,"Aktiv 4160",null,null,null,null,null,1]
[null,"Aktiv 4161",null,null,null,null,null,1]
[null,"Aktiv 4162",null,null,null,null,null,1]
[null,"Aktiv 4163",null,null,null,null,null,1]
[null,"Aktiv 4164",null,null,null,null,null,1]
[null,"Aktiv 4165",null,null,null,null,null,1]
[null,"Aktiv 4166",null,null,null,null,null,1]
[null,"Aktiv 4167",null,null,null,null,null,1]
[null,"Aktiv 4168",null,null,null,null,null,1]
[null,"Aktiv 4169",null,null,null,null,null,1]
[null,"Aktiv 4170",null,null,null,null,null,1]
[null,"Aktiv 4171",null,null,null,null,null,1]
[null,"Aktiv 4172",null,null,null,null,null,1]
[null,"Aktiv 4173",null,null,null,null,null,1]
[null,"Aktiv 4174",null,null,null,null,null,1]
[null,"Aktiv 4175",null,null,null,null,null,1]
[null,"Aktiv 4176",null,null,null,null,null,1]
[null,"Aktiv 4177",null,null,null,null,null,1]
[null,"Aktiv 4178",null,null,null,null,null,1]
[null,"Aktiv 4179",null,null,null,null,null,1]
[null,"Aktiv 4180",null,null,null,null,null,1]
[null,"Aktiv 4181",null,null,null,null,null,1]
[null,"Aktiv 4182",null,null,null,null,null,1]
[null,"Aktiv 4183",null,null,null,null,null,1]
[null,"Aktiv 4184",null,null,null,null,null,1]
[null,"Aktiv 4185",null,null,null,null,null,1]
[null,"Aktiv 4186",null,null,null,null,null,1]
[null,"Aktiv 4187",null,null,null,null,null,1]
[null,"Aktiv 4188",null,null,null,null,null,1]
[null,"Aktiv 4189",null,null,null,null,null,1]
[null,"Aktiv 4190",null,null,null,null,null,1]
[null,"Aktiv 4191",null,null,null,null,null,1]
[null,"Aktiv 4192",null,null,null,null,null,1]
[null,"Aktiv 4193",null,null,null,null,null,1]
[null,"Aktiv 4194",null,null,null,null,null,1]
[null,"Aktiv 4195",null,null,null,null,null,1]
[null,"Aktiv 4196",null,null,null,null,null,1]
[null,"Aktiv 4197",null,null,null,null,null,1]
[null,"Aktiv 4198",null,null,null,null,null,1]
[null,"Aktiv 4199",null,null,null,null,null,1]
[null,"Aktiv 4200",null,null,null,null,null,1]
[null,"Aktiv 4201",null,null,null,null,null,1]
[null,"Aktiv 4202",null,null,null,null,null,1]
[null,"Aktiv 4203",null,null,null,null,null,1]
[null,"Aktiv 4204",null,null,null,null,null,1]
[null,"Aktiv 4205",null,null,null,null,null,1]
[null,"Aktiv 4206",null,null,null,null,null,1]
[null,"Aktiv 4207",null,null,null,null,null,1]
[null,"Aktiv 4208",null,null,null,null,null,1]
[null,"Aktiv 4209",null,null,null,null,null,1]
[null,"Aktiv 4210",null,null,null,null,null,1]
[null,"Aktiv 4211",null,null,null,null,null,1]
[null,"Aktiv 4212",null,null,null,null,null,1]
[null,"Aktiv 4213",null,null,null,null,null,1]
[null,"Aktiv 4214",null,null,null,null,null,1]
[null,"Aktiv 4215",null,null,null,null,null,1]
[null,"Aktiv 4216",null,null,null,null,null,1]
[null,"Aktiv 4217",null,null,null,null,null,1]
[null,"Aktiv 4218",null,null,null,null,null,1]
[null,"Aktiv 4219",null,null,null,null,null,1]
[null,"Aktiv 4220",null,null,null,null,null,1]
[null,"Aktiv 4221",null,null,null,null,null,{"$f":"100%-(F4232+G4232)","v":1}]
[null,"Aktiv 4222",null,null,null,null,null,1]
[null,"Aktiv 4223",null,null,null,null,null,1]
[null,"Aktiv 4224",null,null,null,null,null,1]
[null,"Aktiv 4225",null,null,null,null,null,1]
[null,"Aktiv 4226",null,null,null,null,null,1]
[null,"Aktiv 4227",null,null,null,null,null,1]
[null,"Aktiv 4228",null,null,null,null,null,1]
[null,"Aktiv 4229",null,null,null,null,null,1]
[null,"Aktiv 4230",null,null,null,null,null,1]
[null,"Aktiv 4231",null,null,null,null,null,1]
[null,"Aktiv 4232",null,null,null,null,null,1]
[null,"Aktiv 4233",null,null,null,null,null,1]
[null,"Aktiv 4234",null,null,null,null,null,1]
[null,"Aktiv 4235",null,null,null,null,null,1]
[null,"Aktiv 4236",null,null,null,null,null,1]
[null,"Aktiv 4237",null,null,null,null,null,1]
[null,"Aktiv 4238",null,null,null,null,null,1]
[null,"Aktiv 4239",null,null,null,null,null,1]
[null,"Aktiv 4240",null,null,null,null,null,1]
[null,"Aktiv 4241",null,null,null,null,null,1]
[null,"Aktiv 4242",null,null,null,null,null,1]
[null,"Aktiv 4243",null,null,null,null,null,1]
[null,"Aktiv 4244",null,null,null,null,null,1]
[null,"Aktiv 4245",null,null,null,null,null,1]
[null,"Aktiv 4246",null,null,null,null,null,1]
[null,"Aktiv 4247",null,null,null,null,null,1]
[null,"Aktiv 4248",null,null,null,null,null,1]
[null,"Aktiv 4249",null,null,null,null,null,1]
[null,"Aktiv 4250",null,null,null,null,null,1]
[null,"Aktiv 4251",null,null,null,null,null,1]
[null,"Aktiv 4252",null,null,null,null,null,1]
[null,"Aktiv 4253",null,null,null,null,null,1]
[null,"Aktiv 4254",null,null,null,null,null,1]
[null,"Aktiv 4255",null,null,null,null,null,1]
[null,"Aktiv 4256",null,null,null,null,null,1]
[null,"Aktiv 4257",null,null,null,null,null,1]
[null,"Aktiv 4258",null,null,null,null,null,1]
[null,"Aktiv 4259",null,null,null,null,null,1]
[null,"Aktiv 4260",null,null,null,null,null,1]
[null,"Aktiv 4261",null,null,null,null,null,1]
[null,"Aktiv 4262",null,null,null,null,null,1]
[null,"Aktiv 4263",null,null,null,null,null,1]
[null,"Aktiv 4264",null,null,null,null,null,1]
[null,"Aktiv 4265",null,null,null,null,null,1]
[null,"Aktiv 4266",null,null,null,null,null,1]
[null,"Aktiv 4267",null,null,null,null,null,1]
[null,"Aktiv 4268",null,null,null,null,null,1]
[null,"Aktiv 4269",null,null,null,null,null,1]
[null,"Aktiv 4270",null,null,null,null,null,1]
[null,"Aktiv 4271",null,null,null,null,null,1]
[null,"Aktiv 4272",null,null,null,null,null,1]
[null,"Aktiv 4273",null,null,null,null,null,1]
[null,"Aktiv 4274",null,null,null,null,null,1]
[null,"Aktiv 4275",null,null,null,null,null,1]
[null,"Aktiv 4276",null,null,null,null,null,1]
[null,"Aktiv 4277",null,null,null,null,null,1]
[null,"Aktiv 4278",null,null,null,null,null,1]
[null,"Aktiv 4279",null,null,null,null,null,1]
[null,"Aktiv 4280",null,null,null,null,null,1]
[null,"Aktiv 4281",null,null,null,null,null,1]
[null,"Aktiv 4282",null,null,null,null,null,1]
[null,"Aktiv 4283",null,null,null,null,null,1]
[null,"Aktiv 4284",null,null,null,null,null,1]
[null,"Aktiv 4285",null,null,null,null,null,{"$f":"100%-(F4296+G4296)","v":1}]
[null,"Aktiv 4286",null,null,null,null,null,1]
[null,"Aktiv 4287",null,null,null,null,null,1]
[null,"Aktiv 4288",null,null,null,null,null,1]
[null,"Aktiv 4289",null,null,null,null,null,1]
[null,"Aktiv 4290",null,null,null,null,null,1]
[null,"Aktiv 4291",null,null,null,null,null,1]
[null,"Aktiv 4292",null,null,null,null,null,1]
[null,"Aktiv 4293",null,null,null,null,null,1]
[null,"Aktiv 4294",null,null,null,null,null,1]
[null,"Aktiv 4295",null,null,null,null,null,1]
[null,"Aktiv 4296",null,null,null,null,null,1]
[null,"Aktiv 4297",null,null,null,null,null,1]
[null,"Aktiv 4298",null,null,null,null,null,1]
[null,"Aktiv 4299",null,null,null,null,null,1]
[null,"Aktiv 4300",null,null,null,null,null,1]
[null,"Aktiv 4301",null,null,null,null,null,1]
[null,"Aktiv 4302",null,null,null,null,null,1]
[null,"Aktiv 4303",null,null,null,null,null,1]
[null,"Aktiv 4304",null,null,null,null,null,1]
[null,"Aktiv 4305",null,null,null,null,null,1]
[null,"Aktiv 4306",null,null,null,null,null,1]
[null,"Aktiv 4307",null,null,null,null,null,1]
[null,"Aktiv 4308",null,null,null,null,null,1]
[null,"Aktiv 4309",null,null,null,null,null,1]
[null,"Aktiv 4310",null,null,null,null,null,1]
[null,"Aktiv 4311",null,null,null,null,null,1]
[null,"Aktiv 4312",null,null,null,null,null,1]
[null,"Aktiv 4313",null,null,null,null,null,1]
[null,"Aktiv 4314",null,null,null,null,null,1]
[null,"Aktiv 4315",null,null,null,null,null,1]
[null,"Aktiv 4316",null,null,null,null,null,1]
[null,"Aktiv 4317",null,null,null,null,null,1]
[null,"Aktiv 4318",null,null,null,null,null,1]
[null,"Aktiv 4319",null,null,null,null,null,1]
[null,"Aktiv 4320",null,null,null,null,null,1]
[null,"Aktiv 4321",null,null,null,null,null,1]
[null,"Aktiv 4322",null,null,null,null,null,1]
[null,"Aktiv 4323",null,null,null,null,null,1]
[null,"Aktiv 4324",null,null,null,null,null,1]
[null,"Aktiv 4325",null,null,null,null,null,1]
[null,"Aktiv 4326",null,null,null,null,null,1]
[null,"Aktiv 4327",null,null,null,null,null,1]
[null,"Aktiv 4328",null,null,null,null,null,1]
[null,"Aktiv 4329",null,null,null,null,null,1]
[null,"Aktiv 4330",null,null,null,null,null,1]
[null,"Aktiv 4331",null,null,null,null,null,1]
[null,"Aktiv 4332",null,null,null,null,null,1]
[null,"Aktiv 4333",null,null,null,null,null,1]
[null,"Aktiv 4334",null,null,null,null,null,1]
[null,"Aktiv 4335",null,null,null,null,null,1]
[null,"Aktiv 4336",null,null,null,null,null,1]
[null,"Aktiv 4337",null,null,null,null,null,1]
[null,"Aktiv 4338",null,null,null,null,null,1]
[null,"Aktiv 4339",null,null,null,null,null,1]
[null,"Aktiv 4340",null,null,null,null,null,1]
[null,"Aktiv 4341",null,null,null,null,null,1]
[null,"Aktiv 4342",null,null,null,null,null,1]
[null,"Aktiv 4343",null,null,null,null,null,1]
[null,"Aktiv 4344",null,null,null,null,null,1]
[null,"Aktiv 4345",null,null,null,null,null,1]
[null,"Aktiv 4346",null,null,null,null,null,1]
[null,"Aktiv 4347",null,null,null,null,null,1]
[null,"Aktiv 4348",null,null,null,null,null,1]
[null,"Aktiv 4349",null,null,null,null,null,{"$f":"100%-(F4360+G4360)","v":1}]
[null,"Aktiv 4350",null,null,null,null,null,1]
[null,"Aktiv 4351",null,null,null,null,null,1]
[null,"Aktiv 4352",null,null,null,null,null,1]
[null,"Aktiv 4353",null,null,null,null,null,1]
[null,"Aktiv 4354",null,null,null,null,null,1]
[null,"Aktiv 4355",null,null,null,null,null,1]
[null,"Aktiv 4356",null,null,null,null,null,1]
[null,"Aktiv 4357",null,null,null,null,null,1]
[null,"Aktiv 4358",null,null,null,null,null,1]
[null,"Aktiv 4359",null,null,null,null,null,1]
[null,"Aktiv 4360",null,null,null,null,null,1]
[null,"Aktiv 4361",null,null,null,null,null,1]
[null,"Aktiv 4362",null,null,null,null,null,1]
[null,"Aktiv 4363",null,null,null,null,null,1]
[null,"Aktiv 4364",null,null,null,null,null,1]
[null,"Aktiv 4365",null,null,null,null,null,1]
[null,"Aktiv 4366",null,null,null,null,null,1]
[null,"Aktiv 4367",null,null,null,null,null,1]
[null,"Aktiv 4368",null,null,null,null,null,1]
[null,"Aktiv 4369",null,null,null,null,null,1]
[null,"Aktiv 4370",null,null,null,null,null,1]
[null,"Aktiv 4371",null,null,null,null,null,1]
[null,"Aktiv 4372",null,null,null,null,null,1]
[null,"Aktiv 4373",null,null,null,null,null,1]
[null,"Aktiv 4374",null,null,null,null,null,1]
[null,"Aktiv 4375",null,null,null,null,null,1]
[null,"Aktiv 4376",null,null,null,null,null,1]
[null,"Aktiv 4377",null,null,null,null,null,1]
[null,"Aktiv 4378",null,null,null,null,null,1]
[null,"Aktiv 4379",null,null,null,null,null,1]
[null,"Aktiv 4380",null,null,null,null,null,1]
[null,"Aktiv 4381",null,null,null,null,null,1]
[null,"Aktiv 4382",null,null,null,null,null,1]
[null,"Aktiv 4383",null,null,null,null,null,1]
[null,"Aktiv 4384",null,null,null,null,null,1]
[null,"Aktiv 4385",null,null,null,null,null,1]
[null,"Aktiv 4386",null,null,null,null,null,1]
[null,"Aktiv 4387",null,null,null,null,null,1]
[null,"Aktiv 4388",null,null,null,null,null,1]
[null,"Aktiv 4389",null,null,null,null,null,1]
[null,"Aktiv 4390",null,null,null,null,null,1]
[null,"Aktiv 4391",null,null,null,null,null,1]
[null,"Aktiv 4392",null,null,null,null,null,1]
[null,"Aktiv 4393",null,null,null,null,null,1]
[null,"Aktiv 4394",null,null,null,null,null,1]
[null,"Aktiv 4395",null,null,null,null,null,1]
[null,"Aktiv 4396",null,null,null,null,null,1]
[null,"Aktiv 4397",null,null,null,null,null,1]
[null,"Aktiv 4398",null,null,null,null,null,1]
[null,"Aktiv 4399",null,null,null,null,null,1]
[null,"Aktiv 4400",null,null,null,null,null,1]
[null,"Aktiv 4401",null,null,null,null,null,1]
[null,"Aktiv 4402",null,null,null,null,null,1]
[null,"Aktiv 4403",null,null,null,null,null,1]
[null,"Aktiv 4404",null,null,null,null,null,1]
[null,"Aktiv 4405",null,null,null,null,null,1]
[null,"Aktiv 4406",null,null,null,null,null,1]
[null,"Aktiv 4407",null,null,null,null,null,1]
[null,"Aktiv 4408",null,null,null,null,null,1]
[null,"Aktiv 4409",null,null,null,null,null,1]
[null,"Aktiv 4410",null,null,null,null,null,1]
[null,"Aktiv 4411",null,null,null,null,null,1]
[null,"Aktiv 4412",null,null,null,null,null,1]
[null,"Aktiv 4413",null,null,null,null,null,{"$f":"100%-(F4424+G4424)","v":1}]
[null,"Aktiv 4414",null,null,null,null,null,1]
[null,"Aktiv 4415",null,null,null,null,null,1]
[null,"Aktiv 4416",null,null,null,null,null,1]
[null,"Aktiv 4417",null,null,null,null,null,1]
[null,"Aktiv 4418",null,null,null,null,null,1]
[null,"Aktiv 4419",null,null,null,null,null,1]
[null,"Aktiv 4420",null,null,null,null,null,1]
[null,"Aktiv 4421",null,null,null,null,null,1]
[null,"Aktiv 4422",null,null,null,null,null,1]
[null,"Aktiv 4423",null,null,null,null,null,1]
[null,"Aktiv 4424",null,null,null,null,null,1]
[null,"Aktiv 4425",null,null,null,null,null,1]
[null,"Aktiv 4426",null,null,null,null,null,1]
[null,"Aktiv 4427",null,null,null,null,null,1]
[null,"Aktiv 4428",null,null,null,null,null,1]
[null,"Aktiv 4429",null,null,null,null,null,1]
[null,"Aktiv 4430",null,null,null,null,null,1]
[null,"Aktiv 4431",null,null,null,null,null,1]
[null,"Aktiv 4432",null,null,null,null,null,1]
[null,"Aktiv 4433",null,null,null,null,null,1]
[null,"Aktiv 4434",null,null,null,null,null,1]
[null,"Aktiv 4435",null,null,null,null,null,1]
[null,"Aktiv 4436",null,null,null,null,null,1]
[null,"Aktiv 4437",null,null,null,null,null,1]
[null,"Aktiv 4438",null,null,null,null,null,1]
[null,"Aktiv 4439",null,null,null,null,null,1]
[null,"Aktiv 4440",null,null,null,null,null,1]
[null,"Aktiv 4441",null,null,null,null,null,1]
[null,"Aktiv 4442",null,null,null,null,null,1]
[null,"Aktiv 4443",null,null,null,null,null,1]
[null,"Aktiv 4444",null,null,null,null,null,1]
[null,"Aktiv 4445",null,null,null,null,null,1]
[null,"Aktiv 4446",null,null,null,null,null,1]
[null,"Aktiv 4447",null,null,null,null,null,1]
[null,"Aktiv 4448",null,null,null,null,null,1]
[null,"Aktiv 4449",null,null,null,null,null,1]
[null,"Aktiv 4450",null,null,null,null,null,1]
[null,"Aktiv 4451",null,null,null,null,null,1]
[null,"Aktiv 4452",null,null,null,null,null,1]
[null,"Aktiv 4453",null,null,null,null,null,1]
[null,"Aktiv 4454",null,null,null,null,null,1]
[null,"Aktiv 4455",null,null,null,null,null,1]
[null,"Aktiv 4456",null,null,null,null,null,1]
[null,"Aktiv 4457",null,null,null,null,null,1]
[null,"Aktiv 4458",null,null,null,null,null,1]
[null,"Aktiv 4459",null,null,null,null,null,1]
[null,"Aktiv 4460",null,null,null,null,null,1]
[null,"Aktiv 4461",null,null,null,null,null,1]
[null,"Aktiv 4462",null,null,null,null,null,1]
[null,"Aktiv 4463",null,null,null,null,null,1]
[null,"Aktiv 4464",null,null,null,null,null,1]
[null,"Aktiv 4465",null,null,null,null,null,1]
[null,"Aktiv 4466",null,null,null,null,null,1]
[null,"Aktiv 4467",null,null,null,null,null,1]
[null,"Aktiv 4468",null,null,null,null,null,1]
[null,"Aktiv 4469",null,null,null,null,null,1]
[null,"Aktiv 4470",null,null,null,null,null,1]
[null,"Aktiv 4471",null,null,null,null,null,1]
[null,"Aktiv 4472",null,null,null,null,null,1]
[null,"Aktiv 4473",null,null,null,null,null,1]
[null,"Aktiv 4474",null,null,null,null,null,1]
[null,"Aktiv 4475",null,null,null,null,null,1]
[null,"Aktiv 4476",null,null,null,null,null,1]
[null,"Aktiv 4477",null,null,null,null,null,{"$f":"100%-(F4488+G4488)","v":1}]
[null,"Aktiv 4478",null,null,null,null,null,1]
[null,"Aktiv 4479",null,null,null,null,null,1]
[null,"Aktiv 4480",null,null,null,null,null,1]
[null,"Aktiv 4481",null,null,null,null,null,1]
[null,"Aktiv 4482",null,null,null,null,null,1]
[null,"Aktiv 4483",null,null,null,null,null,1]
[null,"Aktiv 4484",null,null,null,null,null,1]
[null,"Aktiv 4485",null,null,null,null,null,1]
[null,"Aktiv 4486",null,null,null,null,null,1]
[null,"Aktiv 4487",null,null,null,null,null,1]
[null,"Aktiv 4488",null,null,null,null,null,1]
[null,"Aktiv 4489",null,null,null,null,null,1]
[null,"Aktiv 4490",null,null,null,null,null,1]
[null,"Aktiv 4491",null,null,null,null,null,1]
[null,"Aktiv 4492",null,null,null,null,null,1]
[null,"Aktiv 4493",null,null,null,null,null,1]
[null,"Aktiv 4494",null,null,null,null,null,1]
[null,"Aktiv 4495",null,null,null,null,null,1]
[null,"Aktiv 4496",null,null,null,null,null,1]
[null,"Aktiv 4497",null,null,null,null,null,1]
[null,"Aktiv 4498",null,null,null,null,null,1]
[null,"Aktiv 4499",null,null,null,null,null,1]
[null,"Aktiv 4500",null,null,null,null,null,1]
[null,"Aktiv 4501",null,null,null,null,null,1]
[null,"Aktiv 4502",null,null,null,null,null,1]
[null,"Aktiv 4503",null,null,null,null,null,1]
[null,"Aktiv 4504",null,null,null,null,null,1]
[null,"Aktiv 4505",null,null,null,null,null,1]
[null,"Aktiv 4506",null,null,null,null,null,1]
[null,"Aktiv 4507",null,null,null,null,null,1]
[null,"Aktiv 4508",null,null,null,null,null,1]
[null,"Aktiv 4509",null,null,null,null,null,1]
[null,"Aktiv 4510",null,null,null,null,null,1]
[null,"Aktiv 4511",null,null,null,null,null,1]
[null,"Aktiv 4512",null,null,null,null,null,1]
[null,"Aktiv 4513",null,null,null,null,null,1]
[null,"Aktiv 4514",null,null,null,null,null,1]
[null,"Aktiv 4515",null,null,null,null,null,1]
[null,"Aktiv 4516",null,null,null,null,null,1]
[null,"Aktiv 4517",null,null,null,null,null,1]
[null,"Aktiv 4518",null,null,null,null,null,1]
[null,"Aktiv 4519",null,null,null,null,null,1]
[null,"Aktiv 4520",null,null,null,null,null,1]
[null,"Aktiv 4521",null,null,null,null,null,1]
[null,"Aktiv 4522",null,null,null,null,null,1]
[null,"Aktiv 4523",null,null,null,null,null,1]
[null,"Aktiv 4524",null,null,null,null,null,1]
[null,"Aktiv 4525",null,null,null,null,null,1]
[null,"Aktiv 4526",null,null,null,null,null,1]
[null,"Aktiv 4527",null,null,null,null,null,1]
[null,"Aktiv 4528",null,null,null,null,null,1]
[null,"Aktiv 4529",null,null,null,null,null,1]
[null,"Aktiv 4530",null,null,null,null,null,1]
[null,"Aktiv 4531",null,null,null,null,null,1]
[null,"Aktiv 4532",null,null,null,null,null,1]
[null,"Aktiv 4533",null,null,null,null,null,1]
[null,"Aktiv 4534",null,null,null,null,null,1]
[null,"Aktiv 4535",null,null,null,null,null,1]
[null,"Aktiv 4536",null,null,null,null,null,1]
[null,"Aktiv 4537",null,null,null,null,null,1]
[null,"Aktiv 4538",null,null,null,null,null,1]
[null,"Aktiv 4539",null,null,null,null,null,1]
[null,"Aktiv 4540",null,null,null,null,null,1]
[null,"Aktiv 4541",null,null,null,null,null,{"$f":"100%-(F4552+G4552)","v":1}]
[null,"Aktiv 4542",null,null,null,null,null,1]
[null,"Aktiv 4543",null,null,null,null,null,1]
[null,"Aktiv 4544",null,null,null,null,null,1]
[null,"Aktiv 4545",null,null,null,null,null,1]
[null,"Aktiv 4546",null,null,null,null,null,1]
[null,"Aktiv 4547",null,null,null,null,null,1]
[null,"Aktiv 4548",null,null,null,null,null,1]
[null,"Aktiv 4549",null,null,null,null,null,1]
[null,"Aktiv 4550",null,null,null,null,null,1]
[null,"Aktiv 4551",null,null,null,null,null,1]
[null,"Aktiv 4552",null,null,null,null,null,1]
[null,"Aktiv 4553",null,null,null,null,null,1]
[null,"Aktiv 4554",null,null,null,null,null,1]
[null,"Aktiv 4555",null,null,null,null,null,1]
[null,"Aktiv 4556",null,null,null,null,null,1]
[null,"Aktiv 4557",null,null,null,null,null,1]
[null,"Aktiv 4558",null,null,null,null,null,1]
[null,"Aktiv 4559",null,null,null,null,null,1]
[null,"Aktiv 4560",null,null,null,null,null,1]
[null,"Aktiv 4561",null,null,null,null,null,1]
[null,"Aktiv 4562",null,null,null,null,null,1]
[null,"Aktiv 4563",null,null,null,null,null,1]
[null,"Aktiv 4564",null,null,null,null,null,1]
[null,"Aktiv 4565",null,null,null,null,null,1]
[null,"Aktiv 4566",null,null,null,null,null,1]
[null,"Aktiv 4567",null,null,null,null,null,1]
[null,"Aktiv 4568",null,null,null,null,null,1]
[null,"Aktiv 4569",null,null,null,null,null,1]
[null,"Aktiv 4570",null,null,null,null,null,1]
[null,"Aktiv 4571",null,null,null,null,null,1]
[null,"Aktiv 4572",null,null,null,null,null,1]
[null,"Aktiv 4573",null,null,null,null,null,1]
[null,"Aktiv 4574",null,null,null,null,null,1]
[null,"Aktiv 4575",null,null,null,null,null,1]
[null,"Aktiv 4576",null,null,null,null,null,1]
[null,"Aktiv 4577",null,null,null,null,null,1]
[null,"Aktiv 4578",null,null,null,null,null,1]
[null,"Aktiv 4579",null,null,null,null,null,1]
[null,"Aktiv 4580",null,null,null,null,null,1]
[null,"Aktiv 4581",null,null,null,null,null,1]
[null,"Aktiv 4582",null,null,null,null,null,1]
[null,"Aktiv 4583",null,null,null,null,null,1]
[null,"Aktiv 4584",null,null,null,null,null,1]
[null,"Aktiv 4585",null,null,null,null,null,1]
[null,"Aktiv 4586",null,null,null,null,null,1]
[null,"Aktiv 4587",null,null,null,null,null,1]
[null,"Aktiv 4588",null,null,null,null,null,1]
[null,"Aktiv 4589",null,null,null,null,null,1]
[null,"Aktiv 4590",null,null,null,null,null,1]
[null,"Aktiv 4591",null,null,null,null,null,1]
[null,"Aktiv 4592",null,null,null,null,null,1]
[null,"Aktiv 4593",null,null,null,null,null,1]
[null,"Aktiv 4594",null,null,null,null,null,1]
[null,"Aktiv 4595",null,null,null,null,null,1]
[null,"Aktiv 4596",null,null,null,null,null,1]
[null,"Aktiv 4597",null,null,null,null,null,1]
[null,"Aktiv 4598",null,null,null,null,null,1]
[null,"Aktiv 4599",null,null,null,null,null,1]
[null,"Aktiv 4600",null,null,null,null,null,1]
[null,"Aktiv 4601",null,null,null,null,null,1]
[null,"Aktiv 4602",null,null,null,null,null,1]
[null,"Aktiv 4603",null,null,null,null,null,1]
[null,"Aktiv 4604",null,null,null,null,null,1]
[null,"Aktiv 4605",null,null,null,null,null,{"$f":"100%-(F4616+G4616)","v":1}]
[null,"Aktiv 4606",null,null,null,null,null,1]
[null,"Aktiv 4607",null,null,null,null,null,1]
[null,"Aktiv 4608",null,null,null,null,null,1]
[null,"Aktiv 4609",null,null,null,null,null,1]
[null,"Aktiv 4610",null,null,null,null,null,1]
[null,"Aktiv 4611",null,null,null,null,null,1]
[null,"Aktiv 4612",null,null,null,null,null,1]
[null,"Aktiv 4613",null,null,null,null,null,1]
[null,"Aktiv 4614",null,null,null,null,null,1]
[null,"Aktiv 4615",null,null,null,null,null,1]
[null,"Aktiv 4616",null,null,null,null,null,1]
[null,"Aktiv 4617",null,null,null,null,null,1]
[null,"Aktiv 4618",null,null,null,null,null,1]
[null,"Aktiv 4619",null,null,null,null,null,1]
[null,"Aktiv 4620",null,null,null,null,null,1]
[null,"Aktiv 4621",null,null,null,null,null,1]
[null,"Aktiv 4622",null,null,null,null,null,1]
[null,"Aktiv 4623",null,null,null,null,null,1]
[null,"Aktiv 4624",null,null,null,null,null,1]
[null,"Aktiv 4625",null,null,null,null,null,1]
[null,"Aktiv 4626",null,null,null,null,null,1]
[null,"Aktiv 4627",null,null,null,null,null,1]
[null,"Aktiv 4628",null,null,null,null,null,1]
[null,"Aktiv 4629",null,null,null,null,null,1]
[null,"Aktiv 4630",null,null,null,null,null,1]
[null,"Aktiv 4631",null,null,null,null,null,1]
[null,"Aktiv 4632",null,null,null,null,null,1]
[null,"Aktiv 4633",null,null,null,null,null,1]
[null,"Aktiv 4634",null,null,null,null,null,1]
[null,"Aktiv 4635",null,null,null,null,null,1]
[null,"Aktiv 4636",null,null,null,null,null,1]
[null,"Aktiv 4637",null,null,null,null,null,1]
[null,"Aktiv 4638",null,null,null,null,null,1]
[null,"Aktiv 4639",null,null,null,null,null,1]
[null,"Aktiv 4640",null,null,null,null,null,1]
[null,"Aktiv 4641",null,null,null,null,null,1]
[null,"Aktiv 4642",null,null,null,null,null,1]
[null,"Aktiv 4643",null,null,null,null,null,1]
[null,"Aktiv 4644",null,null,null,null,null,1]
[null,"Aktiv 4645",null,null,null,null,null,1]
[null,"Aktiv 4646",null,null,null,null,null,1]
[null,"Aktiv 4647",null,null,null,null,null,1]
[null,"Aktiv 4648",null,null,null,null,null,1]
[null,"Aktiv 4649",null,null,null,null,null,1]
[null,"Aktiv 4650",null,null,null,null,null,1]
[null,"Aktiv 4651",null,null,null,null,null,1]
[null,"Aktiv 4652",null,null,null,null,null,1]
[null,"Aktiv 4653",null,null,null,null,null,1]
[null,"Aktiv 4654",null,null,null,null,null,1]
[null,"Aktiv 4655",null,null,null,null,null,1]
[null,"Aktiv 4656",null,null,null,null,null,1]
[null,"Aktiv 4657",null,null,null,null,null,1]
[null,"Aktiv 4658",null,null,null,null,null,1]
[null,"Aktiv 4659",null,null,null,null,null,1]
[null,"Aktiv 4660",null,null,null,null,null,1]
[null,"Aktiv 4661",null,null,null,null,null,1]
[null,"Aktiv 4662",null,null,null,null,null,1]
[null,"Aktiv 4663",null,null,null,null,null,1]
[null,"Aktiv 4664",null,null,null,null,null,1]
[null,"Aktiv 4665",null,null,null,null,null,1]
[null,"Aktiv 4666",null,null,null,null,null,1]
[null,"Aktiv 4667",null,null,null,null,null,1]
[null,"Aktiv 4668",null,null,null,null,null,1]
[null,"Aktiv 4669",null,null,null,null,null,{"$f":"100%-(F4680+G4680)","v":1}]
[null,"Aktiv 4670",null,null,null,null,null,1]
[null,"Aktiv 4671",null,null,null,null,null,1]
[null,"Aktiv 4672",null,null,null,null,null,1]
[null,"Aktiv 4673",null,null,null,null,null,1]
[null,"Aktiv 4674",null,null,null,null,null,1]
[null,"Aktiv 4675",null,null,null,null,null,1]
[null,"Aktiv 4676",null,null,null,null,null,1]
[null,"Aktiv 4677",null,null,null,null,null,1]
[null,"Aktiv 4678",null,null,null,null,null,1]
[null,"Aktiv 4679",null,null,null,null,null,1]
[null,"Aktiv 4680",null,null,null,null,null,1]
[null,"Aktiv 4681",null,null,null,null,null,1]
[null,"Aktiv 4682",null,null,null,null,null,1]
[null,"Aktiv 4683",null,null,null,null,null,1]
[null,"Aktiv 4684",null,null,null,null,null,1]
[null,"Aktiv 4685",null,null,null,null,null,1]
[null,"Aktiv 4686",null,null,null,null,null,1]
[null,"Aktiv 4687",null,null,null,null,null,1]
[null,"Aktiv 4688",null,null,null,null,null,1]
[null,"Aktiv 4689",null,null,null,null,null,1]
[null,"Aktiv 4690",null,null,null,null,null,1]
[null,"Aktiv 4691",null,null,null,null,null,1]
[null,"Aktiv 4692",null,null,null,null,null,1]
[null,"Aktiv 4693",null,null,null,null,null,1]
[null,"Aktiv 4694",null,null,null,null,null,1]
[null,"Aktiv 4695",null,null,null,null,null,1]
[null,"Aktiv 4696",null,null,null,null,null,1]
[null,"Aktiv 4697",null,null,null,null,null,1]
[null,"Aktiv 4698",null,null,null,null,null,1]
[null,"Aktiv 4699",null,null,null,null,null,1]
[null,"Aktiv 4700",null,null,null,null,null,1]
[null,"Aktiv 4701",null,null,null,null,null,1]
[null,"Aktiv 4702",null,null,null,null,null,1]
[null,"Aktiv 4703",null,null,null,null,null,1]
[null,"Aktiv 4704",null,null,null,null,null,1]
[null,"Aktiv 4705",null,null,null,null,null,1]
[null,"Aktiv 4706",null,null,null,null,null,1]
[null,"Aktiv 4707",null,null,null,null,null,1]
[null,"Aktiv 4708",null,null,null,null,null,1]
[null,"Aktiv 4709",null,null,null,null,null,1]
[null,"Aktiv 4710",null,null,null,null,null,1]
[null,"Aktiv 4711",null,null,null,null,null,1]
[null,"Aktiv 4712",null,null,null,null,null,1]
[null,"Aktiv 4713",null,null,null,null,null,1]
[null,"Aktiv 4714",null,null,null,null,null,1]
[null,"Aktiv 4715",null,null,null,null,null,1]
[null,"Aktiv 4716",null,null,null,null,null,1]
[null,"Aktiv 4717",null,null,null,null,null,1]
[null,"Aktiv 4718",null,null,null,null,null,1]
[null,"Aktiv 4719",null,null,null,null,null,1]
[null,"Aktiv 4720",null,null,null,null,null,1]
[null,"Aktiv 4721",null,null,null,null,null,1]
[null,"Aktiv 4722",null,null,null,null,null,1]
[null,"Aktiv 4723",null,null,null,null,null,1]
[null,"Aktiv 4724",null,null,null,null,null,1]
[null,"Aktiv 4725",null,null,null,null,null,1]
[null,"Aktiv 4726",null,null,null,null,null,1]
[null,"Aktiv 4727",null,null,null,null,null,1]
[null,"Aktiv 4728",null,null,null,null,null,1]
[null,"Aktiv 4729",null,null,null,null,null,1]
[null,"Aktiv 4730",null,null,null,null,null,1]
[null,"Aktiv 4731",null,null,null,null,null,1]
[null,"Aktiv 4732",null,null,null,null,null,1]
[null,"Aktiv 4733",null,null,null,null,null,{"$f":"100%-(F4744+G4744)","v":1}]
[null,"Aktiv 4734",null,null,null,null,null,1]
[null,"Aktiv 4735",null,null,null,null,null,1]
[null,"Aktiv 4736",null,null,null,null,null,1]
[null,"Aktiv 4737",null,null,null,null,null,1]
[null,"Aktiv 4738",null,null,null,null,null,1]
[null,"Aktiv 4739",null,null,null,null,null,1]
[null,"Aktiv 4740",null,null,null,null,null,1]
[null,"Aktiv 4741",null,null,null,null,null,1]
[null,"Aktiv 4742",null,null,null,null,null,1]
[null,"Aktiv 4743",null,null,null,null,null,1]
[null,"Aktiv 4744",null,null,null,null,null,1]
[null,"Aktiv 4745",null,null,null,null,null,1]
[null,"Aktiv 4746",null,null,null,null,null,1]
[null,"Aktiv 4747",null,null,null,null,null,1]
[null,"Aktiv 4748",null,null,null,null,null,1]
[null,"Aktiv 4749",null,null,null,null,null,1]
[null,"Aktiv 4750",null,null,null,null,null,1]
[null,"Aktiv 4751",null,null,null,null,null,1]
[null,"Aktiv 4752",null,null,null,null,null,1]
[null,"Aktiv 4753",null,null,null,null,null,1]
[null,"Aktiv 4754",null,null,null,null,null,1]
[null,"Aktiv 4755",null,null,null,null,null,1]
[null,"Aktiv 4756",null,null,null,null,null,1]
[null,"Aktiv 4757",null,null,null,null,null,1]
[null,"Aktiv 4758",null,null,null,null,null,1]
[null,"Aktiv 4759",null,null,null,null,null,1]
[null,"Aktiv 4760",null,null,null,null,null,1]
[null,"Aktiv 4761",null,null,null,null,null,1]
[null,"Aktiv 4762",null,null,null,null,null,1]
[null,"Aktiv 4763",null,null,null,null,null,1]
[null,"Aktiv 4764",null,null,null,null,null,1]
[null,"Aktiv 4765",null,null,null,null,null,1]
[null,"Aktiv 4766",null,null,null,null,null,1]
[null,"Aktiv 4767",null,null,null,null,null,1]
[null,"Aktiv 4768",null,null,null,null,null,1]
[null,"Aktiv 4769",null,null,null,null,null,1]
[null,"Aktiv 4770",null,null,null,null,null,1]
[null,"Aktiv 4771",null,null,null,null,null,1]
[null,"Aktiv 4772",null,null,null,null,null,1]
[null,"Aktiv 4773",null,null,null,null,null,1]
[null,"Aktiv 4774",null,null,null,null,null,1]
[null,"Aktiv 4775",null,null,null,null,null,1]
[null,"Aktiv 4776",null,null,null,null,null,1]
[null,"Aktiv 4777",null,null,null,null,null,1]
[null,"Aktiv 4778",null,null,null,null,null,1]
[null,"Aktiv 4779",null,null,null,null,null,1]
[null,"Aktiv 4780",null,null,null,null,null,1]
[null,"Aktiv 4781",null,null,null,null,null,1]
[null,"Aktiv 4782",null,null,null,null,null,1]
[null,"Aktiv 4783",null,null,null,null,null,1]
[null,"Aktiv 4784",null,null,null,null,null,1]
[null,"Aktiv 4785",null,null,null,null,null,1]
[null,"Aktiv 4786",null,null,null,null,null,1]
[null,"Aktiv 4787",null,null,null,null,null,1]
[null,"Aktiv 4788",null,null,null,null,null,1]
[null,"Aktiv 4789",null,null,null,null,null,1]
[null,"Aktiv 4790",null,null,null,null,null,1]
[null,"Aktiv 4791",null,null,null,null,null,1]
[null,"Aktiv 4792",null,null,null,null,null,1]
[null,"Aktiv 4793",null,null,null,null,null,1]
[null,"Aktiv 4794",null,null,null,null,null,1]
[null,"Aktiv 4795",null,null,null,null,null,1]
[null,"Aktiv 4796",null,null,null,null,null,1]
[null,"Aktiv 4797",null,null,null,null,null,{"$f":"100%-(F4808+G4808)","v":1}]
[null,"Aktiv 4798",null,null,null,null,null,1]
[null,"Aktiv 4799",null,null,null,null,null,1]
[null,"Aktiv 4800",null,null,null,null,null,1]
[null,"Aktiv 4801",null,null,null,null,null,1]
[null,"Aktiv 4802",null,null,null,null,null,1]
[null,"Aktiv 4803",null,null,null,null,null,1]
[null,"Aktiv 4804",null,null,null,null,null,1]
[null,"Aktiv 4805",null,null,null,null,null,1]
[null,"Aktiv 4806",null,null,null,null,null,1]
[null,"Aktiv 4807",null,null,null,null,null,1]
[null,"Aktiv 4808",null,null,null,null,null,1]
[null,"Aktiv 4809",null,null,null,null,null,1]
[null,"Aktiv 4810",null,null,null,null,null,1]
[null,"Aktiv 4811",null,null,null,null,null,1]
[null,"Aktiv 4812",null,null,null,null,null,1]
[null,"Aktiv 4813",null,null,null,null,null,1]
[null,"Aktiv 4814",null,null,null,null,null,1]
[null,"Aktiv 4815",null,null,null,null,null,1]
[null,"Aktiv 4816",null,null,null,null,null,1]
[null,"Aktiv 4817",null,null,null,null,null,1]
[null,"Aktiv 4818",null,null,null,null,null,1]
[null,"Aktiv 4819",null,null,null,null,null,1]
[null,"Aktiv 4820",null,null,null,null,null,1]
[null,"Aktiv 4821",null,null,null,null,null,1]
[null,"Aktiv 4822",null,null,null,null,null,1]
[null,"Aktiv 4823",null,null,null,null,null,1]
[null,"Aktiv 4824",null,null,null,null,null,1]
[null,"Aktiv 4825",null,null,null,null,null,1]
[null,"Aktiv 4826",null,null,null,null,null,1]
[null,"Aktiv 4827",null,null,null,null,null,1]
[null,"Aktiv 4828",null,null,null,null,null,1]
[null,"Aktiv 4829",null,null,null,null,null,1]
[null,"Aktiv 4830",null,null,null,null,null,1]
[null,"Aktiv 4831",null,null,null,null,null,1]
[null,"Aktiv 4832",null,null,null,null,null,1]
[null,"Aktiv 4833",null,null,null,null,null,1]
[null,"Aktiv 4834",null,null,null,null,null,1]
[null,"Aktiv 4835",null,null,null,null,null,1]
[null,"Aktiv 4836",null,null,null,null,null,1]
[null,"Aktiv 4837",null,null,null,null,null,1]
[null,"Aktiv 4838",null,null,null,null,null,1]
[null,"Aktiv 4839",null,null,null,null,null,1]
[null,"Aktiv 4840",null,null,null,null,null,1]
[null,"Aktiv 4841",null,null,null,null,null,1]
[null,"Aktiv 4842",null,null,null,null,null,1]
[null,"Aktiv 4843",null,null,null,null,null,1]
[null,"Aktiv 4844",null,null,null,null,null,1]
[null,"Aktiv 4845",null,null,null,null,null,1]
[null,"Aktiv 4846",null,null,null,null,null,1]
[null,"Aktiv 4847",null,null,null,null,null,1]
[null,"Aktiv 4848",null,null,null,null,null,1]
[null,"Aktiv 4849",null,null,null,null,null,1]
[null,"Aktiv 4850",null,null,null,null,null,1]
[null,"Aktiv 4851",null,null,null,null,null,1]
[null,"Aktiv 4852",null,null,null,null,null,1]
[null,"Aktiv 4853",null,null,null,null,null,1]
[null,"Aktiv 4854",null,null,null,null,null,1]
[null,"Aktiv 4855",null,null,null,null,null,1]
[null,"Aktiv 4856",null,null,null,null,null,1]
[null,"Aktiv 4857",null,null,null,null,null,1]
[null,"Aktiv 4858",null,null,null,null,null,1]
[null,"Aktiv 4859",null,null,null,null,null,1]
[null,"Aktiv 4860",null,null,null,null,null,1]
[null,"Aktiv 4861",null,null,null,null,null,{"$f":"100%-(F4872+G4872)","v":1}]
[null,"Aktiv 4862",null,null,null,null,null,1]
[null,"Aktiv 4863",null,null,null,null,null,1]
[null,"Aktiv 4864",null,null,null,null,null,1]
[null,"Aktiv 4865",null,null,null,null,null,1]
[null,"Aktiv 4866",null,null,null,null,null,1]
[null,"Aktiv 4867",null,null,null,null,null,1]
[null,"Aktiv 4868",null,null,null,null,null,1]
[null,"Aktiv 4869",null,null,null,null,null,1]
[null,"Aktiv 4870",null,null,null,null,null,1]
[null,"Aktiv 4871",null,null,null,null,null,1]
[null,"Aktiv 4872",null,null,null,null,null,1]
[null,"Aktiv 4873",null,null,null,null,null,1]
[null,"Aktiv 4874",null,null,null,null,null,1]
[null,"Aktiv 4875",null,null,null,null,null,1]
[null,"Aktiv 4876",null,null,null,null,null,1]
[null,"Aktiv 4877",null,null,null,null,null,1]
[null,"Aktiv 4878",null,null,null,null,null,1]
[null,"Aktiv 4879",null,null,null,null,null,1]
[null,"Aktiv 4880",null,null,null,null,null,1]
[null,"Aktiv 4881",null,null,null,null,null,1]
[null,"Aktiv 4882",null,null,null,null,null,1]
[null,"Aktiv 4883",null,null,null,null,null,1]
[null,"Aktiv 4884",null,null,null,null,null,1]
[null,"Aktiv 4885",null,null,null,null,null,1]
[null,"Aktiv 4886",null,null,null,null,null,1]
[null,"Aktiv 4887",null,null,null,null,null,1]
[null,"Aktiv 4888",null,null,null,null,null,1]
[null,"Aktiv 4889",null,null,null,null,null,1]
[null,"Aktiv 4890",null,null,null,null,null,1]
[null,"Aktiv 4891",null,null,null,null,null,1]
[null,"Aktiv 4892",null,null,null,null,null,1]
[null,"Aktiv 4893",null,null,null,null,null,1]
[null,"Aktiv 4894",null,null,null,null,null,1]
[null,"Aktiv 4895",null,null,null,null,null,1]
[null,"Aktiv 4896",null,null,null,null,null,1]
[null,"Aktiv 4897",null,null,null,null,null,1]
[null,"Aktiv 4898",null,null,null,null,null,1]
[null,"Aktiv 4899",null,null,null,null,null,1]
[null,"Aktiv 4900",null,null,null,null,null,1]
[null,"Aktiv 4901",null,null,null,null,null,1]
[null,"Aktiv 4902",null,null,null,null,null,1]
[null,"Aktiv 4903",null,null,null,null,null,1]
[null,"Aktiv 4904",null,null,null,null,null,1]
[null,"Aktiv 4905",null,null,null,null,null,1]
[null,"Aktiv 4906",null,null,null,null,null,1]
[null,"Aktiv 4907",null,null,null,null,null,1]
[null,"Aktiv 4908",null,null,null,null,null,1]
[null,"Aktiv 4909",null,null,null,null,null,1]
[null,"Aktiv 4910",null,null,null,null,null,1]
[null,"Aktiv 4911",null,null,null,null,null,1]
[null,"Aktiv 4912",null,null,null,null,null,1]
[null,"Aktiv 4913",null,null,null,null,null,1]
[null,"Aktiv 4914",null,null,null,null,null,1]
[null,"Aktiv 4915",null,null,null,null,null,1]
[null,"Aktiv 4916",null,null,null,null,null,1]
[null,"Aktiv 4917",null,null,null,null,null,1]
[null,"Aktiv 4918",null,null,null,null,null,1]
[null,"Aktiv 4919",null,null,null,null,null,1]
[null,"Aktiv 4920",null,null,null,null,null,1]
[null,"Aktiv 4921",null,null,null,null,null,1]
[null,"Aktiv 4922",null,null,null,null,null,1]
[null,"Aktiv 4923",null,null,null,null,null,1]
[null,"Aktiv 4924",null,null,null,null,null,1]
[null,"Aktiv 4925",null,null,null,null,null,{"$f":"100%-(F4936+G4936)","v":1}]
[null,"Aktiv 4926",null,null,null,null,null,1]
[null,"Aktiv 4927",null,null,null,null,null,1]
[null,"Aktiv 4928",null,null,null,null,null,1]
[null,"Aktiv 4929",null,null,null,null,null,1]
[null,"Aktiv 4930",null,null,null,null,null,1]
[null,"Aktiv 4931",null,null,null,null,null,1]
[null,"Aktiv 4932",null,null,null,null,null,1]
[null,"Aktiv 4933",null,null,null,null,null,1]
[null,"Aktiv 4934",null,null,null,null,null,1]
[null,"Aktiv 4935",null,null,null,null,null,1]
[null,"Aktiv 4936",null,null,null,null,null,1]
[null,"Aktiv 4937",null,null,null,null,null,1]
[null,"Aktiv 4938",null,null,null,null,null,1]
[null,"Aktiv 4939",null,null,null,null,null,1]
[null,"Aktiv 4940",null,null,null,null,null,1]
[null,"Aktiv 4941",null,null,null,null,null,1]
[null,"Aktiv 4942",null,null,null,null,null,1]
[null,"Aktiv 4943",null,null,null,null,null,1]
[null,"Aktiv 4944",null,null,null,null,null,1]
[null,"Aktiv 4945",null,null,null,null,null,1]
[null,"Aktiv 4946",null,null,null,null,null,1]
[null,"Aktiv 4947",null,null,null,null,null,1]
[null,"Aktiv 4948",null,null,null,null,null,1]
[null,"Aktiv 4949",null,null,null,null,null,1]
[null,"Aktiv 4950",null,null,null,null,null,1]
[null,"Aktiv 4951",null,null,null,null,null,1]
[null,"Aktiv 4952",null,null,null,null,null,1]
[null,"Aktiv 4953",null,null,null,null,null,1]
[null,"Aktiv 4954",null,null,null,null,null,1]
[null,"Aktiv 4955",null,null,null,null,null,1]
[null,"Aktiv 4956",null,null,null,null,null,1]
[null,"Aktiv 4957",null,null,null,null,null,1]
[null,"Aktiv 4958",null,null,null,null,null,1]
[null,"Aktiv 4959",null,null,null,null,null,1]
[null,"Aktiv 4960",null,null,null,null,null,1]
[null,"Aktiv 4961",null,null,null,null,null,1]
[null,"Aktiv 4962",null,null,null,null,null,1]
[null,"Aktiv 4963",null,null,null,null,null,1]
[null,"Aktiv 4964",null,null,null,null,null,1]
[null,"Aktiv 4965",null,null,null,null,null,1]
[null,"Aktiv 4966",null,null,null,null,null,1]
[null,"Aktiv 4967",null,null,null,null,null,1]
[null,"Aktiv 4968",null,null,null,null,null,1]
[null,"Aktiv 4969",null,null,null,null,null,1]
[null,"Aktiv 4970",null,null,null,null,null,1]
[null,"Aktiv 4971",null,null,null,null,null,1]
[null,"Aktiv 4972",null,null,null,null,null,1]
[null,"Aktiv 4973",null,null,null,null,null,1]
[null,"Aktiv 4974",null,null,null,null,null,1]
[null,"Aktiv 4975",null,null,null,null,null,1]
[null,"Aktiv 4976",null,null,null,null,null,1]
[null,"Aktiv 4977",null,null,null,null,null,1]
[null,"Aktiv 4978",null,null,null,null,null,1]
[null,"Aktiv 4979",null,null,null,null,null,1]
[null,"Aktiv 4980",null,null,null,null,null,1]
[null,"Aktiv 4981",null,null,null,null,null,1]
[null,"Aktiv 4982",null,null,null,null,null,1]
[null,"Aktiv 4983",null,null,null,null,null,1]
[null,"Aktiv 4984",null,null,null,null,null,1]
[null,"Aktiv 4985",null,null,null,null,null,1]
[null,"Aktiv 4986",null,null,null,null,null,1]
[null,"Aktiv 4987",null,null,null,null,null,1]
[null,"Aktiv 4988",null,null,null,null,null,1]
[null,"Aktiv 4989",null,null,null,null,null,{"$f":"100%-(F5000+G5000)","v":1}]
[null,"Aktiv 4990",null,null,null,null,null,1]
[null,"Aktiv 4991",null,null,null,null,null,1]
[null,"Aktiv 4992",null,null,null,null,null,1]
[null,"Aktiv 4993",null,null,null,null,null,1]
[null,"Aktiv 4994",null,null,null,null,null,1]
[null,"Aktiv 4995",null,null,null,null,null,1]
[null,"Aktiv 4996",null,null,null,null,null,1]
[null,"Aktiv 4997",null,null,null,null,null,1]
[null,"Aktiv 4998",null,null,null,null,null,1]
[null,"Aktiv 4999",null,null,null,null,null,1]
[null,"Aktiv 5000",null,null,null,null,null,1]
[]
[]
[]
[null,"Kontrolberegninger "]
[null,"Sum kompensationsberettiget minkrelateret virksomhed",null,null,null,{"$f":"SUMPRODUCT(E12:E5011,F12:F5011)","v":0},null,"Såfremt \"Kontrol kompensationsberettiget minkrelateret virksomhed\" er rød, er der forskel på de indtastede anlægsaktiver for minkrelateret virksomhed i dette ark og i \"Resultatopgørelse og balance\" pr. 31. december 2020"]
[null,"Kontrol kompensationsberettiget minkrelateret virksomhed",null,null,null,{"$f":"F5016-'Resultatopgørelse og balance'!M36","v":0}]
[]
[null,"Sum kompensationsberettiget ikke-minkrelateret virksomhed",null,null,null,{"$f":"SUMPRODUCT(E12:E5011,G12:G5011)","v":0},null,"Såfremt \"Kontrol kompensationsberettiget ikke-minkrelateret virksomhed\" er rød, er der forskel på de indtastede anlægsaktiver for ikke-minkrelateret virksomhed i dette ark og i \"Resultatopgørelse og balance\" pr. 31. december 2020"]
[null,"Kontrol kompensationsberettiget ikke-minkrelateret virksomhed",null,null,null,{"$f":"F5019-'Resultatopgørelse og balance'!M104","v":0},null,"Såfremt \"Kontrol kompensationsberettiget minkrelateret\" er rød, indikerer det, at der er forskel på de indtastede anlægsaktiver for kompensationsberettiget minkrelateret i dette ark og i \"Resultatopgørelse og balance\""]
[]
[null,"Sum ikke-kompensationsberettiget virksomhed",null,null,null,{"$f":"SUMPRODUCT(E12:E5011,H12:H5011)","v":0},null,"Såfremt \"Kontrol ikke-kompensationsberettiget virksomhed\" er rød, er der forskel på de indtastede anlægsaktiver for ikke-kompensationsberettiget virksomhed i dette ark og i \"Resultatopgørelse og balance\" pr. 31. december 2020"]
[null,"Kontrol ikke-kompensationsberettiget virksomhed",null,null,null,{"$f":"F5022-'Resultatopgørelse og balance'!M172","v":0},null,"Såfremt \"Kontrol kompensationsberettiget minkrelateret\" er rød, indikerer det, at der er forskel på de indtastede anlægsaktiver for kompensationsberettiget minkrelateret i dette ark og i \"Resultatopgørelse og balance\""]
[]
[null,"Ark slut"]

{"sheet":"Rettighedshavere","index":5,"n_rows":5167,"n_cols":54,"rows_kept":5167,"cut":false,"hidden":false,"merged":[[0,8,0,9],[0,15,0,16]]}
[null,null,null,null,null,null,"Gå til:","Oversigt over rettighedshavere","Oversigt over rettigheder og prioritetsstilling"]
[null,"A) Oversigt over rettighedshavere"]
[]
[null,null,null,null,null,null,"Rettighed ","Rettighedshaver","Rettighedshavers kontaktoplysninger: CVR-nr.","Rettighedstype, f.eks. pant, brugsret, lejeret mv.","Rettighedshavers kontaktoplysninger: adresse","Rettighedshavers kontaktoplysninger: e-mail","Rettighedshavers kontaktoplysninger: tlf. nr. ","Rettighedshavers kontaktoplysninger: CPR-nr. (indastes uden bindestreg)",null,"Rettigheden relaterer sig til"]
[null,null,null,null,null,null,"Rettighed 1",null,null,null,null,null,null,null,null,"Vælg:"]
[null,null,null,null,null,null,"Rettighed 2"]
[null,null,null,null,null,null,"Rettighed 3"]
[null,null,null,null,null,null,"Rettighed 4"]
[null,null,null,null,null,null,"Rettighed 5"]
[null,null,null,null,null,null,"Rettighed 6"]
[null,null,null,null,null,null,"Rettighed 7"]
[null,null,null,null,null,null,"Rettighed 8"]
[null,null,null,null,null,null,"Rettighed 9"]
[null,null,null,null,null,null,"Rettighed 10"]
[null,null,null,null,null,null,"Rettighed 11"]
[null,null,null,null,null,null,"Rettighed 12"]
[null,null,null,null,null,null,"Rettighed 13"]
[null,null,null,null,null,null,"Rettighed 14"]
[null,null,null,null,null,null,"Rettighed 15"]
[null,null,null,null,null,null,"Rettighed 16"]
[null,null,null,null,null,null,"Rettighed 17"]
[null,null,null,null,null,null,"Rettighed 18"]
[null,null,"Bemærk, at den fulde oversigt over rettighedshavere vises eller gemmes ved at trykke på \"+\" eller \"-\" til venstre for første kolonne.",null,null,null,"Rettighed 19"]
[null,null,"Det anbefales, at gemme denne når den resterende del af skemaet udfyldes.",null,null,null,"Rettighed 20"]
[null,null,null,null,null,null,"Rettighed 21"]
[null,null,null,null,null,null,"Rettighed 22"]
[null,null,null,null,null,null,"Rettighed 23"]
[null,null,null,null,null,null,"Rettighed 24"]
[null,null,null,null,null,null,"Rettighed 25"]
[null,null,null,null,null,null,"Rettighed 26"]
[null,null,null,null,null,null,"Rettighed 27"]
[null,null,null,null,null,null,"Rettighed 28"]
[null,null,null,null,null,null,"Rettighed 29"]
[null,null,null,null,null,null,"Rettighed 30"]
[null,null,null,null,null,null,"Rettighed 31"]
[null,null,null,null,null,null,"Rettighed 32"]
[null,null,null,null,null,null,"Rettighed 33"]
[null,null,null,null,null,null,"Rettighed 34"]
[null,null,null,null,null,null,"Rettighed 35"]
[null,null,null,null,null,null,"Rettighed 36"]
[null,null,null,null,null,null,"Rettighed 37"]
[null,null,null,null,null,null,"Rettighed 38"]
[null,null,null,null,null,null,"Rettighed 39"]
[null,null,null,null,null,null,"Rettighed 40"]
[null,null,null,null,null,null,"Rettighed 41"]
[null,null,null,null,null,null,"Rettighed 42"]
[null,null,null,null,null,null,"Rettighed 43"]
[null,null,null,null,null,null,"Rettighed 44"]
[null,null,null,null,null,null,"Rettighed 45"]
[null,null,null,null,null,null,"Rettighed 46"]
[null,null,null,null,null,null,"Rettighed 47"]
[null,null,null,null,null,null,"Rettighed 48"]
[null,null,null,null,null,null,"Rettighed 49"]
[null,null,null,null,null,null,"Rettighed 50"]
[null,null,null,null,null,null,"Rettighed 51"]
[null,null,null,null,null,null,"Rettighed 52"]
[null,null,null,null,null,null,"Rettighed 53"]
[null,null,null,null,null,null,"Rettighed 54"]
[null,null,null,null,null,null,"Rettighed 55"]
[null,null,null,null,null,null,"Rettighed 56"]
[null,null,null,null,null,null,"Rettighed 57"]
[null,null,null,null,null,null,"Rettighed 58"]
[null,null,null,null,null,null,"Rettighed 59"]
[null,null,null,null,null,null,"Rettighed 60"]
[null,null,null,null,null,null,"Rettighed 61"]
[null,null,null,null,null,null,"Rettighed 62"]
[null,null,null,null,null,null,"Rettighed 63"]
[null,null,null,null,null,null,"Rettighed 64"]
[null,null,null,null,null,null,"Rettighed 65"]
[null,null,null,null,null,null,"Rettighed 66"]
[null,null,null,null,null,null,"Rettighed 67"]
[null,null,null,null,null,null,"Rettighed 68"]
[null,null,null,null,null,null,"Rettighed 69"]
[null,null,null,null,null,null,"Rettighed 70"]
[null,null,null,null,null,null,"Rettighed 71"]
[null,null,null,null,null,null,"Rettighed 72"]
[null,null,null,null,null,null,"Rettighed 73"]
[null,null,null,null,null,null,"Rettighed 74"]
[null,null,null,null,null,null,"Rettighed 75"]
[null,null,null,null,null,null,"Rettighed 76"]
[null,null,null,null,null,null,"Rettighed 77"]
[null,null,null,null,null,null,"Rettighed 78"]
[null,null,null,null,null,null,"Rettighed 79"]
[null,null,null,null,null,null,"Rettighed 80"]
[null,null,null,null,null,null,"Rettighed 81"]
[null,null,null,null,null,null,"Rettighed 82"]
[null,null,null,null,null,null,"Rettighed 83"]
[null,null,null,null,null,null,"Rettighed 84"]
[null,null,null,null,null,null,"Rettighed 85"]
[null,null,null,null,null,null,"Rettighed 86"]
[null,null,null,null,null,null,"Rettighed 87"]
[null,null,null,null,null,null,"Rettighed 88"]
[null,null,null,null,null,null,"Rettighed 89"]
[null,null,null,null,null,null,"Rettighed 90"]
[null,null,null,null,null,null,"Rettighed 91"]
[null,null,null,null,null,null,"Rettighed 92"]
[null,null,null,null,null,null,"Rettighed 93"]
[null,null,null,null,null,null,"Rettighed 94"]
[null,null,null,null,null,null,"Rettighed 95"]
[null,null,null,null,null,null,"Rettighed 96"]
[null,null,null,null,null,null,"Rettighed 97"]
[null,null,null,null,null,null,"Rettighed 98"]
[null,null,null,null,null,null,"Rettighed 99"]
[null,null,null,null,null,null,"Rettighed 100"]
[]
[null,null,"Bemærk, at oversigten over rettighedshavere vises eller gemmes ved at trykke på \"+\" eller \"-\" til venstre for første kolonne. Det anbefales, at gemme denne når den resterende del af skemaet udfyldes."]
[null,"B) Oversigt over rettigheder og prioritetsstilling"]
[null,"Aktiv ID nr.","Aktivnavn","Ejerskab","Prioritet #1","Prioritet #2","Prioritet #3","Prioritet #4","Prioritet #5","Prioritet #6","Prioritet #7","Prioritet #8","Prioritet #9","Prioritet #10","Prioritet #11","Prioritet #12","Prioritet #13","Prioritet #14","Prioritet #15","Prioritet #16","Prioritet #17","Prioritet #18","Prioritet #19","Prioritet #20","Prioritet #21","Prioritet #22","Prioritet #23","Prioritet #24","Prioritet #25","Prioritet #26","Prioritet #27","Prioritet #28","Prioritet #29","Prioritet #30","Prioritet #31","Prioritet #32","Prioritet #33","Prioritet #34","Prioritet #35","Prioritet #36","Prioritet #37","Prioritet #38","Prioritet #39","Prioritet #40","Prioritet #41","Prioritet #42","Prioritet #43","Prioritet #44","Prioritet #45","Prioritet #46","Prioritet #47","Prioritet #48","Prioritet #49","Prioritet #50"]
[]
[null,1,{"$f":"Anlægskartotek!C12","v":0},{"$f":"+IF((Basisoplysninger!$D$60=\"Ja\")*(Anlægskartotek!C12<>0)=1,Anlægskartotek!$L$14,Anlægskartotek!I12)","v":0}]
[null,{"$f":"B110+1","v":2},{"$f":"Anlægskartotek!C13","v":0},{"$f":"+IF((Basisoplysninger!$D$60=\"Ja\")*(Anlægskartotek!C13<>0)=1,Anlægskartotek!$L$14,Anlægskartotek!I13)","v":0}]
[null,{"$f":"B111+1","v":3},{"$f":"Anlægskartotek!C14","v":0},{"$f":"+IF((Basisoplysninger!$D$60=\"Ja\")*(Anlægskartotek!C14<>0)=1,Anlægskartotek!$L$14,Anlægskartotek!I14)","v":0}]
[null,4,{"$f":"Anlægskartotek!C15","v":0},{"$f":"+IF((Basisoplysninger!$D$60=\"Ja\")*(Anlægskartotek!C15<>0)=1,Anlægskartotek!$L$14,Anlægskartotek!I15)","v":0}]
[null,5,{"$f":"Anlægskartotek!C16","v":0},{"$f":"+IF((Basisoplysninger!$D$60=\"Ja\")*(Anlægskartotek!C16<>0)=1,Anlægskartotek!$L$14,Anlægskartotek!I16)","v":0}]
[null,6,{"$f":"Anlægskartotek!C17","v":0},{"$f":"+IF((Basisoplysninger!$D$60=\"Ja\")*(Anlægskartotek!C17<>0)=1,Anlægskartotek!$L$14,Anlægskartotek!I17)","v":0}]
[null,7,{"$f":"Anlægskartotek!C18","v":0},{"$f":"+IF((Basisoplysninger!$D$60=\"Ja\")*(Anlægskartotek!C18<>0)=1,Anlægskartotek!$L$14,Anlægskartotek!I18)","v":0}]
[null,8,{"$f":"Anlægskartotek!C19","v":0},{"$f":"+IF((Basisoplysninger!$D$60=\"Ja\")*(Anlægskartotek!C19<>0)=1,Anlægskartotek!$L$14,Anlægskartotek!I19)","v":0}]
[null,9,{"$f":"Anlægskartotek!C20","v":0},{"$f":"+IF((Basisoplysninger!$D$60=\"Ja\")*(Anlægskartotek!C20<>0)=1,Anlægskartotek!$L$14,Anlægskartotek!I20)","v":0}]
[null,10,{"$f":"Anlægskartotek!C21","v":0},{"$f":"+IF((Basisoplysninger!$D$60=\"Ja\")*(Anlægskartotek!C21<>0)=1,Anlægskartotek!$L$14,Anlægskartotek!I21)","v":0}]
[null,11,{"$f":"Anlægskartotek!C22","v":0},{"$f":"+IF((Basisoplysninger!$D$60=\"Ja\")*(Anlægskartotek!C22<>0)=1,Anlægskartotek!$L$14,Anlægskartotek!I22)","v":0}]
[null,12,{"$f":"Anlægskartotek!C23","v":0},{"$f":"+IF((Basisoplysninger!$D$60=\"Ja\")*(Anlægskartotek!C23<>0)=1,Anlægskartotek!$L$14,Anlægskartotek!I23)","v":0}]
[null,13,{"$f":"Anlægskartotek!C24","v":0},{"$f":"+IF((Basisoplysninger!$D$60=\"Ja\")*(Anlægskartotek!C24<>0)=1,Anlægskartotek!$L$14,Anlægskartotek!I24)","v":0}]
[null,14,{"$f":"Anlægskartotek!C25","v":0},{"$f":"+IF((Basisoplysninger!$D$60=\"Ja\")*(Anlægskartotek!C25<>0)=1,Anlægskartotek!$L$14,Anlægskartotek!I25)","v":0}]
[null,15,{"$f":"Anlægskartotek!C26","v":0},{"$f":"+IF((Basisoplysninger!$D$60=\"Ja\")*(Anlægskartotek!C26<>0)=1,Anlægskartotek!$L$14,Anlægskartotek!I26)","v":0}]
[null,16,{"$f":"Anlægskartotek!C27","v":0},{"$f":"+IF((Basisoplysninger!$D$60=\"Ja\")*(Anlægskartotek!C27<>0)=1,Anlægskartotek!$L$14,Anlægskartotek!I27)","v":0}]
[null,17,{"$f":"Anlægskartotek!C28","v":0},{"$f":"+IF((Basisoplysninger!$D$60=\"Ja\")*(Anlægskartotek!C28<>0)=1,Anlægskartotek!$L$14,Anlægskartotek!I28)","v":0}]
[null,18,{"$f":"Anlægskartotek!C29","v":0},{"$f":"+IF((Basisoplysninger!$D$60=\"Ja\")*(Anlægskartotek!C29<>0)=1,Anlægskartotek!$L$14,Anlægskartotek!I29)","v":0}]
[null,19,{"$f":"Anlægskartotek!C30","v":0},{"$f":"+IF((Basisoplysninger!$D$60=\"Ja\")*(Anlægskartotek!C30<>0)=1,Anlægskartotek!$L$14,Anlægskartotek!I30)","v":0}]
[null,20,{"$f":"Anlægskartotek!C31","v":0},{"$f":"+IF((Basisoplysninger!$D$60=\"Ja\")*(Anlægskartotek!C31<>0)=1,Anlægskartotek!$L$14,Anlægskartotek!I31)","v":0}]
[null,21,{"$f":"Anlægskartotek!C32","v":0},{"$f":"+IF((Basisoplysninger!$D$60=\"Ja\")*(Anlægskartotek!C32<>0)=1,Anlægskartotek!$L$14,Anlægskartotek!I32)","v":0}]
[null,22,{"$f":"Anlægskartotek!C33","v":0},{"$f":"+IF((Basisoplysninger!$D$60=\"Ja\")*(Anlægskartotek!C33<>0)=1,Anlægskartotek!$L$14,Anlægskartotek!I33)","v":0}]
[null,23,{"$f":"Anlægskartotek!C34","v":0},{"$f":"+IF((Basisoplysninger!$D$60=\"Ja\")*(Anlægskartotek!C34<>0)=1,Anlægskartotek!$L$14,Anlægskartotek!I34)","v":0}]
[null,24,{"$f":"Anlægskartotek!C35","v":0},{"$f":"+IF((Basisoplysninger!$D$60=\"Ja\")*(Anlægskartotek!C35<>0)=1,Anlægskartotek!$L$14,Anlægskartotek!I35)","v":0}]
[null,25,{"$f":"Anlægskartotek!C36","v":0},{"$f":"+IF((Basisoplysninger!$D$60=\"Ja\")*(Anlægskartotek!C36<>0)=1,Anlægskartotek!$L$14,Anlægskartotek!I36)","v":0}]
[null,26,{"$f":"Anlægskartotek!C37","v":0},{"$f":"+IF((Basisoplysninger!$D$60=\"Ja\")*(Anlægskartotek!C37<>0)=1,Anlægskartotek!$L$14,Anlægskartotek!I37)","v":0}]
[null,27,{"$f":"Anlægskartotek!C38","v":0},{"$f":"+IF((Basisoplysninger!$D$60=\"Ja\")*(Anlægskartotek!C38<>0)=1,Anlægskartotek!$L$14,Anlægskartotek!I38)","v":0}]
[null,28,{"$f":"Anlægskartotek!C39","v":0},{"$f":"+IF((Basisoplysninger!$D$60=\"Ja\")*(Anlægskartotek!C39<>0)=1,Anlægskartotek!$L$14,Anlægskartotek!I39)","v":0}]
[null,29,{"$f":"Anlægskartotek!C40","v":0},{"$f":"+IF((Basisoplysninger!$D$60=\"Ja\")*(Anlægskartotek!C40<>0)=1,Anlægskartotek!$L$14,Anlægskartotek!I40)","v":0}]
[null,30,{"$f":"Anlægskartotek!C41","v":0},{"$f":"+IF((Basisoplysninger!$D$60=\"Ja\")*(Anlægskartotek!C41<>0)=1,Anlægskartotek!$L$14,Anlægskartotek!I41)","v":0}]
[null,31,{"$f":"Anlægskartotek!C42","v":0},{"$f":"+IF((Basisoplysninger!$D$60=\"Ja\")*(Anlægskartotek!C42<>0)=1,Anlægskartotek!$L$14,Anlægskartotek!I42)","v":0}]
[null,32,{"$f":"Anlægskartotek!C43","v":0},{"$f":"+IF((Basisoplysninger!$D$60=\"Ja\")*(Anlægskartotek!C43<>0)=1,Anlægskartotek!$L$14,Anlægskartotek!I43)","v":0}]
[null,33,{"$f":"Anlægskartotek!C44","v":0},{"$f":"+IF((Basisoplysninger!$D$60=\"Ja\")*(Anlægskartotek!C44<>0)=1,Anlægskartotek!$L$14,Anlægskartotek!I44)","v":0}]
[null,34,{"$f":"Anlægskartotek!C45","v":0},{"$f":"+IF((Basisoplysninger!$D$60=\"Ja\")*(Anlægskartotek!C45<>0)=1,Anlægskartotek!$L$14,Anlægskartotek!I45)","v":0}]
[null,35,{"$f":"Anlægskartotek!C46","v":0},{"$f":"+IF((Basisoplysninger!$D$60=\"Ja\")*(Anlægskartotek!C46<>0)=1,Anlægskartotek!$L$14,Anlægskartotek!I46)","v":0}]
[null,36,{"$f":"Anlægskartotek!C47","v":0},{"$f":"+IF((Basisoplysninger!$D$60=\"Ja\")*(Anlægskartotek!C47<>0)=1,Anlægskartotek!$L$14,Anlægskartotek!I47)","v":0}]
[null,37,{"$f":"Anlægskartotek!C48","v":0},{"$f":"+IF((Basisoplysninger!$D$60=\"Ja\")*(Anlægskartotek!C48<>0)=1,Anlægskartotek!$L$14,Anlægskartotek!I48)","v":0}]
[null,38,{"$f":"Anlægskartotek!C49","v":0},{"$f":"+IF((Basisoplysninger!$D$60=\"Ja\")*(Anlægskartotek!C49<>0)=1,Anlægskartotek!$L$14,Anlægskartotek!I49)","v":0}]
[null,39,{"$f":"Anlægskartotek!C50","v":0},{"$f":"+IF((Basisoplysninger!$D$60=\"Ja\")*(Anlægskartotek!C50<>0)=1,Anlægskartotek!$L$14,Anlægskartotek!I50)","v":0}]
[null,40,{"$f":"Anlægskartotek!C51","v":0},{"$f":"+IF((Basisoplysninger!$D$60=\"Ja\")*(Anlægskartotek!C51<>0)=1,Anlægskartotek!$L$14,Anlægskartotek!I51)","v":0}]
[null,41,{"$f":"Anlægskartotek!C52","v":0},{"$f":"+IF((Basisoplysninger!$D$60=\"Ja\")*(Anlægskartotek!C52<>0)=1,Anlægskartotek!$L$14,Anlægskartotek!I52)","v":0}]
[null,42,{"$f":"Anlægskartotek!C53","v":0},{"$f":"+IF((Basisoplysninger!$D$60=\"Ja\")*(Anlægskartotek!C53<>0)=1,Anlægskartotek!$L$14,Anlægskartotek!I53)","v":0}]
[null,43,{"$f":"Anlægskartotek!C54","v":0},{"$f":"+IF((Basisoplysninger!$D$60=\"Ja\")*(Anlægskartotek!C54<>0)=1,Anlægskartotek!$L$14,Anlægskartotek!I54)","v":0}]
[null,44,{"$f":"Anlægskartotek!C55","v":0},{"$f":"+IF((Basisoplysninger!$D$60=\"Ja\")*(Anlægskartotek!C55<>0)=1,Anlægskartotek!$L$14,Anlægskartotek!I55)","v":0}]
[null,45,{"$f":"Anlægskartotek!C56","v":0},{"$f":"+IF((Basisoplysninger!$D$60=\"Ja\")*(Anlægskartotek!C56<>0)=1,Anlægskartotek!$L$14,Anlægskartotek!I56)","v":0}]
[null,46,{"$f":"Anlægskartotek!C57","v":0},{"$f":"+IF((Basisoplysninger!$D$60=\"Ja\")*(Anlægskartotek!C57<>0)=1,Anlægskartotek!$L$14,Anlægskartotek!I57)","v":0}]
[null,47,{"$f":"Anlægskartotek!C58","v":0},{"$f":"+IF((Basisoplysninger!$D$60=\"Ja\")*(Anlægskartotek!C58<>0)=1,Anlægskartotek!$L$14,Anlægskartotek!I58)","v":0}]
[null,48,{"$f":"Anlægskartotek!C59","v":0},{"$f":"+IF((Basisoplysninger!$D$60=\"Ja\")*(Anlægskartotek!C59<>0)=1,Anlægskartotek!$L$14,Anlægskartotek!I59)","v":0}]
[null,49,{"$f":"Anlægskartotek!C60","v":0},{"$f":"+IF((Basisoplysninger!$D$60=\"Ja\")*(Anlægskartotek!C60<>0)=1,Anlægskartotek!$L$14,Anlægskartotek!I60)","v":0}]
[null,50,{"$f":"Anlægskartotek!C61","v":0},{"$f":"+IF((Basisoplysninger!$D$60=\"Ja\")*(Anlægskartotek!C61<>0)=1,Anlægskartotek!$L$14,Anlægskartotek!I61)","v":0}]
[null,51,{"$f":"Anlægskartotek!C62","v":0},{"$f":"+IF((Basisoplysninger!$D$60=\"Ja\")*(Anlægskartotek!C62<>0)=1,Anlægskartotek!$L$14,Anlægskartotek!I62)","v":0}]
[null,52,{"$f":"Anlægskartotek!C63","v":0},{"$f":"+IF((Basisoplysninger!$D$60=\"Ja\")*(Anlægskartotek!C63<>0)=1,Anlægskartotek!$L$14,Anlægskartotek!I63)","v":0}]
[null,53,{"$f":"Anlægskartotek!C64","v":0},{"$f":"+IF((Basisoplysninger!$D$60=\"Ja\")*(Anlægskartotek!C64<>0)=1,Anlægskartotek!$L$14,Anlægskartotek!I64)","v":0}]
[null,54,{"$f":"Anlægskartotek!C65","v":0},{"$f":"+IF((Basisoplysninger!$D$60=\"Ja\")*(Anlægskartotek!C65<>0)=1,Anlægskartotek!$L$14,Anlægskartotek!I65)","v":0}]
[null,55,{"$f":"Anlægskartotek!C66","v":0},{"$f":"+IF((Basisoplysninger!$D$60=\"Ja\")*(Anlægskartotek!C66<>0)=1,Anlægskartotek!$L$14,Anlægskartotek!I66)","v":0}]
[null,56,{"$f":"Anlægskartotek!C67","v":0},{"$f":"+IF((Basisoplysninger!$D$60=\"Ja\")*(Anlægskartotek!C67<>0)=1,Anlægskartotek!$L$14,Anlægskartotek!I67)","v":0}]
[null,57,{"$f":"Anlægskartotek!C68","v":0},{"$f":"+IF((Basisoplysninger!$D$60=\"Ja\")*(Anlægskartotek!C68<>0)=1,Anlægskartotek!$L$14,Anlægskartotek!I68)","v":0}]
[null,58,{"$f":"Anlægskartotek!C69","v":0},{"$f":"+IF((Basisoplysninger!$D$60=\"Ja\")*(Anlægskartotek!C69<>0)=1,Anlægskartotek!$L$14,Anlægskartotek!I69)","v":0}]
[null,59,{"$f":"Anlægskartotek!C70","v":0},{"$f":"+IF((Basisoplysninger!$D$60=\"Ja\")*(Anlægskartotek!C70<>0)=1,Anlægskartotek!$L$14,Anlægskartotek!I70)","v":0}]
[null,60,{"$f":"Anlægskartotek!C71","v":0},{"$f":"+IF((Basisoplysninger!$D$60=\"Ja\")*(Anlægskartotek!C71<>0)=1,Anlægskartotek!$L$14,Anlægskartotek!I71)","v":0}]
[null,61,{"$f":"Anlægskartotek!C72","v":0},{"$f":"+IF((Basisoplysninger!$D$60=\"Ja\")*(Anlægskartotek!C72<>0)=1,Anlægskartotek!$L$14,Anlægskartotek!I72)","v":0}]
[null,62,{"$f":"Anlægskartotek!C73","v":0},{"$f":"+IF((Basisoplysninger!$D$60=\"Ja\")*(Anlægskartotek!C73<>0)=1,Anlægskartotek!$L$14,Anlægskartotek!I73)","v":0}]
[null,63,{"$f":"Anlægskartotek!C74","v":0},{"$f":"+IF((Basisoplysninger!$D$60=\"Ja\")*(Anlægskartotek!C74<>0)=1,Anlægskartotek!$L$14,Anlægskartotek!I74)","v":0}]
[null,64,{"$f":"Anlægskartotek!C75","v":0},{"$f":"+IF((Basisoplysninger!$D$60=\"Ja\")*(Anlægskartotek!C75<>0)=1,Anlægskartotek!$L$14,Anlægskartotek!I75)","v":0}]
[null,65,{"$f":"Anlægskartotek!C76","v":0},{"$f":"+IF((Basisoplysninger!$D$60=\"Ja\")*(Anlægskartotek!C76<>0)=1,Anlægskartotek!$L$14,Anlægskartotek!I76)","v":0}]
[null,66,{"$f":"Anlægskartotek!C77","v":0},{"$f":"+IF((Basisoplysninger!$D$60=\"Ja\")*(Anlægskartotek!C77<>0)=1,Anlægskartotek!$L$14,Anlægskartotek!I77)","v":0}]
[null,{"$f":"B175+1","v":67},{"$f":"Anlægskartotek!C78","v":0},{"$f":"+IF((Basisoplysninger!$D$60=\"Ja\")*(Anlægskartotek!C78<>0)=1,Anlægskartotek!$L$14,Anlægskartotek!I78)","v":0}]
[null,68,{"$f":"Anlægskartotek!C79","v":0},{"$f":"+IF((Basisoplysninger!$D$60=\"Ja\")*(Anlægskartotek!C79<>0)=1,Anlægskartotek!$L$14,Anlægskartotek!I79)","v":0}]
[null,69,{"$f":"Anlægskartotek!C80","v":0},{"$f":"+IF((Basisoplysninger!$D$60=\"Ja\")*(Anlægskartotek!C80<>0)=1,Anlægskartotek!$L$14,Anlægskartotek!I80)","v":0}]
[null,70,{"$f":"Anlægskartotek!C81","v":0},{"$f":"+IF((Basisoplysninger!$D$60=\"Ja\")*(Anlægskartotek!C81<>0)=1,Anlægskartotek!$L$14,Anlægskartotek!I81)","v":0}]
[null,71,{"$f":"Anlægskartotek!C82","v":0},{"$f":"+IF((Basisoplysninger!$D$60=\"Ja\")*(Anlægskartotek!C82<>0)=1,Anlægskartotek!$L$14,Anlægskartotek!I82)","v":0}]
[null,72,{"$f":"Anlægskartotek!C83","v":0},{"$f":"+IF((Basisoplysninger!$D$60=\"Ja\")*(Anlægskartotek!C83<>0)=1,Anlægskartotek!$L$14,Anlægskartotek!I83)","v":0}]
[null,73,{"$f":"Anlægskartotek!C84","v":0},{"$f":"+IF((Basisoplysninger!$D$60=\"Ja\")*(Anlægskartotek!C84<>0)=1,Anlægskartotek!$L$14,Anlægskartotek!I84)","v":0}]
[null,74,{"$f":"Anlægskartotek!C85","v":0},{"$f":"+IF((Basisoplysninger!$D$60=\"Ja\")*(Anlægskartotek!C85<>0)=1,Anlægskartotek!$L$14,Anlægskartotek!I85)","v":0}]
[null,75,{"$f":"Anlægskartotek!C86","v":0},{"$f":"+IF((Basisoplysninger!$D$60=\"Ja\")*(Anlægskartotek!C86<>0)=1,Anlægskartotek!$L$14,Anlægskartotek!I86)","v":0}]
[null,76,{"$f":"Anlægskartotek!C87","v":0},{"$f":"+IF((Basisoplysninger!$D$60=\"Ja\")*(Anlægskartotek!C87<>0)=1,Anlægskartotek!$L$14,Anlægskartotek!I87)","v":0}]
[null,77,{"$f":"Anlægskartotek!C88","v":0},{"$f":"+IF((Basisoplysninger!$D$60=\"Ja\")*(Anlægskartotek!C88<>0)=1,Anlægskartotek!$L$14,Anlægskartotek!I88)","v":0}]
[null,78,{"$f":"Anlægskartotek!C89","v":0},{"$f":"+IF((Basisoplysninger!$D$60=\"Ja\")*(Anlægskartotek!C89<>0)=1,Anlægskartotek!$L$14,Anlægskartotek!I89)","v":0}]
[null,79,{"$f":"Anlægskartotek!C90","v":0},{"$f":"+IF((Basisoplysninger!$D$60=\"Ja\")*(Anlægskartotek!C90<>0)=1,Anlægskartotek!$L$14,Anlægskartotek!I90)","v":0}]
[null,80,{"$f":"Anlægskartotek!C91","v":0},{"$f":"+IF((Basisoplysninger!$D$60=\"Ja\")*(Anlægskartotek!C91<>0)=1,Anlægskartotek!$L$14,Anlægskartotek!I91)","v":0}]
[null,81,{"$f":"Anlægskartotek!C92","v":0},{"$f":"+IF((Basisoplysninger!$D$60=\"Ja\")*(Anlægskartotek!C92<>0)=1,Anlægskartotek!$L$14,Anlægskartotek!I92)","v":0}]
[null,82,{"$f":"Anlægskartotek!C93","v":0},{"$f":"+IF((Basisoplysninger!$D$60=\"Ja\")*(Anlægskartotek!C93<>0)=1,Anlægskartotek!$L$14,Anlægskartotek!I93)","v":0}]
[null,83,{"$f":"Anlægskartotek!C94","v":0},{"$f":"+IF((Basisoplysninger!$D$60=\"Ja\")*(Anlægskartotek!C94<>0)=1,Anlægskartotek!$L$14,Anlægskartotek!I94)","v":0}]
[null,84,{"$f":"Anlægskartotek!C95","v":0},{"$f":"+IF((Basisoplysninger!$D$60=\"Ja\")*(Anlægskartotek!C95<>0)=1,Anlægskartotek!$L$14,Anlægskartotek!I95)","v":0}]
[null,85,{"$f":"Anlægskartotek!C96","v":0},{"$f":"+IF((Basisoplysninger!$D$60=\"Ja\")*(Anlægskartotek!C96<>0)=1,Anlægskartotek!$L$14,Anlægskartotek!I96)","v":0}]
[null,86,{"$f":"Anlægskartotek!C97","v":0},{"$f":"+IF((Basisoplysninger!$D$60=\"Ja\")*(Anlægskartotek!C97<>0)=1,Anlægskartotek!$L$14,Anlægskartotek!I97)","v":0}]
[null,87,{"$f":"Anlægskartotek!C98","v":0},{"$f":"+IF((Basisoplysninger!$D$60=\"Ja\")*(Anlægskartotek!C98<>0)=1,Anlægskartotek!$L$14,Anlægskartotek!I98)","v":0}]
[null,88,{"$f":"Anlægskartotek!C99","v":0},{"$f":"+IF((Basisoplysninger!$D$60=\"Ja\")*(Anlægskartotek!C99<>0)=1,Anlægskartotek!$L$14,Anlægskartotek!I99)","v":0}]
[null,89,{"$f":"Anlægskartotek!C100","v":0},{"$f":"+IF((Basisoplysninger!$D$60=\"Ja\")*(Anlægskartotek!C100<>0)=1,Anlægskartotek!$L$14,Anlægskartotek!I100)","v":0}]
[null,90,{"$f":"Anlægskartotek!C101","v":0},{"$f":"+IF((Basisoplysninger!$D$60=\"Ja\")*(Anlægskartotek!C101<>0)=1,Anlægskartotek!$L$14,Anlægskartotek!I101)","v":0}]
[null,91,{"$f":"Anlægskartotek!C102","v":0},{"$f":"+IF((Basisoplysninger!$D$60=\"Ja\")*(Anlægskartotek!C102<>0)=1,Anlægskartotek!$L$14,Anlægskartotek!I102)","v":0}]
[null,92,{"$f":"Anlægskartotek!C103","v":0},{"$f":"+IF((Basisoplysninger!$D$60=\"Ja\")*(Anlægskartotek!C103<>0)=1,Anlægskartotek!$L$14,Anlægskartotek!I103)","v":0}]
[null,93,{"$f":"Anlægskartotek!C104","v":0},{"$f":"+IF((Basisoplysninger!$D$60=\"Ja\")*(Anlægskartotek!C104<>0)=1,Anlægskartotek!$L$14,Anlægskartotek!I104)","v":0}]
[null,94,{"$f":"Anlægskartotek!C105","v":0},{"$f":"+IF((Basisoplysninger!$D$60=\"Ja\")*(Anlægskartotek!C105<>0)=1,Anlægskartotek!$L$14,Anlægskartotek!I105)","v":0}]
[null,95,{"$f":"Anlægskartotek!C106","v":0},{"$f":"+IF((Basisoplysninger!$D$60=\"Ja\")*(Anlægskartotek!C106<>0)=1,Anlægskartotek!$L$14,Anlægskartotek!I106)","v":0}]
[null,96,{"$f":"Anlægskartotek!C107","v":0},{"$f":"+IF((Basisoplysninger!$D$60=\"Ja\")*(Anlægskartotek!C107<>0)=1,Anlægskartotek!$L$14,Anlægskartotek!I107)","v":0}]
[null,97,{"$f":"Anlægskartotek!C108","v":0},{"$f":"+IF((Basisoplysninger!$D$60=\"Ja\")*(Anlægskartotek!C108<>0)=1,Anlægskartotek!$L$14,Anlægskartotek!I108)","v":0}]
[null,98,{"$f":"Anlægskartotek!C109","v":0},{"$f":"+IF((Basisoplysninger!$D$60=\"Ja\")*(Anlægskartotek!C109<>0)=1,Anlægskartotek!$L$14,Anlægskartotek!I109)","v":0}]
[null,99,{"$f":"Anlægskartotek!C110","v":0},{"$f":"+IF((Basisoplysninger!$D$60=\"Ja\")*(Anlægskartotek!C110<>0)=1,Anlægskartotek!$L$14,Anlægskartotek!I110)","v":0}]
[null,100,{"$f":"Anlægskartotek!C111","v":0},{"$f":"+IF((Basisoplysninger!$D$60=\"Ja\")*(Anlægskartotek!C111<>0)=1,Anlægskartotek!$L$14,Anlægskartotek!I111)","v":0}]
[null,101,{"$f":"Anlægskartotek!C112","v":0},{"$f":"+IF((Basisoplysninger!$D$60=\"Ja\")*(Anlægskartotek!C112<>0)=1,Anlægskartotek!$L$14,Anlægskartotek!I112)","v":0}]
[null,102,{"$f":"Anlægskartotek!C113","v":0},{"$f":"+IF((Basisoplysninger!$D$60=\"Ja\")*(Anlægskartotek!C113<>0)=1,Anlægskartotek!$L$14,Anlægskartotek!I113)","v":0}]
[null,103,{"$f":"Anlægskartotek!C114","v":0},{"$f":"+IF((Basisoplysninger!$D$60=\"Ja\")*(Anlægskartotek!C114<>0)=1,Anlægskartotek!$L$14,Anlægskartotek!I114)","v":0}]
[null,104,{"$f":"Anlægskartotek!C115","v":0},{"$f":"+IF((Basisoplysninger!$D$60=\"Ja\")*(Anlægskartotek!C115<>0)=1,Anlægskartotek!$L$14,Anlægskartotek!I115)","v":0}]
[null,105,{"$f":"Anlægskartotek!C116","v":0},{"$f":"+IF((Basisoplysninger!$D$60=\"Ja\")*(Anlægskartotek!C116<>0)=1,Anlægskartotek!$L$14,Anlægskartotek!I116)","v":0}]
[null,106,{"$f":"Anlægskartotek!C117","v":0},{"$f":"+IF((Basisoplysninger!$D$60=\"Ja\")*(Anlægskartotek!C117<>0)=1,Anlægskartotek!$L$14,Anlægskartotek!I117)","v":0}]
[null,107,{"$f":"Anlægskartotek!C118","v":0},{"$f":"+IF((Basisoplysninger!$D$60=\"Ja\")*(Anlægskartotek!C118<>0)=1,Anlægskartotek!$L$14,Anlægskartotek!I118)","v":0}]
[null,108,{"$f":"Anlægskartotek!C119","v":0},{"$f":"+IF((Basisoplysninger!$D$60=\"Ja\")*(Anlægskartotek!C119<>0)=1,Anlægskartotek!$L$14,Anlægskartotek!I119)","v":0}]
[null,109,{"$f":"Anlægskartotek!C120","v":0},{"$f":"+IF((Basisoplysninger!$D$60=\"Ja\")*(Anlægskartotek!C120<>0)=1,Anlægskartotek!$L$14,Anlægskartotek!I120)","v":0}]
[null,110,{"$f":"Anlægskartotek!C121","v":0},{"$f":"+IF((Basisoplysninger!$D$60=\"Ja\")*(Anlægskartotek!C121<>0)=1,Anlægskartotek!$L$14,Anlægskartotek!I121)","v":0}]
[null,111,{"$f":"Anlægskartotek!C122","v":0},{"$f":"+IF((Basisoplysninger!$D$60=\"Ja\")*(Anlægskartotek!C122<>0)=1,Anlægskartotek!$L$14,Anlægskartotek!I122)","v":0}]
[null,112,{"$f":"Anlægskartotek!C123","v":0},{"$f":"+IF((Basisoplysninger!$D$60=\"Ja\")*(Anlægskartotek!C123<>0)=1,Anlægskartotek!$L$14,Anlægskartotek!I123)","v":0}]
[null,113,{"$f":"Anlægskartotek!C124","v":0},{"$f":"+IF((Basisoplysninger!$D$60=\"Ja\")*(Anlægskartotek!C124<>0)=1,Anlægskartotek!$L$14,Anlægskartotek!I124)","v":0}]
[null,114,{"$f":"Anlægskartotek!C125","v":0},{"$f":"+IF((Basisoplysninger!$D$60=\"Ja\")*(Anlægskartotek!C125<>0)=1,Anlægskartotek!$L$14,Anlægskartotek!I125)","v":0}]
[null,115,{"$f":"Anlægskartotek!C126","v":0},{"$f":"+IF((Basisoplysninger!$D$60=\"Ja\")*(Anlægskartotek!C126<>0)=1,Anlægskartotek!$L$14,Anlægskartotek!I126)","v":0}]
[null,116,{"$f":"Anlægskartotek!C127","v":0},{"$f":"+IF((Basisoplysninger!$D$60=\"Ja\")*(Anlægskartotek!C127<>0)=1,Anlægskartotek!$L$14,Anlægskartotek!I127)","v":0}]
[null,117,{"$f":"Anlægskartotek!C128","v":0},{"$f":"+IF((Basisoplysninger!$D$60=\"Ja\")*(Anlægskartotek!C128<>0)=1,Anlægskartotek!$L$14,Anlægskartotek!I128)","v":0}]
[null,118,{"$f":"Anlægskartotek!C129","v":0},{"$f":"+IF((Basisoplysninger!$D$60=\"Ja\")*(Anlægskartotek!C129<>0)=1,Anlægskartotek!$L$14,Anlægskartotek!I129)","v":0}]
[null,119,{"$f":"Anlægskartotek!C130","v":0},{"$f":"+IF((Basisoplysninger!$D$60=\"Ja\")*(Anlægskartotek!C130<>0)=1,Anlægskartotek!$L$14,Anlægskartotek!I130)","v":0}]
[null,120,{"$f":"Anlægskartotek!C131","v":0},{"$f":"+IF((Basisoplysninger!$D$60=\"Ja\")*(Anlægskartotek!C131<>0)=1,Anlægskartotek!$L$14,Anlægskartotek!I131)","v":0}]
[null,121,{"$f":"Anlægskartotek!C132","v":0},{"$f":"+IF((Basisoplysninger!$D$60=\"Ja\")*(Anlægskartotek!C132<>0)=1,Anlægskartotek!$L$14,Anlægskartotek!I132)","v":0}]
[null,122,{"$f":"Anlægskartotek!C133","v":0},{"$f":"+IF((Basisoplysninger!$D$60=\"Ja\")*(Anlægskartotek!C133<>0)=1,Anlægskartotek!$L$14,Anlægskartotek!I133)","v":0}]
[null,123,{"$f":"Anlægskartotek!C134","v":0},{"$f":"+IF((Basisoplysninger!$D$60=\"Ja\")*(Anlægskartotek!C134<>0)=1,Anlægskartotek!$L$14,Anlægskartotek!I134)","v":0}]
[null,124,{"$f":"Anlægskartotek!C135","v":0},{"$f":"+IF((Basisoplysninger!$D$60=\"Ja\")*(Anlægskartotek!C135<>0)=1,Anlægskartotek!$L$14,Anlægskartotek!I135)","v":0}]
[null,125,{"$f":"Anlægskartotek!C136","v":0},{"$f":"+IF((Basisoplysninger!$D$60=\"Ja\")*(Anlægskartotek!C136<>0)=1,Anlægskartotek!$L$14,Anlægskartotek!I136)","v":0}]
[null,126,{"$f":"Anlægskartotek!C137","v":0},{"$f":"+IF((Basisoplysninger!$D$60=\"Ja\")*(Anlægskartotek!C137<>0)=1,Anlægskartotek!$L$14,Anlægskartotek!I137)","v":0}]
[null,127,{"$f":"Anlægskartotek!C138","v":0},{"$f":"+IF((Basisoplysninger!$D$60=\"Ja\")*(Anlægskartotek!C138<>0)=1,Anlægskartotek!$L$14,Anlægskartotek!I138)","v":0}]
[null,128,{"$f":"Anlægskartotek!C139","v":0},{"$f":"+IF((Basisoplysninger!$D$60=\"Ja\")*(Anlægskartotek!C139<>0)=1,Anlægskartotek!$L$14,Anlægskartotek!I139)","v":0}]
[null,129,{"$f":"Anlægskartotek!C140","v":0},{"$f":"+IF((Basisoplysninger!$D$60=\"Ja\")*(Anlægskartotek!C140<>0)=1,Anlægskartotek!$L$14,Anlægskartotek!I140)","v":0}]
[null,130,{"$f":"Anlægskartotek!C141","v":0},{"$f":"+IF((Basisoplysninger!$D$60=\"Ja\")*(Anlægskartotek!C141<>0)=1,Anlægskartotek!$L$14,Anlægskartotek!I141)","v":0}]
[null,{"$f":"B239+1","v":131},{"$f":"Anlægskartotek!C142","v":0},{"$f":"+IF((Basisoplysninger!$D$60=\"Ja\")*(Anlægskartotek!C142<>0)=1,Anlægskartotek!$L$14,Anlægskartotek!I142)","v":0}]
[null,132,{"$f":"Anlægskartotek!C143","v":0},{"$f":"+IF((Basisoplysninger!$D$60=\"Ja\")*(Anlægskartotek!C143<>0)=1,Anlægskartotek!$L$14,Anlægskartotek!I143)","v":0}]
[null,133,{"$f":"Anlægskartotek!C144","v":0},{"$f":"+IF((Basisoplysninger!$D$60=\"Ja\")*(Anlægskartotek!C144<>0)=1,Anlægskartotek!$L$14,Anlægskartotek!I144)","v":0}]
[null,134,{"$f":"Anlægskartotek!C145","v":0},{"$f":"+IF((Basisoplysninger!$D$60=\"Ja\")*(Anlægskartotek!C145<>0)=1,Anlægskartotek!$L$14,Anlægskartotek!I145)","v":0}]
[null,135,{"$f":"Anlægskartotek!C146","v":0},{"$f":"+IF((Basisoplysninger!$D$60=\"Ja\")*(Anlægskartotek!C146<>0)=1,Anlægskartotek!$L$14,Anlægskartotek!I146)","v":0}]
[null,136,{"$f":"Anlægskartotek!C147","v":0},{"$f":"+IF((Basisoplysninger!$D$60=\"Ja\")*(Anlægskartotek!C147<>0)=1,Anlægskartotek!$L$14,Anlægskartotek!I147)","v":0}]
[null,137,{"$f":"Anlægskartotek!C148","v":0},{"$f":"+IF((Basisoplysninger!$D$60=\"Ja\")*(Anlægskartotek!C148<>0)=1,Anlægskartotek!$L$14,Anlægskartotek!I148)","v":0}]
[null,138,{"$f":"Anlægskartotek!C149","v":0},{"$f":"+IF((Basisoplysninger!$D$60=\"Ja\")*(Anlægskartotek!C149<>0)=1,Anlægskartotek!$L$14,Anlægskartotek!I149)","v":0}]
[null,139,{"$f":"Anlægskartotek!C150","v":0},{"$f":"+IF((Basisoplysninger!$D$60=\"Ja\")*(Anlægskartotek!C150<>0)=1,Anlægskartotek!$L$14,Anlægskartotek!I150)","v":0}]
[null,140,{"$f":"Anlægskartotek!C151","v":0},{"$f":"+IF((Basisoplysninger!$D$60=\"Ja\")*(Anlægskartotek!C151<>0)=1,Anlægskartotek!$L$14,Anlægskartotek!I151)","v":0}]
[null,141,{"$f":"Anlægskartotek!C152","v":0},{"$f":"+IF((Basisoplysninger!$D$60=\"Ja\")*(Anlægskartotek!C152<>0)=1,Anlægskartotek!$L$14,Anlægskartotek!I152)","v":0}]
[null,142,{"$f":"Anlægskartotek!C153","v":0},{"$f":"+IF((Basisoplysninger!$D$60=\"Ja\")*(Anlægskartotek!C153<>0)=1,Anlægskartotek!$L$14,Anlægskartotek!I153)","v":0}]
[null,143,{"$f":"Anlægskartotek!C154","v":0},{"$f":"+IF((Basisoplysninger!$D$60=\"Ja\")*(Anlægskartotek!C154<>0)=1,Anlægskartotek!$L$14,Anlægskartotek!I154)","v":0}]
[null,144,{"$f":"Anlægskartotek!C155","v":0},{"$f":"+IF((Basisoplysninger!$D$60=\"Ja\")*(Anlægskartotek!C155<>0)=1,Anlægskartotek!$L$14,Anlægskartotek!I155)","v":0}]
[null,145,{"$f":"Anlægskartotek!C156","v":0},{"$f":"+IF((Basisoplysninger!$D$60=\"Ja\")*(Anlægskartotek!C156<>0)=1,Anlægskartotek!$L$14,Anlægskartotek!I156)","v":0}]
[null,146,{"$f":"Anlægskartotek!C157","v":0},{"$f":"+IF((Basisoplysninger!$D$60=\"Ja\")*(Anlægskartotek!C157<>0)=1,Anlægskartotek!$L$14,Anlægskartotek!I157)","v":0}]
[null,147,{"$f":"Anlægskartotek!C158","v":0},{"$f":"+IF((Basisoplysninger!$D$60=\"Ja\")*(Anlægskartotek!C158<>0)=1,Anlægskartotek!$L$14,Anlægskartotek!I158)","v":0}]
[null,148,{"$f":"Anlægskartotek!C159","v":0},{"$f":"+IF((Basisoplysninger!$D$60=\"Ja\")*(Anlægskartotek!C159<>0)=1,Anlægskartotek!$L$14,Anlægskartotek!I159)","v":0}]
[null,149,{"$f":"Anlægskartotek!C160","v":0},{"$f":"+IF((Basisoplysninger!$D$60=\"Ja\")*(Anlægskartotek!C160<>0)=1,Anlægskartotek!$L$14,Anlægskartotek!I160)","v":0}]
[null,150,{"$f":"Anlægskartotek!C161","v":0},{"$f":"+IF((Basisoplysninger!$D$60=\"Ja\")*(Anlægskartotek!C161<>0)=1,Anlægskartotek!$L$14,Anlægskartotek!I161)","v":0}]
[null,151,{"$f":"Anlægskartotek!C162","v":0},{"$f":"+IF((Basisoplysninger!$D$60=\"Ja\")*(Anlægskartotek!C162<>0)=1,Anlægskartotek!$L$14,Anlægskartotek!I162)","v":0}]
[null,152,{"$f":"Anlægskartotek!C163","v":0},{"$f":"+IF((Basisoplysninger!$D$60=\"Ja\")*(Anlægskartotek!C163<>0)=1,Anlægskartotek!$L$14,Anlægskartotek!I163)","v":0}]
[null,153,{"$f":"Anlægskartotek!C164","v":0},{"$f":"+IF((Basisoplysninger!$D$60=\"Ja\")*(Anlægskartotek!C164<>0)=1,Anlægskartotek!$L$14,Anlægskartotek!I164)","v":0}]
[null,154,{"$f":"Anlægskartotek!C165","v":0},{"$f":"+IF((Basisoplysninger!$D$60=\"Ja\")*(Anlægskartotek!C165<>0)=1,Anlægskartotek!$L$14,Anlægskartotek!I165)","v":0}]
[null,155,{"$f":"Anlægskartotek!C166","v":0},{"$f":"+IF((Basisoplysninger!$D$60=\"Ja\")*(Anlægskartotek!C166<>0)=1,Anlægskartotek!$L$14,Anlægskartotek!I166)","v":0}]
[null,156,{"$f":"Anlægskartotek!C167","v":0},{"$f":"+IF((Basisoplysninger!$D$60=\"Ja\")*(Anlægskartotek!C167<>0)=1,Anlægskartotek!$L$14,Anlægskartotek!I167)","v":0}]
[null,157,{"$f":"Anlægskartotek!C168","v":0},{"$f":"+IF((Basisoplysninger!$D$60=\"Ja\")*(Anlægskartotek!C168<>0)=1,Anlægskartotek!$L$14,Anlægskartotek!I168)","v":0}]
[null,158,{"$f":"Anlægskartotek!C169","v":0},{"$f":"+IF((Basisoplysninger!$D$60=\"Ja\")*(Anlægskartotek!C169<>0)=1,Anlægskartotek!$L$14,Anlægskartotek!I169)","v":0}]
[null,159,{"$f":"Anlægskartotek!C170","v":0},{"$f":"+IF((Basisoplysninger!$D$60=\"Ja\")*(Anlægskartotek!C170<>0)=1,Anlægskartotek!$L$14,Anlægskartotek!I170)","v":0}]
[null,160,{"$f":"Anlægskartotek!C171","v":0},{"$f":"+IF((Basisoplysninger!$D$60=\"Ja\")*(Anlægskartotek!C171<>0)=1,Anlægskartotek!$L$14,Anlægskartotek!I171)","v":0}]
[null,161,{"$f":"Anlægskartotek!C172","v":0},{"$f":"+IF((Basisoplysninger!$D$60=\"Ja\")*(Anlægskartotek!C172<>0)=1,Anlægskartotek!$L$14,Anlægskartotek!I172)","v":0}]
[null,162,{"$f":"Anlægskartotek!C173","v":0},{"$f":"+IF((Basisoplysninger!$D$60=\"Ja\")*(Anlægskartotek!C173<>0)=1,Anlægskartotek!$L$14,Anlægskartotek!I173)","v":0}]
[null,163,{"$f":"Anlægskartotek!C174","v":0},{"$f":"+IF((Basisoplysninger!$D$60=\"Ja\")*(Anlægskartotek!C174<>0)=1,Anlægskartotek!$L$14,Anlægskartotek!I174)","v":0}]
[null,164,{"$f":"Anlægskartotek!C175","v":0},{"$f":"+IF((Basisoplysninger!$D$60=\"Ja\")*(Anlægskartotek!C175<>0)=1,Anlægskartotek!$L$14,Anlægskartotek!I175)","v":0}]
[null,165,{"$f":"Anlægskartotek!C176","v":0},{"$f":"+IF((Basisoplysninger!$D$60=\"Ja\")*(Anlægskartotek!C176<>0)=1,Anlægskartotek!$L$14,Anlægskartotek!I176)","v":0}]
[null,166,{"$f":"Anlægskartotek!C177","v":0},{"$f":"+IF((Basisoplysninger!$D$60=\"Ja\")*(Anlægskartotek!C177<>0)=1,Anlægskartotek!$L$14,Anlægskartotek!I177)","v":0}]
[null,167,{"$f":"Anlægskartotek!C178","v":0},{"$f":"+IF((Basisoplysninger!$D$60=\"Ja\")*(Anlægskartotek!C178<>0)=1,Anlægskartotek!$L$14,Anlægskartotek!I178)","v":0}]
[null,168,{"$f":"Anlægskartotek!C179","v":0},{"$f":"+IF((Basisoplysninger!$D$60=\"Ja\")*(Anlægskartotek!C179<>0)=1,Anlægskartotek!$L$14,Anlægskartotek!I179)","v":0}]
[null,169,{"$f":"Anlægskartotek!C180","v":0},{"$f":"+IF((Basisoplysninger!$D$60=\"Ja\")*(Anlægskartotek!C180<>0)=1,Anlægskartotek!$L$14,Anlægskartotek!I180)","v":0}]
[null,170,{"$f":"Anlægskartotek!C181","v":0},{"$f":"+IF((Basisoplysninger!$D$60=\"Ja\")*(Anlægskartotek!C181<>0)=1,Anlægskartotek!$L$14,Anlægskartotek!I181)","v":0}]
[null,171,{"$f":"Anlægskartotek!C182","v":0},{"$f":"+IF((Basisoplysninger!$D$60=\"Ja\")*(Anlægskartotek!C182<>0)=1,Anlægskartotek!$L$14,Anlægskartotek!I182)","v":0}]
[null,172,{"$f":"Anlægskartotek!C183","v":0},{"$f":"+IF((Basisoplysninger!$D$60=\"Ja\")*(Anlægskartotek!C183<>0)=1,Anlægskartotek!$L$14,Anlægskartotek!I183)","v":0}]
[null,173,{"$f":"Anlægskartotek!C184","v":0},{"$f":"+IF((Basisoplysninger!$D$60=\"Ja\")*(Anlægskartotek!C184<>0)=1,Anlægskartotek!$L$14,Anlægskartotek!I184)","v":0}]
[null,174,{"$f":"Anlægskartotek!C185","v":0},{"$f":"+IF((Basisoplysninger!$D$60=\"Ja\")*(Anlægskartotek!C185<>0)=1,Anlægskartotek!$L$14,Anlægskartotek!I185)","v":0}]
[null,175,{"$f":"Anlægskartotek!C186","v":0},{"$f":"+IF((Basisoplysninger!$D$60=\"Ja\")*(Anlægskartotek!C186<>0)=1,Anlægskartotek!$L$14,Anlægskartotek!I186)","v":0}]
[null,176,{"$f":"Anlægskartotek!C187","v":0},{"$f":"+IF((Basisoplysninger!$D$60=\"Ja\")*(Anlægskartotek!C187<>0)=1,Anlægskartotek!$L$14,Anlægskartotek!I187)","v":0}]
[null,177,{"$f":"Anlægskartotek!C188","v":0},{"$f":"+IF((Basisoplysninger!$D$60=\"Ja\")*(Anlægskartotek!C188<>0)=1,Anlægskartotek!$L$14,Anlægskartotek!I188)","v":0}]
[null,178,{"$f":"Anlægskartotek!C189","v":0},{"$f":"+IF((Basisoplysninger!$D$60=\"Ja\")*(Anlægskartotek!C189<>0)=1,Anlægskartotek!$L$14,Anlægskartotek!I189)","v":0}]
[null,179,{"$f":"Anlægskartotek!C190","v":0},{"$f":"+IF((Basisoplysninger!$D$60=\"Ja\")*(Anlægskartotek!C190<>0)=1,Anlægskartotek!$L$14,Anlægskartotek!I190)","v":0}]
[null,180,{"$f":"Anlægskartotek!C191","v":0},{"$f":"+IF((Basisoplysninger!$D$60=\"Ja\")*(Anlægskartotek!C191<>0)=1,Anlægskartotek!$L$14,Anlægskartotek!I191)","v":0}]
[null,181,{"$f":"Anlægskartotek!C192","v":0},{"$f":"+IF((Basisoplysninger!$D$60=\"Ja\")*(Anlægskartotek!C192<>0)=1,Anlægskartotek!$L$14,Anlægskartotek!I192)","v":0}]
[null,182,{"$f":"Anlægskartotek!C193","v":0},{"$f":"+IF((Basisoplysninger!$D$60=\"Ja\")*(Anlægskartotek!C193<>0)=1,Anlægskartotek!$L$14,Anlægskartotek!I193)","v":0}]
[null,183,{"$f":"Anlægskartotek!C194","v":0},{"$f":"+IF((Basisoplysninger!$D$60=\"Ja\")*(Anlægskartotek!C194<>0)=1,Anlægskartotek!$L$14,Anlægskartotek!I194)","v":0}]
[null,184,{"$f":"Anlægskartotek!C195","v":0},{"$f":"+IF((Basisoplysninger!$D$60=\"Ja\")*(Anlægskartotek!C195<>0)=1,Anlægskartotek!$L$14,Anlægskartotek!I195)","v":0}]
[null,185,{"$f":"Anlægskartotek!C196","v":0},{"$f":"+IF((Basisoplysninger!$D$60=\"Ja\")*(Anlægskartotek!C196<>0)=1,Anlægskartotek!$L$14,Anlægskartotek!I196)","v":0}]
[null,186,{"$f":"Anlægskartotek!C197","v":0},{"$f":"+IF((Basisoplysninger!$D$60=\"Ja\")*(Anlægskartotek!C197<>0)=1,Anlægskartotek!$L$14,Anlægskartotek!I197)","v":0}]
[null,187,{"$f":"Anlægskartotek!C198","v":0},{"$f":"+IF((Basisoplysninger!$D$60=\"Ja\")*(Anlægskartotek!C198<>0)=1,Anlægskartotek!$L$14,Anlægskartotek!I198)","v":0}]
[null,188,{"$f":"Anlægskartotek!C199","v":0},{"$f":"+IF((Basisoplysninger!$D$60=\"Ja\")*(Anlægskartotek!C199<>0)=1,Anlægskartotek!$L$14,Anlægskartotek!I199)","v":0}]
[null,189,{"$f":"Anlægskartotek!C200","v":0},{"$f":"+IF((Basisoplysninger!$D$60=\"Ja\")*(Anlægskartotek!C200<>0)=1,Anlægskartotek!$L$14,Anlægskartotek!I200)","v":0}]
[null,190,{"$f":"Anlægskartotek!C201","v":0},{"$f":"+IF((Basisoplysninger!$D$60=\"Ja\")*(Anlægskartotek!C201<>0)=1,Anlægskartotek!$L$14,Anlægskartotek!I201)","v":0}]
[null,191,{"$f":"Anlægskartotek!C202","v":0},{"$f":"+IF((Basisoplysninger!$D$60=\"Ja\")*(Anlægskartotek!C202<>0)=1,Anlægskartotek!$L$14,Anlægskartotek!I202)","v":0}]
[null,192,{"$f":"Anlægskartotek!C203","v":0},{"$f":"+IF((Basisoplysninger!$D$60=\"Ja\")*(Anlægskartotek!C203<>0)=1,Anlægskartotek!$L$14,Anlægskartotek!I203)","v":0}]
[null,193,{"$f":"Anlægskartotek!C204","v":0},{"$f":"+IF((Basisoplysninger!$D$60=\"Ja\")*(Anlægskartotek!C204<>0)=1,Anlægskartotek!$L$14,Anlægskartotek!I204)","v":0}]
[null,194,{"$f":"Anlægskartotek!C205","v":0},{"$f":"+IF((Basisoplysninger!$D$60=\"Ja\")*(Anlægskartotek!C205<>0)=1,Anlægskartotek!$L$14,Anlægskartotek!I205)","v":0}]
[null,{"$f":"B303+1","v":195},{"$f":"Anlægskartotek!C206","v":0},{"$f":"+IF((Basisoplysninger!$D$60=\"Ja\")*(Anlægskartotek!C206<>0)=1,Anlægskartotek!$L$14,Anlægskartotek!I206)","v":0}]
[null,196,{"$f":"Anlægskartotek!C207","v":0},{"$f":"+IF((Basisoplysninger!$D$60=\"Ja\")*(Anlægskartotek!C207<>0)=1,Anlægskartotek!$L$14,Anlægskartotek!I207)","v":0}]
[null,197,{"$f":"Anlægskartotek!C208","v":0},{"$f":"+IF((Basisoplysninger!$D$60=\"Ja\")*(Anlægskartotek!C208<>0)=1,Anlægskartotek!$L$14,Anlægskartotek!I208)","v":0}]
[null,198,{"$f":"Anlægskartotek!C209","v":0},{"$f":"+IF((Basisoplysninger!$D$60=\"Ja\")*(Anlægskartotek!C209<>0)=1,Anlægskartotek!$L$14,Anlægskartotek!I209)","v":0}]
[null,199,{"$f":"Anlægskartotek!C210","v":0},{"$f":"+IF((Basisoplysninger!$D$60=\"Ja\")*(Anlægskartotek!C210<>0)=1,Anlægskartotek!$L$14,Anlægskartotek!I210)","v":0}]
[null,200,{"$f":"Anlægskartotek!C211","v":0},{"$f":"+IF((Basisoplysninger!$D$60=\"Ja\")*(Anlægskartotek!C211<>0)=1,Anlægskartotek!$L$14,Anlægskartotek!I211)","v":0}]
[null,201,{"$f":"Anlægskartotek!C212","v":0},{"$f":"+IF((Basisoplysninger!$D$60=\"Ja\")*(Anlægskartotek!C212<>0)=1,Anlægskartotek!$L$14,Anlægskartotek!I212)","v":0}]
[null,202,{"$f":"Anlægskartotek!C213","v":0},{"$f":"+IF((Basisoplysninger!$D$60=\"Ja\")*(Anlægskartotek!C213<>0)=1,Anlægskartotek!$L$14,Anlægskartotek!I213)","v":0}]
[null,203,{"$f":"Anlægskartotek!C214","v":0},{"$f":"+IF((Basisoplysninger!$D$60=\"Ja\")*(Anlægskartotek!C214<>0)=1,Anlægskartotek!$L$14,Anlægskartotek!I214)","v":0}]
[null,204,{"$f":"Anlægskartotek!C215","v":0},{"$f":"+IF((Basisoplysninger!$D$60=\"Ja\")*(Anlægskartotek!C215<>0)=1,Anlægskartotek!$L$14,Anlægskartotek!I215)","v":0}]
[null,205,{"$f":"Anlægskartotek!C216","v":0},{"$f":"+IF((Basisoplysninger!$D$60=\"Ja\")*(Anlægskartotek!C216<>0)=1,Anlægskartotek!$L$14,Anlægskartotek!I216)","v":0}]
[null,206,{"$f":"Anlægskartotek!C217","v":0},{"$f":"+IF((Basisoplysninger!$D$60=\"Ja\")*(Anlægskartotek!C217<>0)=1,Anlægskartotek!$L$14,Anlægskartotek!I217)","v":0}]
[null,207,{"$f":"Anlægskartotek!C218","v":0},{"$f":"+IF((Basisoplysninger!$D$60=\"Ja\")*(Anlægskartotek!C218<>0)=1,Anlægskartotek!$L$14,Anlægskartotek!I218)","v":0}]
[null,208,{"$f":"Anlægskartotek!C219","v":0},{"$f":"+IF((Basisoplysninger!$D$60=\"Ja\")*(Anlægskartotek!C219<>0)=1,Anlægskartotek!$L$14,Anlægskartotek!I219)","v":0}]
[null,209,{"$f":"Anlægskartotek!C220","v":0},{"$f":"+IF((Basisoplysninger!$D$60=\"Ja\")*(Anlægskartotek!C220<>0)=1,Anlægskartotek!$L$14,Anlægskartotek!I220)","v":0}]
[null,210,{"$f":"Anlægskartotek!C221","v":0},{"$f":"+IF((Basisoplysninger!$D$60=\"Ja\")*(Anlægskartotek!C221<>0)=1,Anlægskartotek!$L$14,Anlægskartotek!I221)","v":0}]
[null,211,{"$f":"Anlægskartotek!C222","v":0},{"$f":"+IF((Basisoplysninger!$D$60=\"Ja\")*(Anlægskartotek!C222<>0)=1,Anlægskartotek!$L$14,Anlægskartotek!I222)","v":0}]
[null,212,{"$f":"Anlægskartotek!C223","v":0},{"$f":"+IF((Basisoplysninger!$D$60=\"Ja\")*(Anlægskartotek!C223<>0)=1,Anlægskartotek!$L$14,Anlægskartotek!I223)","v":0}]
[null,213,{"$f":"Anlægskartotek!C224","v":0},{"$f":"+IF((Basisoplysninger!$D$60=\"Ja\")*(Anlægskartotek!C224<>0)=1,Anlægskartotek!$L$14,Anlægskartotek!I224)","v":0}]
[null,214,{"$f":"Anlægskartotek!C225","v":0},{"$f":"+IF((Basisoplysninger!$D$60=\"Ja\")*(Anlægskartotek!C225<>0)=1,Anlægskartotek!$L$14,Anlægskartotek!I225)","v":0}]
[null,215,{"$f":"Anlægskartotek!C226","v":0},{"$f":"+IF((Basisoplysninger!$D$60=\"Ja\")*(Anlægskartotek!C226<>0)=1,Anlægskartotek!$L$14,Anlægskartotek!I226)","v":0}]
[null,216,{"$f":"Anlægskartotek!C227","v":0},{"$f":"+IF((Basisoplysninger!$D$60=\"Ja\")*(Anlægskartotek!C227<>0)=1,Anlægskartotek!$L$14,Anlægskartotek!I227)","v":0}]
[null,217,{"$f":"Anlægskartotek!C228","v":0},{"$f":"+IF((Basisoplysninger!$D$60=\"Ja\")*(Anlægskartotek!C228<>0)=1,Anlægskartotek!$L$14,Anlægskartotek!I228)","v":0}]
[null,218,{"$f":"Anlægskartotek!C229","v":0},{"$f":"+IF((Basisoplysninger!$D$60=\"Ja\")*(Anlægskartotek!C229<>0)=1,Anlægskartotek!$L$14,Anlægskartotek!I229)","v":0}]
[null,219,{"$f":"Anlægskartotek!C230","v":0},{"$f":"+IF((Basisoplysninger!$D$60=\"Ja\")*(Anlægskartotek!C230<>0)=1,Anlægskartotek!$L$14,Anlægskartotek!I230)","v":0}]
[null,220,{"$f":"Anlægskartotek!C231","v":0},{"$f":"+IF((Basisoplysninger!$D$60=\"Ja\")*(Anlægskartotek!C231<>0)=1,Anlægskartotek!$L$14,Anlægskartotek!I231)","v":0}]
[null,221,{"$f":"Anlægskartotek!C232","v":0},{"$f":"+IF((Basisoplysninger!$D$60=\"Ja\")*(Anlægskartotek!C232<>0)=1,Anlægskartotek!$L$14,Anlægskartotek!I232)","v":0}]
[null,222,{"$f":"Anlægskartotek!C233","v":0},{"$f":"+IF((Basisoplysninger!$D$60=\"Ja\")*(Anlægskartotek!C233<>0)=1,Anlægskartotek!$L$14,Anlægskartotek!I233)","v":0}]
[null,223,{"$f":"Anlægskartotek!C234","v":0},{"$f":"+IF((Basisoplysninger!$D$60=\"Ja\")*(Anlægskartotek!C234<>0)=1,Anlægskartotek!$L$14,Anlægskartotek!I234)","v":0}]
[null,224,{"$f":"Anlægskartotek!C235","v":0},{"$f":"+IF((Basisoplysninger!$D$60=\"Ja\")*(Anlægskartotek!C235<>0)=1,Anlægskartotek!$L$14,Anlægskartotek!I235)","v":0}]
[null,225,{"$f":"Anlægskartotek!C236","v":0},{"$f":"+IF((Basisoplysninger!$D$60=\"Ja\")*(Anlægskartotek!C236<>0)=1,Anlægskartotek!$L$14,Anlægskartotek!I236)","v":0}]
[null,226,{"$f":"Anlægskartotek!C237","v":0},{"$f":"+IF((Basisoplysninger!$D$60=\"Ja\")*(Anlægskartotek!C237<>0)=1,Anlægskartotek!$L$14,Anlægskartotek!I237)","v":0}]
[null,227,{"$f":"Anlægskartotek!C238","v":0},{"$f":"+IF((Basisoplysninger!$D$60=\"Ja\")*(Anlægskartotek!C238<>0)=1,Anlægskartotek!$L$14,Anlægskartotek!I238)","v":0}]
[null,228,{"$f":"Anlægskartotek!C239","v":0},{"$f":"+IF((Basisoplysninger!$D$60=\"Ja\")*(Anlægskartotek!C239<>0)=1,Anlægskartotek!$L$14,Anlægskartotek!I239)","v":0}]
[null,229,{"$f":"Anlægskartotek!C240","v":0},{"$f":"+IF((Basisoplysninger!$D$60=\"Ja\")*(Anlægskartotek!C240<>0)=1,Anlægskartotek!$L$14,Anlægskartotek!I240)","v":0}]
[null,230,{"$f":"Anlægskartotek!C241","v":0},{"$f":"+IF((Basisoplysninger!$D$60=\"Ja\")*(Anlægskartotek!C241<>0)=1,Anlægskartotek!$L$14,Anlægskartotek!I241)","v":0}]
[null,231,{"$f":"Anlægskartotek!C242","v":0},{"$f":"+IF((Basisoplysninger!$D$60=\"Ja\")*(Anlægskartotek!C242<>0)=1,Anlægskartotek!$L$14,Anlægskartotek!I242)","v":0}]
[null,232,{"$f":"Anlægskartotek!C243","v":0},{"$f":"+IF((Basisoplysninger!$D$60=\"Ja\")*(Anlægskartotek!C243<>0)=1,Anlægskartotek!$L$14,Anlægskartotek!I243)","v":0}]
[null,233,{"$f":"Anlægskartotek!C244","v":0},{"$f":"+IF((Basisoplysninger!$D$60=\"Ja\")*(Anlægskartotek!C244<>0)=1,Anlægskartotek!$L$14,Anlægskartotek!I244)","v":0}]
[null,234,{"$f":"Anlægskartotek!C245","v":0},{"$f":"+IF((Basisoplysninger!$D$60=\"Ja\")*(Anlægskartotek!C245<>0)=1,Anlægskartotek!$L$14,Anlægskartotek!I245)","v":0}]
[null,235,{"$f":"Anlægskartotek!C246","v":0},{"$f":"+IF((Basisoplysninger!$D$60=\"Ja\")*(Anlægskartotek!C246<>0)=1,Anlægskartotek!$L$14,Anlægskartotek!I246)","v":0}]
[null,236,{"$f":"Anlægskartotek!C247","v":0},{"$f":"+IF((Basisoplysninger!$D$60=\"Ja\")*(Anlægskartotek!C247<>0)=1,Anlægskartotek!$L$14,Anlægskartotek!I247)","v":0}]
[null,237,{"$f":"Anlægskartotek!C248","v":0},{"$f":"+IF((Basisoplysninger!$D$60=\"Ja\")*(Anlægskartotek!C248<>0)=1,Anlægskartotek!$L$14,Anlægskartotek!I248)","v":0}]
[null,238,{"$f":"Anlægskartotek!C249","v":0},{"$f":"+IF((Basisoplysninger!$D$60=\"Ja\")*(Anlægskartotek!C249<>0)=1,Anlægskartotek!$L$14,Anlægskartotek!I249)","v":0}]
[null,239,{"$f":"Anlægskartotek!C250","v":0},{"$f":"+IF((Basisoplysninger!$D$60=\"Ja\")*(Anlægskartotek!C250<>0)=1,Anlægskartotek!$L$14,Anlægskartotek!I250)","v":0}]
[null,240,{"$f":"Anlægskartotek!C251","v":0},{"$f":"+IF((Basisoplysninger!$D$60=\"Ja\")*(Anlægskartotek!C251<>0)=1,Anlægskartotek!$L$14,Anlægskartotek!I251)","v":0}]
[null,241,{"$f":"Anlægskartotek!C252","v":0},{"$f":"+IF((Basisoplysninger!$D$60=\"Ja\")*(Anlægskartotek!C252<>0)=1,Anlægskartotek!$L$14,Anlægskartotek!I252)","v":0}]
[null,242,{"$f":"Anlægskartotek!C253","v":0},{"$f":"+IF((Basisoplysninger!$D$60=\"Ja\")*(Anlægskartotek!C253<>0)=1,Anlægskartotek!$L$14,Anlægskartotek!I253)","v":0}]
[null,243,{"$f":"Anlægskartotek!C254","v":0},{"$f":"+IF((Basisoplysninger!$D$60=\"Ja\")*(Anlægskartotek!C254<>0)=1,Anlægskartotek!$L$14,Anlægskartotek!I254)","v":0}]
[null,244,{"$f":"Anlægskartotek!C255","v":0},{"$f":"+IF((Basisoplysninger!$D$60=\"Ja\")*(Anlægskartotek!C255<>0)=1,Anlægskartotek!$L$14,Anlægskartotek!I255)","v":0}]
[null,245,{"$f":"Anlægskartotek!C256","v":0},{"$f":"+IF((Basisoplysninger!$D$60=\"Ja\")*(Anlægskartotek!C256<>0)=1,Anlægskartotek!$L$14,Anlægskartotek!I256)","v":0}]
[null,246,{"$f":"Anlægskartotek!C257","v":0},{"$f":"+IF((Basisoplysninger!$D$60=\"Ja\")*(Anlægskartotek!C257<>0)=1,Anlægskartotek!$L$14,Anlægskartotek!I257)","v":0}]
[null,247,{"$f":"Anlægskartotek!C258","v":0},{"$f":"+IF((Basisoplysninger!$D$60=\"Ja\")*(Anlægskartotek!C258<>0)=1,Anlægskartotek!$L$14,Anlægskartotek!I258)","v":0}]
[null,248,{"$f":"Anlægskartotek!C259","v":0},{"$f":"+IF((Basisoplysninger!$D$60=\"Ja\")*(Anlægskartotek!C259<>0)=1,Anlægskartotek!$L$14,Anlægskartotek!I259)","v":0}]
[null,249,{"$f":"Anlægskartotek!C260","v":0},{"$f":"+IF((Basisoplysninger!$D$60=\"Ja\")*(Anlægskartotek!C260<>0)=1,Anlægskartotek!$L$14,Anlægskartotek!I260)","v":0}]
[null,250,{"$f":"Anlægskartotek!C261","v":0},{"$f":"+IF((Basisoplysninger!$D$60=\"Ja\")*(Anlægskartotek!C261<>0)=1,Anlægskartotek!$L$14,Anlægskartotek!I261)","v":0}]
[null,251,{"$f":"Anlægskartotek!C262","v":0},{"$f":"+IF((Basisoplysninger!$D$60=\"Ja\")*(Anlægskartotek!C262<>0)=1,Anlægskartotek!$L$14,Anlægskartotek!I262)","v":0}]
[null,252,{"$f":"Anlægskartotek!C263","v":0},{"$f":"+IF((Basisoplysninger!$D$60=\"Ja\")*(Anlægskartotek!C263<>0)=1,Anlægskartotek!$L$14,Anlægskartotek!I263)","v":0}]
[null,253,{"$f":"Anlægskartotek!C264","v":0},{"$f":"+IF((Basisoplysninger!$D$60=\"Ja\")*(Anlægskartotek!C264<>0)=1,Anlægskartotek!$L$14,Anlægskartotek!I264)","v":0}]
[null,254,{"$f":"Anlægskartotek!C265","v":0},{"$f":"+IF((Basisoplysninger!$D$60=\"Ja\")*(Anlægskartotek!C265<>0)=1,Anlægskartotek!$L$14,Anlægskartotek!I265)","v":0}]
[null,255,{"$f":"Anlægskartotek!C266","v":0},{"$f":"+IF((Basisoplysninger!$D$60=\"Ja\")*(Anlægskartotek!C266<>0)=1,Anlægskartotek!$L$14,Anlægskartotek!I266)","v":0}]
[null,256,{"$f":"Anlægskartotek!C267","v":0},{"$f":"+IF((Basisoplysninger!$D$60=\"Ja\")*(Anlægskartotek!C267<>0)=1,Anlægskartotek!$L$14,Anlægskartotek!I267)","v":0}]
[null,257,{"$f":"Anlægskartotek!C268","v":0},{"$f":"+IF((Basisoplysninger!$D$60=\"Ja\")*(Anlægskartotek!C268<>0)=1,Anlægskartotek!$L$14,Anlægskartotek!I268)","v":0}]
[null,258,{"$f":"Anlægskartotek!C269","v":0},{"$f":"+IF((Basisoplysninger!$D$60=\"Ja\")*(Anlægskartotek!C269<>0)=1,Anlægskartotek!$L$14,Anlægskartotek!I269)","v":0}]
[null,{"$f":"B367+1","v":259},{"$f":"Anlægskartotek!C270","v":0},{"$f":"+IF((Basisoplysninger!$D$60=\"Ja\")*(Anlægskartotek!C270<>0)=1,Anlægskartotek!$L$14,Anlægskartotek!I270)","v":0}]
[null,260,{"$f":"Anlægskartotek!C271","v":0},{"$f":"+IF((Basisoplysninger!$D$60=\"Ja\")*(Anlægskartotek!C271<>0)=1,Anlægskartotek!$L$14,Anlægskartotek!I271)","v":0}]
[null,261,{"$f":"Anlægskartotek!C272","v":0},{"$f":"+IF((Basisoplysninger!$D$60=\"Ja\")*(Anlægskartotek!C272<>0)=1,Anlægskartotek!$L$14,Anlægskartotek!I272)","v":0}]
[null,262,{"$f":"Anlægskartotek!C273","v":0},{"$f":"+IF((Basisoplysninger!$D$60=\"Ja\")*(Anlægskartotek!C273<>0)=1,Anlægskartotek!$L$14,Anlægskartotek!I273)","v":0}]
[null,263,{"$f":"Anlægskartotek!C274","v":0},{"$f":"+IF((Basisoplysninger!$D$60=\"Ja\")*(Anlægskartotek!C274<>0)=1,Anlægskartotek!$L$14,Anlægskartotek!I274)","v":0}]
[null,264,{"$f":"Anlægskartotek!C275","v":0},{"$f":"+IF((Basisoplysninger!$D$60=\"Ja\")*(Anlægskartotek!C275<>0)=1,Anlægskartotek!$L$14,Anlægskartotek!I275)","v":0}]
[null,265,{"$f":"Anlægskartotek!C276","v":0},{"$f":"+IF((Basisoplysninger!$D$60=\"Ja\")*(Anlægskartotek!C276<>0)=1,Anlægskartotek!$L$14,Anlægskartotek!I276)","v":0}]
[null,266,{"$f":"Anlægskartotek!C277","v":0},{"$f":"+IF((Basisoplysninger!$D$60=\"Ja\")*(Anlægskartotek!C277<>0)=1,Anlægskartotek!$L$14,Anlægskartotek!I277)","v":0}]
[null,267,{"$f":"Anlægskartotek!C278","v":0},{"$f":"+IF((Basisoplysninger!$D$60=\"Ja\")*(Anlægskartotek!C278<>0)=1,Anlægskartotek!$L$14,Anlægskartotek!I278)","v":0}]
[null,268,{"$f":"Anlægskartotek!C279","v":0},{"$f":"+IF((Basisoplysninger!$D$60=\"Ja\")*(Anlægskartotek!C279<>0)=1,Anlægskartotek!$L$14,Anlægskartotek!I279)","v":0}]
[null,269,{"$f":"Anlægskartotek!C280","v":0},{"$f":"+IF((Basisoplysninger!$D$60=\"Ja\")*(Anlægskartotek!C280<>0)=1,Anlægskartotek!$L$14,Anlægskartotek!I280)","v":0}]
[null,270,{"$f":"Anlægskartotek!C281","v":0},{"$f":"+IF((Basisoplysninger!$D$60=\"Ja\")*(Anlægskartotek!C281<>0)=1,Anlægskartotek!$L$14,Anlægskartotek!I281)","v":0}]
[null,271,{"$f":"Anlægskartotek!C282","v":0},{"$f":"+IF((Basisoplysninger!$D$60=\"Ja\")*(Anlægskartotek!C282<>0)=1,Anlægskartotek!$L$14,Anlægskartotek!I282)","v":0}]
[null,272,{"$f":"Anlægskartotek!C283","v":0},{"$f":"+IF((Basisoplysninger!$D$60=\"Ja\")*(Anlægskartotek!C283<>0)=1,Anlægskartotek!$L$14,Anlægskartotek!I283)","v":0}]
[null,273,{"$f":"Anlægskartotek!C284","v":0},{"$f":"+IF((Basisoplysninger!$D$60=\"Ja\")*(Anlægskartotek!C284<>0)=1,Anlægskartotek!$L$14,Anlægskartotek!I284)","v":0}]
[null,274,{"$f":"Anlægskartotek!C285","v":0},{"$f":"+IF((Basisoplysninger!$D$60=\"Ja\")*(Anlægskartotek!C285<>0)=1,Anlægskartotek!$L$14,Anlægskartotek!I285)","v":0}]
[null,275,{"$f":"Anlægskartotek!C286","v":0},{"$f":"+IF((Basisoplysninger!$D$60=\"Ja\")*(Anlægskartotek!C286<>0)=1,Anlægskartotek!$L$14,Anlægskartotek!I286)","v":0}]
[null,276,{"$f":"Anlægskartotek!C287","v":0},{"$f":"+IF((Basisoplysninger!$D$60=\"Ja\")*(Anlægskartotek!C287<>0)=1,Anlægskartotek!$L$14,Anlægskartotek!I287)","v":0}]
[null,277,{"$f":"Anlægskartotek!C288","v":0},{"$f":"+IF((Basisoplysninger!$D$60=\"Ja\")*(Anlægskartotek!C288<>0)=1,Anlægskartotek!$L$14,Anlægskartotek!I288)","v":0}]
[null,278,{"$f":"Anlægskartotek!C289","v":0},{"$f":"+IF((Basisoplysninger!$D$60=\"Ja\")*(Anlægskartotek!C289<>0)=1,Anlægskartotek!$L$14,Anlægskartotek!I289)","v":0}]
[null,279,{"$f":"Anlægskartotek!C290","v":0},{"$f":"+IF((Basisoplysninger!$D$60=\"Ja\")*(Anlægskartotek!C290<>0)=1,Anlægskartotek!$L$14,Anlægskartotek!I290)","v":0}]
[null,280,{"$f":"Anlægskartotek!C291","v":0},{"$f":"+IF((Basisoplysninger!$D$60=\"Ja\")*(Anlægskartotek!C291<>0)=1,Anlægskartotek!$L$14,Anlægskartotek!I291)","v":0}]
[null,281,{"$f":"Anlægskartotek!C292","v":0},{"$f":"+IF((Basisoplysninger!$D$60=\"Ja\")*(Anlægskartotek!C292<>0)=1,Anlægskartotek!$L$14,Anlægskartotek!I292)","v":0}]
[null,282,{"$f":"Anlægskartotek!C293","v":0},{"$f":"+IF((Basisoplysninger!$D$60=\"Ja\")*(Anlægskartotek!C293<>0)=1,Anlægskartotek!$L$14,Anlægskartotek!I293)","v":0}]
[null,283,{"$f":"Anlægskartotek!C294","v":0},{"$f":"+IF((Basisoplysninger!$D$60=\"Ja\")*(Anlægskartotek!C294<>0)=1,Anlægskartotek!$L$14,Anlægskartotek!I294)","v":0}]
[null,284,{"$f":"Anlægskartotek!C295","v":0},{"$f":"+IF((Basisoplysninger!$D$60=\"Ja\")*(Anlægskartotek!C295<>0)=1,Anlægskartotek!$L$14,Anlægskartotek!I295)","v":0}]
[null,285,{"$f":"Anlægskartotek!C296","v":0},{"$f":"+IF((Basisoplysninger!$D$60=\"Ja\")*(Anlægskartotek!C296<>0)=1,Anlægskartotek!$L$14,Anlægskartotek!I296)","v":0}]
[null,286,{"$f":"Anlægskartotek!C297","v":0},{"$f":"+IF((Basisoplysninger!$D$60=\"Ja\")*(Anlægskartotek!C297<>0)=1,Anlægskartotek!$L$14,Anlægskartotek!I297)","v":0}]
[null,287,{"$f":"Anlægskartotek!C298","v":0},{"$f":"+IF((Basisoplysninger!$D$60=\"Ja\")*(Anlægskartotek!C298<>0)=1,Anlægskartotek!$L$14,Anlægskartotek!I298)","v":0}]
[null,288,{"$f":"Anlægskartotek!C299","v":0},{"$f":"+IF((Basisoplysninger!$D$60=\"Ja\")*(Anlægskartotek!C299<>0)=1,Anlægskartotek!$L$14,Anlægskartotek!I299)","v":0}]
[null,289,{"$f":"Anlægskartotek!C300","v":0},{"$f":"+IF((Basisoplysninger!$D$60=\"Ja\")*(Anlægskartotek!C300<>0)=1,Anlægskartotek!$L$14,Anlægskartotek!I300)","v":0}]
[null,290,{"$f":"Anlægskartotek!C301","v":0},{"$f":"+IF((Basisoplysninger!$D$60=\"Ja\")*(Anlægskartotek!C301<>0)=1,Anlægskartotek!$L$14,Anlægskartotek!I301)","v":0}]
[null,291,{"$f":"Anlægskartotek!C302","v":0},{"$f":"+IF((Basisoplysninger!$D$60=\"Ja\")*(Anlægskartotek!C302<>0)=1,Anlægskartotek!$L$14,Anlægskartotek!I302)","v":0}]
[null,292,{"$f":"Anlægskartotek!C303","v":0},{"$f":"+IF((Basisoplysninger!$D$60=\"Ja\")*(Anlægskartotek!C303<>0)=1,Anlægskartotek!$L$14,Anlægskartotek!I303)","v":0}]
[null,293,{"$f":"Anlægskartotek!C304","v":0},{"$f":"+IF((Basisoplysninger!$D$60=\"Ja\")*(Anlægskartotek!C304<>0)=1,Anlægskartotek!$L$14,Anlægskartotek!I304)","v":0}]
[null,294,{"$f":"Anlægskartotek!C305","v":0},{"$f":"+IF((Basisoplysninger!$D$60=\"Ja\")*(Anlægskartotek!C305<>0)=1,Anlægskartotek!$L$14,Anlægskartotek!I305)","v":0}]
[null,295,{"$f":"Anlægskartotek!C306","v":0},{"$f":"+IF((Basisoplysninger!$D$60=\"Ja\")*(Anlægskartotek!C306<>0)=1,Anlægskartotek!$L$14,Anlægskartotek!I306)","v":0}]
[null,296,{"$f":"Anlægskartotek!C307","v":0},{"$f":"+IF((Basisoplysninger!$D$60=\"Ja\")*(Anlægskartotek!C307<>0)=1,Anlægskartotek!$L$14,Anlægskartotek!I307)","v":0}]
[null,297,{"$f":"Anlægskartotek!C308","v":0},{"$f":"+IF((Basisoplysninger!$D$60=\"Ja\")*(Anlægskartotek!C308<>0)=1,Anlægskartotek!$L$14,Anlægskartotek!I308)","v":0}]
[null,298,{"$f":"Anlægskartotek!C309","v":0},{"$f":"+IF((Basisoplysninger!$D$60=\"Ja\")*(Anlægskartotek!C309<>0)=1,Anlægskartotek!$L$14,Anlægskartotek!I309)","v":0}]
[null,299,{"$f":"Anlægskartotek!C310","v":0},{"$f":"+IF((Basisoplysninger!$D$60=\"Ja\")*(Anlægskartotek!C310<>0)=1,Anlægskartotek!$L$14,Anlægskartotek!I310)","v":0}]
[null,300,{"$f":"Anlægskartotek!C311","v":0},{"$f":"+IF((Basisoplysninger!$D$60=\"Ja\")*(Anlægskartotek!C311<>0)=1,Anlægskartotek!$L$14,Anlægskartotek!I311)","v":0}]
[null,301,{"$f":"Anlægskartotek!C312","v":0},{"$f":"+IF((Basisoplysninger!$D$60=\"Ja\")*(Anlægskartotek!C312<>0)=1,Anlægskartotek!$L$14,Anlægskartotek!I312)","v":0}]
[null,302,{"$f":"Anlægskartotek!C313","v":0},{"$f":"+IF((Basisoplysninger!$D$60=\"Ja\")*(Anlægskartotek!C313<>0)=1,Anlægskartotek!$L$14,Anlægskartotek!I313)","v":0}]
[null,303,{"$f":"Anlægskartotek!C314","v":0},{"$f":"+IF((Basisoplysninger!$D$60=\"Ja\")*(Anlægskartotek!C314<>0)=1,Anlægskartotek!$L$14,Anlægskartotek!I314)","v":0}]
[null,304,{"$f":"Anlægskartotek!C315","v":0},{"$f":"+IF((Basisoplysninger!$D$60=\"Ja\")*(Anlægskartotek!C315<>0)=1,Anlægskartotek!$L$14,Anlægskartotek!I315)","v":0}]
[null,305,{"$f":"Anlægskartotek!C316","v":0},{"$f":"+IF((Basisoplysninger!$D$60=\"Ja\")*(Anlægskartotek!C316<>0)=1,Anlægskartotek!$L$14,Anlægskartotek!I316)","v":0}]
[null,306,{"$f":"Anlægskartotek!C317","v":0},{"$f":"+IF((Basisoplysninger!$D$60=\"Ja\")*(Anlægskartotek!C317<>0)=1,Anlægskartotek!$L$14,Anlægskartotek!I317)","v":0}]
[null,307,{"$f":"Anlægskartotek!C318","v":0},{"$f":"+IF((Basisoplysninger!$D$60=\"Ja\")*(Anlægskartotek!C318<>0)=1,Anlægskartotek!$L$14,Anlægskartotek!I318)","v":0}]
[null,308,{"$f":"Anlægskartotek!C319","v":0},{"$f":"+IF((Basisoplysninger!$D$60=\"Ja\")*(Anlægskartotek!C319<>0)=1,Anlægskartotek!$L$14,Anlægskartotek!I319)","v":0}]
[null,309,{"$f":"Anlægskartotek!C320","v":0},{"$f":"+IF((Basisoplysninger!$D$60=\"Ja\")*(Anlægskartotek!C320<>0)=1,Anlægskartotek!$L$14,Anlægskartotek!I320)","v":0}]
[null,310,{"$f":"Anlægskartotek!C321","v":0},{"$f":"+IF((Basisoplysninger!$D$60=\"Ja\")*(Anlægskartotek!C321<>0)=1,Anlægskartotek!$L$14,Anlægskartotek!I321)","v":0}]
[null,311,{"$f":"Anlægskartotek!C322","v":0},{"$f":"+IF((Basisoplysninger!$D$60=\"Ja\")*(Anlægskartotek!C322<>0)=1,Anlægskartotek!$L$14,Anlægskartotek!I322)","v":0}]
[null,312,{"$f":"Anlægskartotek!C323","v":0},{"$f":"+IF((Basisoplysninger!$D$60=\"Ja\")*(Anlægskartotek!C323<>0)=1,Anlægskartotek!$L$14,Anlægskartotek!I323)","v":0}]
[null,313,{"$f":"Anlægskartotek!C324","v":0},{"$f":"+IF((Basisoplysninger!$D$60=\"Ja\")*(Anlægskartotek!C324<>0)=1,Anlægskartotek!$L$14,Anlægskartotek!I324)","v":0}]
[null,314,{"$f":"Anlægskartotek!C325","v":0},{"$f":"+IF((Basisoplysninger!$D$60=\"Ja\")*(Anlægskartotek!C325<>0)=1,Anlægskartotek!$L$14,Anlægskartotek!I325)","v":0}]
[null,315,{"$f":"Anlægskartotek!C326","v":0},{"$f":"+IF((Basisoplysninger!$D$60=\"Ja\")*(Anlægskartotek!C326<>0)=1,Anlægskartotek!$L$14,Anlægskartotek!I326)","v":0}]
[null,316,{"$f":"Anlægskartotek!C327","v":0},{"$f":"+IF((Basisoplysninger!$D$60=\"Ja\")*(Anlægskartotek!C327<>0)=1,Anlægskartotek!$L$14,Anlægskartotek!I327)","v":0}]
[null,317,{"$f":"Anlægskartotek!C328","v":0},{"$f":"+IF((Basisoplysninger!$D$60=\"Ja\")*(Anlægskartotek!C328<>0)=1,Anlægskartotek!$L$14,Anlægskartotek!I328)","v":0}]
[null,318,{"$f":"Anlægskartotek!C329","v":0},{"$f":"+IF((Basisoplysninger!$D$60=\"Ja\")*(Anlægskartotek!C329<>0)=1,Anlægskartotek!$L$14,Anlægskartotek!I329)","v":0}]
[null,319,{"$f":"Anlægskartotek!C330","v":0},{"$f":"+IF((Basisoplysninger!$D$60=\"Ja\")*(Anlægskartotek!C330<>0)=1,Anlægskartotek!$L$14,Anlægskartotek!I330)","v":0}]
[null,320,{"$f":"Anlægskartotek!C331","v":0},{"$f":"+IF((Basisoplysninger!$D$60=\"Ja\")*(Anlægskartotek!C331<>0)=1,Anlægskartotek!$L$14,Anlægskartotek!I331)","v":0}]
[null,321,{"$f":"Anlægskartotek!C332","v":0},{"$f":"+IF((Basisoplysninger!$D$60=\"Ja\")*(Anlægskartotek!C332<>0)=1,Anlægskartotek!$L$14,Anlægskartotek!I332)","v":0}]
[null,322,{"$f":"Anlægskartotek!C333","v":0},{"$f":"+IF((Basisoplysninger!$D$60=\"Ja\")*(Anlægskartotek!C333<>0)=1,Anlægskartotek!$L$14,Anlægskartotek!I333)","v":0}]
[null,{"$f":"B431+1","v":323},{"$f":"Anlægskartotek!C334","v":0},{"$f":"+IF((Basisoplysninger!$D$60=\"Ja\")*(Anlægskartotek!C334<>0)=1,Anlægskartotek!$L$14,Anlægskartotek!I334)","v":0}]
[null,324,{"$f":"Anlægskartotek!C335","v":0},{"$f":"+IF((Basisoplysninger!$D$60=\"Ja\")*(Anlægskartotek!C335<>0)=1,Anlægskartotek!$L$14,Anlægskartotek!I335)","v":0}]
[null,325,{"$f":"Anlægskartotek!C336","v":0},{"$f":"+IF((Basisoplysninger!$D$60=\"Ja\")*(Anlægskartotek!C336<>0)=1,Anlægskartotek!$L$14,Anlægskartotek!I336)","v":0}]
[null,326,{"$f":"Anlægskartotek!C337","v":0},{"$f":"+IF((Basisoplysninger!$D$60=\"Ja\")*(Anlægskartotek!C337<>0)=1,Anlægskartotek!$L$14,Anlægskartotek!I337)","v":0}]
[null,327,{"$f":"Anlægskartotek!C338","v":0},{"$f":"+IF((Basisoplysninger!$D$60=\"Ja\")*(Anlægskartotek!C338<>0)=1,Anlægskartotek!$L$14,Anlægskartotek!I338)","v":0}]
[null,328,{"$f":"Anlægskartotek!C339","v":0},{"$f":"+IF((Basisoplysninger!$D$60=\"Ja\")*(Anlægskartotek!C339<>0)=1,Anlægskartotek!$L$14,Anlægskartotek!I339)","v":0}]
[null,329,{"$f":"Anlægskartotek!C340","v":0},{"$f":"+IF((Basisoplysninger!$D$60=\"Ja\")*(Anlægskartotek!C340<>0)=1,Anlægskartotek!$L$14,Anlægskartotek!I340)","v":0}]
[null,330,{"$f":"Anlægskartotek!C341","v":0},{"$f":"+IF((Basisoplysninger!$D$60=\"Ja\")*(Anlægskartotek!C341<>0)=1,Anlægskartotek!$L$14,Anlægskartotek!I341)","v":0}]
[null,331,{"$f":"Anlægskartotek!C342","v":0},{"$f":"+IF((Basisoplysninger!$D$60=\"Ja\")*(Anlægskartotek!C342<>0)=1,Anlægskartotek!$L$14,Anlægskartotek!I342)","v":0}]
[null,332,{"$f":"Anlægskartotek!C343","v":0},{"$f":"+IF((Basisoplysninger!$D$60=\"Ja\")*(Anlægskartotek!C343<>0)=1,Anlægskartotek!$L$14,Anlægskartotek!I343)","v":0}]
[null,333,{"$f":"Anlægskartotek!C344","v":0},{"$f":"+IF((Basisoplysninger!$D$60=\"Ja\")*(Anlægskartotek!C344<>0)=1,Anlægskartotek!$L$14,Anlægskartotek!I344)","v":0}]
[null,334,{"$f":"Anlægskartotek!C345","v":0},{"$f":"+IF((Basisoplysninger!$D$60=\"Ja\")*(Anlægskartotek!C345<>0)=1,Anlægskartotek!$L$14,Anlægskartotek!I345)","v":0}]
[null,335,{"$f":"Anlægskartotek!C346","v":0},{"$f":"+IF((Basisoplysninger!$D$60=\"Ja\")*(Anlægskartotek!C346<>0)=1,Anlægskartotek!$L$14,Anlægskartotek!I346)","v":0}]
[null,336,{"$f":"Anlægskartotek!C347","v":0},{"$f":"+IF((Basisoplysninger!$D$60=\"Ja\")*(Anlægskartotek!C347<>0)=1,Anlægskartotek!$L$14,Anlægskartotek!I347)","v":0}]
[null,337,{"$f":"Anlægskartotek!C348","v":0},{"$f":"+IF((Basisoplysninger!$D$60=\"Ja\")*(Anlægskartotek!C348<>0)=1,Anlægskartotek!$L$14,Anlægskartotek!I348)","v":0}]
[null,338,{"$f":"Anlægskartotek!C349","v":0},{"$f":"+IF((Basisoplysninger!$D$60=\"Ja\")*(Anlægskartotek!C349<>0)=1,Anlægskartotek!$L$14,Anlægskartotek!I349)","v":0}]
[null,339,{"$f":"Anlægskartotek!C350","v":0},{"$f":"+IF((Basisoplysninger!$D$60=\"Ja\")*(Anlægskartotek!C350<>0)=1,Anlægskartotek!$L$14,Anlægskartotek!I350)","v":0}]
[null,340,{"$f":"Anlægskartotek!C351","v":0},{"$f":"+IF((Basisoplysninger!$D$60=\"Ja\")*(Anlægskartotek!C351<>0)=1,Anlægskartotek!$L$14,Anlægskartotek!I351)","v":0}]
[null,341,{"$f":"Anlægskartotek!C352","v":0},{"$f":"+IF((Basisoplysninger!$D$60=\"Ja\")*(Anlægskartotek!C352<>0)=1,Anlægskartotek!$L$14,Anlægskartotek!I352)","v":0}]
[null,342,{"$f":"Anlægskartotek!C353","v":0},{"$f":"+IF((Basisoplysninger!$D$60=\"Ja\")*(Anlægskartotek!C353<>0)=1,Anlægskartotek!$L$14,Anlægskartotek!I353)","v":0}]
[null,343,{"$f":"Anlægskartotek!C354","v":0},{"$f":"+IF((Basisoplysninger!$D$60=\"Ja\")*(Anlægskartotek!C354<>0)=1,Anlægskartotek!$L$14,Anlægskartotek!I354)","v":0}]
[null,344,{"$f":"Anlægskartotek!C355","v":0},{"$f":"+IF((Basisoplysninger!$D$60=\"Ja\")*(Anlægskartotek!C355<>0)=1,Anlægskartotek!$L$14,Anlægskartotek!I355)","v":0}]
[null,345,{"$f":"Anlægskartotek!C356","v":0},{"$f":"+IF((Basisoplysninger!$D$60=\"Ja\")*(Anlægskartotek!C356<>0)=1,Anlægskartotek!$L$14,Anlægskartotek!I356)","v":0}]
[null,346,{"$f":"Anlægskartotek!C357","v":0},{"$f":"+IF((Basisoplysninger!$D$60=\"Ja\")*(Anlægskartotek!C357<>0)=1,Anlægskartotek!$L$14,Anlægskartotek!I357)","v":0}]
[null,347,{"$f":"Anlægskartotek!C358","v":0},{"$f":"+IF((Basisoplysninger!$D$60=\"Ja\")*(Anlægskartotek!C358<>0)=1,Anlægskartotek!$L$14,Anlægskartotek!I358)","v":0}]
[null,348,{"$f":"Anlægskartotek!C359","v":0},{"$f":"+IF((Basisoplysninger!$D$60=\"Ja\")*(Anlægskartotek!C359<>0)=1,Anlægskartotek!$L$14,Anlægskartotek!I359)","v":0}]
[null,349,{"$f":"Anlægskartotek!C360","v":0},{"$f":"+IF((Basisoplysninger!$D$60=\"Ja\")*(Anlægskartotek!C360<>0)=1,Anlægskartotek!$L$14,Anlægskartotek!I360)","v":0}]
[null,350,{"$f":"Anlægskartotek!C361","v":0},{"$f":"+IF((Basisoplysninger!$D$60=\"Ja\")*(Anlægskartotek!C361<>0)=1,Anlægskartotek!$L$14,Anlægskartotek!I361)","v":0}]
[null,351,{"$f":"Anlægskartotek!C362","v":0},{"$f":"+IF((Basisoplysninger!$D$60=\"Ja\")*(Anlægskartotek!C362<>0)=1,Anlægskartotek!$L$14,Anlægskartotek!I362)","v":0}]
[null,352,{"$f":"Anlægskartotek!C363","v":0},{"$f":"+IF((Basisoplysninger!$D$60=\"Ja\")*(Anlægskartotek!C363<>0)=1,Anlægskartotek!$L$14,Anlægskartotek!I363)","v":0}]
[null,353,{"$f":"Anlægskartotek!C364","v":0},{"$f":"+IF((Basisoplysninger!$D$60=\"Ja\")*(Anlægskartotek!C364<>0)=1,Anlægskartotek!$L$14,Anlægskartotek!I364)","v":0}]
[null,354,{"$f":"Anlægskartotek!C365","v":0},{"$f":"+IF((Basisoplysninger!$D$60=\"Ja\")*(Anlægskartotek!C365<>0)=1,Anlægskartotek!$L$14,Anlægskartotek!I365)","v":0}]
[null,355,{"$f":"Anlægskartotek!C366","v":0},{"$f":"+IF((Basisoplysninger!$D$60=\"Ja\")*(Anlægskartotek!C366<>0)=1,Anlægskartotek!$L$14,Anlægskartotek!I366)","v":0}]
[null,356,{"$f":"Anlægskartotek!C367","v":0},{"$f":"+IF((Basisoplysninger!$D$60=\"Ja\")*(Anlægskartotek!C367<>0)=1,Anlægskartotek!$L$14,Anlægskartotek!I367)","v":0}]
[null,357,{"$f":"Anlægskartotek!C368","v":0},{"$f":"+IF((Basisoplysninger!$D$60=\"Ja\")*(Anlægskartotek!C368<>0)=1,Anlægskartotek!$L$14,Anlægskartotek!I368)","v":0}]
[null,358,{"$f":"Anlægskartotek!C369","v":0},{"$f":"+IF((Basisoplysninger!$D$60=\"Ja\")*(Anlægskartotek!C369<>0)=1,Anlægskartotek!$L$14,Anlægskartotek!I369)","v":0}]
[null,359,{"$f":"Anlægskartotek!C370","v":0},{"$f":"+IF((Basisoplysninger!$D$60=\"Ja\")*(Anlægskartotek!C370<>0)=1,Anlægskartotek!$L$14,Anlægskartotek!I370)","v":0}]
[null,360,{"$f":"Anlægskartotek!C371","v":0},{"$f":"+IF((Basisoplysninger!$D$60=\"Ja\")*(Anlægskartotek!C371<>0)=1,Anlægskartotek!$L$14,Anlægskartotek!I371)","v":0}]
[null,361,{"$f":"Anlægskartotek!C372","v":0},{"$f":"+IF((Basisoplysninger!$D$60=\"Ja\")*(Anlægskartotek!C372<>0)=1,Anlægskartotek!$L$14,Anlægskartotek!I372)","v":0}]
[null,362,{"$f":"Anlægskartotek!C373","v":0},{"$f":"+IF((Basisoplysninger!$D$60=\"Ja\")*(Anlægskartotek!C373<>0)=1,Anlægskartotek!$L$14,Anlægskartotek!I373)","v":0}]
[null,363,{"$f":"Anlægskartotek!C374","v":0},{"$f":"+IF((Basisoplysninger!$D$60=\"Ja\")*(Anlægskartotek!C374<>0)=1,Anlægskartotek!$L$14,Anlægskartotek!I374)","v":0}]
[null,364,{"$f":"Anlægskartotek!C375","v":0},{"$f":"+IF((Basisoplysninger!$D$60=\"Ja\")*(Anlægskartotek!C375<>0)=1,Anlægskartotek!$L$14,Anlægskartotek!I375)","v":0}]
[null,365,{"$f":"Anlægskartotek!C376","v":0},{"$f":"+IF((Basisoplysninger!$D$60=\"Ja\")*(Anlægskartotek!C376<>0)=1,Anlægskartotek!$L$14,Anlægskartotek!I376)","v":0}]
[null,366,{"$f":"Anlægskartotek!C377","v":0},{"$f":"+IF((Basisoplysninger!$D$60=\"Ja\")*(Anlægskartotek!C377<>0)=1,Anlægskartotek!$L$14,Anlægskartotek!I377)","v":0}]
[null,367,{"$f":"Anlægskartotek!C378","v":0},{"$f":"+IF((Basisoplysninger!$D$60=\"Ja\")*(Anlægskartotek!C378<>0)=1,Anlægskartotek!$L$14,Anlægskartotek!I378)","v":0}]
[null,368,{"$f":"Anlægskartotek!C379","v":0},{"$f":"+IF((Basisoplysninger!$D$60=\"Ja\")*(Anlægskartotek!C379<>0)=1,Anlægskartotek!$L$14,Anlægskartotek!I379)","v":0}]
[null,369,{"$f":"Anlægskartotek!C380","v":0},{"$f":"+IF((Basisoplysninger!$D$60=\"Ja\")*(Anlægskartotek!C380<>0)=1,Anlægskartotek!$L$14,Anlægskartotek!I380)","v":0}]
[null,370,{"$f":"Anlægskartotek!C381","v":0},{"$f":"+IF((Basisoplysninger!$D$60=\"Ja\")*(Anlægskartotek!C381<>0)=1,Anlægskartotek!$L$14,Anlægskartotek!I381)","v":0}]
[null,371,{"$f":"Anlægskartotek!C382","v":0},{"$f":"+IF((Basisoplysninger!$D$60=\"Ja\")*(Anlægskartotek!C382<>0)=1,Anlægskartotek!$L$14,Anlægskartotek!I382)","v":0}]
[null,372,{"$f":"Anlægskartotek!C383","v":0},{"$f":"+IF((Basisoplysninger!$D$60=\"Ja\")*(Anlægskartotek!C383<>0)=1,Anlægskartotek!$L$14,Anlægskartotek!I383)","v":0}]
[null,373,{"$f":"Anlægskartotek!C384","v":0},{"$f":"+IF((Basisoplysninger!$D$60=\"Ja\")*(Anlægskartotek!C384<>0)=1,Anlægskartotek!$L$14,Anlægskartotek!I384)","v":0}]
[null,374,{"$f":"Anlægskartotek!C385","v":0},{"$f":"+IF((Basisoplysninger!$D$60=\"Ja\")*(Anlægskartotek!C385<>0)=1,Anlægskartotek!$L$14,Anlægskartotek!I385)","v":0}]
[null,375,{"$f":"Anlægskartotek!C386","v":0},{"$f":"+IF((Basisoplysninger!$D$60=\"Ja\")*(Anlægskartotek!C386<>0)=1,Anlægskartotek!$L$14,Anlægskartotek!I386)","v":0}]
[null,376,{"$f":"Anlægskartotek!C387","v":0},{"$f":"+IF((Basisoplysninger!$D$60=\"Ja\")*(Anlægskartotek!C387<>0)=1,Anlægskartotek!$L$14,Anlægskartotek!I387)","v":0}]
[null,377,{"$f":"Anlægskartotek!C388","v":0},{"$f":"+IF((Basisoplysninger!$D$60=\"Ja\")*(Anlægskartotek!C388<>0)=1,Anlægskartotek!$L$14,Anlægskartotek!I388)","v":0}]
[null,378,{"$f":"Anlægskartotek!C389","v":0},{"$f":"+IF((Basisoplysninger!$D$60=\"Ja\")*(Anlægskartotek!C389<>0)=1,Anlægskartotek!$L$14,Anlægskartotek!I389)","v":0}]
[null,379,{"$f":"Anlægskartotek!C390","v":0},{"$f":"+IF((Basisoplysninger!$D$60=\"Ja\")*(Anlægskartotek!C390<>0)=1,Anlægskartotek!$L$14,Anlægskartotek!I390)","v":0}]
[null,380,{"$f":"Anlægskartotek!C391","v":0},{"$f":"+IF((Basisoplysninger!$D$60=\"Ja\")*(Anlægskartotek!C391<>0)=1,Anlægskartotek!$L$14,Anlægskartotek!I391)","v":0}]
[null,381,{"$f":"Anlægskartotek!C392","v":0},{"$f":"+IF((Basisoplysninger!$D$60=\"Ja\")*(Anlægskartotek!C392<>0)=1,Anlægskartotek!$L$14,Anlægskartotek!I392)","v":0}]
[null,382,{"$f":"Anlægskartotek!C393","v":0},{"$f":"+IF((Basisoplysninger!$D$60=\"Ja\")*(Anlægskartotek!C393<>0)=1,Anlægskartotek!$L$14,Anlægskartotek!I393)","v":0}]
[null,383,{"$f":"Anlægskartotek!C394","v":0},{"$f":"+IF((Basisoplysninger!$D$60=\"Ja\")*(Anlægskartotek!C394<>0)=1,Anlægskartotek!$L$14,Anlægskartotek!I394)","v":0}]
[null,384,{"$f":"Anlægskartotek!C395","v":0},{"$f":"+IF((Basisoplysninger!$D$60=\"Ja\")*(Anlægskartotek!C395<>0)=1,Anlægskartotek!$L$14,Anlægskartotek!I395)","v":0}]
[null,385,{"$f":"Anlægskartotek!C396","v":0},{"$f":"+IF((Basisoplysninger!$D$60=\"Ja\")*(Anlægskartotek!C396<>0)=1,Anlægskartotek!$L$14,Anlægskartotek!I396)","v":0}]
[null,386,{"$f":"Anlægskartotek!C397","v":0},{"$f":"+IF((Basisoplysninger!$D$60=\"Ja\")*(Anlægskartotek!C397<>0)=1,Anlægskartotek!$L$14,Anlægskartotek!I397)","v":0}]
[null,{"$f":"B495+1","v":387},{"$f":"Anlægskartotek!C398","v":0},{"$f":"+IF((Basisoplysninger!$D$60=\"Ja\")*(Anlægskartotek!C398<>0)=1,Anlægskartotek!$L$14,Anlægskartotek!I398)","v":0}]
[null,388,{"$f":"Anlægskartotek!C399","v":0},{"$f":"+IF((Basisoplysninger!$D$60=\"Ja\")*(Anlægskartotek!C399<>0)=1,Anlægskartotek!$L$14,Anlægskartotek!I399)","v":0}]
[null,389,{"$f":"Anlægskartotek!C400","v":0},{"$f":"+IF((Basisoplysninger!$D$60=\"Ja\")*(Anlægskartotek!C400<>0)=1,Anlægskartotek!$L$14,Anlægskartotek!I400)","v":0}]
[null,390,{"$f":"Anlægskartotek!C401","v":0},{"$f":"+IF((Basisoplysninger!$D$60=\"Ja\")*(Anlægskartotek!C401<>0)=1,Anlægskartotek!$L$14,Anlægskartotek!I401)","v":0}]
[null,391,{"$f":"Anlægskartotek!C402","v":0},{"$f":"+IF((Basisoplysninger!$D$60=\"Ja\")*(Anlægskartotek!C402<>0)=1,Anlægskartotek!$L$14,Anlægskartotek!I402)","v":0}]
[null,392,{"$f":"Anlægskartotek!C403","v":0},{"$f":"+IF((Basisoplysninger!$D$60=\"Ja\")*(Anlægskartotek!C403<>0)=1,Anlægskartotek!$L$14,Anlægskartotek!I403)","v":0}]
[null,393,{"$f":"Anlægskartotek!C404","v":0},{"$f":"+IF((Basisoplysninger!$D$60=\"Ja\")*(Anlægskartotek!C404<>0)=1,Anlægskartotek!$L$14,Anlægskartotek!I404)","v":0}]
[null,394,{"$f":"Anlægskartotek!C405","v":0},{"$f":"+IF((Basisoplysninger!$D$60=\"Ja\")*(Anlægskartotek!C405<>0)=1,Anlægskartotek!$L$14,Anlægskartotek!I405)","v":0}]
[null,395,{"$f":"Anlægskartotek!C406","v":0},{"$f":"+IF((Basisoplysninger!$D$60=\"Ja\")*(Anlægskartotek!C406<>0)=1,Anlægskartotek!$L$14,Anlægskartotek!I406)","v":0}]
[null,396,{"$f":"Anlægskartotek!C407","v":0},{"$f":"+IF((Basisoplysninger!$D$60=\"Ja\")*(Anlægskartotek!C407<>0)=1,Anlægskartotek!$L$14,Anlægskartotek!I407)","v":0}]
[null,397,{"$f":"Anlægskartotek!C408","v":0},{"$f":"+IF((Basisoplysninger!$D$60=\"Ja\")*(Anlægskartotek!C408<>0)=1,Anlægskartotek!$L$14,Anlægskartotek!I408)","v":0}]
[null,398,{"$f":"Anlægskartotek!C409","v":0},{"$f":"+IF((Basisoplysninger!$D$60=\"Ja\")*(Anlægskartotek!C409<>0)=1,Anlægskartotek!$L$14,Anlægskartotek!I409)","v":0}]
[null,399,{"$f":"Anlægskartotek!C410","v":0},{"$f":"+IF((Basisoplysninger!$D$60=\"Ja\")*(Anlægskartotek!C410<>0)=1,Anlægskartotek!$L$14,Anlægskartotek!I410)","v":0}]
[null,400,{"$f":"Anlægskartotek!C411","v":0},{"$f":"+IF((Basisoplysninger!$D$60=\"Ja\")*(Anlægskartotek!C411<>0)=1,Anlægskartotek!$L$14,Anlægskartotek!I411)","v":0}]
[null,401,{"$f":"Anlægskartotek!C412","v":0},{"$f":"+IF((Basisoplysninger!$D$60=\"Ja\")*(Anlægskartotek!C412<>0)=1,Anlægskartotek!$L$14,Anlægskartotek!I412)","v":0}]
[null,402,{"$f":"Anlægskartotek!C413","v":0},{"$f":"+IF((Basisoplysninger!$D$60=\"Ja\")*(Anlægskartotek!C413<>0)=1,Anlægskartotek!$L$14,Anlægskartotek!I413)","v":0}]
[null,403,{"$f":"Anlægskartotek!C414","v":0},{"$f":"+IF((Basisoplysninger!$D$60=\"Ja\")*(Anlægskartotek!C414<>0)=1,Anlægskartotek!$L$14,Anlægskartotek!I414)","v":0}]
[null,404,{"$f":"Anlægskartotek!C415","v":0},{"$f":"+IF((Basisoplysninger!$D$60=\"Ja\")*(Anlægskartotek!C415<>0)=1,Anlægskartotek!$L$14,Anlægskartotek!I415)","v":0}]
[null,405,{"$f":"Anlægskartotek!C416","v":0},{"$f":"+IF((Basisoplysninger!$D$60=\"Ja\")*(Anlægskartotek!C416<>0)=1,Anlægskartotek!$L$14,Anlægskartotek!I416)","v":0}]
[null,406,{"$f":"Anlægskartotek!C417","v":0},{"$f":"+IF((Basisoplysninger!$D$60=\"Ja\")*(Anlægskartotek!C417<>0)=1,Anlægskartotek!$L$14,Anlægskartotek!I417)","v":0}]
[null,407,{"$f":"Anlægskartotek!C418","v":0},{"$f":"+IF((Basisoplysninger!$D$60=\"Ja\")*(Anlægskartotek!C418<>0)=1,Anlægskartotek!$L$14,Anlægskartotek!I418)","v":0}]
[null,408,{"$f":"Anlægskartotek!C419","v":0},{"$f":"+IF((Basisoplysninger!$D$60=\"Ja\")*(Anlægskartotek!C419<>0)=1,Anlægskartotek!$L$14,Anlægskartotek!I419)","v":0}]
[null,409,{"$f":"Anlægskartotek!C420","v":0},{"$f":"+IF((Basisoplysninger!$D$60=\"Ja\")*(Anlægskartotek!C420<>0)=1,Anlægskartotek!$L$14,Anlægskartotek!I420)","v":0}]
[null,410,{"$f":"Anlægskartotek!C421","v":0},{"$f":"+IF((Basisoplysninger!$D$60=\"Ja\")*(Anlægskartotek!C421<>0)=1,Anlægskartotek!$L$14,Anlægskartotek!I421)","v":0}]
[null,411,{"$f":"Anlægskartotek!C422","v":0},{"$f":"+IF((Basisoplysninger!$D$60=\"Ja\")*(Anlægskartotek!C422<>0)=1,Anlægskartotek!$L$14,Anlægskartotek!I422)","v":0}]
[null,412,{"$f":"Anlægskartotek!C423","v":0},{"$f":"+IF((Basisoplysninger!$D$60=\"Ja\")*(Anlægskartotek!C423<>0)=1,Anlægskartotek!$L$14,Anlægskartotek!I423)","v":0}]
[null,413,{"$f":"Anlægskartotek!C424","v":0},{"$f":"+IF((Basisoplysninger!$D$60=\"Ja\")*(Anlægskartotek!C424<>0)=1,Anlægskartotek!$L$14,Anlægskartotek!I424)","v":0}]
[null,414,{"$f":"Anlægskartotek!C425","v":0},{"$f":"+IF((Basisoplysninger!$D$60=\"Ja\")*(Anlægskartotek!C425<>0)=1,Anlægskartotek!$L$14,Anlægskartotek!I425)","v":0}]
[null,415,{"$f":"Anlægskartotek!C426","v":0},{"$f":"+IF((Basisoplysninger!$D$60=\"Ja\")*(Anlægskartotek!C426<>0)=1,Anlægskartotek!$L$14,Anlægskartotek!I426)","v":0}]
[null,416,{"$f":"Anlægskartotek!C427","v":0},{"$f":"+IF((Basisoplysninger!$D$60=\"Ja\")*(Anlægskartotek!C427<>0)=1,Anlægskartotek!$L$14,Anlægskartotek!I427)","v":0}]
[null,417,{"$f":"Anlægskartotek!C428","v":0},{"$f":"+IF((Basisoplysninger!$D$60=\"Ja\")*(Anlægskartotek!C428<>0)=1,Anlægskartotek!$L$14,Anlægskartotek!I428)","v":0}]
[null,418,{"$f":"Anlægskartotek!C429","v":0},{"$f":"+IF((Basisoplysninger!$D$60=\"Ja\")*(Anlægskartotek!C429<>0)=1,Anlægskartotek!$L$14,Anlægskartotek!I429)","v":0}]
[null,419,{"$f":"Anlægskartotek!C430","v":0},{"$f":"+IF((Basisoplysninger!$D$60=\"Ja\")*(Anlægskartotek!C430<>0)=1,Anlægskartotek!$L$14,Anlægskartotek!I430)","v":0}]
[null,420,{"$f":"Anlægskartotek!C431","v":0},{"$f":"+IF((Basisoplysninger!$D$60=\"Ja\")*(Anlægskartotek!C431<>0)=1,Anlægskartotek!$L$14,Anlægskartotek!I431)","v":0}]
[null,421,{"$f":"Anlægskartotek!C432","v":0},{"$f":"+IF((Basisoplysninger!$D$60=\"Ja\")*(Anlægskartotek!C432<>0)=1,Anlægskartotek!$L$14,Anlægskartotek!I432)","v":0}]
[null,422,{"$f":"Anlægskartotek!C433","v":0},{"$f":"+IF((Basisoplysninger!$D$60=\"Ja\")*(Anlægskartotek!C433<>0)=1,Anlægskartotek!$L$14,Anlægskartotek!I433)","v":0}]
[null,423,{"$f":"Anlægskartotek!C434","v":0},{"$f":"+IF((Basisoplysninger!$D$60=\"Ja\")*(Anlægskartotek!C434<>0)=1,Anlægskartotek!$L$14,Anlægskartotek!I434)","v":0}]
[null,424,{"$f":"Anlægskartotek!C435","v":0},{"$f":"+IF((Basisoplysninger!$D$60=\"Ja\")*(Anlægskartotek!C435<>0)=1,Anlægskartotek!$L$14,Anlægskartotek!I435)","v":0}]
[null,425,{"$f":"Anlægskartotek!C436","v":0},{"$f":"+IF((Basisoplysninger!$D$60=\"Ja\")*(Anlægskartotek!C436<>0)=1,Anlægskartotek!$L$14,Anlægskartotek!I436)","v":0}]
[null,426,{"$f":"Anlægskartotek!C437","v":0},{"$f":"+IF((Basisoplysninger!$D$60=\"Ja\")*(Anlægskartotek!C437<>0)=1,Anlægskartotek!$L$14,Anlægskartotek!I437)","v":0}]
[null,427,{"$f":"Anlægskartotek!C438","v":0},{"$f":"+IF((Basisoplysninger!$D$60=\"Ja\")*(Anlægskartotek!C438<>0)=1,Anlægskartotek!$L$14,Anlægskartotek!I438)","v":0}]
[null,428,{"$f":"Anlægskartotek!C439","v":0},{"$f":"+IF((Basisoplysninger!$D$60=\"Ja\")*(Anlægskartotek!C439<>0)=1,Anlægskartotek!$L$14,Anlægskartotek!I439)","v":0}]
[null,429,{"$f":"Anlægskartotek!C440","v":0},{"$f":"+IF((Basisoplysninger!$D$60=\"Ja\")*(Anlægskartotek!C440<>0)=1,Anlægskartotek!$L$14,Anlægskartotek!I440)","v":0}]
[null,430,{"$f":"Anlægskartotek!C441","v":0},{"$f":"+IF((Basisoplysninger!$D$60=\"Ja\")*(Anlægskartotek!C441<>0)=1,Anlægskartotek!$L$14,Anlægskartotek!I441)","v":0}]
[null,431,{"$f":"Anlægskartotek!C442","v":0},{"$f":"+IF((Basisoplysninger!$D$60=\"Ja\")*(Anlægskartotek!C442<>0)=1,Anlægskartotek!$L$14,Anlægskartotek!I442)","v":0}]
[null,432,{"$f":"Anlægskartotek!C443","v":0},{"$f":"+IF((Basisoplysninger!$D$60=\"Ja\")*(Anlægskartotek!C443<>0)=1,Anlægskartotek!$L$14,Anlægskartotek!I443)","v":0}]
[null,433,{"$f":"Anlægskartotek!C444","v":0},{"$f":"+IF((Basisoplysninger!$D$60=\"Ja\")*(Anlægskartotek!C444<>0)=1,Anlægskartotek!$L$14,Anlægskartotek!I444)","v":0}]
[null,434,{"$f":"Anlægskartotek!C445","v":0},{"$f":"+IF((Basisoplysninger!$D$60=\"Ja\")*(Anlægskartotek!C445<>0)=1,Anlægskartotek!$L$14,Anlægskartotek!I445)","v":0}]
[null,435,{"$f":"Anlægskartotek!C446","v":0},{"$f":"+IF((Basisoplysninger!$D$60=\"Ja\")*(Anlægskartotek!C446<>0)=1,Anlægskartotek!$L$14,Anlægskartotek!I446)","v":0}]
[null,436,{"$f":"Anlægskartotek!C447","v":0},{"$f":"+IF((Basisoplysninger!$D$60=\"Ja\")*(Anlægskartotek!C447<>0)=1,Anlægskartotek!$L$14,Anlægskartotek!I447)","v":0}]
[null,437,{"$f":"Anlægskartotek!C448","v":0},{"$f":"+IF((Basisoplysninger!$D$60=\"Ja\")*(Anlægskartotek!C448<>0)=1,Anlægskartotek!$L$14,Anlægskartotek!I448)","v":0}]
[null,438,{"$f":"Anlægskartotek!C449","v":0},{"$f":"+IF((Basisoplysninger!$D$60=\"Ja\")*(Anlægskartotek!C449<>0)=1,Anlægskartotek!$L$14,Anlægskartotek!I449)","v":0}]
[null,439,{"$f":"Anlægskartotek!C450","v":0},{"$f":"+IF((Basisoplysninger!$D$60=\"Ja\")*(Anlægskartotek!C450<>0)=1,Anlægskartotek!$L$14,Anlægskartotek!I450)","v":0}]
[null,440,{"$f":"Anlægskartotek!C451","v":0},{"$f":"+IF((Basisoplysninger!$D$60=\"Ja\")*(Anlægskartotek!C451<>0)=1,Anlægskartotek!$L$14,Anlægskartotek!I451)","v":0}]
[null,441,{"$f":"Anlægskartotek!C452","v":0},{"$f":"+IF((Basisoplysninger!$D$60=\"Ja\")*(Anlægskartotek!C452<>0)=1,Anlægskartotek!$L$14,Anlægskartotek!I452)","v":0}]
[null,442,{"$f":"Anlægskartotek!C453","v":0},{"$f":"+IF((Basisoplysninger!$D$60=\"Ja\")*(Anlægskartotek!C453<>0)=1,Anlægskartotek!$L$14,Anlægskartotek!I453)","v":0}]
[null,443,{"$f":"Anlægskartotek!C454","v":0},{"$f":"+IF((Basisoplysninger!$D$60=\"Ja\")*(Anlægskartotek!C454<>0)=1,Anlægskartotek!$L$14,Anlægskartotek!I454)","v":0}]
[null,444,{"$f":"Anlægskartotek!C455","v":0},{"$f":"+IF((Basisoplysninger!$D$60=\"Ja\")*(Anlægskartotek!C455<>0)=1,Anlægskartotek!$L$14,Anlægskartotek!I455)","v":0}]
[null,445,{"$f":"Anlægskartotek!C456","v":0},{"$f":"+IF((Basisoplysninger!$D$60=\"Ja\")*(Anlægskartotek!C456<>0)=1,Anlægskartotek!$L$14,Anlægskartotek!I456)","v":0}]
[null,446,{"$f":"Anlægskartotek!C457","v":0},{"$f":"+IF((Basisoplysninger!$D$60=\"Ja\")*(Anlægskartotek!C457<>0)=1,Anlægskartotek!$L$14,Anlægskartotek!I457)","v":0}]
[null,447,{"$f":"Anlægskartotek!C458","v":0},{"$f":"+IF((Basisoplysninger!$D$60=\"Ja\")*(Anlægskartotek!C458<>0)=1,Anlægskartotek!$L$14,Anlægskartotek!I458)","v":0}]
[null,448,{"$f":"Anlægskartotek!C459","v":0},{"$f":"+IF((Basisoplysninger!$D$60=\"Ja\")*(Anlægskartotek!C459<>0)=1,Anlægskartotek!$L$14,Anlægskartotek!I459)","v":0}]
[null,449,{"$f":"Anlægskartotek!C460","v":0},{"$f":"+IF((Basisoplysninger!$D$60=\"Ja\")*(Anlægskartotek!C460<>0)=1,Anlægskartotek!$L$14,Anlægskartotek!I460)","v":0}]
[null,450,{"$f":"Anlægskartotek!C461","v":0},{"$f":"+IF((Basisoplysninger!$D$60=\"Ja\")*(Anlægskartotek!C461<>0)=1,Anlægskartotek!$L$14,Anlægskartotek!I461)","v":0}]
[null,{"$f":"B559+1","v":451},{"$f":"Anlægskartotek!C462","v":0},{"$f":"+IF((Basisoplysninger!$D$60=\"Ja\")*(Anlægskartotek!C462<>0)=1,Anlægskartotek!$L$14,Anlægskartotek!I462)","v":0}]
[null,452,{"$f":"Anlægskartotek!C463","v":0},{"$f":"+IF((Basisoplysninger!$D$60=\"Ja\")*(Anlægskartotek!C463<>0)=1,Anlægskartotek!$L$14,Anlægskartotek!I463)","v":0}]
[null,453,{"$f":"Anlægskartotek!C464","v":0},{"$f":"+IF((Basisoplysninger!$D$60=\"Ja\")*(Anlægskartotek!C464<>0)=1,Anlægskartotek!$L$14,Anlægskartotek!I464)","v":0}]
[null,454,{"$f":"Anlægskartotek!C465","v":0},{"$f":"+IF((Basisoplysninger!$D$60=\"Ja\")*(Anlægskartotek!C465<>0)=1,Anlægskartotek!$L$14,Anlægskartotek!I465)","v":0}]
[null,455,{"$f":"Anlægskartotek!C466","v":0},{"$f":"+IF((Basisoplysninger!$D$60=\"Ja\")*(Anlægskartotek!C466<>0)=1,Anlægskartotek!$L$14,Anlægskartotek!I466)","v":0}]
[null,456,{"$f":"Anlægskartotek!C467","v":0},{"$f":"+IF((Basisoplysninger!$D$60=\"Ja\")*(Anlægskartotek!C467<>0)=1,Anlægskartotek!$L$14,Anlægskartotek!I467)","v":0}]
[null,457,{"$f":"Anlægskartotek!C468","v":0},{"$f":"+IF((Basisoplysninger!$D$60=\"Ja\")*(Anlægskartotek!C468<>0)=1,Anlægskartotek!$L$14,Anlægskartotek!I468)","v":0}]
[null,458,{"$f":"Anlægskartotek!C469","v":0},{"$f":"+IF((Basisoplysninger!$D$60=\"Ja\")*(Anlægskartotek!C469<>0)=1,Anlægskartotek!$L$14,Anlægskartotek!I469)","v":0}]
[null,459,{"$f":"Anlægskartotek!C470","v":0},{"$f":"+IF((Basisoplysninger!$D$60=\"Ja\")*(Anlægskartotek!C470<>0)=1,Anlægskartotek!$L$14,Anlægskartotek!I470)","v":0}]
[null,460,{"$f":"Anlægskartotek!C471","v":0},{"$f":"+IF((Basisoplysninger!$D$60=\"Ja\")*(Anlægskartotek!C471<>0)=1,Anlægskartotek!$L$14,Anlægskartotek!I471)","v":0}]
[null,461,{"$f":"Anlægskartotek!C472","v":0},{"$f":"+IF((Basisoplysninger!$D$60=\"Ja\")*(Anlægskartotek!C472<>0)=1,Anlægskartotek!$L$14,Anlægskartotek!I472)","v":0}]
[null,462,{"$f":"Anlægskartotek!C473","v":0},{"$f":"+IF((Basisoplysninger!$D$60=\"Ja\")*(Anlægskartotek!C473<>0)=1,Anlægskartotek!$L$14,Anlægskartotek!I473)","v":0}]
[null,463,{"$f":"Anlægskartotek!C474","v":0},{"$f":"+IF((Basisoplysninger!$D$60=\"Ja\")*(Anlægskartotek!C474<>0)=1,Anlægskartotek!$L$14,Anlægskartotek!I474)","v":0}]
[null,464,{"$f":"Anlægskartotek!C475","v":0},{"$f":"+IF((Basisoplysninger!$D$60=\"Ja\")*(Anlægskartotek!C475<>0)=1,Anlægskartotek!$L$14,Anlægskartotek!I475)","v":0}]
[null,465,{"$f":"Anlægskartotek!C476","v":0},{"$f":"+IF((Basisoplysninger!$D$60=\"Ja\")*(Anlægskartotek!C476<>0)=1,Anlægskartotek!$L$14,Anlægskartotek!I476)","v":0}]
[null,466,{"$f":"Anlægskartotek!C477","v":0},{"$f":"+IF((Basisoplysninger!$D$60=\"Ja\")*(Anlægskartotek!C477<>0)=1,Anlægskartotek!$L$14,Anlægskartotek!I477)","v":0}]
[null,467,{"$f":"Anlægskartotek!C478","v":0},{"$f":"+IF((Basisoplysninger!$D$60=\"Ja\")*(Anlægskartotek!C478<>0)=1,Anlægskartotek!$L$14,Anlægskartotek!I478)","v":0}]
[null,468,{"$f":"Anlægskartotek!C479","v":0},{"$f":"+IF((Basisoplysninger!$D$60=\"Ja\")*(Anlægskartotek!C479<>0)=1,Anlægskartotek!$L$14,Anlægskartotek!I479)","v":0}]
[null,469,{"$f":"Anlægskartotek!C480","v":0},{"$f":"+IF((Basisoplysninger!$D$60=\"Ja\")*(Anlægskartotek!C480<>0)=1,Anlægskartotek!$L$14,Anlægskartotek!I480)","v":0}]
[null,470,{"$f":"Anlægskartotek!C481","v":0},{"$f":"+IF((Basisoplysninger!$D$60=\"Ja\")*(Anlægskartotek!C481<>0)=1,Anlægskartotek!$L$14,Anlægskartotek!I481)","v":0}]
[null,471,{"$f":"Anlægskartotek!C482","v":0},{"$f":"+IF((Basisoplysninger!$D$60=\"Ja\")*(Anlægskartotek!C482<>0)=1,Anlægskartotek!$L$14,Anlægskartotek!I482)","v":0}]
[null,472,{"$f":"Anlægskartotek!C483","v":0},{"$f":"+IF((Basisoplysninger!$D$60=\"Ja\")*(Anlægskartotek!C483<>0)=1,Anlægskartotek!$L$14,Anlægskartotek!I483)","v":0}]
[null,473,{"$f":"Anlægskartotek!C484","v":0},{"$f":"+IF((Basisoplysninger!$D$60=\"Ja\")*(Anlægskartotek!C484<>0)=1,Anlægskartotek!$L$14,Anlægskartotek!I484)","v":0}]
[null,474,{"$f":"Anlægskartotek!C485","v":0},{"$f":"+IF((Basisoplysninger!$D$60=\"Ja\")*(Anlægskartotek!C485<>0)=1,Anlægskartotek!$L$14,Anlægskartotek!I485)","v":0}]
[null,475,{"$f":"Anlægskartotek!C486","v":0},{"$f":"+IF((Basisoplysninger!$D$60=\"Ja\")*(Anlægskartotek!C486<>0)=1,Anlægskartotek!$L$14,Anlægskartotek!I486)","v":0}]
[null,476,{"$f":"Anlægskartotek!C487","v":0},{"$f":"+IF((Basisoplysninger!$D$60=\"Ja\")*(Anlægskartotek!C487<>0)=1,Anlægskartotek!$L$14,Anlægskartotek!I487)","v":0}]
[null,477,{"$f":"Anlægskartotek!C488","v":0},{"$f":"+IF((Basisoplysninger!$D$60=\"Ja\")*(Anlægskartotek!C488<>0)=1,Anlægskartotek!$L$14,Anlægskartotek!I488)","v":0}]
[null,478,{"$f":"Anlægskartotek!C489","v":0},{"$f":"+IF((Basisoplysninger!$D$60=\"Ja\")*(Anlægskartotek!C489<>0)=1,Anlægskartotek!$L$14,Anlægskartotek!I489)","v":0}]
[null,479,{"$f":"Anlægskartotek!C490","v":0},{"$f":"+IF((Basisoplysninger!$D$60=\"Ja\")*(Anlægskartotek!C490<>0)=1,Anlægskartotek!$L$14,Anlægskartotek!I490)","v":0}]
[null,480,{"$f":"Anlægskartotek!C491","v":0},{"$f":"+IF((Basisoplysninger!$D$60=\"Ja\")*(Anlægskartotek!C491<>0)=1,Anlægskartotek!$L$14,Anlægskartotek!I491)","v":0}]
[null,481,{"$f":"Anlægskartotek!C492","v":0},{"$f":"+IF((Basisoplysninger!$D$60=\"Ja\")*(Anlægskartotek!C492<>0)=1,Anlægskartotek!$L$14,Anlægskartotek!I492)","v":0}]
[null,482,{"$f":"Anlægskartotek!C493","v":0},{"$f":"+IF((Basisoplysninger!$D$60=\"Ja\")*(Anlægskartotek!C493<>0)=1,Anlægskartotek!$L$14,Anlægskartotek!I493)","v":0}]
[null,483,{"$f":"Anlægskartotek!C494","v":0},{"$f":"+IF((Basisoplysninger!$D$60=\"Ja\")*(Anlægskartotek!C494<>0)=1,Anlægskartotek!$L$14,Anlægskartotek!I494)","v":0}]
[null,484,{"$f":"Anlægskartotek!C495","v":0},{"$f":"+IF((Basisoplysninger!$D$60=\"Ja\")*(Anlægskartotek!C495<>0)=1,Anlægskartotek!$L$14,Anlægskartotek!I495)","v":0}]
[null,485,{"$f":"Anlægskartotek!C496","v":0},{"$f":"+IF((Basisoplysninger!$D$60=\"Ja\")*(Anlægskartotek!C496<>0)=1,Anlægskartotek!$L$14,Anlægskartotek!I496)","v":0}]
[null,486,{"$f":"Anlægskartotek!C497","v":0},{"$f":"+IF((Basisoplysninger!$D$60=\"Ja\")*(Anlægskartotek!C497<>0)=1,Anlægskartotek!$L$14,Anlægskartotek!I497)","v":0}]
[null,487,{"$f":"Anlægskartotek!C498","v":0},{"$f":"+IF((Basisoplysninger!$D$60=\"Ja\")*(Anlægskartotek!C498<>0)=1,Anlægskartotek!$L$14,Anlægskartotek!I498)","v":0}]
[null,488,{"$f":"Anlægskartotek!C499","v":0},{"$f":"+IF((Basisoplysninger!$D$60=\"Ja\")*(Anlægskartotek!C499<>0)=1,Anlægskartotek!$L$14,Anlægskartotek!I499)","v":0}]
[null,489,{"$f":"Anlægskartotek!C500","v":0},{"$f":"+IF((Basisoplysninger!$D$60=\"Ja\")*(Anlægskartotek!C500<>0)=1,Anlægskartotek!$L$14,Anlægskartotek!I500)","v":0}]
[null,490,{"$f":"Anlægskartotek!C501","v":0},{"$f":"+IF((Basisoplysninger!$D$60=\"Ja\")*(Anlægskartotek!C501<>0)=1,Anlægskartotek!$L$14,Anlægskartotek!I501)","v":0}]
[null,491,{"$f":"Anlægskartotek!C502","v":0},{"$f":"+IF((Basisoplysninger!$D$60=\"Ja\")*(Anlægskartotek!C502<>0)=1,Anlægskartotek!$L$14,Anlægskartotek!I502)","v":0}]
[null,492,{"$f":"Anlægskartotek!C503","v":0},{"$f":"+IF((Basisoplysninger!$D$60=\"Ja\")*(Anlægskartotek!C503<>0)=1,Anlægskartotek!$L$14,Anlægskartotek!I503)","v":0}]
[null,493,{"$f":"Anlægskartotek!C504","v":0},{"$f":"+IF((Basisoplysninger!$D$60=\"Ja\")*(Anlægskartotek!C504<>0)=1,Anlægskartotek!$L$14,Anlægskartotek!I504)","v":0}]
[null,494,{"$f":"Anlægskartotek!C505","v":0},{"$f":"+IF((Basisoplysninger!$D$60=\"Ja\")*(Anlægskartotek!C505<>0)=1,Anlægskartotek!$L$14,Anlægskartotek!I505)","v":0}]
[null,495,{"$f":"Anlægskartotek!C506","v":0},{"$f":"+IF((Basisoplysninger!$D$60=\"Ja\")*(Anlægskartotek!C506<>0)=1,Anlægskartotek!$L$14,Anlægskartotek!I506)","v":0}]
[null,496,{"$f":"Anlægskartotek!C507","v":0},{"$f":"+IF((Basisoplysninger!$D$60=\"Ja\")*(Anlægskartotek!C507<>0)=1,Anlægskartotek!$L$14,Anlægskartotek!I507)","v":0}]
[null,497,{"$f":"Anlægskartotek!C508","v":0},{"$f":"+IF((Basisoplysninger!$D$60=\"Ja\")*(Anlægskartotek!C508<>0)=1,Anlægskartotek!$L$14,Anlægskartotek!I508)","v":0}]
[null,498,{"$f":"Anlægskartotek!C509","v":0},{"$f":"+IF((Basisoplysninger!$D$60=\"Ja\")*(Anlægskartotek!C509<>0)=1,Anlægskartotek!$L$14,Anlægskartotek!I509)","v":0}]
[null,499,{"$f":"Anlægskartotek!C510","v":0},{"$f":"+IF((Basisoplysninger!$D$60=\"Ja\")*(Anlægskartotek!C510<>0)=1,Anlægskartotek!$L$14,Anlægskartotek!I510)","v":0}]
[null,500,{"$f":"Anlægskartotek!C511","v":0},{"$f":"+IF((Basisoplysninger!$D$60=\"Ja\")*(Anlægskartotek!C511<>0)=1,Anlægskartotek!$L$14,Anlægskartotek!I511)","v":0}]
[null,501,{"$f":"Anlægskartotek!C512","v":0},{"$f":"+IF((Basisoplysninger!$D$60=\"Ja\")*(Anlægskartotek!C512<>0)=1,Anlægskartotek!$L$14,Anlægskartotek!I512)","v":0}]
[null,502,{"$f":"Anlægskartotek!C513","v":0},{"$f":"+IF((Basisoplysninger!$D$60=\"Ja\")*(Anlægskartotek!C513<>0)=1,Anlægskartotek!$L$14,Anlægskartotek!I513)","v":0}]
[null,503,{"$f":"Anlægskartotek!C514","v":0},{"$f":"+IF((Basisoplysninger!$D$60=\"Ja\")*(Anlægskartotek!C514<>0)=1,Anlægskartotek!$L$14,Anlægskartotek!I514)","v":0}]
[null,504,{"$f":"Anlægskartotek!C515","v":0},{"$f":"+IF((Basisoplysninger!$D$60=\"Ja\")*(Anlægskartotek!C515<>0)=1,Anlægskartotek!$L$14,Anlægskartotek!I515)","v":0}]
[null,505,{"$f":"Anlægskartotek!C516","v":0},{"$f":"+IF((Basisoplysninger!$D$60=\"Ja\")*(Anlægskartotek!C516<>0)=1,Anlægskartotek!$L$14,Anlægskartotek!I516)","v":0}]
[null,506,{"$f":"Anlægskartotek!C517","v":0},{"$f":"+IF((Basisoplysninger!$D$60=\"Ja\")*(Anlægskartotek!C517<>0)=1,Anlægskartotek!$L$14,Anlægskartotek!I517)","v":0}]
[null,507,{"$f":"Anlægskartotek!C518","v":0},{"$f":"+IF((Basisoplysninger!$D$60=\"Ja\")*(Anlægskartotek!C518<>0)=1,Anlægskartotek!$L$14,Anlægskartotek!I518)","v":0}]
[null,508,{"$f":"Anlægskartotek!C519","v":0},{"$f":"+IF((Basisoplysninger!$D$60=\"Ja\")*(Anlægskartotek!C519<>0)=1,Anlægskartotek!$L$14,Anlægskartotek!I519)","v":0}]
[null,509,{"$f":"Anlægskartotek!C520","v":0},{"$f":"+IF((Basisoplysninger!$D$60=\"Ja\")*(Anlægskartotek!C520<>0)=1,Anlægskartotek!$L$14,Anlægskartotek!I520)","v":0}]
[null,510,{"$f":"Anlægskartotek!C521","v":0},{"$f":"+IF((Basisoplysninger!$D$60=\"Ja\")*(Anlægskartotek!C521<>0)=1,Anlægskartotek!$L$14,Anlægskartotek!I521)","v":0}]
[null,511,{"$f":"Anlægskartotek!C522","v":0},{"$f":"+IF((Basisoplysninger!$D$60=\"Ja\")*(Anlægskartotek!C522<>0)=1,Anlægskartotek!$L$14,Anlægskartotek!I522)","v":0}]
[null,512,{"$f":"Anlægskartotek!C523","v":0},{"$f":"+IF((Basisoplysninger!$D$60=\"Ja\")*(Anlægskartotek!C523<>0)=1,Anlægskartotek!$L$14,Anlægskartotek!I523)","v":0}]
[null,513,{"$f":"Anlægskartotek!C524","v":0},{"$f":"+IF((Basisoplysninger!$D$60=\"Ja\")*(Anlægskartotek!C524<>0)=1,Anlægskartotek!$L$14,Anlægskartotek!I524)","v":0}]
[null,514,{"$f":"Anlægskartotek!C525","v":0},{"$f":"+IF((Basisoplysninger!$D$60=\"Ja\")*(Anlægskartotek!C525<>0)=1,Anlægskartotek!$L$14,Anlægskartotek!I525)","v":0}]
[null,{"$f":"B623+1","v":515},{"$f":"Anlægskartotek!C526","v":0},{"$f":"+IF((Basisoplysninger!$D$60=\"Ja\")*(Anlægskartotek!C526<>0)=1,Anlægskartotek!$L$14,Anlægskartotek!I526)","v":0}]
[null,516,{"$f":"Anlægskartotek!C527","v":0},{"$f":"+IF((Basisoplysninger!$D$60=\"Ja\")*(Anlægskartotek!C527<>0)=1,Anlægskartotek!$L$14,Anlægskartotek!I527)","v":0}]
[null,517,{"$f":"Anlægskartotek!C528","v":0},{"$f":"+IF((Basisoplysninger!$D$60=\"Ja\")*(Anlægskartotek!C528<>0)=1,Anlægskartotek!$L$14,Anlægskartotek!I528)","v":0}]
[null,518,{"$f":"Anlægskartotek!C529","v":0},{"$f":"+IF((Basisoplysninger!$D$60=\"Ja\")*(Anlægskartotek!C529<>0)=1,Anlægskartotek!$L$14,Anlægskartotek!I529)","v":0}]
[null,519,{"$f":"Anlægskartotek!C530","v":0},{"$f":"+IF((Basisoplysninger!$D$60=\"Ja\")*(Anlægskartotek!C530<>0)=1,Anlægskartotek!$L$14,Anlægskartotek!I530)","v":0}]
[null,520,{"$f":"Anlægskartotek!C531","v":0},{"$f":"+IF((Basisoplysninger!$D$60=\"Ja\")*(Anlægskartotek!C531<>0)=1,Anlægskartotek!$L$14,Anlægskartotek!I531)","v":0}]
[null,521,{"$f":"Anlægskartotek!C532","v":0},{"$f":"+IF((Basisoplysninger!$D$60=\"Ja\")*(Anlægskartotek!C532<>0)=1,Anlægskartotek!$L$14,Anlægskartotek!I532)","v":0}]
[null,522,{"$f":"Anlægskartotek!C533","v":0},{"$f":"+IF((Basisoplysninger!$D$60=\"Ja\")*(Anlægskartotek!C533<>0)=1,Anlægskartotek!$L$14,Anlægskartotek!I533)","v":0}]
[null,523,{"$f":"Anlægskartotek!C534","v":0},{"$f":"+IF((Basisoplysninger!$D$60=\"Ja\")*(Anlægskartotek!C534<>0)=1,Anlægskartotek!$L$14,Anlægskartotek!I534)","v":0}]
[null,524,{"$f":"Anlægskartotek!C535","v":0},{"$f":"+IF((Basisoplysninger!$D$60=\"Ja\")*(Anlægskartotek!C535<>0)=1,Anlægskartotek!$L$14,Anlægskartotek!I535)","v":0}]
[null,525,{"$f":"Anlægskartotek!C536","v":0},{"$f":"+IF((Basisoplysninger!$D$60=\"Ja\")*(Anlægskartotek!C536<>0)=1,Anlægskartotek!$L$14,Anlægskartotek!I536)","v":0}]
[null,526,{"$f":"Anlægskartotek!C537","v":0},{"$f":"+IF((Basisoplysninger!$D$60=\"Ja\")*(Anlægskartotek!C537<>0)=1,Anlægskartotek!$L$14,Anlægskartotek!I537)","v":0}]
[null,527,{"$f":"Anlægskartotek!C538","v":0},{"$f":"+IF((Basisoplysninger!$D$60=\"Ja\")*(Anlægskartotek!C538<>0)=1,Anlægskartotek!$L$14,Anlægskartotek!I538)","v":0}]
[null,528,{"$f":"Anlægskartotek!C539","v":0},{"$f":"+IF((Basisoplysninger!$D$60=\"Ja\")*(Anlægskartotek!C539<>0)=1,Anlægskartotek!$L$14,Anlægskartotek!I539)","v":0}]
[null,529,{"$f":"Anlægskartotek!C540","v":0},{"$f":"+IF((Basisoplysninger!$D$60=\"Ja\")*(Anlægskartotek!C540<>0)=1,Anlægskartotek!$L$14,Anlægskartotek!I540)","v":0}]
[null,530,{"$f":"Anlægskartotek!C541","v":0},{"$f":"+IF((Basisoplysninger!$D$60=\"Ja\")*(Anlægskartotek!C541<>0)=1,Anlægskartotek!$L$14,Anlægskartotek!I541)","v":0}]
[null,531,{"$f":"Anlægskartotek!C542","v":0},{"$f":"+IF((Basisoplysninger!$D$60=\"Ja\")*(Anlægskartotek!C542<>0)=1,Anlægskartotek!$L$14,Anlægskartotek!I542)","v":0}]
[null,532,{"$f":"Anlægskartotek!C543","v":0},{"$f":"+IF((Basisoplysninger!$D$60=\"Ja\")*(Anlægskartotek!C543<>0)=1,Anlægskartotek!$L$14,Anlægskartotek!I543)","v":0}]
[null,533,{"$f":"Anlægskartotek!C544","v":0},{"$f":"+IF((Basisoplysninger!$D$60=\"Ja\")*(Anlægskartotek!C544<>0)=1,Anlægskartotek!$L$14,Anlægskartotek!I544)","v":0}]
[null,534,{"$f":"Anlægskartotek!C545","v":0},{"$f":"+IF((Basisoplysninger!$D$60=\"Ja\")*(Anlægskartotek!C545<>0)=1,Anlægskartotek!$L$14,Anlægskartotek!I545)","v":0}]
[null,535,{"$f":"Anlægskartotek!C546","v":0},{"$f":"+IF((Basisoplysninger!$D$60=\"Ja\")*(Anlægskartotek!C546<>0)=1,Anlægskartotek!$L$14,Anlægskartotek!I546)","v":0}]
[null,536,{"$f":"Anlægskartotek!C547","v":0},{"$f":"+IF((Basisoplysninger!$D$60=\"Ja\")*(Anlægskartotek!C547<>0)=1,Anlægskartotek!$L$14,Anlægskartotek!I547)","v":0}]
[null,537,{"$f":"Anlægskartotek!C548","v":0},{"$f":"+IF((Basisoplysninger!$D$60=\"Ja\")*(Anlægskartotek!C548<>0)=1,Anlægskartotek!$L$14,Anlægskartotek!I548)","v":0}]
[null,538,{"$f":"Anlægskartotek!C549","v":0},{"$f":"+IF((Basisoplysninger!$D$60=\"Ja\")*(Anlægskartotek!C549<>0)=1,Anlægskartotek!$L$14,Anlægskartotek!I549)","v":0}]
[null,539,{"$f":"Anlægskartotek!C550","v":0},{"$f":"+IF((Basisoplysninger!$D$60=\"Ja\")*(Anlægskartotek!C550<>0)=1,Anlægskartotek!$L$14,Anlægskartotek!I550)","v":0}]
[null,540,{"$f":"Anlægskartotek!C551","v":0},{"$f":"+IF((Basisoplysninger!$D$60=\"Ja\")*(Anlægskartotek!C551<>0)=1,Anlægskartotek!$L$14,Anlægskartotek!I551)","v":0}]
[null,541,{"$f":"Anlægskartotek!C552","v":0},{"$f":"+IF((Basisoplysninger!$D$60=\"Ja\")*(Anlægskartotek!C552<>0)=1,Anlægskartotek!$L$14,Anlægskartotek!I552)","v":0}]
[null,542,{"$f":"Anlægskartotek!C553","v":0},{"$f":"+IF((Basisoplysninger!$D$60=\"Ja\")*(Anlægskartotek!C553<>0)=1,Anlægskartotek!$L$14,Anlægskartotek!I553)","v":0}]
[null,543,{"$f":"Anlægskartotek!C554","v":0},{"$f":"+IF((Basisoplysninger!$D$60=\"Ja\")*(Anlægskartotek!C554<>0)=1,Anlægskartotek!$L$14,Anlægskartotek!I554)","v":0}]
[null,544,{"$f":"Anlægskartotek!C555","v":0},{"$f":"+IF((Basisoplysninger!$D$60=\"Ja\")*(Anlægskartotek!C555<>0)=1,Anlægskartotek!$L$14,Anlægskartotek!I555)","v":0}]
[null,545,{"$f":"Anlægskartotek!C556","v":0},{"$f":"+IF((Basisoplysninger!$D$60=\"Ja\")*(Anlægskartotek!C556<>0)=1,Anlægskartotek!$L$14,Anlægskartotek!I556)","v":0}]
[null,546,{"$f":"Anlægskartotek!C557","v":0},{"$f":"+IF((Basisoplysninger!$D$60=\"Ja\")*(Anlægskartotek!C557<>0)=1,Anlægskartotek!$L$14,Anlægskartotek!I557)","v":0}]
[null,547,{"$f":"Anlægskartotek!C558","v":0},{"$f":"+IF((Basisoplysninger!$D$60=\"Ja\")*(Anlægskartotek!C558<>0)=1,Anlægskartotek!$L$14,Anlægskartotek!I558)","v":0}]
[null,548,{"$f":"Anlægskartotek!C559","v":0},{"$f":"+IF((Basisoplysninger!$D$60=\"Ja\")*(Anlægskartotek!C559<>0)=1,Anlægskartotek!$L$14,Anlægskartotek!I559)","v":0}]
[null,549,{"$f":"Anlægskartotek!C560","v":0},{"$f":"+IF((Basisoplysninger!$D$60=\"Ja\")*(Anlægskartotek!C560<>0)=1,Anlægskartotek!$L$14,Anlægskartotek!I560)","v":0}]
[null,550,{"$f":"Anlægskartotek!C561","v":0},{"$f":"+IF((Basisoplysninger!$D$60=\"Ja\")*(Anlægskartotek!C561<>0)=1,Anlægskartotek!$L$14,Anlægskartotek!I561)","v":0}]
[null,551,{"$f":"Anlægskartotek!C562","v":0},{"$f":"+IF((Basisoplysninger!$D$60=\"Ja\")*(Anlægskartotek!C562<>0)=1,Anlægskartotek!$L$14,Anlægskartotek!I562)","v":0}]
[null,552,{"$f":"Anlægskartotek!C563","v":0},{"$f":"+IF((Basisoplysninger!$D$60=\"Ja\")*(Anlægskartotek!C563<>0)=1,Anlægskartotek!$L$14,Anlægskartotek!I563)","v":0}]
[null,553,{"$f":"Anlægskartotek!C564","v":0},{"$f":"+IF((Basisoplysninger!$D$60=\"Ja\")*(Anlægskartotek!C564<>0)=1,Anlægskartotek!$L$14,Anlægskartotek!I564)","v":0}]
[null,554,{"$f":"Anlægskartotek!C565","v":0},{"$f":"+IF((Basisoplysninger!$D$60=\"Ja\")*(Anlægskartotek!C565<>0)=1,Anlægskartotek!$L$14,Anlægskartotek!I565)","v":0}]
[null,555,{"$f":"Anlægskartotek!C566","v":0},{"$f":"+IF((Basisoplysninger!$D$60=\"Ja\")*(Anlægskartotek!C566<>0)=1,Anlægskartotek!$L$14,Anlægskartotek!I566)","v":0}]
[null,556,{"$f":"Anlægskartotek!C567","v":0},{"$f":"+IF((Basisoplysninger!$D$60=\"Ja\")*(Anlægskartotek!C567<>0)=1,Anlægskartotek!$L$14,Anlægskartotek!I567)","v":0}]
[null,557,{"$f":"Anlægskartotek!C568","v":0},{"$f":"+IF((Basisoplysninger!$D$60=\"Ja\")*(Anlægskartotek!C568<>0)=1,Anlægskartotek!$L$14,Anlægskartotek!I568)","v":0}]
[null,558,{"$f":"Anlægskartotek!C569","v":0},{"$f":"+IF((Basisoplysninger!$D$60=\"Ja\")*(Anlægskartotek!C569<>0)=1,Anlægskartotek!$L$14,Anlægskartotek!I569)","v":0}]
[null,559,{"$f":"Anlægskartotek!C570","v":0},{"$f":"+IF((Basisoplysninger!$D$60=\"Ja\")*(Anlægskartotek!C570<>0)=1,Anlægskartotek!$L$14,Anlægskartotek!I570)","v":0}]
[null,560,{"$f":"Anlægskartotek!C571","v":0},{"$f":"+IF((Basisoplysninger!$D$60=\"Ja\")*(Anlægskartotek!C571<>0)=1,Anlægskartotek!$L$14,Anlægskartotek!I571)","v":0}]
[null,561,{"$f":"Anlægskartotek!C572","v":0},{"$f":"+IF((Basisoplysninger!$D$60=\"Ja\")*(Anlægskartotek!C572<>0)=1,Anlægskartotek!$L$14,Anlægskartotek!I572)","v":0}]
[null,562,{"$f":"Anlægskartotek!C573","v":0},{"$f":"+IF((Basisoplysninger!$D$60=\"Ja\")*(Anlægskartotek!C573<>0)=1,Anlægskartotek!$L$14,Anlægskartotek!I573)","v":0}]
[null,563,{"$f":"Anlægskartotek!C574","v":0},{"$f":"+IF((Basisoplysninger!$D$60=\"Ja\")*(Anlægskartotek!C574<>0)=1,Anlægskartotek!$L$14,Anlægskartotek!I574)","v":0}]
[null,564,{"$f":"Anlægskartotek!C575","v":0},{"$f":"+IF((Basisoplysninger!$D$60=\"Ja\")*(Anlægskartotek!C575<>0)=1,Anlægskartotek!$L$14,Anlægskartotek!I575)","v":0}]
[null,565,{"$f":"Anlægskartotek!C576","v":0},{"$f":"+IF((Basisoplysninger!$D$60=\"Ja\")*(Anlægskartotek!C576<>0)=1,Anlægskartotek!$L$14,Anlægskartotek!I576)","v":0}]
[null,566,{"$f":"Anlægskartotek!C577","v":0},{"$f":"+IF((Basisoplysninger!$D$60=\"Ja\")*(Anlægskartotek!C577<>0)=1,Anlægskartotek!$L$14,Anlægskartotek!I577)","v":0}]
[null,567,{"$f":"Anlægskartotek!C578","v":0},{"$f":"+IF((Basisoplysninger!$D$60=\"Ja\")*(Anlægskartotek!C578<>0)=1,Anlægskartotek!$L$14,Anlægskartotek!I578)","v":0}]
[null,568,{"$f":"Anlægskartotek!C579","v":0},{"$f":"+IF((Basisoplysninger!$D$60=\"Ja\")*(Anlægskartotek!C579<>0)=1,Anlægskartotek!$L$14,Anlægskartotek!I579)","v":0}]
[null,569,{"$f":"Anlægskartotek!C580","v":0},{"$f":"+IF((Basisoplysninger!$D$60=\"Ja\")*(Anlægskartotek!C580<>0)=1,Anlægskartotek!$L$14,Anlægskartotek!I580)","v":0}]
[null,570,{"$f":"Anlægskartotek!C581","v":0},{"$f":"+IF((Basisoplysninger!$D$60=\"Ja\")*(Anlægskartotek!C581<>0)=1,Anlægskartotek!$L$14,Anlægskartotek!I581)","v":0}]
[null,571,{"$f":"Anlægskartotek!C582","v":0},{"$f":"+IF((Basisoplysninger!$D$60=\"Ja\")*(Anlægskartotek!C582<>0)=1,Anlægskartotek!$L$14,Anlægskartotek!I582)","v":0}]
[null,572,{"$f":"Anlægskartotek!C583","v":0},{"$f":"+IF((Basisoplysninger!$D$60=\"Ja\")*(Anlægskartotek!C583<>0)=1,Anlægskartotek!$L$14,Anlægskartotek!I583)","v":0}]
[null,573,{"$f":"Anlægskartotek!C584","v":0},{"$f":"+IF((Basisoplysninger!$D$60=\"Ja\")*(Anlægskartotek!C584<>0)=1,Anlægskartotek!$L$14,Anlægskartotek!I584)","v":0}]
[null,574,{"$f":"Anlægskartotek!C585","v":0},{"$f":"+IF((Basisoplysninger!$D$60=\"Ja\")*(Anlægskartotek!C585<>0)=1,Anlægskartotek!$L$14,Anlægskartotek!I585)","v":0}]
[null,575,{"$f":"Anlægskartotek!C586","v":0},{"$f":"+IF((Basisoplysninger!$D$60=\"Ja\")*(Anlægskartotek!C586<>0)=1,Anlægskartotek!$L$14,Anlægskartotek!I586)","v":0}]
[null,576,{"$f":"Anlægskartotek!C587","v":0},{"$f":"+IF((Basisoplysninger!$D$60=\"Ja\")*(Anlægskartotek!C587<>0)=1,Anlægskartotek!$L$14,Anlægskartotek!I587)","v":0}]
[null,577,{"$f":"Anlægskartotek!C588","v":0},{"$f":"+IF((Basisoplysninger!$D$60=\"Ja\")*(Anlægskartotek!C588<>0)=1,Anlægskartotek!$L$14,Anlægskartotek!I588)","v":0}]
[null,578,{"$f":"Anlægskartotek!C589","v":0},{"$f":"+IF((Basisoplysninger!$D$60=\"Ja\")*(Anlægskartotek!C589<>0)=1,Anlægskartotek!$L$14,Anlægskartotek!I589)","v":0}]
[null,{"$f":"B687+1","v":579},{"$f":"Anlægskartotek!C590","v":0},{"$f":"+IF((Basisoplysninger!$D$60=\"Ja\")*(Anlægskartotek!C590<>0)=1,Anlægskartotek!$L$14,Anlægskartotek!I590)","v":0}]
[null,580,{"$f":"Anlægskartotek!C591","v":0},{"$f":"+IF((Basisoplysninger!$D$60=\"Ja\")*(Anlægskartotek!C591<>0)=1,Anlægskartotek!$L$14,Anlægskartotek!I591)","v":0}]
[null,581,{"$f":"Anlægskartotek!C592","v":0},{"$f":"+IF((Basisoplysninger!$D$60=\"Ja\")*(Anlægskartotek!C592<>0)=1,Anlægskartotek!$L$14,Anlægskartotek!I592)","v":0}]
[null,582,{"$f":"Anlægskartotek!C593","v":0},{"$f":"+IF((Basisoplysninger!$D$60=\"Ja\")*(Anlægskartotek!C593<>0)=1,Anlægskartotek!$L$14,Anlægskartotek!I593)","v":0}]
[null,583,{"$f":"Anlægskartotek!C594","v":0},{"$f":"+IF((Basisoplysninger!$D$60=\"Ja\")*(Anlægskartotek!C594<>0)=1,Anlægskartotek!$L$14,Anlægskartotek!I594)","v":0}]
[null,584,{"$f":"Anlægskartotek!C595","v":0},{"$f":"+IF((Basisoplysninger!$D$60=\"Ja\")*(Anlægskartotek!C595<>0)=1,Anlægskartotek!$L$14,Anlægskartotek!I595)","v":0}]
[null,585,{"$f":"Anlægskartotek!C596","v":0},{"$f":"+IF((Basisoplysninger!$D$60=\"Ja\")*(Anlægskartotek!C596<>0)=1,Anlægskartotek!$L$14,Anlægskartotek!I596)","v":0}]
[null,586,{"$f":"Anlægskartotek!C597","v":0},{"$f":"+IF((Basisoplysninger!$D$60=\"Ja\")*(Anlægskartotek!C597<>0)=1,Anlægskartotek!$L$14,Anlægskartotek!I597)","v":0}]
[null,587,{"$f":"Anlægskartotek!C598","v":0},{"$f":"+IF((Basisoplysninger!$D$60=\"Ja\")*(Anlægskartotek!C598<>0)=1,Anlægskartotek!$L$14,Anlægskartotek!I598)","v":0}]
[null,588,{"$f":"Anlægskartotek!C599","v":0},{"$f":"+IF((Basisoplysninger!$D$60=\"Ja\")*(Anlægskartotek!C599<>0)=1,Anlægskartotek!$L$14,Anlægskartotek!I599)","v":0}]
[null,589,{"$f":"Anlægskartotek!C600","v":0},{"$f":"+IF((Basisoplysninger!$D$60=\"Ja\")*(Anlægskartotek!C600<>0)=1,Anlægskartotek!$L$14,Anlægskartotek!I600)","v":0}]
[null,590,{"$f":"Anlægskartotek!C601","v":0},{"$f":"+IF((Basisoplysninger!$D$60=\"Ja\")*(Anlægskartotek!C601<>0)=1,Anlægskartotek!$L$14,Anlægskartotek!I601)","v":0}]
[null,591,{"$f":"Anlægskartotek!C602","v":0},{"$f":"+IF((Basisoplysninger!$D$60=\"Ja\")*(Anlægskartotek!C602<>0)=1,Anlægskartotek!$L$14,Anlægskartotek!I602)","v":0}]
[null,592,{"$f":"Anlægskartotek!C603","v":0},{"$f":"+IF((Basisoplysninger!$D$60=\"Ja\")*(Anlægskartotek!C603<>0)=1,Anlægskartotek!$L$14,Anlægskartotek!I603)","v":0}]
[null,593,{"$f":"Anlægskartotek!C604","v":0},{"$f":"+IF((Basisoplysninger!$D$60=\"Ja\")*(Anlægskartotek!C604<>0)=1,Anlægskartotek!$L$14,Anlægskartotek!I604)","v":0}]
[null,594,{"$f":"Anlægskartotek!C605","v":0},{"$f":"+IF((Basisoplysninger!$D$60=\"Ja\")*(Anlægskartotek!C605<>0)=1,Anlægskartotek!$L$14,Anlægskartotek!I605)","v":0}]
[null,595,{"$f":"Anlægskartotek!C606","v":0},{"$f":"+IF((Basisoplysninger!$D$60=\"Ja\")*(Anlægskartotek!C606<>0)=1,Anlægskartotek!$L$14,Anlægskartotek!I606)","v":0}]
[null,596,{"$f":"Anlægskartotek!C607","v":0},{"$f":"+IF((Basisoplysninger!$D$60=\"Ja\")*(Anlægskartotek!C607<>0)=1,Anlægskartotek!$L$14,Anlægskartotek!I607)","v":0}]
[null,597,{"$f":"Anlægskartotek!C608","v":0},{"$f":"+IF((Basisoplysninger!$D$60=\"Ja\")*(Anlægskartotek!C608<>0)=1,Anlægskartotek!$L$14,Anlægskartotek!I608)","v":0}]
[null,598,{"$f":"Anlægskartotek!C609","v":0},{"$f":"+IF((Basisoplysninger!$D$60=\"Ja\")*(Anlægskartotek!C609<>0)=1,Anlægskartotek!$L$14,Anlægskartotek!I609)","v":0}]
[null,599,{"$f":"Anlægskartotek!C610","v":0},{"$f":"+IF((Basisoplysninger!$D$60=\"Ja\")*(Anlægskartotek!C610<>0)=1,Anlægskartotek!$L$14,Anlægskartotek!I610)","v":0}]
[null,600,{"$f":"Anlægskartotek!C611","v":0},{"$f":"+IF((Basisoplysninger!$D$60=\"Ja\")*(Anlægskartotek!C611<>0)=1,Anlægskartotek!$L$14,Anlægskartotek!I611)","v":0}]
[null,601,{"$f":"Anlægskartotek!C612","v":0},{"$f":"+IF((Basisoplysninger!$D$60=\"Ja\")*(Anlægskartotek!C612<>0)=1,Anlægskartotek!$L$14,Anlægskartotek!I612)","v":0}]
[null,602,{"$f":"Anlægskartotek!C613","v":0},{"$f":"+IF((Basisoplysninger!$D$60=\"Ja\")*(Anlægskartotek!C613<>0)=1,Anlægskartotek!$L$14,Anlægskartotek!I613)","v":0}]
[null,603,{"$f":"Anlægskartotek!C614","v":0},{"$f":"+IF((Basisoplysninger!$D$60=\"Ja\")*(Anlægskartotek!C614<>0)=1,Anlægskartotek!$L$14,Anlægskartotek!I614)","v":0}]
[null,604,{"$f":"Anlægskartotek!C615","v":0},{"$f":"+IF((Basisoplysninger!$D$60=\"Ja\")*(Anlægskartotek!C615<>0)=1,Anlægskartotek!$L$14,Anlægskartotek!I615)","v":0}]
[null,605,{"$f":"Anlægskartotek!C616","v":0},{"$f":"+IF((Basisoplysninger!$D$60=\"Ja\")*(Anlægskartotek!C616<>0)=1,Anlægskartotek!$L$14,Anlægskartotek!I616)","v":0}]
[null,606,{"$f":"Anlægskartotek!C617","v":0},{"$f":"+IF((Basisoplysninger!$D$60=\"Ja\")*(Anlægskartotek!C617<>0)=1,Anlægskartotek!$L$14,Anlægskartotek!I617)","v":0}]
[null,607,{"$f":"Anlægskartotek!C618","v":0},{"$f":"+IF((Basisoplysninger!$D$60=\"Ja\")*(Anlægskartotek!C618<>0)=1,Anlægskartotek!$L$14,Anlægskartotek!I618)","v":0}]
[null,608,{"$f":"Anlægskartotek!C619","v":0},{"$f":"+IF((Basisoplysninger!$D$60=\"Ja\")*(Anlægskartotek!C619<>0)=1,Anlægskartotek!$L$14,Anlægskartotek!I619)","v":0}]
[null,609,{"$f":"Anlægskartotek!C620","v":0},{"$f":"+IF((Basisoplysninger!$D$60=\"Ja\")*(Anlægskartotek!C620<>0)=1,Anlægskartotek!$L$14,Anlægskartotek!I620)","v":0}]
[null,610,{"$f":"Anlægskartotek!C621","v":0},{"$f":"+IF((Basisoplysninger!$D$60=\"Ja\")*(Anlægskartotek!C621<>0)=1,Anlægskartotek!$L$14,Anlægskartotek!I621)","v":0}]
[null,611,{"$f":"Anlægskartotek!C622","v":0},{"$f":"+IF((Basisoplysninger!$D$60=\"Ja\")*(Anlægskartotek!C622<>0)=1,Anlægskartotek!$L$14,Anlægskartotek!I622)","v":0}]
[null,612,{"$f":"Anlægskartotek!C623","v":0},{"$f":"+IF((Basisoplysninger!$D$60=\"Ja\")*(Anlægskartotek!C623<>0)=1,Anlægskartotek!$L$14,Anlægskartotek!I623)","v":0}]
[null,613,{"$f":"Anlægskartotek!C624","v":0},{"$f":"+IF((Basisoplysninger!$D$60=\"Ja\")*(Anlægskartotek!C624<>0)=1,Anlægskartotek!$L$14,Anlægskartotek!I624)","v":0}]
[null,614,{"$f":"Anlægskartotek!C625","v":0},{"$f":"+IF((Basisoplysninger!$D$60=\"Ja\")*(Anlægskartotek!C625<>0)=1,Anlægskartotek!$L$14,Anlægskartotek!I625)","v":0}]
[null,615,{"$f":"Anlægskartotek!C626","v":0},{"$f":"+IF((Basisoplysninger!$D$60=\"Ja\")*(Anlægskartotek!C626<>0)=1,Anlægskartotek!$L$14,Anlægskartotek!I626)","v":0}]
[null,616,{"$f":"Anlægskartotek!C627","v":0},{"$f":"+IF((Basisoplysninger!$D$60=\"Ja\")*(Anlægskartotek!C627<>0)=1,Anlægskartotek!$L$14,Anlægskartotek!I627)","v":0}]
[null,617,{"$f":"Anlægskartotek!C628","v":0},{"$f":"+IF((Basisoplysninger!$D$60=\"Ja\")*(Anlægskartotek!C628<>0)=1,Anlægskartotek!$L$14,Anlægskartotek!I628)","v":0}]
[null,618,{"$f":"Anlægskartotek!C629","v":0},{"$f":"+IF((Basisoplysninger!$D$60=\"Ja\")*(Anlægskartotek!C629<>0)=1,Anlægskartotek!$L$14,Anlægskartotek!I629)","v":0}]
[null,619,{"$f":"Anlægskartotek!C630","v":0},{"$f":"+IF((Basisoplysninger!$D$60=\"Ja\")*(Anlægskartotek!C630<>0)=1,Anlægskartotek!$L$14,Anlægskartotek!I630)","v":0}]
[null,620,{"$f":"Anlægskartotek!C631","v":0},{"$f":"+IF((Basisoplysninger!$D$60=\"Ja\")*(Anlægskartotek!C631<>0)=1,Anlægskartotek!$L$14,Anlægskartotek!I631)","v":0}]
[null,621,{"$f":"Anlægskartotek!C632","v":0},{"$f":"+IF((Basisoplysninger!$D$60=\"Ja\")*(Anlægskartotek!C632<>0)=1,Anlægskartotek!$L$14,Anlægskartotek!I632)","v":0}]
[null,622,{"$f":"Anlægskartotek!C633","v":0},{"$f":"+IF((Basisoplysninger!$D$60=\"Ja\")*(Anlægskartotek!C633<>0)=1,Anlægskartotek!$L$14,Anlægskartotek!I633)","v":0}]
[null,623,{"$f":"Anlægskartotek!C634","v":0},{"$f":"+IF((Basisoplysninger!$D$60=\"Ja\")*(Anlægskartotek!C634<>0)=1,Anlægskartotek!$L$14,Anlægskartotek!I634)","v":0}]
[null,624,{"$f":"Anlægskartotek!C635","v":0},{"$f":"+IF((Basisoplysninger!$D$60=\"Ja\")*(Anlægskartotek!C635<>0)=1,Anlægskartotek!$L$14,Anlægskartotek!I635)","v":0}]
[null,625,{"$f":"Anlægskartotek!C636","v":0},{"$f":"+IF((Basisoplysninger!$D$60=\"Ja\")*(Anlægskartotek!C636<>0)=1,Anlægskartotek!$L$14,Anlægskartotek!I636)","v":0}]
[null,626,{"$f":"Anlægskartotek!C637","v":0},{"$f":"+IF((Basisoplysninger!$D$60=\"Ja\")*(Anlægskartotek!C637<>0)=1,Anlægskartotek!$L$14,Anlægskartotek!I637)","v":0}]
[null,627,{"$f":"Anlægskartotek!C638","v":0},{"$f":"+IF((Basisoplysninger!$D$60=\"Ja\")*(Anlægskartotek!C638<>0)=1,Anlægskartotek!$L$14,Anlægskartotek!I638)","v":0}]
[null,628,{"$f":"Anlægskartotek!C639","v":0},{"$f":"+IF((Basisoplysninger!$D$60=\"Ja\")*(Anlægskartotek!C639<>0)=1,Anlægskartotek!$L$14,Anlægskartotek!I639)","v":0}]
[null,629,{"$f":"Anlægskartotek!C640","v":0},{"$f":"+IF((Basisoplysninger!$D$60=\"Ja\")*(Anlægskartotek!C640<>0)=1,Anlægskartotek!$L$14,Anlægskartotek!I640)","v":0}]
[null,630,{"$f":"Anlægskartotek!C641","v":0},{"$f":"+IF((Basisoplysninger!$D$60=\"Ja\")*(Anlægskartotek!C641<>0)=1,Anlægskartotek!$L$14,Anlægskartotek!I641)","v":0}]
[null,631,{"$f":"Anlægskartotek!C642","v":0},{"$f":"+IF((Basisoplysninger!$D$60=\"Ja\")*(Anlægskartotek!C642<>0)=1,Anlægskartotek!$L$14,Anlægskartotek!I642)","v":0}]
[null,632,{"$f":"Anlægskartotek!C643","v":0},{"$f":"+IF((Basisoplysninger!$D$60=\"Ja\")*(Anlægskartotek!C643<>0)=1,Anlægskartotek!$L$14,Anlægskartotek!I643)","v":0}]
[null,633,{"$f":"Anlægskartotek!C644","v":0},{"$f":"+IF((Basisoplysninger!$D$60=\"Ja\")*(Anlægskartotek!C644<>0)=1,Anlægskartotek!$L$14,Anlægskartotek!I644)","v":0}]
[null,634,{"$f":"Anlægskartotek!C645","v":0},{"$f":"+IF((Basisoplysninger!$D$60=\"Ja\")*(Anlægskartotek!C645<>0)=1,Anlægskartotek!$L$14,Anlægskartotek!I645)","v":0}]
[null,635,{"$f":"Anlægskartotek!C646","v":0},{"$f":"+IF((Basisoplysninger!$D$60=\"Ja\")*(Anlægskartotek!C646<>0)=1,Anlægskartotek!$L$14,Anlægskartotek!I646)","v":0}]
[null,636,{"$f":"Anlægskartotek!C647","v":0},{"$f":"+IF((Basisoplysninger!$D$60=\"Ja\")*(Anlægskartotek!C647<>0)=1,Anlægskartotek!$L$14,Anlægskartotek!I647)","v":0}]
[null,637,{"$f":"Anlægskartotek!C648","v":0},{"$f":"+IF((Basisoplysninger!$D$60=\"Ja\")*(Anlægskartotek!C648<>0)=1,Anlægskartotek!$L$14,Anlægskartotek!I648)","v":0}]
[null,638,{"$f":"Anlægskartotek!C649","v":0},{"$f":"+IF((Basisoplysninger!$D$60=\"Ja\")*(Anlægskartotek!C649<>0)=1,Anlægskartotek!$L$14,Anlægskartotek!I649)","v":0}]
[null,639,{"$f":"Anlægskartotek!C650","v":0},{"$f":"+IF((Basisoplysninger!$D$60=\"Ja\")*(Anlægskartotek!C650<>0)=1,Anlægskartotek!$L$14,Anlægskartotek!I650)","v":0}]
[null,640,{"$f":"Anlægskartotek!C651","v":0},{"$f":"+IF((Basisoplysninger!$D$60=\"Ja\")*(Anlægskartotek!C651<>0)=1,Anlægskartotek!$L$14,Anlægskartotek!I651)","v":0}]
[null,641,{"$f":"Anlægskartotek!C652","v":0},{"$f":"+IF((Basisoplysninger!$D$60=\"Ja\")*(Anlægskartotek!C652<>0)=1,Anlægskartotek!$L$14,Anlægskartotek!I652)","v":0}]
[null,642,{"$f":"Anlægskartotek!C653","v":0},{"$f":"+IF((Basisoplysninger!$D$60=\"Ja\")*(Anlægskartotek!C653<>0)=1,Anlægskartotek!$L$14,Anlægskartotek!I653)","v":0}]
[null,{"$f":"B751+1","v":643},{"$f":"Anlægskartotek!C654","v":0},{"$f":"+IF((Basisoplysninger!$D$60=\"Ja\")*(Anlægskartotek!C654<>0)=1,Anlægskartotek!$L$14,Anlægskartotek!I654)","v":0}]
[null,644,{"$f":"Anlægskartotek!C655","v":0},{"$f":"+IF((Basisoplysninger!$D$60=\"Ja\")*(Anlægskartotek!C655<>0)=1,Anlægskartotek!$L$14,Anlægskartotek!I655)","v":0}]
[null,645,{"$f":"Anlægskartotek!C656","v":0},{"$f":"+IF((Basisoplysninger!$D$60=\"Ja\")*(Anlægskartotek!C656<>0)=1,Anlægskartotek!$L$14,Anlægskartotek!I656)","v":0}]
[null,646,{"$f":"Anlægskartotek!C657","v":0},{"$f":"+IF((Basisoplysninger!$D$60=\"Ja\")*(Anlægskartotek!C657<>0)=1,Anlægskartotek!$L$14,Anlægskartotek!I657)","v":0}]
[null,647,{"$f":"Anlægskartotek!C658","v":0},{"$f":"+IF((Basisoplysninger!$D$60=\"Ja\")*(Anlægskartotek!C658<>0)=1,Anlægskartotek!$L$14,Anlægskartotek!I658)","v":0}]
[null,648,{"$f":"Anlægskartotek!C659","v":0},{"$f":"+IF((Basisoplysninger!$D$60=\"Ja\")*(Anlægskartotek!C659<>0)=1,Anlægskartotek!$L$14,Anlægskartotek!I659)","v":0}]
[null,649,{"$f":"Anlægskartotek!C660","v":0},{"$f":"+IF((Basisoplysninger!$D$60=\"Ja\")*(Anlægskartotek!C660<>0)=1,Anlægskartotek!$L$14,Anlægskartotek!I660)","v":0}]
[null,650,{"$f":"Anlægskartotek!C661","v":0},{"$f":"+IF((Basisoplysninger!$D$60=\"Ja\")*(Anlægskartotek!C661<>0)=1,Anlægskartotek!$L$14,Anlægskartotek!I661)","v":0}]
[null,651,{"$f":"Anlægskartotek!C662","v":0},{"$f":"+IF((Basisoplysninger!$D$60=\"Ja\")*(Anlægskartotek!C662<>0)=1,Anlægskartotek!$L$14,Anlægskartotek!I662)","v":0}]
[null,652,{"$f":"Anlægskartotek!C663","v":0},{"$f":"+IF((Basisoplysninger!$D$60=\"Ja\")*(Anlægskartotek!C663<>0)=1,Anlægskartotek!$L$14,Anlægskartotek!I663)","v":0}]
[null,653,{"$f":"Anlægskartotek!C664","v":0},{"$f":"+IF((Basisoplysninger!$D$60=\"Ja\")*(Anlægskartotek!C664<>0)=1,Anlægskartotek!$L$14,Anlægskartotek!I664)","v":0}]
[null,654,{"$f":"Anlægskartotek!C665","v":0},{"$f":"+IF((Basisoplysninger!$D$60=\"Ja\")*(Anlægskartotek!C665<>0)=1,Anlægskartotek!$L$14,Anlægskartotek!I665)","v":0}]
[null,655,{"$f":"Anlægskartotek!C666","v":0},{"$f":"+IF((Basisoplysninger!$D$60=\"Ja\")*(Anlægskartotek!C666<>0)=1,Anlægskartotek!$L$14,Anlægskartotek!I666)","v":0}]
[null,656,{"$f":"Anlægskartotek!C667","v":0},{"$f":"+IF((Basisoplysninger!$D$60=\"Ja\")*(Anlægskartotek!C667<>0)=1,Anlægskartotek!$L$14,Anlægskartotek!I667)","v":0}]
[null,657,{"$f":"Anlægskartotek!C668","v":0},{"$f":"+IF((Basisoplysninger!$D$60=\"Ja\")*(Anlægskartotek!C668<>0)=1,Anlægskartotek!$L$14,Anlægskartotek!I668)","v":0}]
[null,658,{"$f":"Anlægskartotek!C669","v":0},{"$f":"+IF((Basisoplysninger!$D$60=\"Ja\")*(Anlægskartotek!C669<>0)=1,Anlægskartotek!$L$14,Anlægskartotek!I669)","v":0}]
[null,659,{"$f":"Anlægskartotek!C670","v":0},{"$f":"+IF((Basisoplysninger!$D$60=\"Ja\")*(Anlægskartotek!C670<>0)=1,Anlægskartotek!$L$14,Anlægskartotek!I670)","v":0}]
[null,660,{"$f":"Anlægskartotek!C671","v":0},{"$f":"+IF((Basisoplysninger!$D$60=\"Ja\")*(Anlægskartotek!C671<>0)=1,Anlægskartotek!$L$14,Anlægskartotek!I671)","v":0}]
[null,661,{"$f":"Anlægskartotek!C672","v":0},{"$f":"+IF((Basisoplysninger!$D$60=\"Ja\")*(Anlægskartotek!C672<>0)=1,Anlægskartotek!$L$14,Anlægskartotek!I672)","v":0}]
[null,662,{"$f":"Anlægskartotek!C673","v":0},{"$f":"+IF((Basisoplysninger!$D$60=\"Ja\")*(Anlægskartotek!C673<>0)=1,Anlægskartotek!$L$14,Anlægskartotek!I673)","v":0}]
[null,663,{"$f":"Anlægskartotek!C674","v":0},{"$f":"+IF((Basisoplysninger!$D$60=\"Ja\")*(Anlægskartotek!C674<>0)=1,Anlægskartotek!$L$14,Anlægskartotek!I674)","v":0}]
[null,664,{"$f":"Anlægskartotek!C675","v":0},{"$f":"+IF((Basisoplysninger!$D$60=\"Ja\")*(Anlægskartotek!C675<>0)=1,Anlægskartotek!$L$14,Anlægskartotek!I675)","v":0}]
[null,665,{"$f":"Anlægskartotek!C676","v":0},{"$f":"+IF((Basisoplysninger!$D$60=\"Ja\")*(Anlægskartotek!C676<>0)=1,Anlægskartotek!$L$14,Anlægskartotek!I676)","v":0}]
[null,666,{"$f":"Anlægskartotek!C677","v":0},{"$f":"+IF((Basisoplysninger!$D$60=\"Ja\")*(Anlægskartotek!C677<>0)=1,Anlægskartotek!$L$14,Anlægskartotek!I677)","v":0}]
[null,667,{"$f":"Anlægskartotek!C678","v":0},{"$f":"+IF((Basisoplysninger!$D$60=\"Ja\")*(Anlægskartotek!C678<>0)=1,Anlægskartotek!$L$14,Anlægskartotek!I678)","v":0}]
[null,668,{"$f":"Anlægskartotek!C679","v":0},{"$f":"+IF((Basisoplysninger!$D$60=\"Ja\")*(Anlægskartotek!C679<>0)=1,Anlægskartotek!$L$14,Anlægskartotek!I679)","v":0}]
[null,669,{"$f":"Anlægskartotek!C680","v":0},{"$f":"+IF((Basisoplysninger!$D$60=\"Ja\")*(Anlægskartotek!C680<>0)=1,Anlægskartotek!$L$14,Anlægskartotek!I680)","v":0}]
[null,670,{"$f":"Anlægskartotek!C681","v":0},{"$f":"+IF((Basisoplysninger!$D$60=\"Ja\")*(Anlægskartotek!C681<>0)=1,Anlægskartotek!$L$14,Anlægskartotek!I681)","v":0}]
[null,671,{"$f":"Anlægskartotek!C682","v":0},{"$f":"+IF((Basisoplysninger!$D$60=\"Ja\")*(Anlægskartotek!C682<>0)=1,Anlægskartotek!$L$14,Anlægskartotek!I682)","v":0}]
[null,672,{"$f":"Anlægskartotek!C683","v":0},{"$f":"+IF((Basisoplysninger!$D$60=\"Ja\")*(Anlægskartotek!C683<>0)=1,Anlægskartotek!$L$14,Anlægskartotek!I683)","v":0}]
[null,673,{"$f":"Anlægskartotek!C684","v":0},{"$f":"+IF((Basisoplysninger!$D$60=\"Ja\")*(Anlægskartotek!C684<>0)=1,Anlægskartotek!$L$14,Anlægskartotek!I684)","v":0}]
[null,674,{"$f":"Anlægskartotek!C685","v":0},{"$f":"+IF((Basisoplysninger!$D$60=\"Ja\")*(Anlægskartotek!C685<>0)=1,Anlægskartotek!$L$14,Anlægskartotek!I685)","v":0}]
[null,675,{"$f":"Anlægskartotek!C686","v":0},{"$f":"+IF((Basisoplysninger!$D$60=\"Ja\")*(Anlægskartotek!C686<>0)=1,Anlægskartotek!$L$14,Anlægskartotek!I686)","v":0}]
[null,676,{"$f":"Anlægskartotek!C687","v":0},{"$f":"+IF((Basisoplysninger!$D$60=\"Ja\")*(Anlægskartotek!C687<>0)=1,Anlægskartotek!$L$14,Anlægskartotek!I687)","v":0}]
[null,677,{"$f":"Anlægskartotek!C688","v":0},{"$f":"+IF((Basisoplysninger!$D$60=\"Ja\")*(Anlægskartotek!C688<>0)=1,Anlægskartotek!$L$14,Anlægskartotek!I688)","v":0}]
[null,678,{"$f":"Anlægskartotek!C689","v":0},{"$f":"+IF((Basisoplysninger!$D$60=\"Ja\")*(Anlægskartotek!C689<>0)=1,Anlægskartotek!$L$14,Anlægskartotek!I689)","v":0}]
[null,679,{"$f":"Anlægskartotek!C690","v":0},{"$f":"+IF((Basisoplysninger!$D$60=\"Ja\")*(Anlægskartotek!C690<>0)=1,Anlægskartotek!$L$14,Anlægskartotek!I690)","v":0}]
[null,680,{"$f":"Anlægskartotek!C691","v":0},{"$f":"+IF((Basisoplysninger!$D$60=\"Ja\")*(Anlægskartotek!C691<>0)=1,Anlægskartotek!$L$14,Anlægskartotek!I691)","v":0}]
[null,681,{"$f":"Anlægskartotek!C692","v":0},{"$f":"+IF((Basisoplysninger!$D$60=\"Ja\")*(Anlægskartotek!C692<>0)=1,Anlægskartotek!$L$14,Anlægskartotek!I692)","v":0}]
[null,682,{"$f":"Anlægskartotek!C693","v":0},{"$f":"+IF((Basisoplysninger!$D$60=\"Ja\")*(Anlægskartotek!C693<>0)=1,Anlægskartotek!$L$14,Anlægskartotek!I693)","v":0}]
[null,683,{"$f":"Anlægskartotek!C694","v":0},{"$f":"+IF((Basisoplysninger!$D$60=\"Ja\")*(Anlægskartotek!C694<>0)=1,Anlægskartotek!$L$14,Anlægskartotek!I694)","v":0}]
[null,684,{"$f":"Anlægskartotek!C695","v":0},{"$f":"+IF((Basisoplysninger!$D$60=\"Ja\")*(Anlægskartotek!C695<>0)=1,Anlægskartotek!$L$14,Anlægskartotek!I695)","v":0}]
[null,685,{"$f":"Anlægskartotek!C696","v":0},{"$f":"+IF((Basisoplysninger!$D$60=\"Ja\")*(Anlægskartotek!C696<>0)=1,Anlægskartotek!$L$14,Anlægskartotek!I696)","v":0}]
[null,686,{"$f":"Anlægskartotek!C697","v":0},{"$f":"+IF((Basisoplysninger!$D$60=\"Ja\")*(Anlægskartotek!C697<>0)=1,Anlægskartotek!$L$14,Anlægskartotek!I697)","v":0}]
[null,687,{"$f":"Anlægskartotek!C698","v":0},{"$f":"+IF((Basisoplysninger!$D$60=\"Ja\")*(Anlægskartotek!C698<>0)=1,Anlægskartotek!$L$14,Anlægskartotek!I698)","v":0}]
[null,688,{"$f":"Anlægskartotek!C699","v":0},{"$f":"+IF((Basisoplysninger!$D$60=\"Ja\")*(Anlægskartotek!C699<>0)=1,Anlægskartotek!$L$14,Anlægskartotek!I699)","v":0}]
[null,689,{"$f":"Anlægskartotek!C700","v":0},{"$f":"+IF((Basisoplysninger!$D$60=\"Ja\")*(Anlægskartotek!C700<>0)=1,Anlægskartotek!$L$14,Anlægskartotek!I700)","v":0}]
[null,690,{"$f":"Anlægskartotek!C701","v":0},{"$f":"+IF((Basisoplysninger!$D$60=\"Ja\")*(Anlægskartotek!C701<>0)=1,Anlægskartotek!$L$14,Anlægskartotek!I701)","v":0}]
[null,691,{"$f":"Anlægskartotek!C702","v":0},{"$f":"+IF((Basisoplysninger!$D$60=\"Ja\")*(Anlægskartotek!C702<>0)=1,Anlægskartotek!$L$14,Anlægskartotek!I702)","v":0}]
[null,692,{"$f":"Anlægskartotek!C703","v":0},{"$f":"+IF((Basisoplysninger!$D$60=\"Ja\")*(Anlægskartotek!C703<>0)=1,Anlægskartotek!$L$14,Anlægskartotek!I703)","v":0}]
[null,693,{"$f":"Anlægskartotek!C704","v":0},{"$f":"+IF((Basisoplysninger!$D$60=\"Ja\")*(Anlægskartotek!C704<>0)=1,Anlægskartotek!$L$14,Anlægskartotek!I704)","v":0}]
[null,694,{"$f":"Anlægskartotek!C705","v":0},{"$f":"+IF((Basisoplysninger!$D$60=\"Ja\")*(Anlægskartotek!C705<>0)=1,Anlægskartotek!$L$14,Anlægskartotek!I705)","v":0}]
[null,695,{"$f":"Anlægskartotek!C706","v":0},{"$f":"+IF((Basisoplysninger!$D$60=\"Ja\")*(Anlægskartotek!C706<>0)=1,Anlægskartotek!$L$14,Anlægskartotek!I706)","v":0}]
[null,696,{"$f":"Anlægskartotek!C707","v":0},{"$f":"+IF((Basisoplysninger!$D$60=\"Ja\")*(Anlægskartotek!C707<>0)=1,Anlægskartotek!$L$14,Anlægskartotek!I707)","v":0}]
[null,697,{"$f":"Anlægskartotek!C708","v":0},{"$f":"+IF((Basisoplysninger!$D$60=\"Ja\")*(Anlægskartotek!C708<>0)=1,Anlægskartotek!$L$14,Anlægskartotek!I708)","v":0}]
[null,698,{"$f":"Anlægskartotek!C709","v":0},{"$f":"+IF((Basisoplysninger!$D$60=\"Ja\")*(Anlægskartotek!C709<>0)=1,Anlægskartotek!$L$14,Anlægskartotek!I709)","v":0}]
[null,699,{"$f":"Anlægskartotek!C710","v":0},{"$f":"+IF((Basisoplysninger!$D$60=\"Ja\")*(Anlægskartotek!C710<>0)=1,Anlægskartotek!$L$14,Anlægskartotek!I710)","v":0}]
[null,700,{"$f":"Anlægskartotek!C711","v":0},{"$f":"+IF((Basisoplysninger!$D$60=\"Ja\")*(Anlægskartotek!C711<>0)=1,Anlægskartotek!$L$14,Anlægskartotek!I711)","v":0}]
[null,701,{"$f":"Anlægskartotek!C712","v":0},{"$f":"+IF((Basisoplysninger!$D$60=\"Ja\")*(Anlægskartotek!C712<>0)=1,Anlægskartotek!$L$14,Anlægskartotek!I712)","v":0}]
[null,702,{"$f":"Anlægskartotek!C713","v":0},{"$f":"+IF((Basisoplysninger!$D$60=\"Ja\")*(Anlægskartotek!C713<>0)=1,Anlægskartotek!$L$14,Anlægskartotek!I713)","v":0}]
[null,703,{"$f":"Anlægskartotek!C714","v":0},{"$f":"+IF((Basisoplysninger!$D$60=\"Ja\")*(Anlægskartotek!C714<>0)=1,Anlægskartotek!$L$14,Anlægskartotek!I714)","v":0}]
[null,704,{"$f":"Anlægskartotek!C715","v":0},{"$f":"+IF((Basisoplysninger!$D$60=\"Ja\")*(Anlægskartotek!C715<>0)=1,Anlægskartotek!$L$14,Anlægskartotek!I715)","v":0}]
[null,705,{"$f":"Anlægskartotek!C716","v":0},{"$f":"+IF((Basisoplysninger!$D$60=\"Ja\")*(Anlægskartotek!C716<>0)=1,Anlægskartotek!$L$14,Anlægskartotek!I716)","v":0}]
[null,706,{"$f":"Anlægskartotek!C717","v":0},{"$f":"+IF((Basisoplysninger!$D$60=\"Ja\")*(Anlægskartotek!C717<>0)=1,Anlægskartotek!$L$14,Anlægskartotek!I717)","v":0}]
[null,{"$f":"B815+1","v":707},{"$f":"Anlægskartotek!C718","v":0},{"$f":"+IF((Basisoplysninger!$D$60=\"Ja\")*(Anlægskartotek!C718<>0)=1,Anlægskartotek!$L$14,Anlægskartotek!I718)","v":0}]
[null,708,{"$f":"Anlægskartotek!C719","v":0},{"$f":"+IF((Basisoplysninger!$D$60=\"Ja\")*(Anlægskartotek!C719<>0)=1,Anlægskartotek!$L$14,Anlægskartotek!I719)","v":0}]
[null,709,{"$f":"Anlægskartotek!C720","v":0},{"$f":"+IF((Basisoplysninger!$D$60=\"Ja\")*(Anlægskartotek!C720<>0)=1,Anlægskartotek!$L$14,Anlægskartotek!I720)","v":0}]
[null,710,{"$f":"Anlægskartotek!C721","v":0},{"$f":"+IF((Basisoplysninger!$D$60=\"Ja\")*(Anlægskartotek!C721<>0)=1,Anlægskartotek!$L$14,Anlægskartotek!I721)","v":0}]
[null,711,{"$f":"Anlægskartotek!C722","v":0},{"$f":"+IF((Basisoplysninger!$D$60=\"Ja\")*(Anlægskartotek!C722<>0)=1,Anlægskartotek!$L$14,Anlægskartotek!I722)","v":0}]
[null,712,{"$f":"Anlægskartotek!C723","v":0},{"$f":"+IF((Basisoplysninger!$D$60=\"Ja\")*(Anlægskartotek!C723<>0)=1,Anlægskartotek!$L$14,Anlægskartotek!I723)","v":0}]
[null,713,{"$f":"Anlægskartotek!C724","v":0},{"$f":"+IF((Basisoplysninger!$D$60=\"Ja\")*(Anlægskartotek!C724<>0)=1,Anlægskartotek!$L$14,Anlægskartotek!I724)","v":0}]
[null,714,{"$f":"Anlægskartotek!C725","v":0},{"$f":"+IF((Basisoplysninger!$D$60=\"Ja\")*(Anlægskartotek!C725<>0)=1,Anlægskartotek!$L$14,Anlægskartotek!I725)","v":0}]
[null,715,{"$f":"Anlægskartotek!C726","v":0},{"$f":"+IF((Basisoplysninger!$D$60=\"Ja\")*(Anlægskartotek!C726<>0)=1,Anlægskartotek!$L$14,Anlægskartotek!I726)","v":0}]
[null,716,{"$f":"Anlægskartotek!C727","v":0},{"$f":"+IF((Basisoplysninger!$D$60=\"Ja\")*(Anlægskartotek!C727<>0)=1,Anlægskartotek!$L$14,Anlægskartotek!I727)","v":0}]
[null,717,{"$f":"Anlægskartotek!C728","v":0},{"$f":"+IF((Basisoplysninger!$D$60=\"Ja\")*(Anlægskartotek!C728<>0)=1,Anlægskartotek!$L$14,Anlægskartotek!I728)","v":0}]
[null,718,{"$f":"Anlægskartotek!C729","v":0},{"$f":"+IF((Basisoplysninger!$D$60=\"Ja\")*(Anlægskartotek!C729<>0)=1,Anlægskartotek!$L$14,Anlægskartotek!I729)","v":0}]
[null,719,{"$f":"Anlægskartotek!C730","v":0},{"$f":"+IF((Basisoplysninger!$D$60=\"Ja\")*(Anlægskartotek!C730<>0)=1,Anlægskartotek!$L$14,Anlægskartotek!I730)","v":0}]
[null,720,{"$f":"Anlægskartotek!C731","v":0},{"$f":"+IF((Basisoplysninger!$D$60=\"Ja\")*(Anlægskartotek!C731<>0)=1,Anlægskartotek!$L$14,Anlægskartotek!I731)","v":0}]
[null,721,{"$f":"Anlægskartotek!C732","v":0},{"$f":"+IF((Basisoplysninger!$D$60=\"Ja\")*(Anlægskartotek!C732<>0)=1,Anlægskartotek!$L$14,Anlægskartotek!I732)","v":0}]
[null,722,{"$f":"Anlægskartotek!C733","v":0},{"$f":"+IF((Basisoplysninger!$D$60=\"Ja\")*(Anlægskartotek!C733<>0)=1,Anlægskartotek!$L$14,Anlægskartotek!I733)","v":0}]
[null,723,{"$f":"Anlægskartotek!C734","v":0},{"$f":"+IF((Basisoplysninger!$D$60=\"Ja\")*(Anlægskartotek!C734<>0)=1,Anlægskartotek!$L$14,Anlægskartotek!I734)","v":0}]
[null,724,{"$f":"Anlægskartotek!C735","v":0},{"$f":"+IF((Basisoplysninger!$D$60=\"Ja\")*(Anlægskartotek!C735<>0)=1,Anlægskartotek!$L$14,Anlægskartotek!I735)","v":0}]
[null,725,{"$f":"Anlægskartotek!C736","v":0},{"$f":"+IF((Basisoplysninger!$D$60=\"Ja\")*(Anlægskartotek!C736<>0)=1,Anlægskartotek!$L$14,Anlægskartotek!I736)","v":0}]
[null,726,{"$f":"Anlægskartotek!C737","v":0},{"$f":"+IF((Basisoplysninger!$D$60=\"Ja\")*(Anlægskartotek!C737<>0)=1,Anlægskartotek!$L$14,Anlægskartotek!I737)","v":0}]
[null,727,{"$f":"Anlægskartotek!C738","v":0},{"$f":"+IF((Basisoplysninger!$D$60=\"Ja\")*(Anlægskartotek!C738<>0)=1,Anlægskartotek!$L$14,Anlægskartotek!I738)","v":0}]
[null,728,{"$f":"Anlægskartotek!C739","v":0},{"$f":"+IF((Basisoplysninger!$D$60=\"Ja\")*(Anlægskartotek!C739<>0)=1,Anlægskartotek!$L$14,Anlægskartotek!I739)","v":0}]
[null,729,{"$f":"Anlægskartotek!C740","v":0},{"$f":"+IF((Basisoplysninger!$D$60=\"Ja\")*(Anlægskartotek!C740<>0)=1,Anlægskartotek!$L$14,Anlægskartotek!I740)","v":0}]
[null,730,{"$f":"Anlægskartotek!C741","v":0},{"$f":"+IF((Basisoplysninger!$D$60=\"Ja\")*(Anlægskartotek!C741<>0)=1,Anlægskartotek!$L$14,Anlægskartotek!I741)","v":0}]
[null,731,{"$f":"Anlægskartotek!C742","v":0},{"$f":"+IF((Basisoplysninger!$D$60=\"Ja\")*(Anlægskartotek!C742<>0)=1,Anlægskartotek!$L$14,Anlægskartotek!I742)","v":0}]
[null,732,{"$f":"Anlægskartotek!C743","v":0},{"$f":"+IF((Basisoplysninger!$D$60=\"Ja\")*(Anlægskartotek!C743<>0)=1,Anlægskartotek!$L$14,Anlægskartotek!I743)","v":0}]
[null,733,{"$f":"Anlægskartotek!C744","v":0},{"$f":"+IF((Basisoplysninger!$D$60=\"Ja\")*(Anlægskartotek!C744<>0)=1,Anlægskartotek!$L$14,Anlægskartotek!I744)","v":0}]
[null,734,{"$f":"Anlægskartotek!C745","v":0},{"$f":"+IF((Basisoplysninger!$D$60=\"Ja\")*(Anlægskartotek!C745<>0)=1,Anlægskartotek!$L$14,Anlægskartotek!I745)","v":0}]
[null,735,{"$f":"Anlægskartotek!C746","v":0},{"$f":"+IF((Basisoplysninger!$D$60=\"Ja\")*(Anlægskartotek!C746<>0)=1,Anlægskartotek!$L$14,Anlægskartotek!I746)","v":0}]
[null,736,{"$f":"Anlægskartotek!C747","v":0},{"$f":"+IF((Basisoplysninger!$D$60=\"Ja\")*(Anlægskartotek!C747<>0)=1,Anlægskartotek!$L$14,Anlægskartotek!I747)","v":0}]
[null,737,{"$f":"Anlægskartotek!C748","v":0},{"$f":"+IF((Basisoplysninger!$D$60=\"Ja\")*(Anlægskartotek!C748<>0)=1,Anlægskartotek!$L$14,Anlægskartotek!I748)","v":0}]
[null,738,{"$f":"Anlægskartotek!C749","v":0},{"$f":"+IF((Basisoplysninger!$D$60=\"Ja\")*(Anlægskartotek!C749<>0)=1,Anlægskartotek!$L$14,Anlægskartotek!I749)","v":0}]
[null,739,{"$f":"Anlægskartotek!C750","v":0},{"$f":"+IF((Basisoplysninger!$D$60=\"Ja\")*(Anlægskartotek!C750<>0)=1,Anlægskartotek!$L$14,Anlægskartotek!I750)","v":0}]
[null,740,{"$f":"Anlægskartotek!C751","v":0},{"$f":"+IF((Basisoplysninger!$D$60=\"Ja\")*(Anlægskartotek!C751<>0)=1,Anlægskartotek!$L$14,Anlægskartotek!I751)","v":0}]
[null,741,{"$f":"Anlægskartotek!C752","v":0},{"$f":"+IF((Basisoplysninger!$D$60=\"Ja\")*(Anlægskartotek!C752<>0)=1,Anlægskartotek!$L$14,Anlægskartotek!I752)","v":0}]
[null,742,{"$f":"Anlægskartotek!C753","v":0},{"$f":"+IF((Basisoplysninger!$D$60=\"Ja\")*(Anlægskartotek!C753<>0)=1,Anlægskartotek!$L$14,Anlægskartotek!I753)","v":0}]
[null,743,{"$f":"Anlægskartotek!C754","v":0},{"$f":"+IF((Basisoplysninger!$D$60=\"Ja\")*(Anlægskartotek!C754<>0)=1,Anlægskartotek!$L$14,Anlægskartotek!I754)","v":0}]
[null,744,{"$f":"Anlægskartotek!C755","v":0},{"$f":"+IF((Basisoplysninger!$D$60=\"Ja\")*(Anlægskartotek!C755<>0)=1,Anlægskartotek!$L$14,Anlægskartotek!I755)","v":0}]
[null,745,{"$f":"Anlægskartotek!C756","v":0},{"$f":"+IF((Basisoplysninger!$D$60=\"Ja\")*(Anlægskartotek!C756<>0)=1,Anlægskartotek!$L$14,Anlægskartotek!I756)","v":0}]
[null,746,{"$f":"Anlægskartotek!C757","v":0},{"$f":"+IF((Basisoplysninger!$D$60=\"Ja\")*(Anlægskartotek!C757<>0)=1,Anlægskartotek!$L$14,Anlægskartotek!I757)","v":0}]
[null,747,{"$f":"Anlægskartotek!C758","v":0},{"$f":"+IF((Basisoplysninger!$D$60=\"Ja\")*(Anlægskartotek!C758<>0)=1,Anlægskartotek!$L$14,Anlægskartotek!I758)","v":0}]
[null,748,{"$f":"Anlægskartotek!C759","v":0},{"$f":"+IF((Basisoplysninger!$D$60=\"Ja\")*(Anlægskartotek!C759<>0)=1,Anlægskartotek!$L$14,Anlægskartotek!I759)","v":0}]
[null,749,{"$f":"Anlægskartotek!C760","v":0},{"$f":"+IF((Basisoplysninger!$D$60=\"Ja\")*(Anlægskartotek!C760<>0)=1,Anlægskartotek!$L$14,Anlægskartotek!I760)","v":0}]
[null,750,{"$f":"Anlægskartotek!C761","v":0},{"$f":"+IF((Basisoplysninger!$D$60=\"Ja\")*(Anlægskartotek!C761<>0)=1,Anlægskartotek!$L$14,Anlægskartotek!I761)","v":0}]
[null,751,{"$f":"Anlægskartotek!C762","v":0},{"$f":"+IF((Basisoplysninger!$D$60=\"Ja\")*(Anlægskartotek!C762<>0)=1,Anlægskartotek!$L$14,Anlægskartotek!I762)","v":0}]
[null,752,{"$f":"Anlægskartotek!C763","v":0},{"$f":"+IF((Basisoplysninger!$D$60=\"Ja\")*(Anlægskartotek!C763<>0)=1,Anlægskartotek!$L$14,Anlægskartotek!I763)","v":0}]
[null,753,{"$f":"Anlægskartotek!C764","v":0},{"$f":"+IF((Basisoplysninger!$D$60=\"Ja\")*(Anlægskartotek!C764<>0)=1,Anlægskartotek!$L$14,Anlægskartotek!I764)","v":0}]
[null,754,{"$f":"Anlægskartotek!C765","v":0},{"$f":"+IF((Basisoplysninger!$D$60=\"Ja\")*(Anlægskartotek!C765<>0)=1,Anlægskartotek!$L$14,Anlægskartotek!I765)","v":0}]
[null,755,{"$f":"Anlægskartotek!C766","v":0},{"$f":"+IF((Basisoplysninger!$D$60=\"Ja\")*(Anlægskartotek!C766<>0)=1,Anlægskartotek!$L$14,Anlægskartotek!I766)","v":0}]
[null,756,{"$f":"Anlægskartotek!C767","v":0},{"$f":"+IF((Basisoplysninger!$D$60=\"Ja\")*(Anlægskartotek!C767<>0)=1,Anlægskartotek!$L$14,Anlægskartotek!I767)","v":0}]
[null,757,{"$f":"Anlægskartotek!C768","v":0},{"$f":"+IF((Basisoplysninger!$D$60=\"Ja\")*(Anlægskartotek!C768<>0)=1,Anlægskartotek!$L$14,Anlægskartotek!I768)","v":0}]
[null,758,{"$f":"Anlægskartotek!C769","v":0},{"$f":"+IF((Basisoplysninger!$D$60=\"Ja\")*(Anlægskartotek!C769<>0)=1,Anlægskartotek!$L$14,Anlægskartotek!I769)","v":0}]
[null,759,{"$f":"Anlægskartotek!C770","v":0},{"$f":"+IF((Basisoplysninger!$D$60=\"Ja\")*(Anlægskartotek!C770<>0)=1,Anlægskartotek!$L$14,Anlægskartotek!I770)","v":0}]
[null,760,{"$f":"Anlægskartotek!C771","v":0},{"$f":"+IF((Basisoplysninger!$D$60=\"Ja\")*(Anlægskartotek!C771<>0)=1,Anlægskartotek!$L$14,Anlægskartotek!I771)","v":0}]
[null,761,{"$f":"Anlægskartotek!C772","v":0},{"$f":"+IF((Basisoplysninger!$D$60=\"Ja\")*(Anlægskartotek!C772<>0)=1,Anlægskartotek!$L$14,Anlægskartotek!I772)","v":0}]
[null,762,{"$f":"Anlægskartotek!C773","v":0},{"$f":"+IF((Basisoplysninger!$D$60=\"Ja\")*(Anlægskartotek!C773<>0)=1,Anlægskartotek!$L$14,Anlægskartotek!I773)","v":0}]
[null,763,{"$f":"Anlægskartotek!C774","v":0},{"$f":"+IF((Basisoplysninger!$D$60=\"Ja\")*(Anlægskartotek!C774<>0)=1,Anlægskartotek!$L$14,Anlægskartotek!I774)","v":0}]
[null,764,{"$f":"Anlægskartotek!C775","v":0},{"$f":"+IF((Basisoplysninger!$D$60=\"Ja\")*(Anlægskartotek!C775<>0)=1,Anlægskartotek!$L$14,Anlægskartotek!I775)","v":0}]
[null,765,{"$f":"Anlægskartotek!C776","v":0},{"$f":"+IF((Basisoplysninger!$D$60=\"Ja\")*(Anlægskartotek!C776<>0)=1,Anlægskartotek!$L$14,Anlægskartotek!I776)","v":0}]
[null,766,{"$f":"Anlægskartotek!C777","v":0},{"$f":"+IF((Basisoplysninger!$D$60=\"Ja\")*(Anlægskartotek!C777<>0)=1,Anlægskartotek!$L$14,Anlægskartotek!I777)","v":0}]
[null,767,{"$f":"Anlægskartotek!C778","v":0},{"$f":"+IF((Basisoplysninger!$D$60=\"Ja\")*(Anlægskartotek!C778<>0)=1,Anlægskartotek!$L$14,Anlægskartotek!I778)","v":0}]
[null,768,{"$f":"Anlægskartotek!C779","v":0},{"$f":"+IF((Basisoplysninger!$D$60=\"Ja\")*(Anlægskartotek!C779<>0)=1,Anlægskartotek!$L$14,Anlægskartotek!I779)","v":0}]
[null,769,{"$f":"Anlægskartotek!C780","v":0},{"$f":"+IF((Basisoplysninger!$D$60=\"Ja\")*(Anlægskartotek!C780<>0)=1,Anlægskartotek!$L$14,Anlægskartotek!I780)","v":0}]
[null,770,{"$f":"Anlægskartotek!C781","v":0},{"$f":"+IF((Basisoplysninger!$D$60=\"Ja\")*(Anlægskartotek!C781<>0)=1,Anlægskartotek!$L$14,Anlægskartotek!I781)","v":0}]
[null,{"$f":"B879+1","v":771},{"$f":"Anlægskartotek!C782","v":0},{"$f":"+IF((Basisoplysninger!$D$60=\"Ja\")*(Anlægskartotek!C782<>0)=1,Anlægskartotek!$L$14,Anlægskartotek!I782)","v":0}]
[null,772,{"$f":"Anlægskartotek!C783","v":0},{"$f":"+IF((Basisoplysninger!$D$60=\"Ja\")*(Anlægskartotek!C783<>0)=1,Anlægskartotek!$L$14,Anlægskartotek!I783)","v":0}]
[null,773,{"$f":"Anlægskartotek!C784","v":0},{"$f":"+IF((Basisoplysninger!$D$60=\"Ja\")*(Anlægskartotek!C784<>0)=1,Anlægskartotek!$L$14,Anlægskartotek!I784)","v":0}]
[null,774,{"$f":"Anlægskartotek!C785","v":0},{"$f":"+IF((Basisoplysninger!$D$60=\"Ja\")*(Anlægskartotek!C785<>0)=1,Anlægskartotek!$L$14,Anlægskartotek!I785)","v":0}]
[null,775,{"$f":"Anlægskartotek!C786","v":0},{"$f":"+IF((Basisoplysninger!$D$60=\"Ja\")*(Anlægskartotek!C786<>0)=1,Anlægskartotek!$L$14,Anlægskartotek!I786)","v":0}]
[null,776,{"$f":"Anlægskartotek!C787","v":0},{"$f":"+IF((Basisoplysninger!$D$60=\"Ja\")*(Anlægskartotek!C787<>0)=1,Anlægskartotek!$L$14,Anlægskartotek!I787)","v":0}]
[null,777,{"$f":"Anlægskartotek!C788","v":0},{"$f":"+IF((Basisoplysninger!$D$60=\"Ja\")*(Anlægskartotek!C788<>0)=1,Anlægskartotek!$L$14,Anlægskartotek!I788)","v":0}]
[null,778,{"$f":"Anlægskartotek!C789","v":0},{"$f":"+IF((Basisoplysninger!$D$60=\"Ja\")*(Anlægskartotek!C789<>0)=1,Anlægskartotek!$L$14,Anlægskartotek!I789)","v":0}]
[null,779,{"$f":"Anlægskartotek!C790","v":0},{"$f":"+IF((Basisoplysninger!$D$60=\"Ja\")*(Anlægskartotek!C790<>0)=1,Anlægskartotek!$L$14,Anlægskartotek!I790)","v":0}]
[null,780,{"$f":"Anlægskartotek!C791","v":0},{"$f":"+IF((Basisoplysninger!$D$60=\"Ja\")*(Anlægskartotek!C791<>0)=1,Anlægskartotek!$L$14,Anlægskartotek!I791)","v":0}]
[null,781,{"$f":"Anlægskartotek!C792","v":0},{"$f":"+IF((Basisoplysninger!$D$60=\"Ja\")*(Anlægskartotek!C792<>0)=1,Anlægskartotek!$L$14,Anlægskartotek!I792)","v":0}]
[null,782,{"$f":"Anlægskartotek!C793","v":0},{"$f":"+IF((Basisoplysninger!$D$60=\"Ja\")*(Anlægskartotek!C793<>0)=1,Anlægskartotek!$L$14,Anlægskartotek!I793)","v":0}]
[null,783,{"$f":"Anlægskartotek!C794","v":0},{"$f":"+IF((Basisoplysninger!$D$60=\"Ja\")*(Anlægskartotek!C794<>0)=1,Anlægskartotek!$L$14,Anlægskartotek!I794)","v":0}]
[null,784,{"$f":"Anlægskartotek!C795","v":0},{"$f":"+IF((Basisoplysninger!$D$60=\"Ja\")*(Anlægskartotek!C795<>0)=1,Anlægskartotek!$L$14,Anlægskartotek!I795)","v":0}]
[null,785,{"$f":"Anlægskartotek!C796","v":0},{"$f":"+IF((Basisoplysninger!$D$60=\"Ja\")*(Anlægskartotek!C796<>0)=1,Anlægskartotek!$L$14,Anlægskartotek!I796)","v":0}]
[null,786,{"$f":"Anlægskartotek!C797","v":0},{"$f":"+IF((Basisoplysninger!$D$60=\"Ja\")*(Anlægskartotek!C797<>0)=1,Anlægskartotek!$L$14,Anlægskartotek!I797)","v":0}]
[null,787,{"$f":"Anlægskartotek!C798","v":0},{"$f":"+IF((Basisoplysninger!$D$60=\"Ja\")*(Anlægskartotek!C798<>0)=1,Anlægskartotek!$L$14,Anlægskartotek!I798)","v":0}]
[null,788,{"$f":"Anlægskartotek!C799","v":0},{"$f":"+IF((Basisoplysninger!$D$60=\"Ja\")*(Anlægskartotek!C799<>0)=1,Anlægskartotek!$L$14,Anlægskartotek!I799)","v":0}]
[null,789,{"$f":"Anlægskartotek!C800","v":0},{"$f":"+IF((Basisoplysninger!$D$60=\"Ja\")*(Anlægskartotek!C800<>0)=1,Anlægskartotek!$L$14,Anlægskartotek!I800)","v":0}]
[null,790,{"$f":"Anlægskartotek!C801","v":0},{"$f":"+IF((Basisoplysninger!$D$60=\"Ja\")*(Anlægskartotek!C801<>0)=1,Anlægskartotek!$L$14,Anlægskartotek!I801)","v":0}]
[null,791,{"$f":"Anlægskartotek!C802","v":0},{"$f":"+IF((Basisoplysninger!$D$60=\"Ja\")*(Anlægskartotek!C802<>0)=1,Anlægskartotek!$L$14,Anlægskartotek!I802)","v":0}]
[null,792,{"$f":"Anlægskartotek!C803","v":0},{"$f":"+IF((Basisoplysninger!$D$60=\"Ja\")*(Anlægskartotek!C803<>0)=1,Anlægskartotek!$L$14,Anlægskartotek!I803)","v":0}]
[null,793,{"$f":"Anlægskartotek!C804","v":0},{"$f":"+IF((Basisoplysninger!$D$60=\"Ja\")*(Anlægskartotek!C804<>0)=1,Anlægskartotek!$L$14,Anlægskartotek!I804)","v":0}]
[null,794,{"$f":"Anlægskartotek!C805","v":0},{"$f":"+IF((Basisoplysninger!$D$60=\"Ja\")*(Anlægskartotek!C805<>0)=1,Anlægskartotek!$L$14,Anlægskartotek!I805)","v":0}]
[null,795,{"$f":"Anlægskartotek!C806","v":0},{"$f":"+IF((Basisoplysninger!$D$60=\"Ja\")*(Anlægskartotek!C806<>0)=1,Anlægskartotek!$L$14,Anlægskartotek!I806)","v":0}]
[null,796,{"$f":"Anlægskartotek!C807","v":0},{"$f":"+IF((Basisoplysninger!$D$60=\"Ja\")*(Anlægskartotek!C807<>0)=1,Anlægskartotek!$L$14,Anlægskartotek!I807)","v":0}]
[null,797,{"$f":"Anlægskartotek!C808","v":0},{"$f":"+IF((Basisoplysninger!$D$60=\"Ja\")*(Anlægskartotek!C808<>0)=1,Anlægskartotek!$L$14,Anlægskartotek!I808)","v":0}]
[null,798,{"$f":"Anlægskartotek!C809","v":0},{"$f":"+IF((Basisoplysninger!$D$60=\"Ja\")*(Anlægskartotek!C809<>0)=1,Anlægskartotek!$L$14,Anlægskartotek!I809)","v":0}]
[null,799,{"$f":"Anlægskartotek!C810","v":0},{"$f":"+IF((Basisoplysninger!$D$60=\"Ja\")*(Anlægskartotek!C810<>0)=1,Anlægskartotek!$L$14,Anlægskartotek!I810)","v":0}]
[null,800,{"$f":"Anlægskartotek!C811","v":0},{"$f":"+IF((Basisoplysninger!$D$60=\"Ja\")*(Anlægskartotek!C811<>0)=1,Anlægskartotek!$L$14,Anlægskartotek!I811)","v":0}]
[null,801,{"$f":"Anlægskartotek!C812","v":0},{"$f":"+IF((Basisoplysninger!$D$60=\"Ja\")*(Anlægskartotek!C812<>0)=1,Anlægskartotek!$L$14,Anlægskartotek!I812)","v":0}]
[null,802,{"$f":"Anlægskartotek!C813","v":0},{"$f":"+IF((Basisoplysninger!$D$60=\"Ja\")*(Anlægskartotek!C813<>0)=1,Anlægskartotek!$L$14,Anlægskartotek!I813)","v":0}]
[null,803,{"$f":"Anlægskartotek!C814","v":0},{"$f":"+IF((Basisoplysninger!$D$60=\"Ja\")*(Anlægskartotek!C814<>0)=1,Anlægskartotek!$L$14,Anlægskartotek!I814)","v":0}]
[null,804,{"$f":"Anlægskartotek!C815","v":0},{"$f":"+IF((Basisoplysninger!$D$60=\"Ja\")*(Anlægskartotek!C815<>0)=1,Anlægskartotek!$L$14,Anlægskartotek!I815)","v":0}]
[null,805,{"$f":"Anlægskartotek!C816","v":0},{"$f":"+IF((Basisoplysninger!$D$60=\"Ja\")*(Anlægskartotek!C816<>0)=1,Anlægskartotek!$L$14,Anlægskartotek!I816)","v":0}]
[null,806,{"$f":"Anlægskartotek!C817","v":0},{"$f":"+IF((Basisoplysninger!$D$60=\"Ja\")*(Anlægskartotek!C817<>0)=1,Anlægskartotek!$L$14,Anlægskartotek!I817)","v":0}]
[null,807,{"$f":"Anlægskartotek!C818","v":0},{"$f":"+IF((Basisoplysninger!$D$60=\"Ja\")*(Anlægskartotek!C818<>0)=1,Anlægskartotek!$L$14,Anlægskartotek!I818)","v":0}]
[null,808,{"$f":"Anlægskartotek!C819","v":0},{"$f":"+IF((Basisoplysninger!$D$60=\"Ja\")*(Anlægskartotek!C819<>0)=1,Anlægskartotek!$L$14,Anlægskartotek!I819)","v":0}]
[null,809,{"$f":"Anlægskartotek!C820","v":0},{"$f":"+IF((Basisoplysninger!$D$60=\"Ja\")*(Anlægskartotek!C820<>0)=1,Anlægskartotek!$L$14,Anlægskartotek!I820)","v":0}]
[null,810,{"$f":"Anlægskartotek!C821","v":0},{"$f":"+IF((Basisoplysninger!$D$60=\"Ja\")*(Anlægskartotek!C821<>0)=1,Anlægskartotek!$L$14,Anlægskartotek!I821)","v":0}]
[null,811,{"$f":"Anlægskartotek!C822","v":0},{"$f":"+IF((Basisoplysninger!$D$60=\"Ja\")*(Anlægskartotek!C822<>0)=1,Anlægskartotek!$L$14,Anlægskartotek!I822)","v":0}]
[null,812,{"$f":"Anlægskartotek!C823","v":0},{"$f":"+IF((Basisoplysninger!$D$60=\"Ja\")*(Anlægskartotek!C823<>0)=1,Anlægskartotek!$L$14,Anlægskartotek!I823)","v":0}]
[null,813,{"$f":"Anlægskartotek!C824","v":0},{"$f":"+IF((Basisoplysninger!$D$60=\"Ja\")*(Anlægskartotek!C824<>0)=1,Anlægskartotek!$L$14,Anlægskartotek!I824)","v":0}]
[null,814,{"$f":"Anlægskartotek!C825","v":0},{"$f":"+IF((Basisoplysninger!$D$60=\"Ja\")*(Anlægskartotek!C825<>0)=1,Anlægskartotek!$L$14,Anlægskartotek!I825)","v":0}]
[null,815,{"$f":"Anlægskartotek!C826","v":0},{"$f":"+IF((Basisoplysninger!$D$60=\"Ja\")*(Anlægskartotek!C826<>0)=1,Anlægskartotek!$L$14,Anlægskartotek!I826)","v":0}]
[null,816,{"$f":"Anlægskartotek!C827","v":0},{"$f":"+IF((Basisoplysninger!$D$60=\"Ja\")*(Anlægskartotek!C827<>0)=1,Anlægskartotek!$L$14,Anlægskartotek!I827)","v":0}]
[null,817,{"$f":"Anlægskartotek!C828","v":0},{"$f":"+IF((Basisoplysninger!$D$60=\"Ja\")*(Anlægskartotek!C828<>0)=1,Anlægskartotek!$L$14,Anlægskartotek!I828)","v":0}]
[null,818,{"$f":"Anlægskartotek!C829","v":0},{"$f":"+IF((Basisoplysninger!$D$60=\"Ja\")*(Anlægskartotek!C829<>0)=1,Anlægskartotek!$L$14,Anlægskartotek!I829)","v":0}]
[null,819,{"$f":"Anlægskartotek!C830","v":0},{"$f":"+IF((Basisoplysninger!$D$60=\"Ja\")*(Anlægskartotek!C830<>0)=1,Anlægskartotek!$L$14,Anlægskartotek!I830)","v":0}]
[null,820,{"$f":"Anlægskartotek!C831","v":0},{"$f":"+IF((Basisoplysninger!$D$60=\"Ja\")*(Anlægskartotek!C831<>0)=1,Anlægskartotek!$L$14,Anlægskartotek!I831)","v":0}]
[null,821,{"$f":"Anlægskartotek!C832","v":0},{"$f":"+IF((Basisoplysninger!$D$60=\"Ja\")*(Anlægskartotek!C832<>0)=1,Anlægskartotek!$L$14,Anlægskartotek!I832)","v":0}]
[null,822,{"$f":"Anlægskartotek!C833","v":0},{"$f":"+IF((Basisoplysninger!$D$60=\"Ja\")*(Anlægskartotek!C833<>0)=1,Anlægskartotek!$L$14,Anlægskartotek!I833)","v":0}]
[null,823,{"$f":"Anlægskartotek!C834","v":0},{"$f":"+IF((Basisoplysninger!$D$60=\"Ja\")*(Anlægskartotek!C834<>0)=1,Anlægskartotek!$L$14,Anlægskartotek!I834)","v":0}]
[null,824,{"$f":"Anlægskartotek!C835","v":0},{"$f":"+IF((Basisoplysninger!$D$60=\"Ja\")*(Anlægskartotek!C835<>0)=1,Anlægskartotek!$L$14,Anlægskartotek!I835)","v":0}]
[null,825,{"$f":"Anlægskartotek!C836","v":0},{"$f":"+IF((Basisoplysninger!$D$60=\"Ja\")*(Anlægskartotek!C836<>0)=1,Anlægskartotek!$L$14,Anlægskartotek!I836)","v":0}]
[null,826,{"$f":"Anlægskartotek!C837","v":0},{"$f":"+IF((Basisoplysninger!$D$60=\"Ja\")*(Anlægskartotek!C837<>0)=1,Anlægskartotek!$L$14,Anlægskartotek!I837)","v":0}]
[null,827,{"$f":"Anlægskartotek!C838","v":0},{"$f":"+IF((Basisoplysninger!$D$60=\"Ja\")*(Anlægskartotek!C838<>0)=1,Anlægskartotek!$L$14,Anlægskartotek!I838)","v":0}]
[null,828,{"$f":"Anlægskartotek!C839","v":0},{"$f":"+IF((Basisoplysninger!$D$60=\"Ja\")*(Anlægskartotek!C839<>0)=1,Anlægskartotek!$L$14,Anlægskartotek!I839)","v":0}]
[null,829,{"$f":"Anlægskartotek!C840","v":0},{"$f":"+IF((Basisoplysninger!$D$60=\"Ja\")*(Anlægskartotek!C840<>0)=1,Anlægskartotek!$L$14,Anlægskartotek!I840)","v":0}]
[null,830,{"$f":"Anlægskartotek!C841","v":0},{"$f":"+IF((Basisoplysninger!$D$60=\"Ja\")*(Anlægskartotek!C841<>0)=1,Anlægskartotek!$L$14,Anlægskartotek!I841)","v":0}]
[null,831,{"$f":"Anlægskartotek!C842","v":0},{"$f":"+IF((Basisoplysninger!$D$60=\"Ja\")*(Anlægskartotek!C842<>0)=1,Anlægskartotek!$L$14,Anlægskartotek!I842)","v":0}]
[null,832,{"$f":"Anlægskartotek!C843","v":0},{"$f":"+IF((Basisoplysninger!$D$60=\"Ja\")*(Anlægskartotek!C843<>0)=1,Anlægskartotek!$L$14,Anlægskartotek!I843)","v":0}]
[null,833,{"$f":"Anlægskartotek!C844","v":0},{"$f":"+IF((Basisoplysninger!$D$60=\"Ja\")*(Anlægskartotek!C844<>0)=1,Anlægskartotek!$L$14,Anlægskartotek!I844)","v":0}]
[null,834,{"$f":"Anlægskartotek!C845","v":0},{"$f":"+IF((Basisoplysninger!$D$60=\"Ja\")*(Anlægskartotek!C845<>0)=1,Anlægskartotek!$L$14,Anlægskartotek!I845)","v":0}]
[null,{"$f":"B943+1","v":835},{"$f":"Anlægskartotek!C846","v":0},{"$f":"+IF((Basisoplysninger!$D$60=\"Ja\")*(Anlægskartotek!C846<>0)=1,Anlægskartotek!$L$14,Anlægskartotek!I846)","v":0}]
[null,836,{"$f":"Anlægskartotek!C847","v":0},{"$f":"+IF((Basisoplysninger!$D$60=\"Ja\")*(Anlægskartotek!C847<>0)=1,Anlægskartotek!$L$14,Anlægskartotek!I847)","v":0}]
[null,837,{"$f":"Anlægskartotek!C848","v":0},{"$f":"+IF((Basisoplysninger!$D$60=\"Ja\")*(Anlægskartotek!C848<>0)=1,Anlægskartotek!$L$14,Anlægskartotek!I848)","v":0}]
[null,838,{"$f":"Anlægskartotek!C849","v":0},{"$f":"+IF((Basisoplysninger!$D$60=\"Ja\")*(Anlægskartotek!C849<>0)=1,Anlægskartotek!$L$14,Anlægskartotek!I849)","v":0}]
[null,839,{"$f":"Anlægskartotek!C850","v":0},{"$f":"+IF((Basisoplysninger!$D$60=\"Ja\")*(Anlægskartotek!C850<>0)=1,Anlægskartotek!$L$14,Anlægskartotek!I850)","v":0}]
[null,840,{"$f":"Anlægskartotek!C851","v":0},{"$f":"+IF((Basisoplysninger!$D$60=\"Ja\")*(Anlægskartotek!C851<>0)=1,Anlægskartotek!$L$14,Anlægskartotek!I851)","v":0}]
[null,841,{"$f":"Anlægskartotek!C852","v":0},{"$f":"+IF((Basisoplysninger!$D$60=\"Ja\")*(Anlægskartotek!C852<>0)=1,Anlægskartotek!$L$14,Anlægskartotek!I852)","v":0}]
[null,842,{"$f":"Anlægskartotek!C853","v":0},{"$f":"+IF((Basisoplysninger!$D$60=\"Ja\")*(Anlægskartotek!C853<>0)=1,Anlægskartotek!$L$14,Anlægskartotek!I853)","v":0}]
[null,843,{"$f":"Anlægskartotek!C854","v":0},{"$f":"+IF((Basisoplysninger!$D$60=\"Ja\")*(Anlægskartotek!C854<>0)=1,Anlægskartotek!$L$14,Anlægskartotek!I854)","v":0}]
[null,844,{"$f":"Anlægskartotek!C855","v":0},{"$f":"+IF((Basisoplysninger!$D$60=\"Ja\")*(Anlægskartotek!C855<>0)=1,Anlægskartotek!$L$14,Anlægskartotek!I855)","v":0}]
[null,845,{"$f":"Anlægskartotek!C856","v":0},{"$f":"+IF((Basisoplysninger!$D$60=\"Ja\")*(Anlægskartotek!C856<>0)=1,Anlægskartotek!$L$14,Anlægskartotek!I856)","v":0}]
[null,846,{"$f":"Anlægskartotek!C857","v":0},{"$f":"+IF((Basisoplysninger!$D$60=\"Ja\")*(Anlægskartotek!C857<>0)=1,Anlægskartotek!$L$14,Anlægskartotek!I857)","v":0}]
[null,847,{"$f":"Anlægskartotek!C858","v":0},{"$f":"+IF((Basisoplysninger!$D$60=\"Ja\")*(Anlægskartotek!C858<>0)=1,Anlægskartotek!$L$14,Anlægskartotek!I858)","v":0}]
[null,848,{"$f":"Anlægskartotek!C859","v":0},{"$f":"+IF((Basisoplysninger!$D$60=\"Ja\")*(Anlægskartotek!C859<>0)=1,Anlægskartotek!$L$14,Anlægskartotek!I859)","v":0}]
[null,849,{"$f":"Anlægskartotek!C860","v":0},{"$f":"+IF((Basisoplysninger!$D$60=\"Ja\")*(Anlægskartotek!C860<>0)=1,Anlægskartotek!$L$14,Anlægskartotek!I860)","v":0}]
[null,850,{"$f":"Anlægskartotek!C861","v":0},{"$f":"+IF((Basisoplysninger!$D$60=\"Ja\")*(Anlægskartotek!C861<>0)=1,Anlægskartotek!$L$14,Anlægskartotek!I861)","v":0}]
[null,851,{"$f":"Anlægskartotek!C862","v":0},{"$f":"+IF((Basisoplysninger!$D$60=\"Ja\")*(Anlægskartotek!C862<>0)=1,Anlægskartotek!$L$14,Anlægskartotek!I862)","v":0}]
[null,852,{"$f":"Anlægskartotek!C863","v":0},{"$f":"+IF((Basisoplysninger!$D$60=\"Ja\")*(Anlægskartotek!C863<>0)=1,Anlægskartotek!$L$14,Anlægskartotek!I863)","v":0}]
[null,853,{"$f":"Anlægskartotek!C864","v":0},{"$f":"+IF((Basisoplysninger!$D$60=\"Ja\")*(Anlægskartotek!C864<>0)=1,Anlægskartotek!$L$14,Anlægskartotek!I864)","v":0}]
[null,854,{"$f":"Anlægskartotek!C865","v":0},{"$f":"+IF((Basisoplysninger!$D$60=\"Ja\")*(Anlægskartotek!C865<>0)=1,Anlægskartotek!$L$14,Anlægskartotek!I865)","v":0}]
[null,855,{"$f":"Anlægskartotek!C866","v":0},{"$f":"+IF((Basisoplysninger!$D$60=\"Ja\")*(Anlægskartotek!C866<>0)=1,Anlægskartotek!$L$14,Anlægskartotek!I866)","v":0}]
[null,856,{"$f":"Anlægskartotek!C867","v":0},{"$f":"+IF((Basisoplysninger!$D$60=\"Ja\")*(Anlægskartotek!C867<>0)=1,Anlægskartotek!$L$14,Anlægskartotek!I867)","v":0}]
[null,857,{"$f":"Anlægskartotek!C868","v":0},{"$f":"+IF((Basisoplysninger!$D$60=\"Ja\")*(Anlægskartotek!C868<>0)=1,Anlægskartotek!$L$14,Anlægskartotek!I868)","v":0}]
[null,858,{"$f":"Anlægskartotek!C869","v":0},{"$f":"+IF((Basisoplysninger!$D$60=\"Ja\")*(Anlægskartotek!C869<>0)=1,Anlægskartotek!$L$14,Anlægskartotek!I869)","v":0}]
[null,859,{"$f":"Anlægskartotek!C870","v":0},{"$f":"+IF((Basisoplysninger!$D$60=\"Ja\")*(Anlægskartotek!C870<>0)=1,Anlægskartotek!$L$14,Anlægskartotek!I870)","v":0}]
[null,860,{"$f":"Anlægskartotek!C871","v":0},{"$f":"+IF((Basisoplysninger!$D$60=\"Ja\")*(Anlægskartotek!C871<>0)=1,Anlægskartotek!$L$14,Anlægskartotek!I871)","v":0}]
[null,861,{"$f":"Anlægskartotek!C872","v":0},{"$f":"+IF((Basisoplysninger!$D$60=\"Ja\")*(Anlægskartotek!C872<>0)=1,Anlægskartotek!$L$14,Anlægskartotek!I872)","v":0}]
[null,862,{"$f":"Anlægskartotek!C873","v":0},{"$f":"+IF((Basisoplysninger!$D$60=\"Ja\")*(Anlægskartotek!C873<>0)=1,Anlægskartotek!$L$14,Anlægskartotek!I873)","v":0}]
[null,863,{"$f":"Anlægskartotek!C874","v":0},{"$f":"+IF((Basisoplysninger!$D$60=\"Ja\")*(Anlægskartotek!C874<>0)=1,Anlægskartotek!$L$14,Anlægskartotek!I874)","v":0}]
[null,864,{"$f":"Anlægskartotek!C875","v":0},{"$f":"+IF((Basisoplysninger!$D$60=\"Ja\")*(Anlægskartotek!C875<>0)=1,Anlægskartotek!$L$14,Anlægskartotek!I875)","v":0}]
[null,865,{"$f":"Anlægskartotek!C876","v":0},{"$f":"+IF((Basisoplysninger!$D$60=\"Ja\")*(Anlægskartotek!C876<>0)=1,Anlægskartotek!$L$14,Anlægskartotek!I876)","v":0}]
[null,866,{"$f":"Anlægskartotek!C877","v":0},{"$f":"+IF((Basisoplysninger!$D$60=\"Ja\")*(Anlægskartotek!C877<>0)=1,Anlægskartotek!$L$14,Anlægskartotek!I877)","v":0}]
[null,867,{"$f":"Anlægskartotek!C878","v":0},{"$f":"+IF((Basisoplysninger!$D$60=\"Ja\")*(Anlægskartotek!C878<>0)=1,Anlægskartotek!$L$14,Anlægskartotek!I878)","v":0}]
[null,868,{"$f":"Anlægskartotek!C879","v":0},{"$f":"+IF((Basisoplysninger!$D$60=\"Ja\")*(Anlægskartotek!C879<>0)=1,Anlægskartotek!$L$14,Anlægskartotek!I879)","v":0}]
[null,869,{"$f":"Anlægskartotek!C880","v":0},{"$f":"+IF((Basisoplysninger!$D$60=\"Ja\")*(Anlægskartotek!C880<>0)=1,Anlægskartotek!$L$14,Anlægskartotek!I880)","v":0}]
[null,870,{"$f":"Anlægskartotek!C881","v":0},{"$f":"+IF((Basisoplysninger!$D$60=\"Ja\")*(Anlægskartotek!C881<>0)=1,Anlægskartotek!$L$14,Anlægskartotek!I881)","v":0}]
[null,871,{"$f":"Anlægskartotek!C882","v":0},{"$f":"+IF((Basisoplysninger!$D$60=\"Ja\")*(Anlægskartotek!C882<>0)=1,Anlægskartotek!$L$14,Anlægskartotek!I882)","v":0}]
[null,872,{"$f":"Anlægskartotek!C883","v":0},{"$f":"+IF((Basisoplysninger!$D$60=\"Ja\")*(Anlægskartotek!C883<>0)=1,Anlægskartotek!$L$14,Anlægskartotek!I883)","v":0}]
[null,873,{"$f":"Anlægskartotek!C884","v":0},{"$f":"+IF((Basisoplysninger!$D$60=\"Ja\")*(Anlægskartotek!C884<>0)=1,Anlægskartotek!$L$14,Anlægskartotek!I884)","v":0}]
[null,874,{"$f":"Anlægskartotek!C885","v":0},{"$f":"+IF((Basisoplysninger!$D$60=\"Ja\")*(Anlægskartotek!C885<>0)=1,Anlægskartotek!$L$14,Anlægskartotek!I885)","v":0}]
[null,875,{"$f":"Anlægskartotek!C886","v":0},{"$f":"+IF((Basisoplysninger!$D$60=\"Ja\")*(Anlægskartotek!C886<>0)=1,Anlægskartotek!$L$14,Anlægskartotek!I886)","v":0}]
[null,876,{"$f":"Anlægskartotek!C887","v":0},{"$f":"+IF((Basisoplysninger!$D$60=\"Ja\")*(Anlægskartotek!C887<>0)=1,Anlægskartotek!$L$14,Anlægskartotek!I887)","v":0}]
[null,877,{"$f":"Anlægskartotek!C888","v":0},{"$f":"+IF((Basisoplysninger!$D$60=\"Ja\")*(Anlægskartotek!C888<>0)=1,Anlægskartotek!$L$14,Anlægskartotek!I888)","v":0}]
[null,878,{"$f":"Anlægskartotek!C889","v":0},{"$f":"+IF((Basisoplysninger!$D$60=\"Ja\")*(Anlægskartotek!C889<>0)=1,Anlægskartotek!$L$14,Anlægskartotek!I889)","v":0}]
[null,879,{"$f":"Anlægskartotek!C890","v":0},{"$f":"+IF((Basisoplysninger!$D$60=\"Ja\")*(Anlægskartotek!C890<>0)=1,Anlægskartotek!$L$14,Anlægskartotek!I890)","v":0}]
[null,880,{"$f":"Anlægskartotek!C891","v":0},{"$f":"+IF((Basisoplysninger!$D$60=\"Ja\")*(Anlægskartotek!C891<>0)=1,Anlægskartotek!$L$14,Anlægskartotek!I891)","v":0}]
[null,881,{"$f":"Anlægskartotek!C892","v":0},{"$f":"+IF((Basisoplysninger!$D$60=\"Ja\")*(Anlægskartotek!C892<>0)=1,Anlægskartotek!$L$14,Anlægskartotek!I892)","v":0}]
[null,882,{"$f":"Anlægskartotek!C893","v":0},{"$f":"+IF((Basisoplysninger!$D$60=\"Ja\")*(Anlægskartotek!C893<>0)=1,Anlægskartotek!$L$14,Anlægskartotek!I893)","v":0}]
[null,883,{"$f":"Anlægskartotek!C894","v":0},{"$f":"+IF((Basisoplysninger!$D$60=\"Ja\")*(Anlægskartotek!C894<>0)=1,Anlægskartotek!$L$14,Anlægskartotek!I894)","v":0}]
[null,884,{"$f":"Anlægskartotek!C895","v":0},{"$f":"+IF((Basisoplysninger!$D$60=\"Ja\")*(Anlægskartotek!C895<>0)=1,Anlægskartotek!$L$14,Anlægskartotek!I895)","v":0}]
[null,885,{"$f":"Anlægskartotek!C896","v":0},{"$f":"+IF((Basisoplysninger!$D$60=\"Ja\")*(Anlægskartotek!C896<>0)=1,Anlægskartotek!$L$14,Anlægskartotek!I896)","v":0}]
[null,886,{"$f":"Anlægskartotek!C897","v":0},{"$f":"+IF((Basisoplysninger!$D$60=\"Ja\")*(Anlægskartotek!C897<>0)=1,Anlægskartotek!$L$14,Anlægskartotek!I897)","v":0}]
[null,887,{"$f":"Anlægskartotek!C898","v":0},{"$f":"+IF((Basisoplysninger!$D$60=\"Ja\")*(Anlægskartotek!C898<>0)=1,Anlægskartotek!$L$14,Anlægskartotek!I898)","v":0}]
[null,888,{"$f":"Anlægskartotek!C899","v":0},{"$f":"+IF((Basisoplysninger!$D$60=\"Ja\")*(Anlægskartotek!C899<>0)=1,Anlægskartotek!$L$14,Anlægskartotek!I899)","v":0}]
[null,889,{"$f":"Anlægskartotek!C900","v":0},{"$f":"+IF((Basisoplysninger!$D$60=\"Ja\")*(Anlægskartotek!C900<>0)=1,Anlægskartotek!$L$14,Anlægskartotek!I900)","v":0}]
[null,890,{"$f":"Anlægskartotek!C901","v":0},{"$f":"+IF((Basisoplysninger!$D$60=\"Ja\")*(Anlægskartotek!C901<>0)=1,Anlægskartotek!$L$14,Anlægskartotek!I901)","v":0}]
[null,891,{"$f":"Anlægskartotek!C902","v":0},{"$f":"+IF((Basisoplysninger!$D$60=\"Ja\")*(Anlægskartotek!C902<>0)=1,Anlægskartotek!$L$14,Anlægskartotek!I902)","v":0}]
[null,892,{"$f":"Anlægskartotek!C903","v":0},{"$f":"+IF((Basisoplysninger!$D$60=\"Ja\")*(Anlægskartotek!C903<>0)=1,Anlægskartotek!$L$14,Anlægskartotek!I903)","v":0}]
[null,893,{"$f":"Anlægskartotek!C904","v":0},{"$f":"+IF((Basisoplysninger!$D$60=\"Ja\")*(Anlægskartotek!C904<>0)=1,Anlægskartotek!$L$14,Anlægskartotek!I904)","v":0}]
[null,894,{"$f":"Anlægskartotek!C905","v":0},{"$f":"+IF((Basisoplysninger!$D$60=\"Ja\")*(Anlægskartotek!C905<>0)=1,Anlægskartotek!$L$14,Anlægskartotek!I905)","v":0}]
[null,895,{"$f":"Anlægskartotek!C906","v":0},{"$f":"+IF((Basisoplysninger!$D$60=\"Ja\")*(Anlægskartotek!C906<>0)=1,Anlægskartotek!$L$14,Anlægskartotek!I906)","v":0}]
[null,896,{"$f":"Anlægskartotek!C907","v":0},{"$f":"+IF((Basisoplysninger!$D$60=\"Ja\")*(Anlægskartotek!C907<>0)=1,Anlægskartotek!$L$14,Anlægskartotek!I907)","v":0}]
[null,897,{"$f":"Anlægskartotek!C908","v":0},{"$f":"+IF((Basisoplysninger!$D$60=\"Ja\")*(Anlægskartotek!C908<>0)=1,Anlægskartotek!$L$14,Anlægskartotek!I908)","v":0}]
[null,898,{"$f":"Anlægskartotek!C909","v":0},{"$f":"+IF((Basisoplysninger!$D$60=\"Ja\")*(Anlægskartotek!C909<>0)=1,Anlægskartotek!$L$14,Anlægskartotek!I909)","v":0}]
[null,{"$f":"B1007+1","v":899},{"$f":"Anlægskartotek!C910","v":0},{"$f":"+IF((Basisoplysninger!$D$60=\"Ja\")*(Anlægskartotek!C910<>0)=1,Anlægskartotek!$L$14,Anlægskartotek!I910)","v":0}]
[null,900,{"$f":"Anlægskartotek!C911","v":0},{"$f":"+IF((Basisoplysninger!$D$60=\"Ja\")*(Anlægskartotek!C911<>0)=1,Anlægskartotek!$L$14,Anlægskartotek!I911)","v":0}]
[null,901,{"$f":"Anlægskartotek!C912","v":0},{"$f":"+IF((Basisoplysninger!$D$60=\"Ja\")*(Anlægskartotek!C912<>0)=1,Anlægskartotek!$L$14,Anlægskartotek!I912)","v":0}]
[null,902,{"$f":"Anlægskartotek!C913","v":0},{"$f":"+IF((Basisoplysninger!$D$60=\"Ja\")*(Anlægskartotek!C913<>0)=1,Anlægskartotek!$L$14,Anlægskartotek!I913)","v":0}]
[null,903,{"$f":"Anlægskartotek!C914","v":0},{"$f":"+IF((Basisoplysninger!$D$60=\"Ja\")*(Anlægskartotek!C914<>0)=1,Anlægskartotek!$L$14,Anlægskartotek!I914)","v":0}]
[null,904,{"$f":"Anlægskartotek!C915","v":0},{"$f":"+IF((Basisoplysninger!$D$60=\"Ja\")*(Anlægskartotek!C915<>0)=1,Anlægskartotek!$L$14,Anlægskartotek!I915)","v":0}]
[null,905,{"$f":"Anlægskartotek!C916","v":0},{"$f":"+IF((Basisoplysninger!$D$60=\"Ja\")*(Anlægskartotek!C916<>0)=1,Anlægskartotek!$L$14,Anlægskartotek!I916)","v":0}]
[null,906,{"$f":"Anlægskartotek!C917","v":0},{"$f":"+IF((Basisoplysninger!$D$60=\"Ja\")*(Anlægskartotek!C917<>0)=1,Anlægskartotek!$L$14,Anlægskartotek!I917)","v":0}]
[null,907,{"$f":"Anlægskartotek!C918","v":0},{"$f":"+IF((Basisoplysninger!$D$60=\"Ja\")*(Anlægskartotek!C918<>0)=1,Anlægskartotek!$L$14,Anlægskartotek!I918)","v":0}]
[null,908,{"$f":"Anlægskartotek!C919","v":0},{"$f":"+IF((Basisoplysninger!$D$60=\"Ja\")*(Anlægskartotek!C919<>0)=1,Anlægskartotek!$L$14,Anlægskartotek!I919)","v":0}]
[null,909,{"$f":"Anlægskartotek!C920","v":0},{"$f":"+IF((Basisoplysninger!$D$60=\"Ja\")*(Anlægskartotek!C920<>0)=1,Anlægskartotek!$L$14,Anlægskartotek!I920)","v":0}]
[null,910,{"$f":"Anlægskartotek!C921","v":0},{"$f":"+IF((Basisoplysninger!$D$60=\"Ja\")*(Anlægskartotek!C921<>0)=1,Anlægskartotek!$L$14,Anlægskartotek!I921)","v":0}]
[null,911,{"$f":"Anlægskartotek!C922","v":0},{"$f":"+IF((Basisoplysninger!$D$60=\"Ja\")*(Anlægskartotek!C922<>0)=1,Anlægskartotek!$L$14,Anlægskartotek!I922)","v":0}]
[null,912,{"$f":"Anlægskartotek!C923","v":0},{"$f":"+IF((Basisoplysninger!$D$60=\"Ja\")*(Anlægskartotek!C923<>0)=1,Anlægskartotek!$L$14,Anlægskartotek!I923)","v":0}]
[null,913,{"$f":"Anlægskartotek!C924","v":0},{"$f":"+IF((Basisoplysninger!$D$60=\"Ja\")*(Anlægskartotek!C924<>0)=1,Anlægskartotek!$L$14,Anlægskartotek!I924)","v":0}]
[null,914,{"$f":"Anlægskartotek!C925","v":0},{"$f":"+IF((Basisoplysninger!$D$60=\"Ja\")*(Anlægskartotek!C925<>0)=1,Anlægskartotek!$L$14,Anlægskartotek!I925)","v":0}]
[null,915,{"$f":"Anlægskartotek!C926","v":0},{"$f":"+IF((Basisoplysninger!$D$60=\"Ja\")*(Anlægskartotek!C926<>0)=1,Anlægskartotek!$L$14,Anlægskartotek!I926)","v":0}]
[null,916,{"$f":"Anlægskartotek!C927","v":0},{"$f":"+IF((Basisoplysninger!$D$60=\"Ja\")*(Anlægskartotek!C927<>0)=1,Anlægskartotek!$L$14,Anlægskartotek!I927)","v":0}]
[null,917,{"$f":"Anlægskartotek!C928","v":0},{"$f":"+IF((Basisoplysninger!$D$60=\"Ja\")*(Anlægskartotek!C928<>0)=1,Anlægskartotek!$L$14,Anlægskartotek!I928)","v":0}]
[null,918,{"$f":"Anlægskartotek!C929","v":0},{"$f":"+IF((Basisoplysninger!$D$60=\"Ja\")*(Anlægskartotek!C929<>0)=1,Anlægskartotek!$L$14,Anlægskartotek!I929)","v":0}]
[null,919,{"$f":"Anlægskartotek!C930","v":0},{"$f":"+IF((Basisoplysninger!$D$60=\"Ja\")*(Anlægskartotek!C930<>0)=1,Anlægskartotek!$L$14,Anlægskartotek!I930)","v":0}]
[null,920,{"$f":"Anlægskartotek!C931","v":0},{"$f":"+IF((Basisoplysninger!$D$60=\"Ja\")*(Anlægskartotek!C931<>0)=1,Anlægskartotek!$L$14,Anlægskartotek!I931)","v":0}]
[null,921,{"$f":"Anlægskartotek!C932","v":0},{"$f":"+IF((Basisoplysninger!$D$60=\"Ja\")*(Anlægskartotek!C932<>0)=1,Anlægskartotek!$L$14,Anlægskartotek!I932)","v":0}]
[null,922,{"$f":"Anlægskartotek!C933","v":0},{"$f":"+IF((Basisoplysninger!$D$60=\"Ja\")*(Anlægskartotek!C933<>0)=1,Anlægskartotek!$L$14,Anlægskartotek!I933)","v":0}]
[null,923,{"$f":"Anlægskartotek!C934","v":0},{"$f":"+IF((Basisoplysninger!$D$60=\"Ja\")*(Anlægskartotek!C934<>0)=1,Anlægskartotek!$L$14,Anlægskartotek!I934)","v":0}]
[null,924,{"$f":"Anlægskartotek!C935","v":0},{"$f":"+IF((Basisoplysninger!$D$60=\"Ja\")*(Anlægskartotek!C935<>0)=1,Anlægskartotek!$L$14,Anlægskartotek!I935)","v":0}]
[null,925,{"$f":"Anlægskartotek!C936","v":0},{"$f":"+IF((Basisoplysninger!$D$60=\"Ja\")*(Anlægskartotek!C936<>0)=1,Anlægskartotek!$L$14,Anlægskartotek!I936)","v":0}]
[null,926,{"$f":"Anlægskartotek!C937","v":0},{"$f":"+IF((Basisoplysninger!$D$60=\"Ja\")*(Anlægskartotek!C937<>0)=1,Anlægskartotek!$L$14,Anlægskartotek!I937)","v":0}]
[null,927,{"$f":"Anlægskartotek!C938","v":0},{"$f":"+IF((Basisoplysninger!$D$60=\"Ja\")*(Anlægskartotek!C938<>0)=1,Anlægskartotek!$L$14,Anlægskartotek!I938)","v":0}]
[null,928,{"$f":"Anlægskartotek!C939","v":0},{"$f":"+IF((Basisoplysninger!$D$60=\"Ja\")*(Anlægskartotek!C939<>0)=1,Anlægskartotek!$L$14,Anlægskartotek!I939)","v":0}]
[null,929,{"$f":"Anlægskartotek!C940","v":0},{"$f":"+IF((Basisoplysninger!$D$60=\"Ja\")*(Anlægskartotek!C940<>0)=1,Anlægskartotek!$L$14,Anlægskartotek!I940)","v":0}]
[null,930,{"$f":"Anlægskartotek!C941","v":0},{"$f":"+IF((Basisoplysninger!$D$60=\"Ja\")*(Anlægskartotek!C941<>0)=1,Anlægskartotek!$L$14,Anlægskartotek!I941)","v":0}]
[null,931,{"$f":"Anlægskartotek!C942","v":0},{"$f":"+IF((Basisoplysninger!$D$60=\"Ja\")*(Anlægskartotek!C942<>0)=1,Anlægskartotek!$L$14,Anlægskartotek!I942)","v":0}]
[null,932,{"$f":"Anlægskartotek!C943","v":0},{"$f":"+IF((Basisoplysninger!$D$60=\"Ja\")*(Anlægskartotek!C943<>0)=1,Anlægskartotek!$L$14,Anlægskartotek!I943)","v":0}]
[null,933,{"$f":"Anlægskartotek!C944","v":0},{"$f":"+IF((Basisoplysninger!$D$60=\"Ja\")*(Anlægskartotek!C944<>0)=1,Anlægskartotek!$L$14,Anlægskartotek!I944)","v":0}]
[null,934,{"$f":"Anlægskartotek!C945","v":0},{"$f":"+IF((Basisoplysninger!$D$60=\"Ja\")*(Anlægskartotek!C945<>0)=1,Anlægskartotek!$L$14,Anlægskartotek!I945)","v":0}]
[null,935,{"$f":"Anlægskartotek!C946","v":0},{"$f":"+IF((Basisoplysninger!$D$60=\"Ja\")*(Anlægskartotek!C946<>0)=1,Anlægskartotek!$L$14,Anlægskartotek!I946)","v":0}]
[null,936,{"$f":"Anlægskartotek!C947","v":0},{"$f":"+IF((Basisoplysninger!$D$60=\"Ja\")*(Anlægskartotek!C947<>0)=1,Anlægskartotek!$L$14,Anlægskartotek!I947)","v":0}]
[null,937,{"$f":"Anlægskartotek!C948","v":0},{"$f":"+IF((Basisoplysninger!$D$60=\"Ja\")*(Anlægskartotek!C948<>0)=1,Anlægskartotek!$L$14,Anlægskartotek!I948)","v":0}]
[null,938,{"$f":"Anlægskartotek!C949","v":0},{"$f":"+IF((Basisoplysninger!$D$60=\"Ja\")*(Anlægskartotek!C949<>0)=1,Anlægskartotek!$L$14,Anlægskartotek!I949)","v":0}]
[null,939,{"$f":"Anlægskartotek!C950","v":0},{"$f":"+IF((Basisoplysninger!$D$60=\"Ja\")*(Anlægskartotek!C950<>0)=1,Anlægskartotek!$L$14,Anlægskartotek!I950)","v":0}]
[null,940,{"$f":"Anlægskartotek!C951","v":0},{"$f":"+IF((Basisoplysninger!$D$60=\"Ja\")*(Anlægskartotek!C951<>0)=1,Anlægskartotek!$L$14,Anlægskartotek!I951)","v":0}]
[null,941,{"$f":"Anlægskartotek!C952","v":0},{"$f":"+IF((Basisoplysninger!$D$60=\"Ja\")*(Anlægskartotek!C952<>0)=1,Anlægskartotek!$L$14,Anlægskartotek!I952)","v":0}]
[null,942,{"$f":"Anlægskartotek!C953","v":0},{"$f":"+IF((Basisoplysninger!$D$60=\"Ja\")*(Anlægskartotek!C953<>0)=1,Anlægskartotek!$L$14,Anlægskartotek!I953)","v":0}]
[null,943,{"$f":"Anlægskartotek!C954","v":0},{"$f":"+IF((Basisoplysninger!$D$60=\"Ja\")*(Anlægskartotek!C954<>0)=1,Anlægskartotek!$L$14,Anlægskartotek!I954)","v":0}]
[null,944,{"$f":"Anlægskartotek!C955","v":0},{"$f":"+IF((Basisoplysninger!$D$60=\"Ja\")*(Anlægskartotek!C955<>0)=1,Anlægskartotek!$L$14,Anlægskartotek!I955)","v":0}]
[null,945,{"$f":"Anlægskartotek!C956","v":0},{"$f":"+IF((Basisoplysninger!$D$60=\"Ja\")*(Anlægskartotek!C956<>0)=1,Anlægskartotek!$L$14,Anlægskartotek!I956)","v":0}]
[null,946,{"$f":"Anlægskartotek!C957","v":0},{"$f":"+IF((Basisoplysninger!$D$60=\"Ja\")*(Anlægskartotek!C957<>0)=1,Anlægskartotek!$L$14,Anlægskartotek!I957)","v":0}]
[null,947,{"$f":"Anlægskartotek!C958","v":0},{"$f":"+IF((Basisoplysninger!$D$60=\"Ja\")*(Anlægskartotek!C958<>0)=1,Anlægskartotek!$L$14,Anlægskartotek!I958)","v":0}]
[null,948,{"$f":"Anlægskartotek!C959","v":0},{"$f":"+IF((Basisoplysninger!$D$60=\"Ja\")*(Anlægskartotek!C959<>0)=1,Anlægskartotek!$L$14,Anlægskartotek!I959)","v":0}]
[null,949,{"$f":"Anlægskartotek!C960","v":0},{"$f":"+IF((Basisoplysninger!$D$60=\"Ja\")*(Anlægskartotek!C960<>0)=1,Anlægskartotek!$L$14,Anlægskartotek!I960)","v":0}]
[null,950,{"$f":"Anlægskartotek!C961","v":0},{"$f":"+IF((Basisoplysninger!$D$60=\"Ja\")*(Anlægskartotek!C961<>0)=1,Anlægskartotek!$L$14,Anlægskartotek!I961)","v":0}]
[null,951,{"$f":"Anlægskartotek!C962","v":0},{"$f":"+IF((Basisoplysninger!$D$60=\"Ja\")*(Anlægskartotek!C962<>0)=1,Anlægskartotek!$L$14,Anlægskartotek!I962)","v":0}]
[null,952,{"$f":"Anlægskartotek!C963","v":0},{"$f":"+IF((Basisoplysninger!$D$60=\"Ja\")*(Anlægskartotek!C963<>0)=1,Anlægskartotek!$L$14,Anlægskartotek!I963)","v":0}]
[null,953,{"$f":"Anlægskartotek!C964","v":0},{"$f":"+IF((Basisoplysninger!$D$60=\"Ja\")*(Anlægskartotek!C964<>0)=1,Anlægskartotek!$L$14,Anlægskartotek!I964)","v":0}]
[null,954,{"$f":"Anlægskartotek!C965","v":0},{"$f":"+IF((Basisoplysninger!$D$60=\"Ja\")*(Anlægskartotek!C965<>0)=1,Anlægskartotek!$L$14,Anlægskartotek!I965)","v":0}]
[null,955,{"$f":"Anlægskartotek!C966","v":0},{"$f":"+IF((Basisoplysninger!$D$60=\"Ja\")*(Anlægskartotek!C966<>0)=1,Anlægskartotek!$L$14,Anlægskartotek!I966)","v":0}]
[null,956,{"$f":"Anlægskartotek!C967","v":0},{"$f":"+IF((Basisoplysninger!$D$60=\"Ja\")*(Anlægskartotek!C967<>0)=1,Anlægskartotek!$L$14,Anlægskartotek!I967)","v":0}]
[null,957,{"$f":"Anlægskartotek!C968","v":0},{"$f":"+IF((Basisoplysninger!$D$60=\"Ja\")*(Anlægskartotek!C968<>0)=1,Anlægskartotek!$L$14,Anlægskartotek!I968)","v":0}]
[null,958,{"$f":"Anlægskartotek!C969","v":0},{"$f":"+IF((Basisoplysninger!$D$60=\"Ja\")*(Anlægskartotek!C969<>0)=1,Anlægskartotek!$L$14,Anlægskartotek!I969)","v":0}]
[null,959,{"$f":"Anlægskartotek!C970","v":0},{"$f":"+IF((Basisoplysninger!$D$60=\"Ja\")*(Anlægskartotek!C970<>0)=1,Anlægskartotek!$L$14,Anlægskartotek!I970)","v":0}]
[null,960,{"$f":"Anlægskartotek!C971","v":0},{"$f":"+IF((Basisoplysninger!$D$60=\"Ja\")*(Anlægskartotek!C971<>0)=1,Anlægskartotek!$L$14,Anlægskartotek!I971)","v":0}]
[null,961,{"$f":"Anlægskartotek!C972","v":0},{"$f":"+IF((Basisoplysninger!$D$60=\"Ja\")*(Anlægskartotek!C972<>0)=1,Anlægskartotek!$L$14,Anlægskartotek!I972)","v":0}]
[null,962,{"$f":"Anlægskartotek!C973","v":0},{"$f":"+IF((Basisoplysninger!$D$60=\"Ja\")*(Anlægskartotek!C973<>0)=1,Anlægskartotek!$L$14,Anlægskartotek!I973)","v":0}]
[null,{"$f":"B1071+1","v":963},{"$f":"Anlægskartotek!C974","v":0},{"$f":"+IF((Basisoplysninger!$D$60=\"Ja\")*(Anlægskartotek!C974<>0)=1,Anlægskartotek!$L$14,Anlægskartotek!I974)","v":0}]
[null,964,{"$f":"Anlægskartotek!C975","v":0},{"$f":"+IF((Basisoplysninger!$D$60=\"Ja\")*(Anlægskartotek!C975<>0)=1,Anlægskartotek!$L$14,Anlægskartotek!I975)","v":0}]
[null,965,{"$f":"Anlægskartotek!C976","v":0},{"$f":"+IF((Basisoplysninger!$D$60=\"Ja\")*(Anlægskartotek!C976<>0)=1,Anlægskartotek!$L$14,Anlægskartotek!I976)","v":0}]
[null,966,{"$f":"Anlægskartotek!C977","v":0},{"$f":"+IF((Basisoplysninger!$D$60=\"Ja\")*(Anlægskartotek!C977<>0)=1,Anlægskartotek!$L$14,Anlægskartotek!I977)","v":0}]
[null,967,{"$f":"Anlægskartotek!C978","v":0},{"$f":"+IF((Basisoplysninger!$D$60=\"Ja\")*(Anlægskartotek!C978<>0)=1,Anlægskartotek!$L$14,Anlægskartotek!I978)","v":0}]
[null,968,{"$f":"Anlægskartotek!C979","v":0},{"$f":"+IF((Basisoplysninger!$D$60=\"Ja\")*(Anlægskartotek!C979<>0)=1,Anlægskartotek!$L$14,Anlægskartotek!I979)","v":0}]
[null,969,{"$f":"Anlægskartotek!C980","v":0},{"$f":"+IF((Basisoplysninger!$D$60=\"Ja\")*(Anlægskartotek!C980<>0)=1,Anlægskartotek!$L$14,Anlægskartotek!I980)","v":0}]
[null,970,{"$f":"Anlægskartotek!C981","v":0},{"$f":"+IF((Basisoplysninger!$D$60=\"Ja\")*(Anlægskartotek!C981<>0)=1,Anlægskartotek!$L$14,Anlægskartotek!I981)","v":0}]
[null,971,{"$f":"Anlægskartotek!C982","v":0},{"$f":"+IF((Basisoplysninger!$D$60=\"Ja\")*(Anlægskartotek!C982<>0)=1,Anlægskartotek!$L$14,Anlægskartotek!I982)","v":0}]
[null,972,{"$f":"Anlægskartotek!C983","v":0},{"$f":"+IF((Basisoplysninger!$D$60=\"Ja\")*(Anlægskartotek!C983<>0)=1,Anlægskartotek!$L$14,Anlægskartotek!I983)","v":0}]
[null,973,{"$f":"Anlægskartotek!C984","v":0},{"$f":"+IF((Basisoplysninger!$D$60=\"Ja\")*(Anlægskartotek!C984<>0)=1,Anlægskartotek!$L$14,Anlægskartotek!I984)","v":0}]
[null,974,{"$f":"Anlægskartotek!C985","v":0},{"$f":"+IF((Basisoplysninger!$D$60=\"Ja\")*(Anlægskartotek!C985<>0)=1,Anlægskartotek!$L$14,Anlægskartotek!I985)","v":0}]
[null,975,{"$f":"Anlægskartotek!C986","v":0},{"$f":"+IF((Basisoplysninger!$D$60=\"Ja\")*(Anlægskartotek!C986<>0)=1,Anlægskartotek!$L$14,Anlægskartotek!I986)","v":0}]
[null,976,{"$f":"Anlægskartotek!C987","v":0},{"$f":"+IF((Basisoplysninger!$D$60=\"Ja\")*(Anlægskartotek!C987<>0)=1,Anlægskartotek!$L$14,Anlægskartotek!I987)","v":0}]
[null,977,{"$f":"Anlægskartotek!C988","v":0},{"$f":"+IF((Basisoplysninger!$D$60=\"Ja\")*(Anlægskartotek!C988<>0)=1,Anlægskartotek!$L$14,Anlægskartotek!I988)","v":0}]
[null,978,{"$f":"Anlægskartotek!C989","v":0},{"$f":"+IF((Basisoplysninger!$D$60=\"Ja\")*(Anlægskartotek!C989<>0)=1,Anlægskartotek!$L$14,Anlægskartotek!I989)","v":0}]
[null,979,{"$f":"Anlægskartotek!C990","v":0},{"$f":"+IF((Basisoplysninger!$D$60=\"Ja\")*(Anlægskartotek!C990<>0)=1,Anlægskartotek!$L$14,Anlægskartotek!I990)","v":0}]
[null,980,{"$f":"Anlægskartotek!C991","v":0},{"$f":"+IF((Basisoplysninger!$D$60=\"Ja\")*(Anlægskartotek!C991<>0)=1,Anlægskartotek!$L$14,Anlægskartotek!I991)","v":0}]
[null,981,{"$f":"Anlægskartotek!C992","v":0},{"$f":"+IF((Basisoplysninger!$D$60=\"Ja\")*(Anlægskartotek!C992<>0)=1,Anlægskartotek!$L$14,Anlægskartotek!I992)","v":0}]
[null,982,{"$f":"Anlægskartotek!C993","v":0},{"$f":"+IF((Basisoplysninger!$D$60=\"Ja\")*(Anlægskartotek!C993<>0)=1,Anlægskartotek!$L$14,Anlægskartotek!I993)","v":0}]
[null,983,{"$f":"Anlægskartotek!C994","v":0},{"$f":"+IF((Basisoplysninger!$D$60=\"Ja\")*(Anlægskartotek!C994<>0)=1,Anlægskartotek!$L$14,Anlægskartotek!I994)","v":0}]
[null,984,{"$f":"Anlægskartotek!C995","v":0},{"$f":"+IF((Basisoplysninger!$D$60=\"Ja\")*(Anlægskartotek!C995<>0)=1,Anlægskartotek!$L$14,Anlægskartotek!I995)","v":0}]
[null,985,{"$f":"Anlægskartotek!C996","v":0},{"$f":"+IF((Basisoplysninger!$D$60=\"Ja\")*(Anlægskartotek!C996<>0)=1,Anlægskartotek!$L$14,Anlægskartotek!I996)","v":0}]
[null,986,{"$f":"Anlægskartotek!C997","v":0},{"$f":"+IF((Basisoplysninger!$D$60=\"Ja\")*(Anlægskartotek!C997<>0)=1,Anlægskartotek!$L$14,Anlægskartotek!I997)","v":0}]
[null,987,{"$f":"Anlægskartotek!C998","v":0},{"$f":"+IF((Basisoplysninger!$D$60=\"Ja\")*(Anlægskartotek!C998<>0)=1,Anlægskartotek!$L$14,Anlægskartotek!I998)","v":0}]
[null,988,{"$f":"Anlægskartotek!C999","v":0},{"$f":"+IF((Basisoplysninger!$D$60=\"Ja\")*(Anlægskartotek!C999<>0)=1,Anlægskartotek!$L$14,Anlægskartotek!I999)","v":0}]
[null,989,{"$f":"Anlægskartotek!C1000","v":0},{"$f":"+IF((Basisoplysninger!$D$60=\"Ja\")*(Anlægskartotek!C1000<>0)=1,Anlægskartotek!$L$14,Anlægskartotek!I1000)","v":0}]
[null,990,{"$f":"Anlægskartotek!C1001","v":0},{"$f":"+IF((Basisoplysninger!$D$60=\"Ja\")*(Anlægskartotek!C1001<>0)=1,Anlægskartotek!$L$14,Anlægskartotek!I1001)","v":0}]
[null,991,{"$f":"Anlægskartotek!C1002","v":0},{"$f":"+IF((Basisoplysninger!$D$60=\"Ja\")*(Anlægskartotek!C1002<>0)=1,Anlægskartotek!$L$14,Anlægskartotek!I1002)","v":0}]
[null,992,{"$f":"Anlægskartotek!C1003","v":0},{"$f":"+IF((Basisoplysninger!$D$60=\"Ja\")*(Anlægskartotek!C1003<>0)=1,Anlægskartotek!$L$14,Anlægskartotek!I1003)","v":0}]
[null,993,{"$f":"Anlægskartotek!C1004","v":0},{"$f":"+IF((Basisoplysninger!$D$60=\"Ja\")*(Anlægskartotek!C1004<>0)=1,Anlægskartotek!$L$14,Anlægskartotek!I1004)","v":0}]
[null,994,{"$f":"Anlægskartotek!C1005","v":0},{"$f":"+IF((Basisoplysninger!$D$60=\"Ja\")*(Anlægskartotek!C1005<>0)=1,Anlægskartotek!$L$14,Anlægskartotek!I1005)","v":0}]
[null,995,{"$f":"Anlægskartotek!C1006","v":0},{"$f":"+IF((Basisoplysninger!$D$60=\"Ja\")*(Anlægskartotek!C1006<>0)=1,Anlægskartotek!$L$14,Anlægskartotek!I1006)","v":0}]
[null,996,{"$f":"Anlægskartotek!C1007","v":0},{"$f":"+IF((Basisoplysninger!$D$60=\"Ja\")*(Anlægskartotek!C1007<>0)=1,Anlægskartotek!$L$14,Anlægskartotek!I1007)","v":0}]
[null,997,{"$f":"Anlægskartotek!C1008","v":0},{"$f":"+IF((Basisoplysninger!$D$60=\"Ja\")*(Anlægskartotek!C1008<>0)=1,Anlægskartotek!$L$14,Anlægskartotek!I1008)","v":0}]
[null,998,{"$f":"Anlægskartotek!C1009","v":0},{"$f":"+IF((Basisoplysninger!$D$60=\"Ja\")*(Anlægskartotek!C1009<>0)=1,Anlægskartotek!$L$14,Anlægskartotek!I1009)","v":0}]
[null,999,{"$f":"Anlægskartotek!C1010","v":0},{"$f":"+IF((Basisoplysninger!$D$60=\"Ja\")*(Anlægskartotek!C1010<>0)=1,Anlægskartotek!$L$14,Anlægskartotek!I1010)","v":0}]
[null,1000,{"$f":"Anlægskartotek!C1011","v":0},{"$f":"+IF((Basisoplysninger!$D$60=\"Ja\")*(Anlægskartotek!C1011<>0)=1,Anlægskartotek!$L$14,Anlægskartotek!I1011)","v":0}]
[null,1001,{"$f":"Anlægskartotek!C1012","v":0},{"$f":"+IF((Basisoplysninger!$D$60=\"Ja\")*(Anlægskartotek!C1012<>0)=1,Anlægskartotek!$L$14,Anlægskartotek!I1012)","v":0}]
[null,1002,{"$f":"Anlægskartotek!C1013","v":0},{"$f":"+IF((Basisoplysninger!$D$60=\"Ja\")*(Anlægskartotek!C1013<>0)=1,Anlægskartotek!$L$14,Anlægskartotek!I1013)","v":0}]
[null,1003,{"$f":"Anlægskartotek!C1014","v":0},{"$f":"+IF((Basisoplysninger!$D$60=\"Ja\")*(Anlægskartotek!C1014<>0)=1,Anlægskartotek!$L$14,Anlægskartotek!I1014)","v":0}]
[null,1004,{"$f":"Anlægskartotek!C1015","v":0},{"$f":"+IF((Basisoplysninger!$D$60=\"Ja\")*(Anlægskartotek!C1015<>0)=1,Anlægskartotek!$L$14,Anlægskartotek!I1015)","v":0}]
[null,1005,{"$f":"Anlægskartotek!C1016","v":0},{"$f":"+IF((Basisoplysninger!$D$60=\"Ja\")*(Anlægskartotek!C1016<>0)=1,Anlægskartotek!$L$14,Anlægskartotek!I1016)","v":0}]
[null,1006,{"$f":"Anlægskartotek!C1017","v":0},{"$f":"+IF((Basisoplysninger!$D$60=\"Ja\")*(Anlægskartotek!C1017<>0)=1,Anlægskartotek!$L$14,Anlægskartotek!I1017)","v":0}]
[null,1007,{"$f":"Anlægskartotek!C1018","v":0},{"$f":"+IF((Basisoplysninger!$D$60=\"Ja\")*(Anlægskartotek!C1018<>0)=1,Anlægskartotek!$L$14,Anlægskartotek!I1018)","v":0}]
[null,1008,{"$f":"Anlægskartotek!C1019","v":0},{"$f":"+IF((Basisoplysninger!$D$60=\"Ja\")*(Anlægskartotek!C1019<>0)=1,Anlægskartotek!$L$14,Anlægskartotek!I1019)","v":0}]
[null,1009,{"$f":"Anlægskartotek!C1020","v":0},{"$f":"+IF((Basisoplysninger!$D$60=\"Ja\")*(Anlægskartotek!C1020<>0)=1,Anlægskartotek!$L$14,Anlægskartotek!I1020)","v":0}]
[null,1010,{"$f":"Anlægskartotek!C1021","v":0},{"$f":"+IF((Basisoplysninger!$D$60=\"Ja\")*(Anlægskartotek!C1021<>0)=1,Anlægskartotek!$L$14,Anlægskartotek!I1021)","v":0}]
[null,1011,{"$f":"Anlægskartotek!C1022","v":0},{"$f":"+IF((Basisoplysninger!$D$60=\"Ja\")*(Anlægskartotek!C1022<>0)=1,Anlægskartotek!$L$14,Anlægskartotek!I1022)","v":0}]
[null,1012,{"$f":"Anlægskartotek!C1023","v":0},{"$f":"+IF((Basisoplysninger!$D$60=\"Ja\")*(Anlægskartotek!C1023<>0)=1,Anlægskartotek!$L$14,Anlægskartotek!I1023)","v":0}]
[null,1013,{"$f":"Anlægskartotek!C1024","v":0},{"$f":"+IF((Basisoplysninger!$D$60=\"Ja\")*(Anlægskartotek!C1024<>0)=1,Anlægskartotek!$L$14,Anlægskartotek!I1024)","v":0}]
[null,1014,{"$f":"Anlægskartotek!C1025","v":0},{"$f":"+IF((Basisoplysninger!$D$60=\"Ja\")*(Anlægskartotek!C1025<>0)=1,Anlægskartotek!$L$14,Anlægskartotek!I1025)","v":0}]
[null,1015,{"$f":"Anlægskartotek!C1026","v":0},{"$f":"+IF((Basisoplysninger!$D$60=\"Ja\")*(Anlægskartotek!C1026<>0)=1,Anlægskartotek!$L$14,Anlægskartotek!I1026)","v":0}]
[null,1016,{"$f":"Anlægskartotek!C1027","v":0},{"$f":"+IF((Basisoplysninger!$D$60=\"Ja\")*(Anlægskartotek!C1027<>0)=1,Anlægskartotek!$L$14,Anlægskartotek!I1027)","v":0}]
[null,1017,{"$f":"Anlægskartotek!C1028","v":0},{"$f":"+IF((Basisoplysninger!$D$60=\"Ja\")*(Anlægskartotek!C1028<>0)=1,Anlægskartotek!$L$14,Anlægskartotek!I1028)","v":0}]
[null,1018,{"$f":"Anlægskartotek!C1029","v":0},{"$f":"+IF((Basisoplysninger!$D$60=\"Ja\")*(Anlægskartotek!C1029<>0)=1,Anlægskartotek!$L$14,Anlægskartotek!I1029)","v":0}]
[null,1019,{"$f":"Anlægskartotek!C1030","v":0},{"$f":"+IF((Basisoplysninger!$D$60=\"Ja\")*(Anlægskartotek!C1030<>0)=1,Anlægskartotek!$L$14,Anlægskartotek!I1030)","v":0}]
[null,1020,{"$f":"Anlægskartotek!C1031","v":0},{"$f":"+IF((Basisoplysninger!$D$60=\"Ja\")*(Anlægskartotek!C1031<>0)=1,Anlægskartotek!$L$14,Anlægskartotek!I1031)","v":0}]
[null,1021,{"$f":"Anlægskartotek!C1032","v":0},{"$f":"+IF((Basisoplysninger!$D$60=\"Ja\")*(Anlægskartotek!C1032<>0)=1,Anlægskartotek!$L$14,Anlægskartotek!I1032)","v":0}]
[null,1022,{"$f":"Anlægskartotek!C1033","v":0},{"$f":"+IF((Basisoplysninger!$D$60=\"Ja\")*(Anlægskartotek!C1033<>0)=1,Anlægskartotek!$L$14,Anlægskartotek!I1033)","v":0}]
[null,1023,{"$f":"Anlægskartotek!C1034","v":0},{"$f":"+IF((Basisoplysninger!$D$60=\"Ja\")*(Anlægskartotek!C1034<>0)=1,Anlægskartotek!$L$14,Anlægskartotek!I1034)","v":0}]
[null,1024,{"$f":"Anlægskartotek!C1035","v":0},{"$f":"+IF((Basisoplysninger!$D$60=\"Ja\")*(Anlægskartotek!C1035<>0)=1,Anlægskartotek!$L$14,Anlægskartotek!I1035)","v":0}]
[null,1025,{"$f":"Anlægskartotek!C1036","v":0},{"$f":"+IF((Basisoplysninger!$D$60=\"Ja\")*(Anlægskartotek!C1036<>0)=1,Anlægskartotek!$L$14,Anlægskartotek!I1036)","v":0}]
[null,1026,{"$f":"Anlægskartotek!C1037","v":0},{"$f":"+IF((Basisoplysninger!$D$60=\"Ja\")*(Anlægskartotek!C1037<>0)=1,Anlægskartotek!$L$14,Anlægskartotek!I1037)","v":0}]
[null,{"$f":"B1135+1","v":1027},{"$f":"Anlægskartotek!C1038","v":0},{"$f":"+IF((Basisoplysninger!$D$60=\"Ja\")*(Anlægskartotek!C1038<>0)=1,Anlægskartotek!$L$14,Anlægskartotek!I1038)","v":0}]
[null,1028,{"$f":"Anlægskartotek!C1039","v":0},{"$f":"+IF((Basisoplysninger!$D$60=\"Ja\")*(Anlægskartotek!C1039<>0)=1,Anlægskartotek!$L$14,Anlægskartotek!I1039)","v":0}]
[null,1029,{"$f":"Anlægskartotek!C1040","v":0},{"$f":"+IF((Basisoplysninger!$D$60=\"Ja\")*(Anlægskartotek!C1040<>0)=1,Anlægskartotek!$L$14,Anlægskartotek!I1040)","v":0}]
[null,1030,{"$f":"Anlægskartotek!C1041","v":0},{"$f":"+IF((Basisoplysninger!$D$60=\"Ja\")*(Anlægskartotek!C1041<>0)=1,Anlægskartotek!$L$14,Anlægskartotek!I1041)","v":0}]
[null,1031,{"$f":"Anlægskartotek!C1042","v":0},{"$f":"+IF((Basisoplysninger!$D$60=\"Ja\")*(Anlægskartotek!C1042<>0)=1,Anlægskartotek!$L$14,Anlægskartotek!I1042)","v":0}]
[null,1032,{"$f":"Anlægskartotek!C1043","v":0},{"$f":"+IF((Basisoplysninger!$D$60=\"Ja\")*(Anlægskartotek!C1043<>0)=1,Anlægskartotek!$L$14,Anlægskartotek!I1043)","v":0}]
[null,1033,{"$f":"Anlægskartotek!C1044","v":0},{"$f":"+IF((Basisoplysninger!$D$60=\"Ja\")*(Anlægskartotek!C1044<>0)=1,Anlægskartotek!$L$14,Anlægskartotek!I1044)","v":0}]
[null,1034,{"$f":"Anlægskartotek!C1045","v":0},{"$f":"+IF((Basisoplysninger!$D$60=\"Ja\")*(Anlægskartotek!C1045<>0)=1,Anlægskartotek!$L$14,Anlægskartotek!I1045)","v":0}]
[null,1035,{"$f":"Anlægskartotek!C1046","v":0},{"$f":"+IF((Basisoplysninger!$D$60=\"Ja\")*(Anlægskartotek!C1046<>0)=1,Anlægskartotek!$L$14,Anlægskartotek!I1046)","v":0}]
[null,1036,{"$f":"Anlægskartotek!C1047","v":0},{"$f":"+IF((Basisoplysninger!$D$60=\"Ja\")*(Anlægskartotek!C1047<>0)=1,Anlægskartotek!$L$14,Anlægskartotek!I1047)","v":0}]
[null,1037,{"$f":"Anlægskartotek!C1048","v":0},{"$f":"+IF((Basisoplysninger!$D$60=\"Ja\")*(Anlægskartotek!C1048<>0)=1,Anlægskartotek!$L$14,Anlægskartotek!I1048)","v":0}]
[null,1038,{"$f":"Anlægskartotek!C1049","v":0},{"$f":"+IF((Basisoplysninger!$D$60=\"Ja\")*(Anlægskartotek!C1049<>0)=1,Anlægskartotek!$L$14,Anlægskartotek!I1049)","v":0}]
[null,1039,{"$f":"Anlægskartotek!C1050","v":0},{"$f":"+IF((Basisoplysninger!$D$60=\"Ja\")*(Anlægskartotek!C1050<>0)=1,Anlægskartotek!$L$14,Anlægskartotek!I1050)","v":0}]
[null,1040,{"$f":"Anlægskartotek!C1051","v":0},{"$f":"+IF((Basisoplysninger!$D$60=\"Ja\")*(Anlægskartotek!C1051<>0)=1,Anlægskartotek!$L$14,Anlægskartotek!I1051)","v":0}]
[null,1041,{"$f":"Anlægskartotek!C1052","v":0},{"$f":"+IF((Basisoplysninger!$D$60=\"Ja\")*(Anlægskartotek!C1052<>0)=1,Anlægskartotek!$L$14,Anlægskartotek!I1052)","v":0}]
[null,1042,{"$f":"Anlægskartotek!C1053","v":0},{"$f":"+IF((Basisoplysninger!$D$60=\"Ja\")*(Anlægskartotek!C1053<>0)=1,Anlægskartotek!$L$14,Anlægskartotek!I1053)","v":0}]
[null,1043,{"$f":"Anlægskartotek!C1054","v":0},{"$f":"+IF((Basisoplysninger!$D$60=\"Ja\")*(Anlægskartotek!C1054<>0)=1,Anlægskartotek!$L$14,Anlægskartotek!I1054)","v":0}]
[null,1044,{"$f":"Anlægskartotek!C1055","v":0},{"$f":"+IF((Basisoplysninger!$D$60=\"Ja\")*(Anlægskartotek!C1055<>0)=1,Anlægskartotek!$L$14,Anlægskartotek!I1055)","v":0}]
[null,1045,{"$f":"Anlægskartotek!C1056","v":0},{"$f":"+IF((Basisoplysninger!$D$60=\"Ja\")*(Anlægskartotek!C1056<>0)=1,Anlægskartotek!$L$14,Anlægskartotek!I1056)","v":0}]
[null,1046,{"$f":"Anlægskartotek!C1057","v":0},{"$f":"+IF((Basisoplysninger!$D$60=\"Ja\")*(Anlægskartotek!C1057<>0)=1,Anlægskartotek!$L$14,Anlægskartotek!I1057)","v":0}]
[null,1047,{"$f":"Anlægskartotek!C1058","v":0},{"$f":"+IF((Basisoplysninger!$D$60=\"Ja\")*(Anlægskartotek!C1058<>0)=1,Anlægskartotek!$L$14,Anlægskartotek!I1058)","v":0}]
[null,1048,{"$f":"Anlægskartotek!C1059","v":0},{"$f":"+IF((Basisoplysninger!$D$60=\"Ja\")*(Anlægskartotek!C1059<>0)=1,Anlægskartotek!$L$14,Anlægskartotek!I1059)","v":0}]
[null,1049,{"$f":"Anlægskartotek!C1060","v":0},{"$f":"+IF((Basisoplysninger!$D$60=\"Ja\")*(Anlægskartotek!C1060<>0)=1,Anlægskartotek!$L$14,Anlægskartotek!I1060)","v":0}]
[null,1050,{"$f":"Anlægskartotek!C1061","v":0},{"$f":"+IF((Basisoplysninger!$D$60=\"Ja\")*(Anlægskartotek!C1061<>0)=1,Anlægskartotek!$L$14,Anlægskartotek!I1061)","v":0}]
[null,1051,{"$f":"Anlægskartotek!C1062","v":0},{"$f":"+IF((Basisoplysninger!$D$60=\"Ja\")*(Anlægskartotek!C1062<>0)=1,Anlægskartotek!$L$14,Anlægskartotek!I1062)","v":0}]
[null,1052,{"$f":"Anlægskartotek!C1063","v":0},{"$f":"+IF((Basisoplysninger!$D$60=\"Ja\")*(Anlægskartotek!C1063<>0)=1,Anlægskartotek!$L$14,Anlægskartotek!I1063)","v":0}]
[null,1053,{"$f":"Anlægskartotek!C1064","v":0},{"$f":"+IF((Basisoplysninger!$D$60=\"Ja\")*(Anlægskartotek!C1064<>0)=1,Anlægskartotek!$L$14,Anlægskartotek!I1064)","v":0}]
[null,1054,{"$f":"Anlægskartotek!C1065","v":0},{"$f":"+IF((Basisoplysninger!$D$60=\"Ja\")*(Anlægskartotek!C1065<>0)=1,Anlægskartotek!$L$14,Anlægskartotek!I1065)","v":0}]
[null,1055,{"$f":"Anlægskartotek!C1066","v":0},{"$f":"+IF((Basisoplysninger!$D$60=\"Ja\")*(Anlægskartotek!C1066<>0)=1,Anlægskartotek!$L$14,Anlægskartotek!I1066)","v":0}]
[null,1056,{"$f":"Anlægskartotek!C1067","v":0},{"$f":"+IF((Basisoplysninger!$D$60=\"Ja\")*(Anlægskartotek!C1067<>0)=1,Anlægskartotek!$L$14,Anlægskartotek!I1067)","v":0}]
[null,1057,{"$f":"Anlægskartotek!C1068","v":0},{"$f":"+IF((Basisoplysninger!$D$60=\"Ja\")*(Anlægskartotek!C1068<>0)=1,Anlægskartotek!$L$14,Anlægskartotek!I1068)","v":0}]
[null,1058,{"$f":"Anlægskartotek!C1069","v":0},{"$f":"+IF((Basisoplysninger!$D$60=\"Ja\")*(Anlægskartotek!C1069<>0)=1,Anlægskartotek!$L$14,Anlægskartotek!I1069)","v":0}]
[null,1059,{"$f":"Anlægskartotek!C1070","v":0},{"$f":"+IF((Basisoplysninger!$D$60=\"Ja\")*(Anlægskartotek!C1070<>0)=1,Anlægskartotek!$L$14,Anlægskartotek!I1070)","v":0}]
[null,1060,{"$f":"Anlægskartotek!C1071","v":0},{"$f":"+IF((Basisoplysninger!$D$60=\"Ja\")*(Anlægskartotek!C1071<>0)=1,Anlægskartotek!$L$14,Anlægskartotek!I1071)","v":0}]
[null,1061,{"$f":"Anlægskartotek!C1072","v":0},{"$f":"+IF((Basisoplysninger!$D$60=\"Ja\")*(Anlægskartotek!C1072<>0)=1,Anlægskartotek!$L$14,Anlægskartotek!I1072)","v":0}]
[null,1062,{"$f":"Anlægskartotek!C1073","v":0},{"$f":"+IF((Basisoplysninger!$D$60=\"Ja\")*(Anlægskartotek!C1073<>0)=1,Anlægskartotek!$L$14,Anlægskartotek!I1073)","v":0}]
[null,1063,{"$f":"Anlægskartotek!C1074","v":0},{"$f":"+IF((Basisoplysninger!$D$60=\"Ja\")*(Anlægskartotek!C1074<>0)=1,Anlægskartotek!$L$14,Anlægskartotek!I1074)","v":0}]
[null,1064,{"$f":"Anlægskartotek!C1075","v":0},{"$f":"+IF((Basisoplysninger!$D$60=\"Ja\")*(Anlægskartotek!C1075<>0)=1,Anlægskartotek!$L$14,Anlægskartotek!I1075)","v":0}]
[null,1065,{"$f":"Anlægskartotek!C1076","v":0},{"$f":"+IF((Basisoplysninger!$D$60=\"Ja\")*(Anlægskartotek!C1076<>0)=1,Anlægskartotek!$L$14,Anlægskartotek!I1076)","v":0}]
[null,1066,{"$f":"Anlægskartotek!C1077","v":0},{"$f":"+IF((Basisoplysninger!$D$60=\"Ja\")*(Anlægskartotek!C1077<>0)=1,Anlægskartotek!$L$14,Anlægskartotek!I1077)","v":0}]
[null,1067,{"$f":"Anlægskartotek!C1078","v":0},{"$f":"+IF((Basisoplysninger!$D$60=\"Ja\")*(Anlægskartotek!C1078<>0)=1,Anlægskartotek!$L$14,Anlægskartotek!I1078)","v":0}]
[null,1068,{"$f":"Anlægskartotek!C1079","v":0},{"$f":"+IF((Basisoplysninger!$D$60=\"Ja\")*(Anlægskartotek!C1079<>0)=1,Anlægskartotek!$L$14,Anlægskartotek!I1079)","v":0}]
[null,1069,{"$f":"Anlægskartotek!C1080","v":0},{"$f":"+IF((Basisoplysninger!$D$60=\"Ja\")*(Anlægskartotek!C1080<>0)=1,Anlægskartotek!$L$14,Anlægskartotek!I1080)","v":0}]
[null,1070,{"$f":"Anlægskartotek!C1081","v":0},{"$f":"+IF((Basisoplysninger!$D$60=\"Ja\")*(Anlægskartotek!C1081<>0)=1,Anlægskartotek!$L$14,Anlægskartotek!I1081)","v":0}]
[null,1071,{"$f":"Anlægskartotek!C1082","v":0},{"$f":"+IF((Basisoplysninger!$D$60=\"Ja\")*(Anlægskartotek!C1082<>0)=1,Anlægskartotek!$L$14,Anlægskartotek!I1082)","v":0}]
[null,1072,{"$f":"Anlægskartotek!C1083","v":0},{"$f":"+IF((Basisoplysninger!$D$60=\"Ja\")*(Anlægskartotek!C1083<>0)=1,Anlægskartotek!$L$14,Anlægskartotek!I1083)","v":0}]
[null,1073,{"$f":"Anlægskartotek!C1084","v":0},{"$f":"+IF((Basisoplysninger!$D$60=\"Ja\")*(Anlægskartotek!C1084<>0)=1,Anlægskartotek!$L$14,Anlægskartotek!I1084)","v":0}]
[null,1074,{"$f":"Anlægskartotek!C1085","v":0},{"$f":"+IF((Basisoplysninger!$D$60=\"Ja\")*(Anlægskartotek!C1085<>0)=1,Anlægskartotek!$L$14,Anlægskartotek!I1085)","v":0}]
[null,1075,{"$f":"Anlægskartotek!C1086","v":0},{"$f":"+IF((Basisoplysninger!$D$60=\"Ja\")*(Anlægskartotek!C1086<>0)=1,Anlægskartotek!$L$14,Anlægskartotek!I1086)","v":0}]
[null,1076,{"$f":"Anlægskartotek!C1087","v":0},{"$f":"+IF((Basisoplysninger!$D$60=\"Ja\")*(Anlægskartotek!C1087<>0)=1,Anlægskartotek!$L$14,Anlægskartotek!I1087)","v":0}]
[null,1077,{"$f":"Anlægskartotek!C1088","v":0},{"$f":"+IF((Basisoplysninger!$D$60=\"Ja\")*(Anlægskartotek!C1088<>0)=1,Anlægskartotek!$L$14,Anlægskartotek!I1088)","v":0}]
[null,1078,{"$f":"Anlægskartotek!C1089","v":0},{"$f":"+IF((Basisoplysninger!$D$60=\"Ja\")*(Anlægskartotek!C1089<>0)=1,Anlægskartotek!$L$14,Anlægskartotek!I1089)","v":0}]
[null,1079,{"$f":"Anlægskartotek!C1090","v":0},{"$f":"+IF((Basisoplysninger!$D$60=\"Ja\")*(Anlægskartotek!C1090<>0)=1,Anlægskartotek!$L$14,Anlægskartotek!I1090)","v":0}]
[null,1080,{"$f":"Anlægskartotek!C1091","v":0},{"$f":"+IF((Basisoplysninger!$D$60=\"Ja\")*(Anlægskartotek!C1091<>0)=1,Anlægskartotek!$L$14,Anlægskartotek!I1091)","v":0}]
[null,1081,{"$f":"Anlægskartotek!C1092","v":0},{"$f":"+IF((Basisoplysninger!$D$60=\"Ja\")*(Anlægskartotek!C1092<>0)=1,Anlægskartotek!$L$14,Anlægskartotek!I1092)","v":0}]
[null,1082,{"$f":"Anlægskartotek!C1093","v":0},{"$f":"+IF((Basisoplysninger!$D$60=\"Ja\")*(Anlægskartotek!C1093<>0)=1,Anlægskartotek!$L$14,Anlægskartotek!I1093)","v":0}]
[null,1083,{"$f":"Anlægskartotek!C1094","v":0},{"$f":"+IF((Basisoplysninger!$D$60=\"Ja\")*(Anlægskartotek!C1094<>0)=1,Anlægskartotek!$L$14,Anlægskartotek!I1094)","v":0}]
[null,1084,{"$f":"Anlægskartotek!C1095","v":0},{"$f":"+IF((Basisoplysninger!$D$60=\"Ja\")*(Anlægskartotek!C1095<>0)=1,Anlægskartotek!$L$14,Anlægskartotek!I1095)","v":0}]
[null,1085,{"$f":"Anlægskartotek!C1096","v":0},{"$f":"+IF((Basisoplysninger!$D$60=\"Ja\")*(Anlægskartotek!C1096<>0)=1,Anlægskartotek!$L$14,Anlægskartotek!I1096)","v":0}]
[null,1086,{"$f":"Anlægskartotek!C1097","v":0},{"$f":"+IF((Basisoplysninger!$D$60=\"Ja\")*(Anlægskartotek!C1097<>0)=1,Anlægskartotek!$L$14,Anlægskartotek!I1097)","v":0}]
[null,1087,{"$f":"Anlægskartotek!C1098","v":0},{"$f":"+IF((Basisoplysninger!$D$60=\"Ja\")*(Anlægskartotek!C1098<>0)=1,Anlægskartotek!$L$14,Anlægskartotek!I1098)","v":0}]
[null,1088,{"$f":"Anlægskartotek!C1099","v":0},{"$f":"+IF((Basisoplysninger!$D$60=\"Ja\")*(Anlægskartotek!C1099<>0)=1,Anlægskartotek!$L$14,Anlægskartotek!I1099)","v":0}]
[null,1089,{"$f":"Anlægskartotek!C1100","v":0},{"$f":"+IF((Basisoplysninger!$D$60=\"Ja\")*(Anlægskartotek!C1100<>0)=1,Anlægskartotek!$L$14,Anlægskartotek!I1100)","v":0}]
[null,1090,{"$f":"Anlægskartotek!C1101","v":0},{"$f":"+IF((Basisoplysninger!$D$60=\"Ja\")*(Anlægskartotek!C1101<>0)=1,Anlægskartotek!$L$14,Anlægskartotek!I1101)","v":0}]
[null,{"$f":"B1199+1","v":1091},{"$f":"Anlægskartotek!C1102","v":0},{"$f":"+IF((Basisoplysninger!$D$60=\"Ja\")*(Anlægskartotek!C1102<>0)=1,Anlægskartotek!$L$14,Anlægskartotek!I1102)","v":0}]
[null,1092,{"$f":"Anlægskartotek!C1103","v":0},{"$f":"+IF((Basisoplysninger!$D$60=\"Ja\")*(Anlægskartotek!C1103<>0)=1,Anlægskartotek!$L$14,Anlægskartotek!I1103)","v":0}]
[null,1093,{"$f":"Anlægskartotek!C1104","v":0},{"$f":"+IF((Basisoplysninger!$D$60=\"Ja\")*(Anlægskartotek!C1104<>0)=1,Anlægskartotek!$L$14,Anlægskartotek!I1104)","v":0}]
[null,1094,{"$f":"Anlægskartotek!C1105","v":0},{"$f":"+IF((Basisoplysninger!$D$60=\"Ja\")*(Anlægskartotek!C1105<>0)=1,Anlægskartotek!$L$14,Anlægskartotek!I1105)","v":0}]
[null,1095,{"$f":"Anlægskartotek!C1106","v":0},{"$f":"+IF((Basisoplysninger!$D$60=\"Ja\")*(Anlægskartotek!C1106<>0)=1,Anlægskartotek!$L$14,Anlægskartotek!I1106)","v":0}]
[null,1096,{"$f":"Anlægskartotek!C1107","v":0},{"$f":"+IF((Basisoplysninger!$D$60=\"Ja\")*(Anlægskartotek!C1107<>0)=1,Anlægskartotek!$L$14,Anlægskartotek!I1107)","v":0}]
[null,1097,{"$f":"Anlægskartotek!C1108","v":0},{"$f":"+IF((Basisoplysninger!$D$60=\"Ja\")*(Anlægskartotek!C1108<>0)=1,Anlægskartotek!$L$14,Anlægskartotek!I1108)","v":0}]
[null,1098,{"$f":"Anlægskartotek!C1109","v":0},{"$f":"+IF((Basisoplysninger!$D$60=\"Ja\")*(Anlægskartotek!C1109<>0)=1,Anlægskartotek!$L$14,Anlægskartotek!I1109)","v":0}]
[null,1099,{"$f":"Anlægskartotek!C1110","v":0},{"$f":"+IF((Basisoplysninger!$D$60=\"Ja\")*(Anlægskartotek!C1110<>0)=1,Anlægskartotek!$L$14,Anlægskartotek!I1110)","v":0}]
[null,1100,{"$f":"Anlægskartotek!C1111","v":0},{"$f":"+IF((Basisoplysninger!$D$60=\"Ja\")*(Anlægskartotek!C1111<>0)=1,Anlægskartotek!$L$14,Anlægskartotek!I1111)","v":0}]
[null,1101,{"$f":"Anlægskartotek!C1112","v":0},{"$f":"+IF((Basisoplysninger!$D$60=\"Ja\")*(Anlægskartotek!C1112<>0)=1,Anlægskartotek!$L$14,Anlægskartotek!I1112)","v":0}]
[null,1102,{"$f":"Anlægskartotek!C1113","v":0},{"$f":"+IF((Basisoplysninger!$D$60=\"Ja\")*(Anlægskartotek!C1113<>0)=1,Anlægskartotek!$L$14,Anlægskartotek!I1113)","v":0}]
[null,1103,{"$f":"Anlægskartotek!C1114","v":0},{"$f":"+IF((Basisoplysninger!$D$60=\"Ja\")*(Anlægskartotek!C1114<>0)=1,Anlægskartotek!$L$14,Anlægskartotek!I1114)","v":0}]
[null,1104,{"$f":"Anlægskartotek!C1115","v":0},{"$f":"+IF((Basisoplysninger!$D$60=\"Ja\")*(Anlægskartotek!C1115<>0)=1,Anlægskartotek!$L$14,Anlægskartotek!I1115)","v":0}]
[null,1105,{"$f":"Anlægskartotek!C1116","v":0},{"$f":"+IF((Basisoplysninger!$D$60=\"Ja\")*(Anlægskartotek!C1116<>0)=1,Anlægskartotek!$L$14,Anlægskartotek!I1116)","v":0}]
[null,1106,{"$f":"Anlægskartotek!C1117","v":0},{"$f":"+IF((Basisoplysninger!$D$60=\"Ja\")*(Anlægskartotek!C1117<>0)=1,Anlægskartotek!$L$14,Anlægskartotek!I1117)","v":0}]
[null,1107,{"$f":"Anlægskartotek!C1118","v":0},{"$f":"+IF((Basisoplysninger!$D$60=\"Ja\")*(Anlægskartotek!C1118<>0)=1,Anlægskartotek!$L$14,Anlægskartotek!I1118)","v":0}]
[null,1108,{"$f":"Anlægskartotek!C1119","v":0},{"$f":"+IF((Basisoplysninger!$D$60=\"Ja\")*(Anlægskartotek!C1119<>0)=1,Anlægskartotek!$L$14,Anlægskartotek!I1119)","v":0}]
[null,1109,{"$f":"Anlægskartotek!C1120","v":0},{"$f":"+IF((Basisoplysninger!$D$60=\"Ja\")*(Anlægskartotek!C1120<>0)=1,Anlægskartotek!$L$14,Anlægskartotek!I1120)","v":0}]
[null,1110,{"$f":"Anlægskartotek!C1121","v":0},{"$f":"+IF((Basisoplysninger!$D$60=\"Ja\")*(Anlægskartotek!C1121<>0)=1,Anlægskartotek!$L$14,Anlægskartotek!I1121)","v":0}]
[null,1111,{"$f":"Anlægskartotek!C1122","v":0},{"$f":"+IF((Basisoplysninger!$D$60=\"Ja\")*(Anlægskartotek!C1122<>0)=1,Anlægskartotek!$L$14,Anlægskartotek!I1122)","v":0}]
[null,1112,{"$f":"Anlægskartotek!C1123","v":0},{"$f":"+IF((Basisoplysninger!$D$60=\"Ja\")*(Anlægskartotek!C1123<>0)=1,Anlægskartotek!$L$14,Anlægskartotek!I1123)","v":0}]
[null,1113,{"$f":"Anlægskartotek!C1124","v":0},{"$f":"+IF((Basisoplysninger!$D$60=\"Ja\")*(Anlægskartotek!C1124<>0)=1,Anlægskartotek!$L$14,Anlægskartotek!I1124)","v":0}]
[null,1114,{"$f":"Anlægskartotek!C1125","v":0},{"$f":"+IF((Basisoplysninger!$D$60=\"Ja\")*(Anlægskartotek!C1125<>0)=1,Anlægskartotek!$L$14,Anlægskartotek!I1125)","v":0}]
[null,1115,{"$f":"Anlægskartotek!C1126","v":0},{"$f":"+IF((Basisoplysninger!$D$60=\"Ja\")*(Anlægskartotek!C1126<>0)=1,Anlægskartotek!$L$14,Anlægskartotek!I1126)","v":0}]
[null,1116,{"$f":"Anlægskartotek!C1127","v":0},{"$f":"+IF((Basisoplysninger!$D$60=\"Ja\")*(Anlægskartotek!C1127<>0)=1,Anlægskartotek!$L$14,Anlægskartotek!I1127)","v":0}]
[null,1117,{"$f":"Anlægskartotek!C1128","v":0},{"$f":"+IF((Basisoplysninger!$D$60=\"Ja\")*(Anlægskartotek!C1128<>0)=1,Anlægskartotek!$L$14,Anlægskartotek!I1128)","v":0}]
[null,1118,{"$f":"Anlægskartotek!C1129","v":0},{"$f":"+IF((Basisoplysninger!$D$60=\"Ja\")*(Anlægskartotek!C1129<>0)=1,Anlægskartotek!$L$14,Anlægskartotek!I1129)","v":0}]
[null,1119,{"$f":"Anlægskartotek!C1130","v":0},{"$f":"+IF((Basisoplysninger!$D$60=\"Ja\")*(Anlægskartotek!C1130<>0)=1,Anlægskartotek!$L$14,Anlægskartotek!I1130)","v":0}]
[null,1120,{"$f":"Anlægskartotek!C1131","v":0},{"$f":"+IF((Basisoplysninger!$D$60=\"Ja\")*(Anlægskartotek!C1131<>0)=1,Anlægskartotek!$L$14,Anlægskartotek!I1131)","v":0}]
[null,1121,{"$f":"Anlægskartotek!C1132","v":0},{"$f":"+IF((Basisoplysninger!$D$60=\"Ja\")*(Anlægskartotek!C1132<>0)=1,Anlægskartotek!$L$14,Anlægskartotek!I1132)","v":0}]
[null,1122,{"$f":"Anlægskartotek!C1133","v":0},{"$f":"+IF((Basisoplysninger!$D$60=\"Ja\")*(Anlægskartotek!C1133<>0)=1,Anlægskartotek!$L$14,Anlægskartotek!I1133)","v":0}]
[null,1123,{"$f":"Anlægskartotek!C1134","v":0},{"$f":"+IF((Basisoplysninger!$D$60=\"Ja\")*(Anlægskartotek!C1134<>0)=1,Anlægskartotek!$L$14,Anlægskartotek!I1134)","v":0}]
[null,1124,{"$f":"Anlægskartotek!C1135","v":0},{"$f":"+IF((Basisoplysninger!$D$60=\"Ja\")*(Anlægskartotek!C1135<>0)=1,Anlægskartotek!$L$14,Anlægskartotek!I1135)","v":0}]
[null,1125,{"$f":"Anlægskartotek!C1136","v":0},{"$f":"+IF((Basisoplysninger!$D$60=\"Ja\")*(Anlægskartotek!C1136<>0)=1,Anlægskartotek!$L$14,Anlægskartotek!I1136)","v":0}]
[null,1126,{"$f":"Anlægskartotek!C1137","v":0},{"$f":"+IF((Basisoplysninger!$D$60=\"Ja\")*(Anlægskartotek!C1137<>0)=1,Anlægskartotek!$L$14,Anlægskartotek!I1137)","v":0}]
[null,1127,{"$f":"Anlægskartotek!C1138","v":0},{"$f":"+IF((Basisoplysninger!$D$60=\"Ja\")*(Anlægskartotek!C1138<>0)=1,Anlægskartotek!$L$14,Anlægskartotek!I1138)","v":0}]
[null,1128,{"$f":"Anlægskartotek!C1139","v":0},{"$f":"+IF((Basisoplysninger!$D$60=\"Ja\")*(Anlægskartotek!C1139<>0)=1,Anlægskartotek!$L$14,Anlægskartotek!I1139)","v":0}]
[null,1129,{"$f":"Anlægskartotek!C1140","v":0},{"$f":"+IF((Basisoplysninger!$D$60=\"Ja\")*(Anlægskartotek!C1140<>0)=1,Anlægskartotek!$L$14,Anlægskartotek!I1140)","v":0}]
[null,1130,{"$f":"Anlægskartotek!C1141","v":0},{"$f":"+IF((Basisoplysninger!$D$60=\"Ja\")*(Anlægskartotek!C1141<>0)=1,Anlægskartotek!$L$14,Anlægskartotek!I1141)","v":0}]
[null,1131,{"$f":"Anlægskartotek!C1142","v":0},{"$f":"+IF((Basisoplysninger!$D$60=\"Ja\")*(Anlægskartotek!C1142<>0)=1,Anlægskartotek!$L$14,Anlægskartotek!I1142)","v":0}]
[null,1132,{"$f":"Anlægskartotek!C1143","v":0},{"$f":"+IF((Basisoplysninger!$D$60=\"Ja\")*(Anlægskartotek!C1143<>0)=1,Anlægskartotek!$L$14,Anlægskartotek!I1143)","v":0}]
[null,1133,{"$f":"Anlægskartotek!C1144","v":0},{"$f":"+IF((Basisoplysninger!$D$60=\"Ja\")*(Anlægskartotek!C1144<>0)=1,Anlægskartotek!$L$14,Anlægskartotek!I1144)","v":0}]
[null,1134,{"$f":"Anlægskartotek!C1145","v":0},{"$f":"+IF((Basisoplysninger!$D$60=\"Ja\")*(Anlægskartotek!C1145<>0)=1,Anlægskartotek!$L$14,Anlægskartotek!I1145)","v":0}]
[null,1135,{"$f":"Anlægskartotek!C1146","v":0},{"$f":"+IF((Basisoplysninger!$D$60=\"Ja\")*(Anlægskartotek!C1146<>0)=1,Anlægskartotek!$L$14,Anlægskartotek!I1146)","v":0}]
[null,1136,{"$f":"Anlægskartotek!C1147","v":0},{"$f":"+IF((Basisoplysninger!$D$60=\"Ja\")*(Anlægskartotek!C1147<>0)=1,Anlægskartotek!$L$14,Anlægskartotek!I1147)","v":0}]
[null,1137,{"$f":"Anlægskartotek!C1148","v":0},{"$f":"+IF((Basisoplysninger!$D$60=\"Ja\")*(Anlægskartotek!C1148<>0)=1,Anlægskartotek!$L$14,Anlægskartotek!I1148)","v":0}]
[null,1138,{"$f":"Anlægskartotek!C1149","v":0},{"$f":"+IF((Basisoplysninger!$D$60=\"Ja\")*(Anlægskartotek!C1149<>0)=1,Anlægskartotek!$L$14,Anlægskartotek!I1149)","v":0}]
[null,1139,{"$f":"Anlægskartotek!C1150","v":0},{"$f":"+IF((Basisoplysninger!$D$60=\"Ja\")*(Anlægskartotek!C1150<>0)=1,Anlægskartotek!$L$14,Anlægskartotek!I1150)","v":0}]
[null,1140,{"$f":"Anlægskartotek!C1151","v":0},{"$f":"+IF((Basisoplysninger!$D$60=\"Ja\")*(Anlægskartotek!C1151<>0)=1,Anlægskartotek!$L$14,Anlægskartotek!I1151)","v":0}]
[null,1141,{"$f":"Anlægskartotek!C1152","v":0},{"$f":"+IF((Basisoplysninger!$D$60=\"Ja\")*(Anlægskartotek!C1152<>0)=1,Anlægskartotek!$L$14,Anlægskartotek!I1152)","v":0}]
[null,1142,{"$f":"Anlægskartotek!C1153","v":0},{"$f":"+IF((Basisoplysninger!$D$60=\"Ja\")*(Anlægskartotek!C1153<>0)=1,Anlægskartotek!$L$14,Anlægskartotek!I1153)","v":0}]
[null,1143,{"$f":"Anlægskartotek!C1154","v":0},{"$f":"+IF((Basisoplysninger!$D$60=\"Ja\")*(Anlægskartotek!C1154<>0)=1,Anlægskartotek!$L$14,Anlægskartotek!I1154)","v":0}]
[null,1144,{"$f":"Anlægskartotek!C1155","v":0},{"$f":"+IF((Basisoplysninger!$D$60=\"Ja\")*(Anlægskartotek!C1155<>0)=1,Anlægskartotek!$L$14,Anlægskartotek!I1155)","v":0}]
[null,1145,{"$f":"Anlægskartotek!C1156","v":0},{"$f":"+IF((Basisoplysninger!$D$60=\"Ja\")*(Anlægskartotek!C1156<>0)=1,Anlægskartotek!$L$14,Anlægskartotek!I1156)","v":0}]
[null,1146,{"$f":"Anlægskartotek!C1157","v":0},{"$f":"+IF((Basisoplysninger!$D$60=\"Ja\")*(Anlægskartotek!C1157<>0)=1,Anlægskartotek!$L$14,Anlægskartotek!I1157)","v":0}]
[null,1147,{"$f":"Anlægskartotek!C1158","v":0},{"$f":"+IF((Basisoplysninger!$D$60=\"Ja\")*(Anlægskartotek!C1158<>0)=1,Anlægskartotek!$L$14,Anlægskartotek!I1158)","v":0}]
[null,1148,{"$f":"Anlægskartotek!C1159","v":0},{"$f":"+IF((Basisoplysninger!$D$60=\"Ja\")*(Anlægskartotek!C1159<>0)=1,Anlægskartotek!$L$14,Anlægskartotek!I1159)","v":0}]
[null,1149,{"$f":"Anlægskartotek!C1160","v":0},{"$f":"+IF((Basisoplysninger!$D$60=\"Ja\")*(Anlægskartotek!C1160<>0)=1,Anlægskartotek!$L$14,Anlægskartotek!I1160)","v":0}]
[null,1150,{"$f":"Anlægskartotek!C1161","v":0},{"$f":"+IF((Basisoplysninger!$D$60=\"Ja\")*(Anlægskartotek!C1161<>0)=1,Anlægskartotek!$L$14,Anlægskartotek!I1161)","v":0}]
[null,1151,{"$f":"Anlægskartotek!C1162","v":0},{"$f":"+IF((Basisoplysninger!$D$60=\"Ja\")*(Anlægskartotek!C1162<>0)=1,Anlægskartotek!$L$14,Anlægskartotek!I1162)","v":0}]
[null,1152,{"$f":"Anlægskartotek!C1163","v":0},{"$f":"+IF((Basisoplysninger!$D$60=\"Ja\")*(Anlægskartotek!C1163<>0)=1,Anlægskartotek!$L$14,Anlægskartotek!I1163)","v":0}]
[null,1153,{"$f":"Anlægskartotek!C1164","v":0},{"$f":"+IF((Basisoplysninger!$D$60=\"Ja\")*(Anlægskartotek!C1164<>0)=1,Anlægskartotek!$L$14,Anlægskartotek!I1164)","v":0}]
[null,1154,{"$f":"Anlægskartotek!C1165","v":0},{"$f":"+IF((Basisoplysninger!$D$60=\"Ja\")*(Anlægskartotek!C1165<>0)=1,Anlægskartotek!$L$14,Anlægskartotek!I1165)","v":0}]
[null,{"$f":"B1263+1","v":1155},{"$f":"Anlægskartotek!C1166","v":0},{"$f":"+IF((Basisoplysninger!$D$60=\"Ja\")*(Anlægskartotek!C1166<>0)=1,Anlægskartotek!$L$14,Anlægskartotek!I1166)","v":0}]
[null,1156,{"$f":"Anlægskartotek!C1167","v":0},{"$f":"+IF((Basisoplysninger!$D$60=\"Ja\")*(Anlægskartotek!C1167<>0)=1,Anlægskartotek!$L$14,Anlægskartotek!I1167)","v":0}]
[null,1157,{"$f":"Anlægskartotek!C1168","v":0},{"$f":"+IF((Basisoplysninger!$D$60=\"Ja\")*(Anlægskartotek!C1168<>0)=1,Anlægskartotek!$L$14,Anlægskartotek!I1168)","v":0}]
[null,1158,{"$f":"Anlægskartotek!C1169","v":0},{"$f":"+IF((Basisoplysninger!$D$60=\"Ja\")*(Anlægskartotek!C1169<>0)=1,Anlægskartotek!$L$14,Anlægskartotek!I1169)","v":0}]
[null,1159,{"$f":"Anlægskartotek!C1170","v":0},{"$f":"+IF((Basisoplysninger!$D$60=\"Ja\")*(Anlægskartotek!C1170<>0)=1,Anlægskartotek!$L$14,Anlægskartotek!I1170)","v":0}]
[null,1160,{"$f":"Anlægskartotek!C1171","v":0},{"$f":"+IF((Basisoplysninger!$D$60=\"Ja\")*(Anlægskartotek!C1171<>0)=1,Anlægskartotek!$L$14,Anlægskartotek!I1171)","v":0}]
[null,1161,{"$f":"Anlægskartotek!C1172","v":0},{"$f":"+IF((Basisoplysninger!$D$60=\"Ja\")*(Anlægskartotek!C1172<>0)=1,Anlægskartotek!$L$14,Anlægskartotek!I1172)","v":0}]
[null,1162,{"$f":"Anlægskartotek!C1173","v":0},{"$f":"+IF((Basisoplysninger!$D$60=\"Ja\")*(Anlægskartotek!C1173<>0)=1,Anlægskartotek!$L$14,Anlægskartotek!I1173)","v":0}]
[null,1163,{"$f":"Anlægskartotek!C1174","v":0},{"$f":"+IF((Basisoplysninger!$D$60=\"Ja\")*(Anlægskartotek!C1174<>0)=1,Anlægskartotek!$L$14,Anlægskartotek!I1174)","v":0}]
[null,1164,{"$f":"Anlægskartotek!C1175","v":0},{"$f":"+IF((Basisoplysninger!$D$60=\"Ja\")*(Anlægskartotek!C1175<>0)=1,Anlægskartotek!$L$14,Anlægskartotek!I1175)","v":0}]
[null,1165,{"$f":"Anlægskartotek!C1176","v":0},{"$f":"+IF((Basisoplysninger!$D$60=\"Ja\")*(Anlægskartotek!C1176<>0)=1,Anlægskartotek!$L$14,Anlægskartotek!I1176)","v":0}]
[null,1166,{"$f":"Anlægskartotek!C1177","v":0},{"$f":"+IF((Basisoplysninger!$D$60=\"Ja\")*(Anlægskartotek!C1177<>0)=1,Anlægskartotek!$L$14,Anlægskartotek!I1177)","v":0}]
[null,1167,{"$f":"Anlægskartotek!C1178","v":0},{"$f":"+IF((Basisoplysninger!$D$60=\"Ja\")*(Anlægskartotek!C1178<>0)=1,Anlægskartotek!$L$14,Anlægskartotek!I1178)","v":0}]
[null,1168,{"$f":"Anlægskartotek!C1179","v":0},{"$f":"+IF((Basisoplysninger!$D$60=\"Ja\")*(Anlægskartotek!C1179<>0)=1,Anlægskartotek!$L$14,Anlægskartotek!I1179)","v":0}]
[null,1169,{"$f":"Anlægskartotek!C1180","v":0},{"$f":"+IF((Basisoplysninger!$D$60=\"Ja\")*(Anlægskartotek!C1180<>0)=1,Anlægskartotek!$L$14,Anlægskartotek!I1180)","v":0}]
[null,1170,{"$f":"Anlægskartotek!C1181","v":0},{"$f":"+IF((Basisoplysninger!$D$60=\"Ja\")*(Anlægskartotek!C1181<>0)=1,Anlægskartotek!$L$14,Anlægskartotek!I1181)","v":0}]
[null,1171,{"$f":"Anlægskartotek!C1182","v":0},{"$f":"+IF((Basisoplysninger!$D$60=\"Ja\")*(Anlægskartotek!C1182<>0)=1,Anlægskartotek!$L$14,Anlægskartotek!I1182)","v":0}]
[null,1172,{"$f":"Anlægskartotek!C1183","v":0},{"$f":"+IF((Basisoplysninger!$D$60=\"Ja\")*(Anlægskartotek!C1183<>0)=1,Anlægskartotek!$L$14,Anlægskartotek!I1183)","v":0}]
[null,1173,{"$f":"Anlægskartotek!C1184","v":0},{"$f":"+IF((Basisoplysninger!$D$60=\"Ja\")*(Anlægskartotek!C1184<>0)=1,Anlægskartotek!$L$14,Anlægskartotek!I1184)","v":0}]
[null,1174,{"$f":"Anlægskartotek!C1185","v":0},{"$f":"+IF((Basisoplysninger!$D$60=\"Ja\")*(Anlægskartotek!C1185<>0)=1,Anlægskartotek!$L$14,Anlægskartotek!I1185)","v":0}]
[null,1175,{"$f":"Anlægskartotek!C1186","v":0},{"$f":"+IF((Basisoplysninger!$D$60=\"Ja\")*(Anlægskartotek!C1186<>0)=1,Anlægskartotek!$L$14,Anlægskartotek!I1186)","v":0}]
[null,1176,{"$f":"Anlægskartotek!C1187","v":0},{"$f":"+IF((Basisoplysninger!$D$60=\"Ja\")*(Anlægskartotek!C1187<>0)=1,Anlægskartotek!$L$14,Anlægskartotek!I1187)","v":0}]
[null,1177,{"$f":"Anlægskartotek!C1188","v":0},{"$f":"+IF((Basisoplysninger!$D$60=\"Ja\")*(Anlægskartotek!C1188<>0)=1,Anlægskartotek!$L$14,Anlægskartotek!I1188)","v":0}]
[null,1178,{"$f":"Anlægskartotek!C1189","v":0},{"$f":"+IF((Basisoplysninger!$D$60=\"Ja\")*(Anlægskartotek!C1189<>0)=1,Anlægskartotek!$L$14,Anlægskartotek!I1189)","v":0}]
[null,1179,{"$f":"Anlægskartotek!C1190","v":0},{"$f":"+IF((Basisoplysninger!$D$60=\"Ja\")*(Anlægskartotek!C1190<>0)=1,Anlægskartotek!$L$14,Anlægskartotek!I1190)","v":0}]
[null,1180,{"$f":"Anlægskartotek!C1191","v":0},{"$f":"+IF((Basisoplysninger!$D$60=\"Ja\")*(Anlægskartotek!C1191<>0)=1,Anlægskartotek!$L$14,Anlægskartotek!I1191)","v":0}]
[null,1181,{"$f":"Anlægskartotek!C1192","v":0},{"$f":"+IF((Basisoplysninger!$D$60=\"Ja\")*(Anlægskartotek!C1192<>0)=1,Anlægskartotek!$L$14,Anlægskartotek!I1192)","v":0}]
[null,1182,{"$f":"Anlægskartotek!C1193","v":0},{"$f":"+IF((Basisoplysninger!$D$60=\"Ja\")*(Anlægskartotek!C1193<>0)=1,Anlægskartotek!$L$14,Anlægskartotek!I1193)","v":0}]
[null,1183,{"$f":"Anlægskartotek!C1194","v":0},{"$f":"+IF((Basisoplysninger!$D$60=\"Ja\")*(Anlægskartotek!C1194<>0)=1,Anlægskartotek!$L$14,Anlægskartotek!I1194)","v":0}]
[null,1184,{"$f":"Anlægskartotek!C1195","v":0},{"$f":"+IF((Basisoplysninger!$D$60=\"Ja\")*(Anlægskartotek!C1195<>0)=1,Anlægskartotek!$L$14,Anlægskartotek!I1195)","v":0}]
[null,1185,{"$f":"Anlægskartotek!C1196","v":0},{"$f":"+IF((Basisoplysninger!$D$60=\"Ja\")*(Anlægskartotek!C1196<>0)=1,Anlægskartotek!$L$14,Anlægskartotek!I1196)","v":0}]
[null,1186,{"$f":"Anlægskartotek!C1197","v":0},{"$f":"+IF((Basisoplysninger!$D$60=\"Ja\")*(Anlægskartotek!C1197<>0)=1,Anlægskartotek!$L$14,Anlægskartotek!I1197)","v":0}]
[null,1187,{"$f":"Anlægskartotek!C1198","v":0},{"$f":"+IF((Basisoplysninger!$D$60=\"Ja\")*(Anlægskartotek!C1198<>0)=1,Anlægskartotek!$L$14,Anlægskartotek!I1198)","v":0}]
[null,1188,{"$f":"Anlægskartotek!C1199","v":0},{"$f":"+IF((Basisoplysninger!$D$60=\"Ja\")*(Anlægskartotek!C1199<>0)=1,Anlægskartotek!$L$14,Anlægskartotek!I1199)","v":0}]
[null,1189,{"$f":"Anlægskartotek!C1200","v":0},{"$f":"+IF((Basisoplysninger!$D$60=\"Ja\")*(Anlægskartotek!C1200<>0)=1,Anlægskartotek!$L$14,Anlægskartotek!I1200)","v":0}]
[null,1190,{"$f":"Anlægskartotek!C1201","v":0},{"$f":"+IF((Basisoplysninger!$D$60=\"Ja\")*(Anlægskartotek!C1201<>0)=1,Anlægskartotek!$L$14,Anlægskartotek!I1201)","v":0}]
[null,1191,{"$f":"Anlægskartotek!C1202","v":0},{"$f":"+IF((Basisoplysninger!$D$60=\"Ja\")*(Anlægskartotek!C1202<>0)=1,Anlægskartotek!$L$14,Anlægskartotek!I1202)","v":0}]
[null,1192,{"$f":"Anlægskartotek!C1203","v":0},{"$f":"+IF((Basisoplysninger!$D$60=\"Ja\")*(Anlægskartotek!C1203<>0)=1,Anlægskartotek!$L$14,Anlægskartotek!I1203)","v":0}]
[null,1193,{"$f":"Anlægskartotek!C1204","v":0},{"$f":"+IF((Basisoplysninger!$D$60=\"Ja\")*(Anlægskartotek!C1204<>0)=1,Anlægskartotek!$L$14,Anlægskartotek!I1204)","v":0}]
[null,1194,{"$f":"Anlægskartotek!C1205","v":0},{"$f":"+IF((Basisoplysninger!$D$60=\"Ja\")*(Anlægskartotek!C1205<>0)=1,Anlægskartotek!$L$14,Anlægskartotek!I1205)","v":0}]
[null,1195,{"$f":"Anlægskartotek!C1206","v":0},{"$f":"+IF((Basisoplysninger!$D$60=\"Ja\")*(Anlægskartotek!C1206<>0)=1,Anlægskartotek!$L$14,Anlægskartotek!I1206)","v":0}]
[null,1196,{"$f":"Anlægskartotek!C1207","v":0},{"$f":"+IF((Basisoplysninger!$D$60=\"Ja\")*(Anlægskartotek!C1207<>0)=1,Anlægskartotek!$L$14,Anlægskartotek!I1207)","v":0}]
[null,1197,{"$f":"Anlægskartotek!C1208","v":0},{"$f":"+IF((Basisoplysninger!$D$60=\"Ja\")*(Anlægskartotek!C1208<>0)=1,Anlægskartotek!$L$14,Anlægskartotek!I1208)","v":0}]
[null,1198,{"$f":"Anlægskartotek!C1209","v":0},{"$f":"+IF((Basisoplysninger!$D$60=\"Ja\")*(Anlægskartotek!C1209<>0)=1,Anlægskartotek!$L$14,Anlægskartotek!I1209)","v":0}]
[null,1199,{"$f":"Anlægskartotek!C1210","v":0},{"$f":"+IF((Basisoplysninger!$D$60=\"Ja\")*(Anlægskartotek!C1210<>0)=1,Anlægskartotek!$L$14,Anlægskartotek!I1210)","v":0}]
[null,1200,{"$f":"Anlægskartotek!C1211","v":0},{"$f":"+IF((Basisoplysninger!$D$60=\"Ja\")*(Anlægskartotek!C1211<>0)=1,Anlægskartotek!$L$14,Anlægskartotek!I1211)","v":0}]
[null,1201,{"$f":"Anlægskartotek!C1212","v":0},{"$f":"+IF((Basisoplysninger!$D$60=\"Ja\")*(Anlægskartotek!C1212<>0)=1,Anlægskartotek!$L$14,Anlægskartotek!I1212)","v":0}]
[null,1202,{"$f":"Anlægskartotek!C1213","v":0},{"$f":"+IF((Basisoplysninger!$D$60=\"Ja\")*(Anlægskartotek!C1213<>0)=1,Anlægskartotek!$L$14,Anlægskartotek!I1213)","v":0}]
[null,1203,{"$f":"Anlægskartotek!C1214","v":0},{"$f":"+IF((Basisoplysninger!$D$60=\"Ja\")*(Anlægskartotek!C1214<>0)=1,Anlægskartotek!$L$14,Anlægskartotek!I1214)","v":0}]
[null,1204,{"$f":"Anlægskartotek!C1215","v":0},{"$f":"+IF((Basisoplysninger!$D$60=\"Ja\")*(Anlægskartotek!C1215<>0)=1,Anlægskartotek!$L$14,Anlægskartotek!I1215)","v":0}]
[null,1205,{"$f":"Anlægskartotek!C1216","v":0},{"$f":"+IF((Basisoplysninger!$D$60=\"Ja\")*(Anlægskartotek!C1216<>0)=1,Anlægskartotek!$L$14,Anlægskartotek!I1216)","v":0}]
[null,1206,{"$f":"Anlægskartotek!C1217","v":0},{"$f":"+IF((Basisoplysninger!$D$60=\"Ja\")*(Anlægskartotek!C1217<>0)=1,Anlægskartotek!$L$14,Anlægskartotek!I1217)","v":0}]
[null,1207,{"$f":"Anlægskartotek!C1218","v":0},{"$f":"+IF((Basisoplysninger!$D$60=\"Ja\")*(Anlægskartotek!C1218<>0)=1,Anlægskartotek!$L$14,Anlægskartotek!I1218)","v":0}]
[null,1208,{"$f":"Anlægskartotek!C1219","v":0},{"$f":"+IF((Basisoplysninger!$D$60=\"Ja\")*(Anlægskartotek!C1219<>0)=1,Anlægskartotek!$L$14,Anlægskartotek!I1219)","v":0}]
[null,1209,{"$f":"Anlægskartotek!C1220","v":0},{"$f":"+IF((Basisoplysninger!$D$60=\"Ja\")*(Anlægskartotek!C1220<>0)=1,Anlægskartotek!$L$14,Anlægskartotek!I1220)","v":0}]
[null,1210,{"$f":"Anlægskartotek!C1221","v":0},{"$f":"+IF((Basisoplysninger!$D$60=\"Ja\")*(Anlægskartotek!C1221<>0)=1,Anlægskartotek!$L$14,Anlægskartotek!I1221)","v":0}]
[null,1211,{"$f":"Anlægskartotek!C1222","v":0},{"$f":"+IF((Basisoplysninger!$D$60=\"Ja\")*(Anlægskartotek!C1222<>0)=1,Anlægskartotek!$L$14,Anlægskartotek!I1222)","v":0}]
[null,1212,{"$f":"Anlægskartotek!C1223","v":0},{"$f":"+IF((Basisoplysninger!$D$60=\"Ja\")*(Anlægskartotek!C1223<>0)=1,Anlægskartotek!$L$14,Anlægskartotek!I1223)","v":0}]
[null,1213,{"$f":"Anlægskartotek!C1224","v":0},{"$f":"+IF((Basisoplysninger!$D$60=\"Ja\")*(Anlægskartotek!C1224<>0)=1,Anlægskartotek!$L$14,Anlægskartotek!I1224)","v":0}]
[null,1214,{"$f":"Anlægskartotek!C1225","v":0},{"$f":"+IF((Basisoplysninger!$D$60=\"Ja\")*(Anlægskartotek!C1225<>0)=1,Anlægskartotek!$L$14,Anlægskartotek!I1225)","v":0}]
[null,1215,{"$f":"Anlægskartotek!C1226","v":0},{"$f":"+IF((Basisoplysninger!$D$60=\"Ja\")*(Anlægskartotek!C1226<>0)=1,Anlægskartotek!$L$14,Anlægskartotek!I1226)","v":0}]
[null,1216,{"$f":"Anlægskartotek!C1227","v":0},{"$f":"+IF((Basisoplysninger!$D$60=\"Ja\")*(Anlægskartotek!C1227<>0)=1,Anlægskartotek!$L$14,Anlægskartotek!I1227)","v":0}]
[null,1217,{"$f":"Anlægskartotek!C1228","v":0},{"$f":"+IF((Basisoplysninger!$D$60=\"Ja\")*(Anlægskartotek!C1228<>0)=1,Anlægskartotek!$L$14,Anlægskartotek!I1228)","v":0}]
[null,1218,{"$f":"Anlægskartotek!C1229","v":0},{"$f":"+IF((Basisoplysninger!$D$60=\"Ja\")*(Anlægskartotek!C1229<>0)=1,Anlægskartotek!$L$14,Anlægskartotek!I1229)","v":0}]
[null,{"$f":"B1327+1","v":1219},{"$f":"Anlægskartotek!C1230","v":0},{"$f":"+IF((Basisoplysninger!$D$60=\"Ja\")*(Anlægskartotek!C1230<>0)=1,Anlægskartotek!$L$14,Anlægskartotek!I1230)","v":0}]
[null,1220,{"$f":"Anlægskartotek!C1231","v":0},{"$f":"+IF((Basisoplysninger!$D$60=\"Ja\")*(Anlægskartotek!C1231<>0)=1,Anlægskartotek!$L$14,Anlægskartotek!I1231)","v":0}]
[null,1221,{"$f":"Anlægskartotek!C1232","v":0},{"$f":"+IF((Basisoplysninger!$D$60=\"Ja\")*(Anlægskartotek!C1232<>0)=1,Anlægskartotek!$L$14,Anlægskartotek!I1232)","v":0}]
[null,1222,{"$f":"Anlægskartotek!C1233","v":0},{"$f":"+IF((Basisoplysninger!$D$60=\"Ja\")*(Anlægskartotek!C1233<>0)=1,Anlægskartotek!$L$14,Anlægskartotek!I1233)","v":0}]
[null,1223,{"$f":"Anlægskartotek!C1234","v":0},{"$f":"+IF((Basisoplysninger!$D$60=\"Ja\")*(Anlægskartotek!C1234<>0)=1,Anlægskartotek!$L$14,Anlægskartotek!I1234)","v":0}]
[null,1224,{"$f":"Anlægskartotek!C1235","v":0},{"$f":"+IF((Basisoplysninger!$D$60=\"Ja\")*(Anlægskartotek!C1235<>0)=1,Anlægskartotek!$L$14,Anlægskartotek!I1235)","v":0}]
[null,1225,{"$f":"Anlægskartotek!C1236","v":0},{"$f":"+IF((Basisoplysninger!$D$60=\"Ja\")*(Anlægskartotek!C1236<>0)=1,Anlægskartotek!$L$14,Anlægskartotek!I1236)","v":0}]
[null,1226,{"$f":"Anlægskartotek!C1237","v":0},{"$f":"+IF((Basisoplysninger!$D$60=\"Ja\")*(Anlægskartotek!C1237<>0)=1,Anlægskartotek!$L$14,Anlægskartotek!I1237)","v":0}]
[null,1227,{"$f":"Anlægskartotek!C1238","v":0},{"$f":"+IF((Basisoplysninger!$D$60=\"Ja\")*(Anlægskartotek!C1238<>0)=1,Anlægskartotek!$L$14,Anlægskartotek!I1238)","v":0}]
[null,1228,{"$f":"Anlægskartotek!C1239","v":0},{"$f":"+IF((Basisoplysninger!$D$60=\"Ja\")*(Anlægskartotek!C1239<>0)=1,Anlægskartotek!$L$14,Anlægskartotek!I1239)","v":0}]
[null,1229,{"$f":"Anlægskartotek!C1240","v":0},{"$f":"+IF((Basisoplysninger!$D$60=\"Ja\")*(Anlægskartotek!C1240<>0)=1,Anlægskartotek!$L$14,Anlægskartotek!I1240)","v":0}]
[null,1230,{"$f":"Anlægskartotek!C1241","v":0},{"$f":"+IF((Basisoplysninger!$D$60=\"Ja\")*(Anlægskartotek!C1241<>0)=1,Anlægskartotek!$L$14,Anlægskartotek!I1241)","v":0}]
[null,1231,{"$f":"Anlægskartotek!C1242","v":0},{"$f":"+IF((Basisoplysninger!$D$60=\"Ja\")*(Anlægskartotek!C1242<>0)=1,Anlægskartotek!$L$14,Anlægskartotek!I1242)","v":0}]
[null,1232,{"$f":"Anlægskartotek!C1243","v":0},{"$f":"+IF((Basisoplysninger!$D$60=\"Ja\")*(Anlægskartotek!C1243<>0)=1,Anlægskartotek!$L$14,Anlægskartotek!I1243)","v":0}]
[null,1233,{"$f":"Anlægskartotek!C1244","v":0},{"$f":"+IF((Basisoplysninger!$D$60=\"Ja\")*(Anlægskartotek!C1244<>0)=1,Anlægskartotek!$L$14,Anlægskartotek!I1244)","v":0}]
[null,1234,{"$f":"Anlægskartotek!C1245","v":0},{"$f":"+IF((Basisoplysninger!$D$60=\"Ja\")*(Anlægskartotek!C1245<>0)=1,Anlægskartotek!$L$14,Anlægskartotek!I1245)","v":0}]
[null,1235,{"$f":"Anlægskartotek!C1246","v":0},{"$f":"+IF((Basisoplysninger!$D$60=\"Ja\")*(Anlægskartotek!C1246<>0)=1,Anlægskartotek!$L$14,Anlægskartotek!I1246)","v":0}]
[null,1236,{"$f":"Anlægskartotek!C1247","v":0},{"$f":"+IF((Basisoplysninger!$D$60=\"Ja\")*(Anlægskartotek!C1247<>0)=1,Anlægskartotek!$L$14,Anlægskartotek!I1247)","v":0}]
[null,1237,{"$f":"Anlægskartotek!C1248","v":0},{"$f":"+IF((Basisoplysninger!$D$60=\"Ja\")*(Anlægskartotek!C1248<>0)=1,Anlægskartotek!$L$14,Anlægskartotek!I1248)","v":0}]
[null,1238,{"$f":"Anlægskartotek!C1249","v":0},{"$f":"+IF((Basisoplysninger!$D$60=\"Ja\")*(Anlægskartotek!C1249<>0)=1,Anlægskartotek!$L$14,Anlægskartotek!I1249)","v":0}]
[null,1239,{"$f":"Anlægskartotek!C1250","v":0},{"$f":"+IF((Basisoplysninger!$D$60=\"Ja\")*(Anlægskartotek!C1250<>0)=1,Anlægskartotek!$L$14,Anlægskartotek!I1250)","v":0}]
[null,1240,{"$f":"Anlægskartotek!C1251","v":0},{"$f":"+IF((Basisoplysninger!$D$60=\"Ja\")*(Anlægskartotek!C1251<>0)=1,Anlægskartotek!$L$14,Anlægskartotek!I1251)","v":0}]
[null,1241,{"$f":"Anlægskartotek!C1252","v":0},{"$f":"+IF((Basisoplysninger!$D$60=\"Ja\")*(Anlægskartotek!C1252<>0)=1,Anlægskartotek!$L$14,Anlægskartotek!I1252)","v":0}]
[null,1242,{"$f":"Anlægskartotek!C1253","v":0},{"$f":"+IF((Basisoplysninger!$D$60=\"Ja\")*(Anlægskartotek!C1253<>0)=1,Anlægskartotek!$L$14,Anlægskartotek!I1253)","v":0}]
[null,1243,{"$f":"Anlægskartotek!C1254","v":0},{"$f":"+IF((Basisoplysninger!$D$60=\"Ja\")*(Anlægskartotek!C1254<>0)=1,Anlægskartotek!$L$14,Anlægskartotek!I1254)","v":0}]
[null,1244,{"$f":"Anlægskartotek!C1255","v":0},{"$f":"+IF((Basisoplysninger!$D$60=\"Ja\")*(Anlægskartotek!C1255<>0)=1,Anlægskartotek!$L$14,Anlægskartotek!I1255)","v":0}]
[null,1245,{"$f":"Anlægskartotek!C1256","v":0},{"$f":"+IF((Basisoplysninger!$D$60=\"Ja\")*(Anlægskartotek!C1256<>0)=1,Anlægskartotek!$L$14,Anlægskartotek!I1256)","v":0}]
[null,1246,{"$f":"Anlægskartotek!C1257","v":0},{"$f":"+IF((Basisoplysninger!$D$60=\"Ja\")*(Anlægskartotek!C1257<>0)=1,Anlægskartotek!$L$14,Anlægskartotek!I1257)","v":0}]
[null,1247,{"$f":"Anlægskartotek!C1258","v":0},{"$f":"+IF((Basisoplysninger!$D$60=\"Ja\")*(Anlægskartotek!C1258<>0)=1,Anlægskartotek!$L$14,Anlægskartotek!I1258)","v":0}]
[null,1248,{"$f":"Anlægskartotek!C1259","v":0},{"$f":"+IF((Basisoplysninger!$D$60=\"Ja\")*(Anlægskartotek!C1259<>0)=1,Anlægskartotek!$L$14,Anlægskartotek!I1259)","v":0}]
[null,1249,{"$f":"Anlægskartotek!C1260","v":0},{"$f":"+IF((Basisoplysninger!$D$60=\"Ja\")*(Anlægskartotek!C1260<>0)=1,Anlægskartotek!$L$14,Anlægskartotek!I1260)","v":0}]
[null,1250,{"$f":"Anlægskartotek!C1261","v":0},{"$f":"+IF((Basisoplysninger!$D$60=\"Ja\")*(Anlægskartotek!C1261<>0)=1,Anlægskartotek!$L$14,Anlægskartotek!I1261)","v":0}]
[null,1251,{"$f":"Anlægskartotek!C1262","v":0},{"$f":"+IF((Basisoplysninger!$D$60=\"Ja\")*(Anlægskartotek!C1262<>0)=1,Anlægskartotek!$L$14,Anlægskartotek!I1262)","v":0}]
[null,1252,{"$f":"Anlægskartotek!C1263","v":0},{"$f":"+IF((Basisoplysninger!$D$60=\"Ja\")*(Anlægskartotek!C1263<>0)=1,Anlægskartotek!$L$14,Anlægskartotek!I1263)","v":0}]
[null,1253,{"$f":"Anlægskartotek!C1264","v":0},{"$f":"+IF((Basisoplysninger!$D$60=\"Ja\")*(Anlægskartotek!C1264<>0)=1,Anlægskartotek!$L$14,Anlægskartotek!I1264)","v":0}]
[null,1254,{"$f":"Anlægskartotek!C1265","v":0},{"$f":"+IF((Basisoplysninger!$D$60=\"Ja\")*(Anlægskartotek!C1265<>0)=1,Anlægskartotek!$L$14,Anlægskartotek!I1265)","v":0}]
[null,1255,{"$f":"Anlægskartotek!C1266","v":0},{"$f":"+IF((Basisoplysninger!$D$60=\"Ja\")*(Anlægskartotek!C1266<>0)=1,Anlægskartotek!$L$14,Anlægskartotek!I1266)","v":0}]
[null,1256,{"$f":"Anlægskartotek!C1267","v":0},{"$f":"+IF((Basisoplysninger!$D$60=\"Ja\")*(Anlægskartotek!C1267<>0)=1,Anlægskartotek!$L$14,Anlægskartotek!I1267)","v":0}]
[null,1257,{"$f":"Anlægskartotek!C1268","v":0},{"$f":"+IF((Basisoplysninger!$D$60=\"Ja\")*(Anlægskartotek!C1268<>0)=1,Anlægskartotek!$L$14,Anlægskartotek!I1268)","v":0}]
[null,1258,{"$f":"Anlægskartotek!C1269","v":0},{"$f":"+IF((Basisoplysninger!$D$60=\"Ja\")*(Anlægskartotek!C1269<>0)=1,Anlægskartotek!$L$14,Anlægskartotek!I1269)","v":0}]
[null,1259,{"$f":"Anlægskartotek!C1270","v":0},{"$f":"+IF((Basisoplysninger!$D$60=\"Ja\")*(Anlægskartotek!C1270<>0)=1,Anlægskartotek!$L$14,Anlægskartotek!I1270)","v":0}]
[null,1260,{"$f":"Anlægskartotek!C1271","v":0},{"$f":"+IF((Basisoplysninger!$D$60=\"Ja\")*(Anlægskartotek!C1271<>0)=1,Anlægskartotek!$L$14,Anlægskartotek!I1271)","v":0}]
[null,1261,{"$f":"Anlægskartotek!C1272","v":0},{"$f":"+IF((Basisoplysninger!$D$60=\"Ja\")*(Anlægskartotek!C1272<>0)=1,Anlægskartotek!$L$14,Anlægskartotek!I1272)","v":0}]
[null,1262,{"$f":"Anlægskartotek!C1273","v":0},{"$f":"+IF((Basisoplysninger!$D$60=\"Ja\")*(Anlægskartotek!C1273<>0)=1,Anlægskartotek!$L$14,Anlægskartotek!I1273)","v":0}]
[null,1263,{"$f":"Anlægskartotek!C1274","v":0},{"$f":"+IF((Basisoplysninger!$D$60=\"Ja\")*(Anlægskartotek!C1274<>0)=1,Anlægskartotek!$L$14,Anlægskartotek!I1274)","v":0}]
[null,1264,{"$f":"Anlægskartotek!C1275","v":0},{"$f":"+IF((Basisoplysninger!$D$60=\"Ja\")*(Anlægskartotek!C1275<>0)=1,Anlægskartotek!$L$14,Anlægskartotek!I1275)","v":0}]
[null,1265,{"$f":"Anlægskartotek!C1276","v":0},{"$f":"+IF((Basisoplysninger!$D$60=\"Ja\")*(Anlægskartotek!C1276<>0)=1,Anlægskartotek!$L$14,Anlægskartotek!I1276)","v":0}]
[null,1266,{"$f":"Anlægskartotek!C1277","v":0},{"$f":"+IF((Basisoplysninger!$D$60=\"Ja\")*(Anlægskartotek!C1277<>0)=1,Anlægskartotek!$L$14,Anlægskartotek!I1277)","v":0}]
[null,1267,{"$f":"Anlægskartotek!C1278","v":0},{"$f":"+IF((Basisoplysninger!$D$60=\"Ja\")*(Anlægskartotek!C1278<>0)=1,Anlægskartotek!$L$14,Anlægskartotek!I1278)","v":0}]
[null,1268,{"$f":"Anlægskartotek!C1279","v":0},{"$f":"+IF((Basisoplysninger!$D$60=\"Ja\")*(Anlægskartotek!C1279<>0)=1,Anlægskartotek!$L$14,Anlægskartotek!I1279)","v":0}]
[null,1269,{"$f":"Anlægskartotek!C1280","v":0},{"$f":"+IF((Basisoplysninger!$D$60=\"Ja\")*(Anlægskartotek!C1280<>0)=1,Anlægskartotek!$L$14,Anlægskartotek!I1280)","v":0}]
[null,1270,{"$f":"Anlægskartotek!C1281","v":0},{"$f":"+IF((Basisoplysninger!$D$60=\"Ja\")*(Anlægskartotek!C1281<>0)=1,Anlægskartotek!$L$14,Anlægskartotek!I1281)","v":0}]
[null,1271,{"$f":"Anlægskartotek!C1282","v":0},{"$f":"+IF((Basisoplysninger!$D$60=\"Ja\")*(Anlægskartotek!C1282<>0)=1,Anlægskartotek!$L$14,Anlægskartotek!I1282)","v":0}]
[null,1272,{"$f":"Anlægskartotek!C1283","v":0},{"$f":"+IF((Basisoplysninger!$D$60=\"Ja\")*(Anlægskartotek!C1283<>0)=1,Anlægskartotek!$L$14,Anlægskartotek!I1283)","v":0}]
[null,1273,{"$f":"Anlægskartotek!C1284","v":0},{"$f":"+IF((Basisoplysninger!$D$60=\"Ja\")*(Anlægskartotek!C1284<>0)=1,Anlægskartotek!$L$14,Anlægskartotek!I1284)","v":0}]
[null,1274,{"$f":"Anlægskartotek!C1285","v":0},{"$f":"+IF((Basisoplysninger!$D$60=\"Ja\")*(Anlægskartotek!C1285<>0)=1,Anlægskartotek!$L$14,Anlægskartotek!I1285)","v":0}]
[null,1275,{"$f":"Anlægskartotek!C1286","v":0},{"$f":"+IF((Basisoplysninger!$D$60=\"Ja\")*(Anlægskartotek!C1286<>0)=1,Anlægskartotek!$L$14,Anlægskartotek!I1286)","v":0}]
[null,1276,{"$f":"Anlægskartotek!C1287","v":0},{"$f":"+IF((Basisoplysninger!$D$60=\"Ja\")*(Anlægskartotek!C1287<>0)=1,Anlægskartotek!$L$14,Anlægskartotek!I1287)","v":0}]
[null,1277,{"$f":"Anlægskartotek!C1288","v":0},{"$f":"+IF((Basisoplysninger!$D$60=\"Ja\")*(Anlægskartotek!C1288<>0)=1,Anlægskartotek!$L$14,Anlægskartotek!I1288)","v":0}]
[null,1278,{"$f":"Anlægskartotek!C1289","v":0},{"$f":"+IF((Basisoplysninger!$D$60=\"Ja\")*(Anlægskartotek!C1289<>0)=1,Anlægskartotek!$L$14,Anlægskartotek!I1289)","v":0}]
[null,1279,{"$f":"Anlægskartotek!C1290","v":0},{"$f":"+IF((Basisoplysninger!$D$60=\"Ja\")*(Anlægskartotek!C1290<>0)=1,Anlægskartotek!$L$14,Anlægskartotek!I1290)","v":0}]
[null,1280,{"$f":"Anlægskartotek!C1291","v":0},{"$f":"+IF((Basisoplysninger!$D$60=\"Ja\")*(Anlægskartotek!C1291<>0)=1,Anlægskartotek!$L$14,Anlægskartotek!I1291)","v":0}]
[null,1281,{"$f":"Anlægskartotek!C1292","v":0},{"$f":"+IF((Basisoplysninger!$D$60=\"Ja\")*(Anlægskartotek!C1292<>0)=1,Anlægskartotek!$L$14,Anlægskartotek!I1292)","v":0}]
[null,1282,{"$f":"Anlægskartotek!C1293","v":0},{"$f":"+IF((Basisoplysninger!$D$60=\"Ja\")*(Anlægskartotek!C1293<>0)=1,Anlægskartotek!$L$14,Anlægskartotek!I1293)","v":0}]
[null,{"$f":"B1391+1","v":1283},{"$f":"Anlægskartotek!C1294","v":0},{"$f":"+IF((Basisoplysninger!$D$60=\"Ja\")*(Anlægskartotek!C1294<>0)=1,Anlægskartotek!$L$14,Anlægskartotek!I1294)","v":0}]
[null,1284,{"$f":"Anlægskartotek!C1295","v":0},{"$f":"+IF((Basisoplysninger!$D$60=\"Ja\")*(Anlægskartotek!C1295<>0)=1,Anlægskartotek!$L$14,Anlægskartotek!I1295)","v":0}]
[null,1285,{"$f":"Anlægskartotek!C1296","v":0},{"$f":"+IF((Basisoplysninger!$D$60=\"Ja\")*(Anlægskartotek!C1296<>0)=1,Anlægskartotek!$L$14,Anlægskartotek!I1296)","v":0}]
[null,1286,{"$f":"Anlægskartotek!C1297","v":0},{"$f":"+IF((Basisoplysninger!$D$60=\"Ja\")*(Anlægskartotek!C1297<>0)=1,Anlægskartotek!$L$14,Anlægskartotek!I1297)","v":0}]
[null,1287,{"$f":"Anlægskartotek!C1298","v":0},{"$f":"+IF((Basisoplysninger!$D$60=\"Ja\")*(Anlægskartotek!C1298<>0)=1,Anlægskartotek!$L$14,Anlægskartotek!I1298)","v":0}]
[null,1288,{"$f":"Anlægskartotek!C1299","v":0},{"$f":"+IF((Basisoplysninger!$D$60=\"Ja\")*(Anlægskartotek!C1299<>0)=1,Anlægskartotek!$L$14,Anlægskartotek!I1299)","v":0}]
[null,1289,{"$f":"Anlægskartotek!C1300","v":0},{"$f":"+IF((Basisoplysninger!$D$60=\"Ja\")*(Anlægskartotek!C1300<>0)=1,Anlægskartotek!$L$14,Anlægskartotek!I1300)","v":0}]
[null,1290,{"$f":"Anlægskartotek!C1301","v":0},{"$f":"+IF((Basisoplysninger!$D$60=\"Ja\")*(Anlægskartotek!C1301<>0)=1,Anlægskartotek!$L$14,Anlægskartotek!I1301)","v":0}]
[null,1291,{"$f":"Anlægskartotek!C1302","v":0},{"$f":"+IF((Basisoplysninger!$D$60=\"Ja\")*(Anlægskartotek!C1302<>0)=1,Anlægskartotek!$L$14,Anlægskartotek!I1302)","v":0}]
[null,1292,{"$f":"Anlægskartotek!C1303","v":0},{"$f":"+IF((Basisoplysninger!$D$60=\"Ja\")*(Anlægskartotek!C1303<>0)=1,Anlægskartotek!$L$14,Anlægskartotek!I1303)","v":0}]
[null,1293,{"$f":"Anlægskartotek!C1304","v":0},{"$f":"+IF((Basisoplysninger!$D$60=\"Ja\")*(Anlægskartotek!C1304<>0)=1,Anlægskartotek!$L$14,Anlægskartotek!I1304)","v":0}]
[null,1294,{"$f":"Anlægskartotek!C1305","v":0},{"$f":"+IF((Basisoplysninger!$D$60=\"Ja\")*(Anlægskartotek!C1305<>0)=1,Anlægskartotek!$L$14,Anlægskartotek!I1305)","v":0}]
[null,1295,{"$f":"Anlægskartotek!C1306","v":0},{"$f":"+IF((Basisoplysninger!$D$60=\"Ja\")*(Anlægskartotek!C1306<>0)=1,Anlægskartotek!$L$14,Anlægskartotek!I1306)","v":0}]
[null,1296,{"$f":"Anlægskartotek!C1307","v":0},{"$f":"+IF((Basisoplysninger!$D$60=\"Ja\")*(Anlægskartotek!C1307<>0)=1,Anlægskartotek!$L$14,Anlægskartotek!I1307)","v":0}]
[null,1297,{"$f":"Anlægskartotek!C1308","v":0},{"$f":"+IF((Basisoplysninger!$D$60=\"Ja\")*(Anlægskartotek!C1308<>0)=1,Anlægskartotek!$L$14,Anlægskartotek!I1308)","v":0}]
[null,1298,{"$f":"Anlægskartotek!C1309","v":0},{"$f":"+IF((Basisoplysninger!$D$60=\"Ja\")*(Anlægskartotek!C1309<>0)=1,Anlægskartotek!$L$14,Anlægskartotek!I1309)","v":0}]
[null,1299,{"$f":"Anlægskartotek!C1310","v":0},{"$f":"+IF((Basisoplysninger!$D$60=\"Ja\")*(Anlægskartotek!C1310<>0)=1,Anlægskartotek!$L$14,Anlægskartotek!I1310)","v":0}]
[null,1300,{"$f":"Anlægskartotek!C1311","v":0},{"$f":"+IF((Basisoplysninger!$D$60=\"Ja\")*(Anlægskartotek!C1311<>0)=1,Anlægskartotek!$L$14,Anlægskartotek!I1311)","v":0}]
[null,1301,{"$f":"Anlægskartotek!C1312","v":0},{"$f":"+IF((Basisoplysninger!$D$60=\"Ja\")*(Anlægskartotek!C1312<>0)=1,Anlægskartotek!$L$14,Anlægskartotek!I1312)","v":0}]
[null,1302,{"$f":"Anlægskartotek!C1313","v":0},{"$f":"+IF((Basisoplysninger!$D$60=\"Ja\")*(Anlægskartotek!C1313<>0)=1,Anlægskartotek!$L$14,Anlægskartotek!I1313)","v":0}]
[null,1303,{"$f":"Anlægskartotek!C1314","v":0},{"$f":"+IF((Basisoplysninger!$D$60=\"Ja\")*(Anlægskartotek!C1314<>0)=1,Anlægskartotek!$L$14,Anlægskartotek!I1314)","v":0}]
[null,1304,{"$f":"Anlægskartotek!C1315","v":0},{"$f":"+IF((Basisoplysninger!$D$60=\"Ja\")*(Anlægskartotek!C1315<>0)=1,Anlægskartotek!$L$14,Anlægskartotek!I1315)","v":0}]
[null,1305,{"$f":"Anlægskartotek!C1316","v":0},{"$f":"+IF((Basisoplysninger!$D$60=\"Ja\")*(Anlægskartotek!C1316<>0)=1,Anlægskartotek!$L$14,Anlægskartotek!I1316)","v":0}]
[null,1306,{"$f":"Anlægskartotek!C1317","v":0},{"$f":"+IF((Basisoplysninger!$D$60=\"Ja\")*(Anlægskartotek!C1317<>0)=1,Anlægskartotek!$L$14,Anlægskartotek!I1317)","v":0}]
[null,1307,{"$f":"Anlægskartotek!C1318","v":0},{"$f":"+IF((Basisoplysninger!$D$60=\"Ja\")*(Anlægskartotek!C1318<>0)=1,Anlægskartotek!$L$14,Anlægskartotek!I1318)","v":0}]
[null,1308,{"$f":"Anlægskartotek!C1319","v":0},{"$f":"+IF((Basisoplysninger!$D$60=\"Ja\")*(Anlægskartotek!C1319<>0)=1,Anlægskartotek!$L$14,Anlægskartotek!I1319)","v":0}]
[null,1309,{"$f":"Anlægskartotek!C1320","v":0},{"$f":"+IF((Basisoplysninger!$D$60=\"Ja\")*(Anlægskartotek!C1320<>0)=1,Anlægskartotek!$L$14,Anlægskartotek!I1320)","v":0}]
[null,1310,{"$f":"Anlægskartotek!C1321","v":0},{"$f":"+IF((Basisoplysninger!$D$60=\"Ja\")*(Anlægskartotek!C1321<>0)=1,Anlægskartotek!$L$14,Anlægskartotek!I1321)","v":0}]
[null,1311,{"$f":"Anlægskartotek!C1322","v":0},{"$f":"+IF((Basisoplysninger!$D$60=\"Ja\")*(Anlægskartotek!C1322<>0)=1,Anlægskartotek!$L$14,Anlægskartotek!I1322)","v":0}]
[null,1312,{"$f":"Anlægskartotek!C1323","v":0},{"$f":"+IF((Basisoplysninger!$D$60=\"Ja\")*(Anlægskartotek!C1323<>0)=1,Anlægskartotek!$L$14,Anlægskartotek!I1323)","v":0}]
[null,1313,{"$f":"Anlægskartotek!C1324","v":0},{"$f":"+IF((Basisoplysninger!$D$60=\"Ja\")*(Anlægskartotek!C1324<>0)=1,Anlægskartotek!$L$14,Anlægskartotek!I1324)","v":0}]
[null,1314,{"$f":"Anlægskartotek!C1325","v":0},{"$f":"+IF((Basisoplysninger!$D$60=\"Ja\")*(Anlægskartotek!C1325<>0)=1,Anlægskartotek!$L$14,Anlægskartotek!I1325)","v":0}]
[null,1315,{"$f":"Anlægskartotek!C1326","v":0},{"$f":"+IF((Basisoplysninger!$D$60=\"Ja\")*(Anlægskartotek!C1326<>0)=1,Anlægskartotek!$L$14,Anlægskartotek!I1326)","v":0}]
[null,1316,{"$f":"Anlægskartotek!C1327","v":0},{"$f":"+IF((Basisoplysninger!$D$60=\"Ja\")*(Anlægskartotek!C1327<>0)=1,Anlægskartotek!$L$14,Anlægskartotek!I1327)","v":0}]
[null,1317,{"$f":"Anlægskartotek!C1328","v":0},{"$f":"+IF((Basisoplysninger!$D$60=\"Ja\")*(Anlægskartotek!C1328<>0)=1,Anlægskartotek!$L$14,Anlægskartotek!I1328)","v":0}]
[null,1318,{"$f":"Anlægskartotek!C1329","v":0},{"$f":"+IF((Basisoplysninger!$D$60=\"Ja\")*(Anlægskartotek!C1329<>0)=1,Anlægskartotek!$L$14,Anlægskartotek!I1329)","v":0}]
[null,1319,{"$f":"Anlægskartotek!C1330","v":0},{"$f":"+IF((Basisoplysninger!$D$60=\"Ja\")*(Anlægskartotek!C1330<>0)=1,Anlægskartotek!$L$14,Anlægskartotek!I1330)","v":0}]
[null,1320,{"$f":"Anlægskartotek!C1331","v":0},{"$f":"+IF((Basisoplysninger!$D$60=\"Ja\")*(Anlægskartotek!C1331<>0)=1,Anlægskartotek!$L$14,Anlægskartotek!I1331)","v":0}]
[null,1321,{"$f":"Anlægskartotek!C1332","v":0},{"$f":"+IF((Basisoplysninger!$D$60=\"Ja\")*(Anlægskartotek!C1332<>0)=1,Anlægskartotek!$L$14,Anlægskartotek!I1332)","v":0}]
[null,1322,{"$f":"Anlægskartotek!C1333","v":0},{"$f":"+IF((Basisoplysninger!$D$60=\"Ja\")*(Anlægskartotek!C1333<>0)=1,Anlægskartotek!$L$14,Anlægskartotek!I1333)","v":0}]
[null,1323,{"$f":"Anlægskartotek!C1334","v":0},{"$f":"+IF((Basisoplysninger!$D$60=\"Ja\")*(Anlægskartotek!C1334<>0)=1,Anlægskartotek!$L$14,Anlægskartotek!I1334)","v":0}]
[null,1324,{"$f":"Anlægskartotek!C1335","v":0},{"$f":"+IF((Basisoplysninger!$D$60=\"Ja\")*(Anlægskartotek!C1335<>0)=1,Anlægskartotek!$L$14,Anlægskartotek!I1335)","v":0}]
[null,1325,{"$f":"Anlægskartotek!C1336","v":0},{"$f":"+IF((Basisoplysninger!$D$60=\"Ja\")*(Anlægskartotek!C1336<>0)=1,Anlægskartotek!$L$14,Anlægskartotek!I1336)","v":0}]
[null,1326,{"$f":"Anlægskartotek!C1337","v":0},{"$f":"+IF((Basisoplysninger!$D$60=\"Ja\")*(Anlægskartotek!C1337<>0)=1,Anlægskartotek!$L$14,Anlægskartotek!I1337)","v":0}]
[null,1327,{"$f":"Anlægskartotek!C1338","v":0},{"$f":"+IF((Basisoplysninger!$D$60=\"Ja\")*(Anlægskartotek!C1338<>0)=1,Anlægskartotek!$L$14,Anlægskartotek!I1338)","v":0}]
[null,1328,{"$f":"Anlægskartotek!C1339","v":0},{"$f":"+IF((Basisoplysninger!$D$60=\"Ja\")*(Anlægskartotek!C1339<>0)=1,Anlægskartotek!$L$14,Anlægskartotek!I1339)","v":0}]
[null,1329,{"$f":"Anlægskartotek!C1340","v":0},{"$f":"+IF((Basisoplysninger!$D$60=\"Ja\")*(Anlægskartotek!C1340<>0)=1,Anlægskartotek!$L$14,Anlægskartotek!I1340)","v":0}]
[null,1330,{"$f":"Anlægskartotek!C1341","v":0},{"$f":"+IF((Basisoplysninger!$D$60=\"Ja\")*(Anlægskartotek!C1341<>0)=1,Anlægskartotek!$L$14,Anlægskartotek!I1341)","v":0}]
[null,1331,{"$f":"Anlægskartotek!C1342","v":0},{"$f":"+IF((Basisoplysninger!$D$60=\"Ja\")*(Anlægskartotek!C1342<>0)=1,Anlægskartotek!$L$14,Anlægskartotek!I1342)","v":0}]
[null,1332,{"$f":"Anlægskartotek!C1343","v":0},{"$f":"+IF((Basisoplysninger!$D$60=\"Ja\")*(Anlægskartotek!C1343<>0)=1,Anlægskartotek!$L$14,Anlægskartotek!I1343)","v":0}]
[null,1333,{"$f":"Anlægskartotek!C1344","v":0},{"$f":"+IF((Basisoplysninger!$D$60=\"Ja\")*(Anlægskartotek!C1344<>0)=1,Anlægskartotek!$L$14,Anlægskartotek!I1344)","v":0}]
[null,1334,{"$f":"Anlægskartotek!C1345","v":0},{"$f":"+IF((Basisoplysninger!$D$60=\"Ja\")*(Anlægskartotek!C1345<>0)=1,Anlægskartotek!$L$14,Anlægskartotek!I1345)","v":0}]
[null,1335,{"$f":"Anlægskartotek!C1346","v":0},{"$f":"+IF((Basisoplysninger!$D$60=\"Ja\")*(Anlægskartotek!C1346<>0)=1,Anlægskartotek!$L$14,Anlægskartotek!I1346)","v":0}]
[null,1336,{"$f":"Anlægskartotek!C1347","v":0},{"$f":"+IF((Basisoplysninger!$D$60=\"Ja\")*(Anlægskartotek!C1347<>0)=1,Anlægskartotek!$L$14,Anlægskartotek!I1347)","v":0}]
[null,1337,{"$f":"Anlægskartotek!C1348","v":0},{"$f":"+IF((Basisoplysninger!$D$60=\"Ja\")*(Anlægskartotek!C1348<>0)=1,Anlægskartotek!$L$14,Anlægskartotek!I1348)","v":0}]
[null,1338,{"$f":"Anlægskartotek!C1349","v":0},{"$f":"+IF((Basisoplysninger!$D$60=\"Ja\")*(Anlægskartotek!C1349<>0)=1,Anlægskartotek!$L$14,Anlægskartotek!I1349)","v":0}]
[null,1339,{"$f":"Anlægskartotek!C1350","v":0},{"$f":"+IF((Basisoplysninger!$D$60=\"Ja\")*(Anlægskartotek!C1350<>0)=1,Anlægskartotek!$L$14,Anlægskartotek!I1350)","v":0}]
[null,1340,{"$f":"Anlægskartotek!C1351","v":0},{"$f":"+IF((Basisoplysninger!$D$60=\"Ja\")*(Anlægskartotek!C1351<>0)=1,Anlægskartotek!$L$14,Anlægskartotek!I1351)","v":0}]
[null,1341,{"$f":"Anlægskartotek!C1352","v":0},{"$f":"+IF((Basisoplysninger!$D$60=\"Ja\")*(Anlægskartotek!C1352<>0)=1,Anlægskartotek!$L$14,Anlægskartotek!I1352)","v":0}]
[null,1342,{"$f":"Anlægskartotek!C1353","v":0},{"$f":"+IF((Basisoplysninger!$D$60=\"Ja\")*(Anlægskartotek!C1353<>0)=1,Anlægskartotek!$L$14,Anlægskartotek!I1353)","v":0}]
[null,1343,{"$f":"Anlægskartotek!C1354","v":0},{"$f":"+IF((Basisoplysninger!$D$60=\"Ja\")*(Anlægskartotek!C1354<>0)=1,Anlægskartotek!$L$14,Anlægskartotek!I1354)","v":0}]
[null,1344,{"$f":"Anlægskartotek!C1355","v":0},{"$f":"+IF((Basisoplysninger!$D$60=\"Ja\")*(Anlægskartotek!C1355<>0)=1,Anlægskartotek!$L$14,Anlægskartotek!I1355)","v":0}]
[null,1345,{"$f":"Anlægskartotek!C1356","v":0},{"$f":"+IF((Basisoplysninger!$D$60=\"Ja\")*(Anlægskartotek!C1356<>0)=1,Anlægskartotek!$L$14,Anlægskartotek!I1356)","v":0}]
[null,1346,{"$f":"Anlægskartotek!C1357","v":0},{"$f":"+IF((Basisoplysninger!$D$60=\"Ja\")*(Anlægskartotek!C1357<>0)=1,Anlægskartotek!$L$14,Anlægskartotek!I1357)","v":0}]
[null,{"$f":"B1455+1","v":1347},{"$f":"Anlægskartotek!C1358","v":0},{"$f":"+IF((Basisoplysninger!$D$60=\"Ja\")*(Anlægskartotek!C1358<>0)=1,Anlægskartotek!$L$14,Anlægskartotek!I1358)","v":0}]
[null,1348,{"$f":"Anlægskartotek!C1359","v":0},{"$f":"+IF((Basisoplysninger!$D$60=\"Ja\")*(Anlægskartotek!C1359<>0)=1,Anlægskartotek!$L$14,Anlægskartotek!I1359)","v":0}]
[null,1349,{"$f":"Anlægskartotek!C1360","v":0},{"$f":"+IF((Basisoplysninger!$D$60=\"Ja\")*(Anlægskartotek!C1360<>0)=1,Anlægskartotek!$L$14,Anlægskartotek!I1360)","v":0}]
[null,1350,{"$f":"Anlægskartotek!C1361","v":0},{"$f":"+IF((Basisoplysninger!$D$60=\"Ja\")*(Anlægskartotek!C1361<>0)=1,Anlægskartotek!$L$14,Anlægskartotek!I1361)","v":0}]
[null,1351,{"$f":"Anlægskartotek!C1362","v":0},{"$f":"+IF((Basisoplysninger!$D$60=\"Ja\")*(Anlægskartotek!C1362<>0)=1,Anlægskartotek!$L$14,Anlægskartotek!I1362)","v":0}]
[null,1352,{"$f":"Anlægskartotek!C1363","v":0},{"$f":"+IF((Basisoplysninger!$D$60=\"Ja\")*(Anlægskartotek!C1363<>0)=1,Anlægskartotek!$L$14,Anlægskartotek!I1363)","v":0}]
[null,1353,{"$f":"Anlægskartotek!C1364","v":0},{"$f":"+IF((Basisoplysninger!$D$60=\"Ja\")*(Anlægskartotek!C1364<>0)=1,Anlægskartotek!$L$14,Anlægskartotek!I1364)","v":0}]
[null,1354,{"$f":"Anlægskartotek!C1365","v":0},{"$f":"+IF((Basisoplysninger!$D$60=\"Ja\")*(Anlægskartotek!C1365<>0)=1,Anlægskartotek!$L$14,Anlægskartotek!I1365)","v":0}]
[null,1355,{"$f":"Anlægskartotek!C1366","v":0},{"$f":"+IF((Basisoplysninger!$D$60=\"Ja\")*(Anlægskartotek!C1366<>0)=1,Anlægskartotek!$L$14,Anlægskartotek!I1366)","v":0}]
[null,1356,{"$f":"Anlægskartotek!C1367","v":0},{"$f":"+IF((Basisoplysninger!$D$60=\"Ja\")*(Anlægskartotek!C1367<>0)=1,Anlægskartotek!$L$14,Anlægskartotek!I1367)","v":0}]
[null,1357,{"$f":"Anlægskartotek!C1368","v":0},{"$f":"+IF((Basisoplysninger!$D$60=\"Ja\")*(Anlægskartotek!C1368<>0)=1,Anlægskartotek!$L$14,Anlægskartotek!I1368)","v":0}]
[null,1358,{"$f":"Anlægskartotek!C1369","v":0},{"$f":"+IF((Basisoplysninger!$D$60=\"Ja\")*(Anlægskartotek!C1369<>0)=1,Anlægskartotek!$L$14,Anlægskartotek!I1369)","v":0}]
[null,1359,{"$f":"Anlægskartotek!C1370","v":0},{"$f":"+IF((Basisoplysninger!$D$60=\"Ja\")*(Anlægskartotek!C1370<>0)=1,Anlægskartotek!$L$14,Anlægskartotek!I1370)","v":0}]
[null,1360,{"$f":"Anlægskartotek!C1371","v":0},{"$f":"+IF((Basisoplysninger!$D$60=\"Ja\")*(Anlægskartotek!C1371<>0)=1,Anlægskartotek!$L$14,Anlægskartotek!I1371)","v":0}]
[null,1361,{"$f":"Anlægskartotek!C1372","v":0},{"$f":"+IF((Basisoplysninger!$D$60=\"Ja\")*(Anlægskartotek!C1372<>0)=1,Anlægskartotek!$L$14,Anlægskartotek!I1372)","v":0}]
[null,1362,{"$f":"Anlægskartotek!C1373","v":0},{"$f":"+IF((Basisoplysninger!$D$60=\"Ja\")*(Anlægskartotek!C1373<>0)=1,Anlægskartotek!$L$14,Anlægskartotek!I1373)","v":0}]
[null,1363,{"$f":"Anlægskartotek!C1374","v":0},{"$f":"+IF((Basisoplysninger!$D$60=\"Ja\")*(Anlægskartotek!C1374<>0)=1,Anlægskartotek!$L$14,Anlægskartotek!I1374)","v":0}]
[null,1364,{"$f":"Anlægskartotek!C1375","v":0},{"$f":"+IF((Basisoplysninger!$D$60=\"Ja\")*(Anlægskartotek!C1375<>0)=1,Anlægskartotek!$L$14,Anlægskartotek!I1375)","v":0}]
[null,1365,{"$f":"Anlægskartotek!C1376","v":0},{"$f":"+IF((Basisoplysninger!$D$60=\"Ja\")*(Anlægskartotek!C1376<>0)=1,Anlægskartotek!$L$14,Anlægskartotek!I1376)","v":0}]
[null,1366,{"$f":"Anlægskartotek!C1377","v":0},{"$f":"+IF((Basisoplysninger!$D$60=\"Ja\")*(Anlægskartotek!C1377<>0)=1,Anlægskartotek!$L$14,Anlægskartotek!I1377)","v":0}]
[null,1367,{"$f":"Anlægskartotek!C1378","v":0},{"$f":"+IF((Basisoplysninger!$D$60=\"Ja\")*(Anlægskartotek!C1378<>0)=1,Anlægskartotek!$L$14,Anlægskartotek!I1378)","v":0}]
[null,1368,{"$f":"Anlægskartotek!C1379","v":0},{"$f":"+IF((Basisoplysninger!$D$60=\"Ja\")*(Anlægskartotek!C1379<>0)=1,Anlægskartotek!$L$14,Anlægskartotek!I1379)","v":0}]
[null,1369,{"$f":"Anlægskartotek!C1380","v":0},{"$f":"+IF((Basisoplysninger!$D$60=\"Ja\")*(Anlægskartotek!C1380<>0)=1,Anlægskartotek!$L$14,Anlægskartotek!I1380)","v":0}]
[null,1370,{"$f":"Anlægskartotek!C1381","v":0},{"$f":"+IF((Basisoplysninger!$D$60=\"Ja\")*(Anlægskartotek!C1381<>0)=1,Anlægskartotek!$L$14,Anlægskartotek!I1381)","v":0}]
[null,1371,{"$f":"Anlægskartotek!C1382","v":0},{"$f":"+IF((Basisoplysninger!$D$60=\"Ja\")*(Anlægskartotek!C1382<>0)=1,Anlægskartotek!$L$14,Anlægskartotek!I1382)","v":0}]
[null,1372,{"$f":"Anlægskartotek!C1383","v":0},{"$f":"+IF((Basisoplysninger!$D$60=\"Ja\")*(Anlægskartotek!C1383<>0)=1,Anlægskartotek!$L$14,Anlægskartotek!I1383)","v":0}]
[null,1373,{"$f":"Anlægskartotek!C1384","v":0},{"$f":"+IF((Basisoplysninger!$D$60=\"Ja\")*(Anlægskartotek!C1384<>0)=1,Anlægskartotek!$L$14,Anlægskartotek!I1384)","v":0}]
[null,1374,{"$f":"Anlægskartotek!C1385","v":0},{"$f":"+IF((Basisoplysninger!$D$60=\"Ja\")*(Anlægskartotek!C1385<>0)=1,Anlægskartotek!$L$14,Anlægskartotek!I1385)","v":0}]
[null,1375,{"$f":"Anlægskartotek!C1386","v":0},{"$f":"+IF((Basisoplysninger!$D$60=\"Ja\")*(Anlægskartotek!C1386<>0)=1,Anlægskartotek!$L$14,Anlægskartotek!I1386)","v":0}]
[null,1376,{"$f":"Anlægskartotek!C1387","v":0},{"$f":"+IF((Basisoplysninger!$D$60=\"Ja\")*(Anlægskartotek!C1387<>0)=1,Anlægskartotek!$L$14,Anlægskartotek!I1387)","v":0}]
[null,1377,{"$f":"Anlægskartotek!C1388","v":0},{"$f":"+IF((Basisoplysninger!$D$60=\"Ja\")*(Anlægskartotek!C1388<>0)=1,Anlægskartotek!$L$14,Anlægskartotek!I1388)","v":0}]
[null,1378,{"$f":"Anlægskartotek!C1389","v":0},{"$f":"+IF((Basisoplysninger!$D$60=\"Ja\")*(Anlægskartotek!C1389<>0)=1,Anlægskartotek!$L$14,Anlægskartotek!I1389)","v":0}]
[null,1379,{"$f":"Anlægskartotek!C1390","v":0},{"$f":"+IF((Basisoplysninger!$D$60=\"Ja\")*(Anlægskartotek!C1390<>0)=1,Anlægskartotek!$L$14,Anlægskartotek!I1390)","v":0}]
[null,1380,{"$f":"Anlægskartotek!C1391","v":0},{"$f":"+IF((Basisoplysninger!$D$60=\"Ja\")*(Anlægskartotek!C1391<>0)=1,Anlægskartotek!$L$14,Anlægskartotek!I1391)","v":0}]
[null,1381,{"$f":"Anlægskartotek!C1392","v":0},{"$f":"+IF((Basisoplysninger!$D$60=\"Ja\")*(Anlægskartotek!C1392<>0)=1,Anlægskartotek!$L$14,Anlægskartotek!I1392)","v":0}]
[null,1382,{"$f":"Anlægskartotek!C1393","v":0},{"$f":"+IF((Basisoplysninger!$D$60=\"Ja\")*(Anlægskartotek!C1393<>0)=1,Anlægskartotek!$L$14,Anlægskartotek!I1393)","v":0}]
[null,1383,{"$f":"Anlægskartotek!C1394","v":0},{"$f":"+IF((Basisoplysninger!$D$60=\"Ja\")*(Anlægskartotek!C1394<>0)=1,Anlægskartotek!$L$14,Anlægskartotek!I1394)","v":0}]
[null,1384,{"$f":"Anlægskartotek!C1395","v":0},{"$f":"+IF((Basisoplysninger!$D$60=\"Ja\")*(Anlægskartotek!C1395<>0)=1,Anlægskartotek!$L$14,Anlægskartotek!I1395)","v":0}]
[null,1385,{"$f":"Anlægskartotek!C1396","v":0},{"$f":"+IF((Basisoplysninger!$D$60=\"Ja\")*(Anlægskartotek!C1396<>0)=1,Anlægskartotek!$L$14,Anlægskartotek!I1396)","v":0}]
[null,1386,{"$f":"Anlægskartotek!C1397","v":0},{"$f":"+IF((Basisoplysninger!$D$60=\"Ja\")*(Anlægskartotek!C1397<>0)=1,Anlægskartotek!$L$14,Anlægskartotek!I1397)","v":0}]
[null,1387,{"$f":"Anlægskartotek!C1398","v":0},{"$f":"+IF((Basisoplysninger!$D$60=\"Ja\")*(Anlægskartotek!C1398<>0)=1,Anlægskartotek!$L$14,Anlægskartotek!I1398)","v":0}]
[null,1388,{"$f":"Anlægskartotek!C1399","v":0},{"$f":"+IF((Basisoplysninger!$D$60=\"Ja\")*(Anlægskartotek!C1399<>0)=1,Anlægskartotek!$L$14,Anlægskartotek!I1399)","v":0}]
[null,1389,{"$f":"Anlægskartotek!C1400","v":0},{"$f":"+IF((Basisoplysninger!$D$60=\"Ja\")*(Anlægskartotek!C1400<>0)=1,Anlægskartotek!$L$14,Anlægskartotek!I1400)","v":0}]
[null,1390,{"$f":"Anlægskartotek!C1401","v":0},{"$f":"+IF((Basisoplysninger!$D$60=\"Ja\")*(Anlægskartotek!C1401<>0)=1,Anlægskartotek!$L$14,Anlægskartotek!I1401)","v":0}]
[null,1391,{"$f":"Anlægskartotek!C1402","v":0},{"$f":"+IF((Basisoplysninger!$D$60=\"Ja\")*(Anlægskartotek!C1402<>0)=1,Anlægskartotek!$L$14,Anlægskartotek!I1402)","v":0}]
[null,1392,{"$f":"Anlægskartotek!C1403","v":0},{"$f":"+IF((Basisoplysninger!$D$60=\"Ja\")*(Anlægskartotek!C1403<>0)=1,Anlægskartotek!$L$14,Anlægskartotek!I1403)","v":0}]
[null,1393,{"$f":"Anlægskartotek!C1404","v":0},{"$f":"+IF((Basisoplysninger!$D$60=\"Ja\")*(Anlægskartotek!C1404<>0)=1,Anlægskartotek!$L$14,Anlægskartotek!I1404)","v":0}]
[null,1394,{"$f":"Anlægskartotek!C1405","v":0},{"$f":"+IF((Basisoplysninger!$D$60=\"Ja\")*(Anlægskartotek!C1405<>0)=1,Anlægskartotek!$L$14,Anlægskartotek!I1405)","v":0}]
[null,1395,{"$f":"Anlægskartotek!C1406","v":0},{"$f":"+IF((Basisoplysninger!$D$60=\"Ja\")*(Anlægskartotek!C1406<>0)=1,Anlægskartotek!$L$14,Anlægskartotek!I1406)","v":0}]
[null,1396,{"$f":"Anlægskartotek!C1407","v":0},{"$f":"+IF((Basisoplysninger!$D$60=\"Ja\")*(Anlægskartotek!C1407<>0)=1,Anlægskartotek!$L$14,Anlægskartotek!I1407)","v":0}]
[null,1397,{"$f":"Anlægskartotek!C1408","v":0},{"$f":"+IF((Basisoplysninger!$D$60=\"Ja\")*(Anlægskartotek!C1408<>0)=1,Anlægskartotek!$L$14,Anlægskartotek!I1408)","v":0}]
[null,1398,{"$f":"Anlægskartotek!C1409","v":0},{"$f":"+IF((Basisoplysninger!$D$60=\"Ja\")*(Anlægskartotek!C1409<>0)=1,Anlægskartotek!$L$14,Anlægskartotek!I1409)","v":0}]
[null,1399,{"$f":"Anlægskartotek!C1410","v":0},{"$f":"+IF((Basisoplysninger!$D$60=\"Ja\")*(Anlægskartotek!C1410<>0)=1,Anlægskartotek!$L$14,Anlægskartotek!I1410)","v":0}]
[null,1400,{"$f":"Anlægskartotek!C1411","v":0},{"$f":"+IF((Basisoplysninger!$D$60=\"Ja\")*(Anlægskartotek!C1411<>0)=1,Anlægskartotek!$L$14,Anlægskartotek!I1411)","v":0}]
[null,1401,{"$f":"Anlægskartotek!C1412","v":0},{"$f":"+IF((Basisoplysninger!$D$60=\"Ja\")*(Anlægskartotek!C1412<>0)=1,Anlægskartotek!$L$14,Anlægskartotek!I1412)","v":0}]
[null,1402,{"$f":"Anlægskartotek!C1413","v":0},{"$f":"+IF((Basisoplysninger!$D$60=\"Ja\")*(Anlægskartotek!C1413<>0)=1,Anlægskartotek!$L$14,Anlægskartotek!I1413)","v":0}]
[null,1403,{"$f":"Anlægskartotek!C1414","v":0},{"$f":"+IF((Basisoplysninger!$D$60=\"Ja\")*(Anlægskartotek!C1414<>0)=1,Anlægskartotek!$L$14,Anlægskartotek!I1414)","v":0}]
[null,1404,{"$f":"Anlægskartotek!C1415","v":0},{"$f":"+IF((Basisoplysninger!$D$60=\"Ja\")*(Anlægskartotek!C1415<>0)=1,Anlægskartotek!$L$14,Anlægskartotek!I1415)","v":0}]
[null,1405,{"$f":"Anlægskartotek!C1416","v":0},{"$f":"+IF((Basisoplysninger!$D$60=\"Ja\")*(Anlægskartotek!C1416<>0)=1,Anlægskartotek!$L$14,Anlægskartotek!I1416)","v":0}]
[null,1406,{"$f":"Anlægskartotek!C1417","v":0},{"$f":"+IF((Basisoplysninger!$D$60=\"Ja\")*(Anlægskartotek!C1417<>0)=1,Anlægskartotek!$L$14,Anlægskartotek!I1417)","v":0}]
[null,1407,{"$f":"Anlægskartotek!C1418","v":0},{"$f":"+IF((Basisoplysninger!$D$60=\"Ja\")*(Anlægskartotek!C1418<>0)=1,Anlægskartotek!$L$14,Anlægskartotek!I1418)","v":0}]
[null,1408,{"$f":"Anlægskartotek!C1419","v":0},{"$f":"+IF((Basisoplysninger!$D$60=\"Ja\")*(Anlægskartotek!C1419<>0)=1,Anlægskartotek!$L$14,Anlægskartotek!I1419)","v":0}]
[null,1409,{"$f":"Anlægskartotek!C1420","v":0},{"$f":"+IF((Basisoplysninger!$D$60=\"Ja\")*(Anlægskartotek!C1420<>0)=1,Anlægskartotek!$L$14,Anlægskartotek!I1420)","v":0}]
[null,1410,{"$f":"Anlægskartotek!C1421","v":0},{"$f":"+IF((Basisoplysninger!$D$60=\"Ja\")*(Anlægskartotek!C1421<>0)=1,Anlægskartotek!$L$14,Anlægskartotek!I1421)","v":0}]
[null,{"$f":"B1519+1","v":1411},{"$f":"Anlægskartotek!C1422","v":0},{"$f":"+IF((Basisoplysninger!$D$60=\"Ja\")*(Anlægskartotek!C1422<>0)=1,Anlægskartotek!$L$14,Anlægskartotek!I1422)","v":0}]
[null,1412,{"$f":"Anlægskartotek!C1423","v":0},{"$f":"+IF((Basisoplysninger!$D$60=\"Ja\")*(Anlægskartotek!C1423<>0)=1,Anlægskartotek!$L$14,Anlægskartotek!I1423)","v":0}]
[null,1413,{"$f":"Anlægskartotek!C1424","v":0},{"$f":"+IF((Basisoplysninger!$D$60=\"Ja\")*(Anlægskartotek!C1424<>0)=1,Anlægskartotek!$L$14,Anlægskartotek!I1424)","v":0}]
[null,1414,{"$f":"Anlægskartotek!C1425","v":0},{"$f":"+IF((Basisoplysninger!$D$60=\"Ja\")*(Anlægskartotek!C1425<>0)=1,Anlægskartotek!$L$14,Anlægskartotek!I1425)","v":0}]
[null,1415,{"$f":"Anlægskartotek!C1426","v":0},{"$f":"+IF((Basisoplysninger!$D$60=\"Ja\")*(Anlægskartotek!C1426<>0)=1,Anlægskartotek!$L$14,Anlægskartotek!I1426)","v":0}]
[null,1416,{"$f":"Anlægskartotek!C1427","v":0},{"$f":"+IF((Basisoplysninger!$D$60=\"Ja\")*(Anlægskartotek!C1427<>0)=1,Anlægskartotek!$L$14,Anlægskartotek!I1427)","v":0}]
[null,1417,{"$f":"Anlægskartotek!C1428","v":0},{"$f":"+IF((Basisoplysninger!$D$60=\"Ja\")*(Anlægskartotek!C1428<>0)=1,Anlægskartotek!$L$14,Anlægskartotek!I1428)","v":0}]
[null,1418,{"$f":"Anlægskartotek!C1429","v":0},{"$f":"+IF((Basisoplysninger!$D$60=\"Ja\")*(Anlægskartotek!C1429<>0)=1,Anlægskartotek!$L$14,Anlægskartotek!I1429)","v":0}]
[null,1419,{"$f":"Anlægskartotek!C1430","v":0},{"$f":"+IF((Basisoplysninger!$D$60=\"Ja\")*(Anlægskartotek!C1430<>0)=1,Anlægskartotek!$L$14,Anlægskartotek!I1430)","v":0}]
[null,1420,{"$f":"Anlægskartotek!C1431","v":0},{"$f":"+IF((Basisoplysninger!$D$60=\"Ja\")*(Anlægskartotek!C1431<>0)=1,Anlægskartotek!$L$14,Anlægskartotek!I1431)","v":0}]
[null,1421,{"$f":"Anlægskartotek!C1432","v":0},{"$f":"+IF((Basisoplysninger!$D$60=\"Ja\")*(Anlægskartotek!C1432<>0)=1,Anlægskartotek!$L$14,Anlægskartotek!I1432)","v":0}]
[null,1422,{"$f":"Anlægskartotek!C1433","v":0},{"$f":"+IF((Basisoplysninger!$D$60=\"Ja\")*(Anlægskartotek!C1433<>0)=1,Anlægskartotek!$L$14,Anlægskartotek!I1433)","v":0}]
[null,1423,{"$f":"Anlægskartotek!C1434","v":0},{"$f":"+IF((Basisoplysninger!$D$60=\"Ja\")*(Anlægskartotek!C1434<>0)=1,Anlægskartotek!$L$14,Anlægskartotek!I1434)","v":0}]
[null,1424,{"$f":"Anlægskartotek!C1435","v":0},{"$f":"+IF((Basisoplysninger!$D$60=\"Ja\")*(Anlægskartotek!C1435<>0)=1,Anlægskartotek!$L$14,Anlægskartotek!I1435)","v":0}]
[null,1425,{"$f":"Anlægskartotek!C1436","v":0},{"$f":"+IF((Basisoplysninger!$D$60=\"Ja\")*(Anlægskartotek!C1436<>0)=1,Anlægskartotek!$L$14,Anlægskartotek!I1436)","v":0}]
[null,1426,{"$f":"Anlægskartotek!C1437","v":0},{"$f":"+IF((Basisoplysninger!$D$60=\"Ja\")*(Anlægskartotek!C1437<>0)=1,Anlægskartotek!$L$14,Anlægskartotek!I1437)","v":0}]
[null,1427,{"$f":"Anlægskartotek!C1438","v":0},{"$f":"+IF((Basisoplysninger!$D$60=\"Ja\")*(Anlægskartotek!C1438<>0)=1,Anlægskartotek!$L$14,Anlægskartotek!I1438)","v":0}]
[null,1428,{"$f":"Anlægskartotek!C1439","v":0},{"$f":"+IF((Basisoplysninger!$D$60=\"Ja\")*(Anlægskartotek!C1439<>0)=1,Anlægskartotek!$L$14,Anlægskartotek!I1439)","v":0}]
[null,1429,{"$f":"Anlægskartotek!C1440","v":0},{"$f":"+IF((Basisoplysninger!$D$60=\"Ja\")*(Anlægskartotek!C1440<>0)=1,Anlægskartotek!$L$14,Anlægskartotek!I1440)","v":0}]
[null,1430,{"$f":"Anlægskartotek!C1441","v":0},{"$f":"+IF((Basisoplysninger!$D$60=\"Ja\")*(Anlægskartotek!C1441<>0)=1,Anlægskartotek!$L$14,Anlægskartotek!I1441)","v":0}]
[null,1431,{"$f":"Anlægskartotek!C1442","v":0},{"$f":"+IF((Basisoplysninger!$D$60=\"Ja\")*(Anlægskartotek!C1442<>0)=1,Anlægskartotek!$L$14,Anlægskartotek!I1442)","v":0}]
[null,1432,{"$f":"Anlægskartotek!C1443","v":0},{"$f":"+IF((Basisoplysninger!$D$60=\"Ja\")*(Anlægskartotek!C1443<>0)=1,Anlægskartotek!$L$14,Anlægskartotek!I1443)","v":0}]
[null,1433,{"$f":"Anlægskartotek!C1444","v":0},{"$f":"+IF((Basisoplysninger!$D$60=\"Ja\")*(Anlægskartotek!C1444<>0)=1,Anlægskartotek!$L$14,Anlægskartotek!I1444)","v":0}]
[null,1434,{"$f":"Anlægskartotek!C1445","v":0},{"$f":"+IF((Basisoplysninger!$D$60=\"Ja\")*(Anlægskartotek!C1445<>0)=1,Anlægskartotek!$L$14,Anlægskartotek!I1445)","v":0}]
[null,1435,{"$f":"Anlægskartotek!C1446","v":0},{"$f":"+IF((Basisoplysninger!$D$60=\"Ja\")*(Anlægskartotek!C1446<>0)=1,Anlægskartotek!$L$14,Anlægskartotek!I1446)","v":0}]
[null,1436,{"$f":"Anlægskartotek!C1447","v":0},{"$f":"+IF((Basisoplysninger!$D$60=\"Ja\")*(Anlægskartotek!C1447<>0)=1,Anlægskartotek!$L$14,Anlægskartotek!I1447)","v":0}]
[null,1437,{"$f":"Anlægskartotek!C1448","v":0},{"$f":"+IF((Basisoplysninger!$D$60=\"Ja\")*(Anlægskartotek!C1448<>0)=1,Anlægskartotek!$L$14,Anlægskartotek!I1448)","v":0}]
[null,1438,{"$f":"Anlægskartotek!C1449","v":0},{"$f":"+IF((Basisoplysninger!$D$60=\"Ja\")*(Anlægskartotek!C1449<>0)=1,Anlægskartotek!$L$14,Anlægskartotek!I1449)","v":0}]
[null,1439,{"$f":"Anlægskartotek!C1450","v":0},{"$f":"+IF((Basisoplysninger!$D$60=\"Ja\")*(Anlægskartotek!C1450<>0)=1,Anlægskartotek!$L$14,Anlægskartotek!I1450)","v":0}]
[null,1440,{"$f":"Anlægskartotek!C1451","v":0},{"$f":"+IF((Basisoplysninger!$D$60=\"Ja\")*(Anlægskartotek!C1451<>0)=1,Anlægskartotek!$L$14,Anlægskartotek!I1451)","v":0}]
[null,1441,{"$f":"Anlægskartotek!C1452","v":0},{"$f":"+IF((Basisoplysninger!$D$60=\"Ja\")*(Anlægskartotek!C1452<>0)=1,Anlægskartotek!$L$14,Anlægskartotek!I1452)","v":0}]
[null,1442,{"$f":"Anlægskartotek!C1453","v":0},{"$f":"+IF((Basisoplysninger!$D$60=\"Ja\")*(Anlægskartotek!C1453<>0)=1,Anlægskartotek!$L$14,Anlægskartotek!I1453)","v":0}]
[null,1443,{"$f":"Anlægskartotek!C1454","v":0},{"$f":"+IF((Basisoplysninger!$D$60=\"Ja\")*(Anlægskartotek!C1454<>0)=1,Anlægskartotek!$L$14,Anlægskartotek!I1454)","v":0}]
[null,1444,{"$f":"Anlægskartotek!C1455","v":0},{"$f":"+IF((Basisoplysninger!$D$60=\"Ja\")*(Anlægskartotek!C1455<>0)=1,Anlægskartotek!$L$14,Anlægskartotek!I1455)","v":0}]
[null,1445,{"$f":"Anlægskartotek!C1456","v":0},{"$f":"+IF((Basisoplysninger!$D$60=\"Ja\")*(Anlægskartotek!C1456<>0)=1,Anlægskartotek!$L$14,Anlægskartotek!I1456)","v":0}]
[null,1446,{"$f":"Anlægskartotek!C1457","v":0},{"$f":"+IF((Basisoplysninger!$D$60=\"Ja\")*(Anlægskartotek!C1457<>0)=1,Anlægskartotek!$L$14,Anlægskartotek!I1457)","v":0}]
[null,1447,{"$f":"Anlægskartotek!C1458","v":0},{"$f":"+IF((Basisoplysninger!$D$60=\"Ja\")*(Anlægskartotek!C1458<>0)=1,Anlægskartotek!$L$14,Anlægskartotek!I1458)","v":0}]
[null,1448,{"$f":"Anlægskartotek!C1459","v":0},{"$f":"+IF((Basisoplysninger!$D$60=\"Ja\")*(Anlægskartotek!C1459<>0)=1,Anlægskartotek!$L$14,Anlægskartotek!I1459)","v":0}]
[null,1449,{"$f":"Anlægskartotek!C1460","v":0},{"$f":"+IF((Basisoplysninger!$D$60=\"Ja\")*(Anlægskartotek!C1460<>0)=1,Anlægskartotek!$L$14,Anlægskartotek!I1460)","v":0}]
[null,1450,{"$f":"Anlægskartotek!C1461","v":0},{"$f":"+IF((Basisoplysninger!$D$60=\"Ja\")*(Anlægskartotek!C1461<>0)=1,Anlægskartotek!$L$14,Anlægskartotek!I1461)","v":0}]
[null,1451,{"$f":"Anlægskartotek!C1462","v":0},{"$f":"+IF((Basisoplysninger!$D$60=\"Ja\")*(Anlægskartotek!C1462<>0)=1,Anlægskartotek!$L$14,Anlægskartotek!I1462)","v":0}]
[null,1452,{"$f":"Anlægskartotek!C1463","v":0},{"$f":"+IF((Basisoplysninger!$D$60=\"Ja\")*(Anlægskartotek!C1463<>0)=1,Anlægskartotek!$L$14,Anlægskartotek!I1463)","v":0}]
[null,1453,{"$f":"Anlægskartotek!C1464","v":0},{"$f":"+IF((Basisoplysninger!$D$60=\"Ja\")*(Anlægskartotek!C1464<>0)=1,Anlægskartotek!$L$14,Anlægskartotek!I1464)","v":0}]
[null,1454,{"$f":"Anlægskartotek!C1465","v":0},{"$f":"+IF((Basisoplysninger!$D$60=\"Ja\")*(Anlægskartotek!C1465<>0)=1,Anlægskartotek!$L$14,Anlægskartotek!I1465)","v":0}]
[null,1455,{"$f":"Anlægskartotek!C1466","v":0},{"$f":"+IF((Basisoplysninger!$D$60=\"Ja\")*(Anlægskartotek!C1466<>0)=1,Anlægskartotek!$L$14,Anlægskartotek!I1466)","v":0}]
[null,1456,{"$f":"Anlægskartotek!C1467","v":0},{"$f":"+IF((Basisoplysninger!$D$60=\"Ja\")*(Anlægskartotek!C1467<>0)=1,Anlægskartotek!$L$14,Anlægskartotek!I1467)","v":0}]
[null,1457,{"$f":"Anlægskartotek!C1468","v":0},{"$f":"+IF((Basisoplysninger!$D$60=\"Ja\")*(Anlægskartotek!C1468<>0)=1,Anlægskartotek!$L$14,Anlægskartotek!I1468)","v":0}]
[null,1458,{"$f":"Anlægskartotek!C1469","v":0},{"$f":"+IF((Basisoplysninger!$D$60=\"Ja\")*(Anlægskartotek!C1469<>0)=1,Anlægskartotek!$L$14,Anlægskartotek!I1469)","v":0}]
[null,1459,{"$f":"Anlægskartotek!C1470","v":0},{"$f":"+IF((Basisoplysninger!$D$60=\"Ja\")*(Anlægskartotek!C1470<>0)=1,Anlægskartotek!$L$14,Anlægskartotek!I1470)","v":0}]
[null,1460,{"$f":"Anlægskartotek!C1471","v":0},{"$f":"+IF((Basisoplysninger!$D$60=\"Ja\")*(Anlægskartotek!C1471<>0)=1,Anlægskartotek!$L$14,Anlægskartotek!I1471)","v":0}]
[null,1461,{"$f":"Anlægskartotek!C1472","v":0},{"$f":"+IF((Basisoplysninger!$D$60=\"Ja\")*(Anlægskartotek!C1472<>0)=1,Anlægskartotek!$L$14,Anlægskartotek!I1472)","v":0}]
[null,1462,{"$f":"Anlægskartotek!C1473","v":0},{"$f":"+IF((Basisoplysninger!$D$60=\"Ja\")*(Anlægskartotek!C1473<>0)=1,Anlægskartotek!$L$14,Anlægskartotek!I1473)","v":0}]
[null,1463,{"$f":"Anlægskartotek!C1474","v":0},{"$f":"+IF((Basisoplysninger!$D$60=\"Ja\")*(Anlægskartotek!C1474<>0)=1,Anlægskartotek!$L$14,Anlægskartotek!I1474)","v":0}]
[null,1464,{"$f":"Anlægskartotek!C1475","v":0},{"$f":"+IF((Basisoplysninger!$D$60=\"Ja\")*(Anlægskartotek!C1475<>0)=1,Anlægskartotek!$L$14,Anlægskartotek!I1475)","v":0}]
[null,1465,{"$f":"Anlægskartotek!C1476","v":0},{"$f":"+IF((Basisoplysninger!$D$60=\"Ja\")*(Anlægskartotek!C1476<>0)=1,Anlægskartotek!$L$14,Anlægskartotek!I1476)","v":0}]
[null,1466,{"$f":"Anlægskartotek!C1477","v":0},{"$f":"+IF((Basisoplysninger!$D$60=\"Ja\")*(Anlægskartotek!C1477<>0)=1,Anlægskartotek!$L$14,Anlægskartotek!I1477)","v":0}]
[null,1467,{"$f":"Anlægskartotek!C1478","v":0},{"$f":"+IF((Basisoplysninger!$D$60=\"Ja\")*(Anlægskartotek!C1478<>0)=1,Anlægskartotek!$L$14,Anlægskartotek!I1478)","v":0}]
[null,1468,{"$f":"Anlægskartotek!C1479","v":0},{"$f":"+IF((Basisoplysninger!$D$60=\"Ja\")*(Anlægskartotek!C1479<>0)=1,Anlægskartotek!$L$14,Anlægskartotek!I1479)","v":0}]
[null,1469,{"$f":"Anlægskartotek!C1480","v":0},{"$f":"+IF((Basisoplysninger!$D$60=\"Ja\")*(Anlægskartotek!C1480<>0)=1,Anlægskartotek!$L$14,Anlægskartotek!I1480)","v":0}]
[null,1470,{"$f":"Anlægskartotek!C1481","v":0},{"$f":"+IF((Basisoplysninger!$D$60=\"Ja\")*(Anlægskartotek!C1481<>0)=1,Anlægskartotek!$L$14,Anlægskartotek!I1481)","v":0}]
[null,1471,{"$f":"Anlægskartotek!C1482","v":0},{"$f":"+IF((Basisoplysninger!$D$60=\"Ja\")*(Anlægskartotek!C1482<>0)=1,Anlægskartotek!$L$14,Anlægskartotek!I1482)","v":0}]
[null,1472,{"$f":"Anlægskartotek!C1483","v":0},{"$f":"+IF((Basisoplysninger!$D$60=\"Ja\")*(Anlægskartotek!C1483<>0)=1,Anlægskartotek!$L$14,Anlægskartotek!I1483)","v":0}]
[null,1473,{"$f":"Anlægskartotek!C1484","v":0},{"$f":"+IF((Basisoplysninger!$D$60=\"Ja\")*(Anlægskartotek!C1484<>0)=1,Anlægskartotek!$L$14,Anlægskartotek!I1484)","v":0}]
[null,1474,{"$f":"Anlægskartotek!C1485","v":0},{"$f":"+IF((Basisoplysninger!$D$60=\"Ja\")*(Anlægskartotek!C1485<>0)=1,Anlægskartotek!$L$14,Anlægskartotek!I1485)","v":0}]
[null,{"$f":"B1583+1","v":1475},{"$f":"Anlægskartotek!C1486","v":0},{"$f":"+IF((Basisoplysninger!$D$60=\"Ja\")*(Anlægskartotek!C1486<>0)=1,Anlægskartotek!$L$14,Anlægskartotek!I1486)","v":0}]
[null,1476,{"$f":"Anlægskartotek!C1487","v":0},{"$f":"+IF((Basisoplysninger!$D$60=\"Ja\")*(Anlægskartotek!C1487<>0)=1,Anlægskartotek!$L$14,Anlægskartotek!I1487)","v":0}]
[null,1477,{"$f":"Anlægskartotek!C1488","v":0},{"$f":"+IF((Basisoplysninger!$D$60=\"Ja\")*(Anlægskartotek!C1488<>0)=1,Anlægskartotek!$L$14,Anlægskartotek!I1488)","v":0}]
[null,1478,{"$f":"Anlægskartotek!C1489","v":0},{"$f":"+IF((Basisoplysninger!$D$60=\"Ja\")*(Anlægskartotek!C1489<>0)=1,Anlægskartotek!$L$14,Anlægskartotek!I1489)","v":0}]
[null,1479,{"$f":"Anlægskartotek!C1490","v":0},{"$f":"+IF((Basisoplysninger!$D$60=\"Ja\")*(Anlægskartotek!C1490<>0)=1,Anlægskartotek!$L$14,Anlægskartotek!I1490)","v":0}]
[null,1480,{"$f":"Anlægskartotek!C1491","v":0},{"$f":"+IF((Basisoplysninger!$D$60=\"Ja\")*(Anlægskartotek!C1491<>0)=1,Anlægskartotek!$L$14,Anlægskartotek!I1491)","v":0}]
[null,1481,{"$f":"Anlægskartotek!C1492","v":0},{"$f":"+IF((Basisoplysninger!$D$60=\"Ja\")*(Anlægskartotek!C1492<>0)=1,Anlægskartotek!$L$14,Anlægskartotek!I1492)","v":0}]
[null,1482,{"$f":"Anlægskartotek!C1493","v":0},{"$f":"+IF((Basisoplysninger!$D$60=\"Ja\")*(Anlægskartotek!C1493<>0)=1,Anlægskartotek!$L$14,Anlægskartotek!I1493)","v":0}]
[null,1483,{"$f":"Anlægskartotek!C1494","v":0},{"$f":"+IF((Basisoplysninger!$D$60=\"Ja\")*(Anlægskartotek!C1494<>0)=1,Anlægskartotek!$L$14,Anlægskartotek!I1494)","v":0}]
[null,1484,{"$f":"Anlægskartotek!C1495","v":0},{"$f":"+IF((Basisoplysninger!$D$60=\"Ja\")*(Anlægskartotek!C1495<>0)=1,Anlægskartotek!$L$14,Anlægskartotek!I1495)","v":0}]
[null,1485,{"$f":"Anlægskartotek!C1496","v":0},{"$f":"+IF((Basisoplysninger!$D$60=\"Ja\")*(Anlægskartotek!C1496<>0)=1,Anlægskartotek!$L$14,Anlægskartotek!I1496)","v":0}]
[null,1486,{"$f":"Anlægskartotek!C1497","v":0},{"$f":"+IF((Basisoplysninger!$D$60=\"Ja\")*(Anlægskartotek!C1497<>0)=1,Anlægskartotek!$L$14,Anlægskartotek!I1497)","v":0}]
[null,1487,{"$f":"Anlægskartotek!C1498","v":0},{"$f":"+IF((Basisoplysninger!$D$60=\"Ja\")*(Anlægskartotek!C1498<>0)=1,Anlægskartotek!$L$14,Anlægskartotek!I1498)","v":0}]
[null,1488,{"$f":"Anlægskartotek!C1499","v":0},{"$f":"+IF((Basisoplysninger!$D$60=\"Ja\")*(Anlægskartotek!C1499<>0)=1,Anlægskartotek!$L$14,Anlægskartotek!I1499)","v":0}]
[null,1489,{"$f":"Anlægskartotek!C1500","v":0},{"$f":"+IF((Basisoplysninger!$D$60=\"Ja\")*(Anlægskartotek!C1500<>0)=1,Anlægskartotek!$L$14,Anlægskartotek!I1500)","v":0}]
[null,1490,{"$f":"Anlægskartotek!C1501","v":0},{"$f":"+IF((Basisoplysninger!$D$60=\"Ja\")*(Anlægskartotek!C1501<>0)=1,Anlægskartotek!$L$14,Anlægskartotek!I1501)","v":0}]
[null,1491,{"$f":"Anlægskartotek!C1502","v":0},{"$f":"+IF((Basisoplysninger!$D$60=\"Ja\")*(Anlægskartotek!C1502<>0)=1,Anlægskartotek!$L$14,Anlægskartotek!I1502)","v":0}]
[null,1492,{"$f":"Anlægskartotek!C1503","v":0},{"$f":"+IF((Basisoplysninger!$D$60=\"Ja\")*(Anlægskartotek!C1503<>0)=1,Anlægskartotek!$L$14,Anlægskartotek!I1503)","v":0}]
[null,1493,{"$f":"Anlægskartotek!C1504","v":0},{"$f":"+IF((Basisoplysninger!$D$60=\"Ja\")*(Anlægskartotek!C1504<>0)=1,Anlægskartotek!$L$14,Anlægskartotek!I1504)","v":0}]
[null,1494,{"$f":"Anlægskartotek!C1505","v":0},{"$f":"+IF((Basisoplysninger!$D$60=\"Ja\")*(Anlægskartotek!C1505<>0)=1,Anlægskartotek!$L$14,Anlægskartotek!I1505)","v":0}]
[null,1495,{"$f":"Anlægskartotek!C1506","v":0},{"$f":"+IF((Basisoplysninger!$D$60=\"Ja\")*(Anlægskartotek!C1506<>0)=1,Anlægskartotek!$L$14,Anlægskartotek!I1506)","v":0}]
[null,1496,{"$f":"Anlægskartotek!C1507","v":0},{"$f":"+IF((Basisoplysninger!$D$60=\"Ja\")*(Anlægskartotek!C1507<>0)=1,Anlægskartotek!$L$14,Anlægskartotek!I1507)","v":0}]
[null,1497,{"$f":"Anlægskartotek!C1508","v":0},{"$f":"+IF((Basisoplysninger!$D$60=\"Ja\")*(Anlægskartotek!C1508<>0)=1,Anlægskartotek!$L$14,Anlægskartotek!I1508)","v":0}]
[null,1498,{"$f":"Anlægskartotek!C1509","v":0},{"$f":"+IF((Basisoplysninger!$D$60=\"Ja\")*(Anlægskartotek!C1509<>0)=1,Anlægskartotek!$L$14,Anlægskartotek!I1509)","v":0}]
[null,1499,{"$f":"Anlægskartotek!C1510","v":0},{"$f":"+IF((Basisoplysninger!$D$60=\"Ja\")*(Anlægskartotek!C1510<>0)=1,Anlægskartotek!$L$14,Anlægskartotek!I1510)","v":0}]
[null,1500,{"$f":"Anlægskartotek!C1511","v":0},{"$f":"+IF((Basisoplysninger!$D$60=\"Ja\")*(Anlægskartotek!C1511<>0)=1,Anlægskartotek!$L$14,Anlægskartotek!I1511)","v":0}]
[null,1501,{"$f":"Anlægskartotek!C1512","v":0},{"$f":"+IF((Basisoplysninger!$D$60=\"Ja\")*(Anlægskartotek!C1512<>0)=1,Anlægskartotek!$L$14,Anlægskartotek!I1512)","v":0}]
[null,1502,{"$f":"Anlægskartotek!C1513","v":0},{"$f":"+IF((Basisoplysninger!$D$60=\"Ja\")*(Anlægskartotek!C1513<>0)=1,Anlægskartotek!$L$14,Anlægskartotek!I1513)","v":0}]
[null,1503,{"$f":"Anlægskartotek!C1514","v":0},{"$f":"+IF((Basisoplysninger!$D$60=\"Ja\")*(Anlægskartotek!C1514<>0)=1,Anlægskartotek!$L$14,Anlægskartotek!I1514)","v":0}]
[null,1504,{"$f":"Anlægskartotek!C1515","v":0},{"$f":"+IF((Basisoplysninger!$D$60=\"Ja\")*(Anlægskartotek!C1515<>0)=1,Anlægskartotek!$L$14,Anlægskartotek!I1515)","v":0}]
[null,1505,{"$f":"Anlægskartotek!C1516","v":0},{"$f":"+IF((Basisoplysninger!$D$60=\"Ja\")*(Anlægskartotek!C1516<>0)=1,Anlægskartotek!$L$14,Anlægskartotek!I1516)","v":0}]
[null,1506,{"$f":"Anlægskartotek!C1517","v":0},{"$f":"+IF((Basisoplysninger!$D$60=\"Ja\")*(Anlægskartotek!C1517<>0)=1,Anlægskartotek!$L$14,Anlægskartotek!I1517)","v":0}]
[null,1507,{"$f":"Anlægskartotek!C1518","v":0},{"$f":"+IF((Basisoplysninger!$D$60=\"Ja\")*(Anlægskartotek!C1518<>0)=1,Anlægskartotek!$L$14,Anlægskartotek!I1518)","v":0}]
[null,1508,{"$f":"Anlægskartotek!C1519","v":0},{"$f":"+IF((Basisoplysninger!$D$60=\"Ja\")*(Anlægskartotek!C1519<>0)=1,Anlægskartotek!$L$14,Anlægskartotek!I1519)","v":0}]
[null,1509,{"$f":"Anlægskartotek!C1520","v":0},{"$f":"+IF((Basisoplysninger!$D$60=\"Ja\")*(Anlægskartotek!C1520<>0)=1,Anlægskartotek!$L$14,Anlægskartotek!I1520)","v":0}]
[null,1510,{"$f":"Anlægskartotek!C1521","v":0},{"$f":"+IF((Basisoplysninger!$D$60=\"Ja\")*(Anlægskartotek!C1521<>0)=1,Anlægskartotek!$L$14,Anlægskartotek!I1521)","v":0}]
[null,1511,{"$f":"Anlægskartotek!C1522","v":0},{"$f":"+IF((Basisoplysninger!$D$60=\"Ja\")*(Anlægskartotek!C1522<>0)=1,Anlægskartotek!$L$14,Anlægskartotek!I1522)","v":0}]
[null,1512,{"$f":"Anlægskartotek!C1523","v":0},{"$f":"+IF((Basisoplysninger!$D$60=\"Ja\")*(Anlægskartotek!C1523<>0)=1,Anlægskartotek!$L$14,Anlægskartotek!I1523)","v":0}]
[null,1513,{"$f":"Anlægskartotek!C1524","v":0},{"$f":"+IF((Basisoplysninger!$D$60=\"Ja\")*(Anlægskartotek!C1524<>0)=1,Anlægskartotek!$L$14,Anlægskartotek!I1524)","v":0}]
[null,1514,{"$f":"Anlægskartotek!C1525","v":0},{"$f":"+IF((Basisoplysninger!$D$60=\"Ja\")*(Anlægskartotek!C1525<>0)=1,Anlægskartotek!$L$14,Anlægskartotek!I1525)","v":0}]
[null,1515,{"$f":"Anlægskartotek!C1526","v":0},{"$f":"+IF((Basisoplysninger!$D$60=\"Ja\")*(Anlægskartotek!C1526<>0)=1,Anlægskartotek!$L$14,Anlægskartotek!I1526)","v":0}]
[null,1516,{"$f":"Anlægskartotek!C1527","v":0},{"$f":"+IF((Basisoplysninger!$D$60=\"Ja\")*(Anlægskartotek!C1527<>0)=1,Anlægskartotek!$L$14,Anlægskartotek!I1527)","v":0}]
[null,1517,{"$f":"Anlægskartotek!C1528","v":0},{"$f":"+IF((Basisoplysninger!$D$60=\"Ja\")*(Anlægskartotek!C1528<>0)=1,Anlægskartotek!$L$14,Anlægskartotek!I1528)","v":0}]
[null,1518,{"$f":"Anlægskartotek!C1529","v":0},{"$f":"+IF((Basisoplysninger!$D$60=\"Ja\")*(Anlægskartotek!C1529<>0)=1,Anlægskartotek!$L$14,Anlægskartotek!I1529)","v":0}]
[null,1519,{"$f":"Anlægskartotek!C1530","v":0},{"$f":"+IF((Basisoplysninger!$D$60=\"Ja\")*(Anlægskartotek!C1530<>0)=1,Anlægskartotek!$L$14,Anlægskartotek!I1530)","v":0}]
[null,1520,{"$f":"Anlægskartotek!C1531","v":0},{"$f":"+IF((Basisoplysninger!$D$60=\"Ja\")*(Anlægskartotek!C1531<>0)=1,Anlægskartotek!$L$14,Anlægskartotek!I1531)","v":0}]
[null,1521,{"$f":"Anlægskartotek!C1532","v":0},{"$f":"+IF((Basisoplysninger!$D$60=\"Ja\")*(Anlægskartotek!C1532<>0)=1,Anlægskartotek!$L$14,Anlægskartotek!I1532)","v":0}]
[null,1522,{"$f":"Anlægskartotek!C1533","v":0},{"$f":"+IF((Basisoplysninger!$D$60=\"Ja\")*(Anlægskartotek!C1533<>0)=1,Anlægskartotek!$L$14,Anlægskartotek!I1533)","v":0}]
[null,1523,{"$f":"Anlægskartotek!C1534","v":0},{"$f":"+IF((Basisoplysninger!$D$60=\"Ja\")*(Anlægskartotek!C1534<>0)=1,Anlægskartotek!$L$14,Anlægskartotek!I1534)","v":0}]
[null,1524,{"$f":"Anlægskartotek!C1535","v":0},{"$f":"+IF((Basisoplysninger!$D$60=\"Ja\")*(Anlægskartotek!C1535<>0)=1,Anlægskartotek!$L$14,Anlægskartotek!I1535)","v":0}]
[null,1525,{"$f":"Anlægskartotek!C1536","v":0},{"$f":"+IF((Basisoplysninger!$D$60=\"Ja\")*(Anlægskartotek!C1536<>0)=1,Anlægskartotek!$L$14,Anlægskartotek!I1536)","v":0}]
[null,1526,{"$f":"Anlægskartotek!C1537","v":0},{"$f":"+IF((Basisoplysninger!$D$60=\"Ja\")*(Anlægskartotek!C1537<>0)=1,Anlægskartotek!$L$14,Anlægskartotek!I1537)","v":0}]
[null,1527,{"$f":"Anlægskartotek!C1538","v":0},{"$f":"+IF((Basisoplysninger!$D$60=\"Ja\")*(Anlægskartotek!C1538<>0)=1,Anlægskartotek!$L$14,Anlægskartotek!I1538)","v":0}]
[null,1528,{"$f":"Anlægskartotek!C1539","v":0},{"$f":"+IF((Basisoplysninger!$D$60=\"Ja\")*(Anlægskartotek!C1539<>0)=1,Anlægskartotek!$L$14,Anlægskartotek!I1539)","v":0}]
[null,1529,{"$f":"Anlægskartotek!C1540","v":0},{"$f":"+IF((Basisoplysninger!$D$60=\"Ja\")*(Anlægskartotek!C1540<>0)=1,Anlægskartotek!$L$14,Anlægskartotek!I1540)","v":0}]
[null,1530,{"$f":"Anlægskartotek!C1541","v":0},{"$f":"+IF((Basisoplysninger!$D$60=\"Ja\")*(Anlægskartotek!C1541<>0)=1,Anlægskartotek!$L$14,Anlægskartotek!I1541)","v":0}]
[null,1531,{"$f":"Anlægskartotek!C1542","v":0},{"$f":"+IF((Basisoplysninger!$D$60=\"Ja\")*(Anlægskartotek!C1542<>0)=1,Anlægskartotek!$L$14,Anlægskartotek!I1542)","v":0}]
[null,1532,{"$f":"Anlægskartotek!C1543","v":0},{"$f":"+IF((Basisoplysninger!$D$60=\"Ja\")*(Anlægskartotek!C1543<>0)=1,Anlægskartotek!$L$14,Anlægskartotek!I1543)","v":0}]
[null,1533,{"$f":"Anlægskartotek!C1544","v":0},{"$f":"+IF((Basisoplysninger!$D$60=\"Ja\")*(Anlægskartotek!C1544<>0)=1,Anlægskartotek!$L$14,Anlægskartotek!I1544)","v":0}]
[null,1534,{"$f":"Anlægskartotek!C1545","v":0},{"$f":"+IF((Basisoplysninger!$D$60=\"Ja\")*(Anlægskartotek!C1545<>0)=1,Anlægskartotek!$L$14,Anlægskartotek!I1545)","v":0}]
[null,1535,{"$f":"Anlægskartotek!C1546","v":0},{"$f":"+IF((Basisoplysninger!$D$60=\"Ja\")*(Anlægskartotek!C1546<>0)=1,Anlægskartotek!$L$14,Anlægskartotek!I1546)","v":0}]
[null,1536,{"$f":"Anlægskartotek!C1547","v":0},{"$f":"+IF((Basisoplysninger!$D$60=\"Ja\")*(Anlægskartotek!C1547<>0)=1,Anlægskartotek!$L$14,Anlægskartotek!I1547)","v":0}]
[null,1537,{"$f":"Anlægskartotek!C1548","v":0},{"$f":"+IF((Basisoplysninger!$D$60=\"Ja\")*(Anlægskartotek!C1548<>0)=1,Anlægskartotek!$L$14,Anlægskartotek!I1548)","v":0}]
[null,1538,{"$f":"Anlægskartotek!C1549","v":0},{"$f":"+IF((Basisoplysninger!$D$60=\"Ja\")*(Anlægskartotek!C1549<>0)=1,Anlægskartotek!$L$14,Anlægskartotek!I1549)","v":0}]
[null,{"$f":"B1647+1","v":1539},{"$f":"Anlægskartotek!C1550","v":0},{"$f":"+IF((Basisoplysninger!$D$60=\"Ja\")*(Anlægskartotek!C1550<>0)=1,Anlægskartotek!$L$14,Anlægskartotek!I1550)","v":0}]
[null,1540,{"$f":"Anlægskartotek!C1551","v":0},{"$f":"+IF((Basisoplysninger!$D$60=\"Ja\")*(Anlægskartotek!C1551<>0)=1,Anlægskartotek!$L$14,Anlægskartotek!I1551)","v":0}]
[null,1541,{"$f":"Anlægskartotek!C1552","v":0},{"$f":"+IF((Basisoplysninger!$D$60=\"Ja\")*(Anlægskartotek!C1552<>0)=1,Anlægskartotek!$L$14,Anlægskartotek!I1552)","v":0}]
[null,1542,{"$f":"Anlægskartotek!C1553","v":0},{"$f":"+IF((Basisoplysninger!$D$60=\"Ja\")*(Anlægskartotek!C1553<>0)=1,Anlægskartotek!$L$14,Anlægskartotek!I1553)","v":0}]
[null,1543,{"$f":"Anlægskartotek!C1554","v":0},{"$f":"+IF((Basisoplysninger!$D$60=\"Ja\")*(Anlægskartotek!C1554<>0)=1,Anlægskartotek!$L$14,Anlægskartotek!I1554)","v":0}]
[null,1544,{"$f":"Anlægskartotek!C1555","v":0},{"$f":"+IF((Basisoplysninger!$D$60=\"Ja\")*(Anlægskartotek!C1555<>0)=1,Anlægskartotek!$L$14,Anlægskartotek!I1555)","v":0}]
[null,1545,{"$f":"Anlægskartotek!C1556","v":0},{"$f":"+IF((Basisoplysninger!$D$60=\"Ja\")*(Anlægskartotek!C1556<>0)=1,Anlægskartotek!$L$14,Anlægskartotek!I1556)","v":0}]
[null,1546,{"$f":"Anlægskartotek!C1557","v":0},{"$f":"+IF((Basisoplysninger!$D$60=\"Ja\")*(Anlægskartotek!C1557<>0)=1,Anlægskartotek!$L$14,Anlægskartotek!I1557)","v":0}]
[null,1547,{"$f":"Anlægskartotek!C1558","v":0},{"$f":"+IF((Basisoplysninger!$D$60=\"Ja\")*(Anlægskartotek!C1558<>0)=1,Anlægskartotek!$L$14,Anlægskartotek!I1558)","v":0}]
[null,1548,{"$f":"Anlægskartotek!C1559","v":0},{"$f":"+IF((Basisoplysninger!$D$60=\"Ja\")*(Anlægskartotek!C1559<>0)=1,Anlægskartotek!$L$14,Anlægskartotek!I1559)","v":0}]
[null,1549,{"$f":"Anlægskartotek!C1560","v":0},{"$f":"+IF((Basisoplysninger!$D$60=\"Ja\")*(Anlægskartotek!C1560<>0)=1,Anlægskartotek!$L$14,Anlægskartotek!I1560)","v":0}]
[null,1550,{"$f":"Anlægskartotek!C1561","v":0},{"$f":"+IF((Basisoplysninger!$D$60=\"Ja\")*(Anlægskartotek!C1561<>0)=1,Anlægskartotek!$L$14,Anlægskartotek!I1561)","v":0}]
[null,1551,{"$f":"Anlægskartotek!C1562","v":0},{"$f":"+IF((Basisoplysninger!$D$60=\"Ja\")*(Anlægskartotek!C1562<>0)=1,Anlægskartotek!$L$14,Anlægskartotek!I1562)","v":0}]
[null,1552,{"$f":"Anlægskartotek!C1563","v":0},{"$f":"+IF((Basisoplysninger!$D$60=\"Ja\")*(Anlægskartotek!C1563<>0)=1,Anlægskartotek!$L$14,Anlægskartotek!I1563)","v":0}]
[null,1553,{"$f":"Anlægskartotek!C1564","v":0},{"$f":"+IF((Basisoplysninger!$D$60=\"Ja\")*(Anlægskartotek!C1564<>0)=1,Anlægskartotek!$L$14,Anlægskartotek!I1564)","v":0}]
[null,1554,{"$f":"Anlægskartotek!C1565","v":0},{"$f":"+IF((Basisoplysninger!$D$60=\"Ja\")*(Anlægskartotek!C1565<>0)=1,Anlægskartotek!$L$14,Anlægskartotek!I1565)","v":0}]
[null,1555,{"$f":"Anlægskartotek!C1566","v":0},{"$f":"+IF((Basisoplysninger!$D$60=\"Ja\")*(Anlægskartotek!C1566<>0)=1,Anlægskartotek!$L$14,Anlægskartotek!I1566)","v":0}]
[null,1556,{"$f":"Anlægskartotek!C1567","v":0},{"$f":"+IF((Basisoplysninger!$D$60=\"Ja\")*(Anlægskartotek!C1567<>0)=1,Anlægskartotek!$L$14,Anlægskartotek!I1567)","v":0}]
[null,1557,{"$f":"Anlægskartotek!C1568","v":0},{"$f":"+IF((Basisoplysninger!$D$60=\"Ja\")*(Anlægskartotek!C1568<>0)=1,Anlægskartotek!$L$14,Anlægskartotek!I1568)","v":0}]
[null,1558,{"$f":"Anlægskartotek!C1569","v":0},{"$f":"+IF((Basisoplysninger!$D$60=\"Ja\")*(Anlægskartotek!C1569<>0)=1,Anlægskartotek!$L$14,Anlægskartotek!I1569)","v":0}]
[null,1559,{"$f":"Anlægskartotek!C1570","v":0},{"$f":"+IF((Basisoplysninger!$D$60=\"Ja\")*(Anlægskartotek!C1570<>0)=1,Anlægskartotek!$L$14,Anlægskartotek!I1570)","v":0}]
[null,1560,{"$f":"Anlægskartotek!C1571","v":0},{"$f":"+IF((Basisoplysninger!$D$60=\"Ja\")*(Anlægskartotek!C1571<>0)=1,Anlægskartotek!$L$14,Anlægskartotek!I1571)","v":0}]
[null,1561,{"$f":"Anlægskartotek!C1572","v":0},{"$f":"+IF((Basisoplysninger!$D$60=\"Ja\")*(Anlægskartotek!C1572<>0)=1,Anlægskartotek!$L$14,Anlægskartotek!I1572)","v":0}]
[null,1562,{"$f":"Anlægskartotek!C1573","v":0},{"$f":"+IF((Basisoplysninger!$D$60=\"Ja\")*(Anlægskartotek!C1573<>0)=1,Anlægskartotek!$L$14,Anlægskartotek!I1573)","v":0}]
[null,1563,{"$f":"Anlægskartotek!C1574","v":0},{"$f":"+IF((Basisoplysninger!$D$60=\"Ja\")*(Anlægskartotek!C1574<>0)=1,Anlægskartotek!$L$14,Anlægskartotek!I1574)","v":0}]
[null,1564,{"$f":"Anlægskartotek!C1575","v":0},{"$f":"+IF((Basisoplysninger!$D$60=\"Ja\")*(Anlægskartotek!C1575<>0)=1,Anlægskartotek!$L$14,Anlægskartotek!I1575)","v":0}]
[null,1565,{"$f":"Anlægskartotek!C1576","v":0},{"$f":"+IF((Basisoplysninger!$D$60=\"Ja\")*(Anlægskartotek!C1576<>0)=1,Anlægskartotek!$L$14,Anlægskartotek!I1576)","v":0}]
[null,1566,{"$f":"Anlægskartotek!C1577","v":0},{"$f":"+IF((Basisoplysninger!$D$60=\"Ja\")*(Anlægskartotek!C1577<>0)=1,Anlægskartotek!$L$14,Anlægskartotek!I1577)","v":0}]
[null,1567,{"$f":"Anlægskartotek!C1578","v":0},{"$f":"+IF((Basisoplysninger!$D$60=\"Ja\")*(Anlægskartotek!C1578<>0)=1,Anlægskartotek!$L$14,Anlægskartotek!I1578)","v":0}]
[null,1568,{"$f":"Anlægskartotek!C1579","v":0},{"$f":"+IF((Basisoplysninger!$D$60=\"Ja\")*(Anlægskartotek!C1579<>0)=1,Anlægskartotek!$L$14,Anlægskartotek!I1579)","v":0}]
[null,1569,{"$f":"Anlægskartotek!C1580","v":0},{"$f":"+IF((Basisoplysninger!$D$60=\"Ja\")*(Anlægskartotek!C1580<>0)=1,Anlægskartotek!$L$14,Anlægskartotek!I1580)","v":0}]
[null,1570,{"$f":"Anlægskartotek!C1581","v":0},{"$f":"+IF((Basisoplysninger!$D$60=\"Ja\")*(Anlægskartotek!C1581<>0)=1,Anlægskartotek!$L$14,Anlægskartotek!I1581)","v":0}]
[null,1571,{"$f":"Anlægskartotek!C1582","v":0},{"$f":"+IF((Basisoplysninger!$D$60=\"Ja\")*(Anlægskartotek!C1582<>0)=1,Anlægskartotek!$L$14,Anlægskartotek!I1582)","v":0}]
[null,1572,{"$f":"Anlægskartotek!C1583","v":0},{"$f":"+IF((Basisoplysninger!$D$60=\"Ja\")*(Anlægskartotek!C1583<>0)=1,Anlægskartotek!$L$14,Anlægskartotek!I1583)","v":0}]
[null,1573,{"$f":"Anlægskartotek!C1584","v":0},{"$f":"+IF((Basisoplysninger!$D$60=\"Ja\")*(Anlægskartotek!C1584<>0)=1,Anlægskartotek!$L$14,Anlægskartotek!I1584)","v":0}]
[null,1574,{"$f":"Anlægskartotek!C1585","v":0},{"$f":"+IF((Basisoplysninger!$D$60=\"Ja\")*(Anlægskartotek!C1585<>0)=1,Anlægskartotek!$L$14,Anlægskartotek!I1585)","v":0}]
[null,1575,{"$f":"Anlægskartotek!C1586","v":0},{"$f":"+IF((Basisoplysninger!$D$60=\"Ja\")*(Anlægskartotek!C1586<>0)=1,Anlægskartotek!$L$14,Anlægskartotek!I1586)","v":0}]
[null,1576,{"$f":"Anlægskartotek!C1587","v":0},{"$f":"+IF((Basisoplysninger!$D$60=\"Ja\")*(Anlægskartotek!C1587<>0)=1,Anlægskartotek!$L$14,Anlægskartotek!I1587)","v":0}]
[null,1577,{"$f":"Anlægskartotek!C1588","v":0},{"$f":"+IF((Basisoplysninger!$D$60=\"Ja\")*(Anlægskartotek!C1588<>0)=1,Anlægskartotek!$L$14,Anlægskartotek!I1588)","v":0}]
[null,1578,{"$f":"Anlægskartotek!C1589","v":0},{"$f":"+IF((Basisoplysninger!$D$60=\"Ja\")*(Anlægskartotek!C1589<>0)=1,Anlægskartotek!$L$14,Anlægskartotek!I1589)","v":0}]
[null,1579,{"$f":"Anlægskartotek!C1590","v":0},{"$f":"+IF((Basisoplysninger!$D$60=\"Ja\")*(Anlægskartotek!C1590<>0)=1,Anlægskartotek!$L$14,Anlægskartotek!I1590)","v":0}]
[null,1580,{"$f":"Anlægskartotek!C1591","v":0},{"$f":"+IF((Basisoplysninger!$D$60=\"Ja\")*(Anlægskartotek!C1591<>0)=1,Anlægskartotek!$L$14,Anlægskartotek!I1591)","v":0}]
[null,1581,{"$f":"Anlægskartotek!C1592","v":0},{"$f":"+IF((Basisoplysninger!$D$60=\"Ja\")*(Anlægskartotek!C1592<>0)=1,Anlægskartotek!$L$14,Anlægskartotek!I1592)","v":0}]
[null,1582,{"$f":"Anlægskartotek!C1593","v":0},{"$f":"+IF((Basisoplysninger!$D$60=\"Ja\")*(Anlægskartotek!C1593<>0)=1,Anlægskartotek!$L$14,Anlægskartotek!I1593)","v":0}]
[null,1583,{"$f":"Anlægskartotek!C1594","v":0},{"$f":"+IF((Basisoplysninger!$D$60=\"Ja\")*(Anlægskartotek!C1594<>0)=1,Anlægskartotek!$L$14,Anlægskartotek!I1594)","v":0}]
[null,1584,{"$f":"Anlægskartotek!C1595","v":0},{"$f":"+IF((Basisoplysninger!$D$60=\"Ja\")*(Anlægskartotek!C1595<>0)=1,Anlægskartotek!$L$14,Anlægskartotek!I1595)","v":0}]
[null,1585,{"$f":"Anlægskartotek!C1596","v":0},{"$f":"+IF((Basisoplysninger!$D$60=\"Ja\")*(Anlægskartotek!C1596<>0)=1,Anlægskartotek!$L$14,Anlægskartotek!I1596)","v":0}]
[null,1586,{"$f":"Anlægskartotek!C1597","v":0},{"$f":"+IF((Basisoplysninger!$D$60=\"Ja\")*(Anlægskartotek!C1597<>0)=1,Anlægskartotek!$L$14,Anlægskartotek!I1597)","v":0}]
[null,1587,{"$f":"Anlægskartotek!C1598","v":0},{"$f":"+IF((Basisoplysninger!$D$60=\"Ja\")*(Anlægskartotek!C1598<>0)=1,Anlægskartotek!$L$14,Anlægskartotek!I1598)","v":0}]
[null,1588,{"$f":"Anlægskartotek!C1599","v":0},{"$f":"+IF((Basisoplysninger!$D$60=\"Ja\")*(Anlægskartotek!C1599<>0)=1,Anlægskartotek!$L$14,Anlægskartotek!I1599)","v":0}]
[null,1589,{"$f":"Anlægskartotek!C1600","v":0},{"$f":"+IF((Basisoplysninger!$D$60=\"Ja\")*(Anlægskartotek!C1600<>0)=1,Anlægskartotek!$L$14,Anlægskartotek!I1600)","v":0}]
[null,1590,{"$f":"Anlægskartotek!C1601","v":0},{"$f":"+IF((Basisoplysninger!$D$60=\"Ja\")*(Anlægskartotek!C1601<>0)=1,Anlægskartotek!$L$14,Anlægskartotek!I1601)","v":0}]
[null,1591,{"$f":"Anlægskartotek!C1602","v":0},{"$f":"+IF((Basisoplysninger!$D$60=\"Ja\")*(Anlægskartotek!C1602<>0)=1,Anlægskartotek!$L$14,Anlægskartotek!I1602)","v":0}]
[null,1592,{"$f":"Anlægskartotek!C1603","v":0},{"$f":"+IF((Basisoplysninger!$D$60=\"Ja\")*(Anlægskartotek!C1603<>0)=1,Anlægskartotek!$L$14,Anlægskartotek!I1603)","v":0}]
[null,1593,{"$f":"Anlægskartotek!C1604","v":0},{"$f":"+IF((Basisoplysninger!$D$60=\"Ja\")*(Anlægskartotek!C1604<>0)=1,Anlægskartotek!$L$14,Anlægskartotek!I1604)","v":0}]
[null,1594,{"$f":"Anlægskartotek!C1605","v":0},{"$f":"+IF((Basisoplysninger!$D$60=\"Ja\")*(Anlægskartotek!C1605<>0)=1,Anlægskartotek!$L$14,Anlægskartotek!I1605)","v":0}]
[null,1595,{"$f":"Anlægskartotek!C1606","v":0},{"$f":"+IF((Basisoplysninger!$D$60=\"Ja\")*(Anlægskartotek!C1606<>0)=1,Anlægskartotek!$L$14,Anlægskartotek!I1606)","v":0}]
[null,1596,{"$f":"Anlægskartotek!C1607","v":0},{"$f":"+IF((Basisoplysninger!$D$60=\"Ja\")*(Anlægskartotek!C1607<>0)=1,Anlægskartotek!$L$14,Anlægskartotek!I1607)","v":0}]
[null,1597,{"$f":"Anlægskartotek!C1608","v":0},{"$f":"+IF((Basisoplysninger!$D$60=\"Ja\")*(Anlægskartotek!C1608<>0)=1,Anlægskartotek!$L$14,Anlægskartotek!I1608)","v":0}]
[null,1598,{"$f":"Anlægskartotek!C1609","v":0},{"$f":"+IF((Basisoplysninger!$D$60=\"Ja\")*(Anlægskartotek!C1609<>0)=1,Anlægskartotek!$L$14,Anlægskartotek!I1609)","v":0}]
[null,1599,{"$f":"Anlægskartotek!C1610","v":0},{"$f":"+IF((Basisoplysninger!$D$60=\"Ja\")*(Anlægskartotek!C1610<>0)=1,Anlægskartotek!$L$14,Anlægskartotek!I1610)","v":0}]
[null,1600,{"$f":"Anlægskartotek!C1611","v":0},{"$f":"+IF((Basisoplysninger!$D$60=\"Ja\")*(Anlægskartotek!C1611<>0)=1,Anlægskartotek!$L$14,Anlægskartotek!I1611)","v":0}]
[null,1601,{"$f":"Anlægskartotek!C1612","v":0},{"$f":"+IF((Basisoplysninger!$D$60=\"Ja\")*(Anlægskartotek!C1612<>0)=1,Anlægskartotek!$L$14,Anlægskartotek!I1612)","v":0}]
[null,1602,{"$f":"Anlægskartotek!C1613","v":0},{"$f":"+IF((Basisoplysninger!$D$60=\"Ja\")*(Anlægskartotek!C1613<>0)=1,Anlægskartotek!$L$14,Anlægskartotek!I1613)","v":0}]
[null,{"$f":"B1711+1","v":1603},{"$f":"Anlægskartotek!C1614","v":0},{"$f":"+IF((Basisoplysninger!$D$60=\"Ja\")*(Anlægskartotek!C1614<>0)=1,Anlægskartotek!$L$14,Anlægskartotek!I1614)","v":0}]
[null,1604,{"$f":"Anlægskartotek!C1615","v":0},{"$f":"+IF((Basisoplysninger!$D$60=\"Ja\")*(Anlægskartotek!C1615<>0)=1,Anlægskartotek!$L$14,Anlægskartotek!I1615)","v":0}]
[null,1605,{"$f":"Anlægskartotek!C1616","v":0},{"$f":"+IF((Basisoplysninger!$D$60=\"Ja\")*(Anlægskartotek!C1616<>0)=1,Anlægskartotek!$L$14,Anlægskartotek!I1616)","v":0}]
[null,1606,{"$f":"Anlægskartotek!C1617","v":0},{"$f":"+IF((Basisoplysninger!$D$60=\"Ja\")*(Anlægskartotek!C1617<>0)=1,Anlægskartotek!$L$14,Anlægskartotek!I1617)","v":0}]
[null,1607,{"$f":"Anlægskartotek!C1618","v":0},{"$f":"+IF((Basisoplysninger!$D$60=\"Ja\")*(Anlægskartotek!C1618<>0)=1,Anlægskartotek!$L$14,Anlægskartotek!I1618)","v":0}]
[null,1608,{"$f":"Anlægskartotek!C1619","v":0},{"$f":"+IF((Basisoplysninger!$D$60=\"Ja\")*(Anlægskartotek!C1619<>0)=1,Anlægskartotek!$L$14,Anlægskartotek!I1619)","v":0}]
[null,1609,{"$f":"Anlægskartotek!C1620","v":0},{"$f":"+IF((Basisoplysninger!$D$60=\"Ja\")*(Anlægskartotek!C1620<>0)=1,Anlægskartotek!$L$14,Anlægskartotek!I1620)","v":0}]
[null,1610,{"$f":"Anlægskartotek!C1621","v":0},{"$f":"+IF((Basisoplysninger!$D$60=\"Ja\")*(Anlægskartotek!C1621<>0)=1,Anlægskartotek!$L$14,Anlægskartotek!I1621)","v":0}]
[null,1611,{"$f":"Anlægskartotek!C1622","v":0},{"$f":"+IF((Basisoplysninger!$D$60=\"Ja\")*(Anlægskartotek!C1622<>0)=1,Anlægskartotek!$L$14,Anlægskartotek!I1622)","v":0}]
[null,1612,{"$f":"Anlægskartotek!C1623","v":0},{"$f":"+IF((Basisoplysninger!$D$60=\"Ja\")*(Anlægskartotek!C1623<>0)=1,Anlægskartotek!$L$14,Anlægskartotek!I1623)","v":0}]
[null,1613,{"$f":"Anlægskartotek!C1624","v":0},{"$f":"+IF((Basisoplysninger!$D$60=\"Ja\")*(Anlægskartotek!C1624<>0)=1,Anlægskartotek!$L$14,Anlægskartotek!I1624)","v":0}]
[null,1614,{"$f":"Anlægskartotek!C1625","v":0},{"$f":"+IF((Basisoplysninger!$D$60=\"Ja\")*(Anlægskartotek!C1625<>0)=1,Anlægskartotek!$L$14,Anlægskartotek!I1625)","v":0}]
[null,1615,{"$f":"Anlægskartotek!C1626","v":0},{"$f":"+IF((Basisoplysninger!$D$60=\"Ja\")*(Anlægskartotek!C1626<>0)=1,Anlægskartotek!$L$14,Anlægskartotek!I1626)","v":0}]
[null,1616,{"$f":"Anlægskartotek!C1627","v":0},{"$f":"+IF((Basisoplysninger!$D$60=\"Ja\")*(Anlægskartotek!C1627<>0)=1,Anlægskartotek!$L$14,Anlægskartotek!I1627)","v":0}]
[null,1617,{"$f":"Anlægskartotek!C1628","v":0},{"$f":"+IF((Basisoplysninger!$D$60=\"Ja\")*(Anlægskartotek!C1628<>0)=1,Anlægskartotek!$L$14,Anlægskartotek!I1628)","v":0}]
[null,1618,{"$f":"Anlægskartotek!C1629","v":0},{"$f":"+IF((Basisoplysninger!$D$60=\"Ja\")*(Anlægskartotek!C1629<>0)=1,Anlægskartotek!$L$14,Anlægskartotek!I1629)","v":0}]
[null,1619,{"$f":"Anlægskartotek!C1630","v":0},{"$f":"+IF((Basisoplysninger!$D$60=\"Ja\")*(Anlægskartotek!C1630<>0)=1,Anlægskartotek!$L$14,Anlægskartotek!I1630)","v":0}]
[null,1620,{"$f":"Anlægskartotek!C1631","v":0},{"$f":"+IF((Basisoplysninger!$D$60=\"Ja\")*(Anlægskartotek!C1631<>0)=1,Anlægskartotek!$L$14,Anlægskartotek!I1631)","v":0}]
[null,1621,{"$f":"Anlægskartotek!C1632","v":0},{"$f":"+IF((Basisoplysninger!$D$60=\"Ja\")*(Anlægskartotek!C1632<>0)=1,Anlægskartotek!$L$14,Anlægskartotek!I1632)","v":0}]
[null,1622,{"$f":"Anlægskartotek!C1633","v":0},{"$f":"+IF((Basisoplysninger!$D$60=\"Ja\")*(Anlægskartotek!C1633<>0)=1,Anlægskartotek!$L$14,Anlægskartotek!I1633)","v":0}]
[null,1623,{"$f":"Anlægskartotek!C1634","v":0},{"$f":"+IF((Basisoplysninger!$D$60=\"Ja\")*(Anlægskartotek!C1634<>0)=1,Anlægskartotek!$L$14,Anlægskartotek!I1634)","v":0}]
[null,1624,{"$f":"Anlægskartotek!C1635","v":0},{"$f":"+IF((Basisoplysninger!$D$60=\"Ja\")*(Anlægskartotek!C1635<>0)=1,Anlægskartotek!$L$14,Anlægskartotek!I1635)","v":0}]
[null,1625,{"$f":"Anlægskartotek!C1636","v":0},{"$f":"+IF((Basisoplysninger!$D$60=\"Ja\")*(Anlægskartotek!C1636<>0)=1,Anlægskartotek!$L$14,Anlægskartotek!I1636)","v":0}]
[null,1626,{"$f":"Anlægskartotek!C1637","v":0},{"$f":"+IF((Basisoplysninger!$D$60=\"Ja\")*(Anlægskartotek!C1637<>0)=1,Anlægskartotek!$L$14,Anlægskartotek!I1637)","v":0}]
[null,1627,{"$f":"Anlægskartotek!C1638","v":0},{"$f":"+IF((Basisoplysninger!$D$60=\"Ja\")*(Anlægskartotek!C1638<>0)=1,Anlægskartotek!$L$14,Anlægskartotek!I1638)","v":0}]
[null,1628,{"$f":"Anlægskartotek!C1639","v":0},{"$f":"+IF((Basisoplysninger!$D$60=\"Ja\")*(Anlægskartotek!C1639<>0)=1,Anlægskartotek!$L$14,Anlægskartotek!I1639)","v":0}]
[null,1629,{"$f":"Anlægskartotek!C1640","v":0},{"$f":"+IF((Basisoplysninger!$D$60=\"Ja\")*(Anlægskartotek!C1640<>0)=1,Anlægskartotek!$L$14,Anlægskartotek!I1640)","v":0}]
[null,1630,{"$f":"Anlægskartotek!C1641","v":0},{"$f":"+IF((Basisoplysninger!$D$60=\"Ja\")*(Anlægskartotek!C1641<>0)=1,Anlægskartotek!$L$14,Anlægskartotek!I1641)","v":0}]
[null,1631,{"$f":"Anlægskartotek!C1642","v":0},{"$f":"+IF((Basisoplysninger!$D$60=\"Ja\")*(Anlægskartotek!C1642<>0)=1,Anlægskartotek!$L$14,Anlægskartotek!I1642)","v":0}]
[null,1632,{"$f":"Anlægskartotek!C1643","v":0},{"$f":"+IF((Basisoplysninger!$D$60=\"Ja\")*(Anlægskartotek!C1643<>0)=1,Anlægskartotek!$L$14,Anlægskartotek!I1643)","v":0}]
[null,1633,{"$f":"Anlægskartotek!C1644","v":0},{"$f":"+IF((Basisoplysninger!$D$60=\"Ja\")*(Anlægskartotek!C1644<>0)=1,Anlægskartotek!$L$14,Anlægskartotek!I1644)","v":0}]
[null,1634,{"$f":"Anlægskartotek!C1645","v":0},{"$f":"+IF((Basisoplysninger!$D$60=\"Ja\")*(Anlægskartotek!C1645<>0)=1,Anlægskartotek!$L$14,Anlægskartotek!I1645)","v":0}]
[null,1635,{"$f":"Anlægskartotek!C1646","v":0},{"$f":"+IF((Basisoplysninger!$D$60=\"Ja\")*(Anlægskartotek!C1646<>0)=1,Anlægskartotek!$L$14,Anlægskartotek!I1646)","v":0}]
[null,1636,{"$f":"Anlægskartotek!C1647","v":0},{"$f":"+IF((Basisoplysninger!$D$60=\"Ja\")*(Anlægskartotek!C1647<>0)=1,Anlægskartotek!$L$14,Anlægskartotek!I1647)","v":0}]
[null,1637,{"$f":"Anlægskartotek!C1648","v":0},{"$f":"+IF((Basisoplysninger!$D$60=\"Ja\")*(Anlægskartotek!C1648<>0)=1,Anlægskartotek!$L$14,Anlægskartotek!I1648)","v":0}]
[null,1638,{"$f":"Anlægskartotek!C1649","v":0},{"$f":"+IF((Basisoplysninger!$D$60=\"Ja\")*(Anlægskartotek!C1649<>0)=1,Anlægskartotek!$L$14,Anlægskartotek!I1649)","v":0}]
[null,1639,{"$f":"Anlægskartotek!C1650","v":0},{"$f":"+IF((Basisoplysninger!$D$60=\"Ja\")*(Anlægskartotek!C1650<>0)=1,Anlægskartotek!$L$14,Anlægskartotek!I1650)","v":0}]
[null,1640,{"$f":"Anlægskartotek!C1651","v":0},{"$f":"+IF((Basisoplysninger!$D$60=\"Ja\")*(Anlægskartotek!C1651<>0)=1,Anlægskartotek!$L$14,Anlægskartotek!I1651)","v":0}]
[null,1641,{"$f":"Anlægskartotek!C1652","v":0},{"$f":"+IF((Basisoplysninger!$D$60=\"Ja\")*(Anlægskartotek!C1652<>0)=1,Anlægskartotek!$L$14,Anlægskartotek!I1652)","v":0}]
[null,1642,{"$f":"Anlægskartotek!C1653","v":0},{"$f":"+IF((Basisoplysninger!$D$60=\"Ja\")*(Anlægskartotek!C1653<>0)=1,Anlægskartotek!$L$14,Anlægskartotek!I1653)","v":0}]
[null,1643,{"$f":"Anlægskartotek!C1654","v":0},{"$f":"+IF((Basisoplysninger!$D$60=\"Ja\")*(Anlægskartotek!C1654<>0)=1,Anlægskartotek!$L$14,Anlægskartotek!I1654)","v":0}]
[null,1644,{"$f":"Anlægskartotek!C1655","v":0},{"$f":"+IF((Basisoplysninger!$D$60=\"Ja\")*(Anlægskartotek!C1655<>0)=1,Anlægskartotek!$L$14,Anlægskartotek!I1655)","v":0}]
[null,1645,{"$f":"Anlægskartotek!C1656","v":0},{"$f":"+IF((Basisoplysninger!$D$60=\"Ja\")*(Anlægskartotek!C1656<>0)=1,Anlægskartotek!$L$14,Anlægskartotek!I1656)","v":0}]
[null,1646,{"$f":"Anlægskartotek!C1657","v":0},{"$f":"+IF((Basisoplysninger!$D$60=\"Ja\")*(Anlægskartotek!C1657<>0)=1,Anlægskartotek!$L$14,Anlægskartotek!I1657)","v":0}]
[null,1647,{"$f":"Anlægskartotek!C1658","v":0},{"$f":"+IF((Basisoplysninger!$D$60=\"Ja\")*(Anlægskartotek!C1658<>0)=1,Anlægskartotek!$L$14,Anlægskartotek!I1658)","v":0}]
[null,1648,{"$f":"Anlægskartotek!C1659","v":0},{"$f":"+IF((Basisoplysninger!$D$60=\"Ja\")*(Anlægskartotek!C1659<>0)=1,Anlægskartotek!$L$14,Anlægskartotek!I1659)","v":0}]
[null,1649,{"$f":"Anlægskartotek!C1660","v":0},{"$f":"+IF((Basisoplysninger!$D$60=\"Ja\")*(Anlægskartotek!C1660<>0)=1,Anlægskartotek!$L$14,Anlægskartotek!I1660)","v":0}]
[null,1650,{"$f":"Anlægskartotek!C1661","v":0},{"$f":"+IF((Basisoplysninger!$D$60=\"Ja\")*(Anlægskartotek!C1661<>0)=1,Anlægskartotek!$L$14,Anlægskartotek!I1661)","v":0}]
[null,1651,{"$f":"Anlægskartotek!C1662","v":0},{"$f":"+IF((Basisoplysninger!$D$60=\"Ja\")*(Anlægskartotek!C1662<>0)=1,Anlægskartotek!$L$14,Anlægskartotek!I1662)","v":0}]
[null,1652,{"$f":"Anlægskartotek!C1663","v":0},{"$f":"+IF((Basisoplysninger!$D$60=\"Ja\")*(Anlægskartotek!C1663<>0)=1,Anlægskartotek!$L$14,Anlægskartotek!I1663)","v":0}]
[null,1653,{"$f":"Anlægskartotek!C1664","v":0},{"$f":"+IF((Basisoplysninger!$D$60=\"Ja\")*(Anlægskartotek!C1664<>0)=1,Anlægskartotek!$L$14,Anlægskartotek!I1664)","v":0}]
[null,1654,{"$f":"Anlægskartotek!C1665","v":0},{"$f":"+IF((Basisoplysninger!$D$60=\"Ja\")*(Anlægskartotek!C1665<>0)=1,Anlægskartotek!$L$14,Anlægskartotek!I1665)","v":0}]
[null,1655,{"$f":"Anlægskartotek!C1666","v":0},{"$f":"+IF((Basisoplysninger!$D$60=\"Ja\")*(Anlægskartotek!C1666<>0)=1,Anlægskartotek!$L$14,Anlægskartotek!I1666)","v":0}]
[null,1656,{"$f":"Anlægskartotek!C1667","v":0},{"$f":"+IF((Basisoplysninger!$D$60=\"Ja\")*(Anlægskartotek!C1667<>0)=1,Anlægskartotek!$L$14,Anlægskartotek!I1667)","v":0}]
[null,1657,{"$f":"Anlægskartotek!C1668","v":0},{"$f":"+IF((Basisoplysninger!$D$60=\"Ja\")*(Anlægskartotek!C1668<>0)=1,Anlægskartotek!$L$14,Anlægskartotek!I1668)","v":0}]
[null,1658,{"$f":"Anlægskartotek!C1669","v":0},{"$f":"+IF((Basisoplysninger!$D$60=\"Ja\")*(Anlægskartotek!C1669<>0)=1,Anlægskartotek!$L$14,Anlægskartotek!I1669)","v":0}]
[null,1659,{"$f":"Anlægskartotek!C1670","v":0},{"$f":"+IF((Basisoplysninger!$D$60=\"Ja\")*(Anlægskartotek!C1670<>0)=1,Anlægskartotek!$L$14,Anlægskartotek!I1670)","v":0}]
[null,1660,{"$f":"Anlægskartotek!C1671","v":0},{"$f":"+IF((Basisoplysninger!$D$60=\"Ja\")*(Anlægskartotek!C1671<>0)=1,Anlægskartotek!$L$14,Anlægskartotek!I1671)","v":0}]
[null,1661,{"$f":"Anlægskartotek!C1672","v":0},{"$f":"+IF((Basisoplysninger!$D$60=\"Ja\")*(Anlægskartotek!C1672<>0)=1,Anlægskartotek!$L$14,Anlægskartotek!I1672)","v":0}]
[null,1662,{"$f":"Anlægskartotek!C1673","v":0},{"$f":"+IF((Basisoplysninger!$D$60=\"Ja\")*(Anlægskartotek!C1673<>0)=1,Anlægskartotek!$L$14,Anlægskartotek!I1673)","v":0}]
[null,1663,{"$f":"Anlægskartotek!C1674","v":0},{"$f":"+IF((Basisoplysninger!$D$60=\"Ja\")*(Anlægskartotek!C1674<>0)=1,Anlægskartotek!$L$14,Anlægskartotek!I1674)","v":0}]
[null,1664,{"$f":"Anlægskartotek!C1675","v":0},{"$f":"+IF((Basisoplysninger!$D$60=\"Ja\")*(Anlægskartotek!C1675<>0)=1,Anlægskartotek!$L$14,Anlægskartotek!I1675)","v":0}]
[null,1665,{"$f":"Anlægskartotek!C1676","v":0},{"$f":"+IF((Basisoplysninger!$D$60=\"Ja\")*(Anlægskartotek!C1676<>0)=1,Anlægskartotek!$L$14,Anlægskartotek!I1676)","v":0}]
[null,1666,{"$f":"Anlægskartotek!C1677","v":0},{"$f":"+IF((Basisoplysninger!$D$60=\"Ja\")*(Anlægskartotek!C1677<>0)=1,Anlægskartotek!$L$14,Anlægskartotek!I1677)","v":0}]
[null,{"$f":"B1775+1","v":1667},{"$f":"Anlægskartotek!C1678","v":0},{"$f":"+IF((Basisoplysninger!$D$60=\"Ja\")*(Anlægskartotek!C1678<>0)=1,Anlægskartotek!$L$14,Anlægskartotek!I1678)","v":0}]
[null,1668,{"$f":"Anlægskartotek!C1679","v":0},{"$f":"+IF((Basisoplysninger!$D$60=\"Ja\")*(Anlægskartotek!C1679<>0)=1,Anlægskartotek!$L$14,Anlægskartotek!I1679)","v":0}]
[null,1669,{"$f":"Anlægskartotek!C1680","v":0},{"$f":"+IF((Basisoplysninger!$D$60=\"Ja\")*(Anlægskartotek!C1680<>0)=1,Anlægskartotek!$L$14,Anlægskartotek!I1680)","v":0}]
[null,1670,{"$f":"Anlægskartotek!C1681","v":0},{"$f":"+IF((Basisoplysninger!$D$60=\"Ja\")*(Anlægskartotek!C1681<>0)=1,Anlægskartotek!$L$14,Anlægskartotek!I1681)","v":0}]
[null,1671,{"$f":"Anlægskartotek!C1682","v":0},{"$f":"+IF((Basisoplysninger!$D$60=\"Ja\")*(Anlægskartotek!C1682<>0)=1,Anlægskartotek!$L$14,Anlægskartotek!I1682)","v":0}]
[null,1672,{"$f":"Anlægskartotek!C1683","v":0},{"$f":"+IF((Basisoplysninger!$D$60=\"Ja\")*(Anlægskartotek!C1683<>0)=1,Anlægskartotek!$L$14,Anlægskartotek!I1683)","v":0}]
[null,1673,{"$f":"Anlægskartotek!C1684","v":0},{"$f":"+IF((Basisoplysninger!$D$60=\"Ja\")*(Anlægskartotek!C1684<>0)=1,Anlægskartotek!$L$14,Anlægskartotek!I1684)","v":0}]
[null,1674,{"$f":"Anlægskartotek!C1685","v":0},{"$f":"+IF((Basisoplysninger!$D$60=\"Ja\")*(Anlægskartotek!C1685<>0)=1,Anlægskartotek!$L$14,Anlægskartotek!I1685)","v":0}]
[null,1675,{"$f":"Anlægskartotek!C1686","v":0},{"$f":"+IF((Basisoplysninger!$D$60=\"Ja\")*(Anlægskartotek!C1686<>0)=1,Anlægskartotek!$L$14,Anlægskartotek!I1686)","v":0}]
[null,1676,{"$f":"Anlægskartotek!C1687","v":0},{"$f":"+IF((Basisoplysninger!$D$60=\"Ja\")*(Anlægskartotek!C1687<>0)=1,Anlægskartotek!$L$14,Anlægskartotek!I1687)","v":0}]
[null,1677,{"$f":"Anlægskartotek!C1688","v":0},{"$f":"+IF((Basisoplysninger!$D$60=\"Ja\")*(Anlægskartotek!C1688<>0)=1,Anlægskartotek!$L$14,Anlægskartotek!I1688)","v":0}]
[null,1678,{"$f":"Anlægskartotek!C1689","v":0},{"$f":"+IF((Basisoplysninger!$D$60=\"Ja\")*(Anlægskartotek!C1689<>0)=1,Anlægskartotek!$L$14,Anlægskartotek!I1689)","v":0}]
[null,1679,{"$f":"Anlægskartotek!C1690","v":0},{"$f":"+IF((Basisoplysninger!$D$60=\"Ja\")*(Anlægskartotek!C1690<>0)=1,Anlægskartotek!$L$14,Anlægskartotek!I1690)","v":0}]
[null,1680,{"$f":"Anlægskartotek!C1691","v":0},{"$f":"+IF((Basisoplysninger!$D$60=\"Ja\")*(Anlægskartotek!C1691<>0)=1,Anlægskartotek!$L$14,Anlægskartotek!I1691)","v":0}]
[null,1681,{"$f":"Anlægskartotek!C1692","v":0},{"$f":"+IF((Basisoplysninger!$D$60=\"Ja\")*(Anlægskartotek!C1692<>0)=1,Anlægskartotek!$L$14,Anlægskartotek!I1692)","v":0}]
[null,1682,{"$f":"Anlægskartotek!C1693","v":0},{"$f":"+IF((Basisoplysninger!$D$60=\"Ja\")*(Anlægskartotek!C1693<>0)=1,Anlægskartotek!$L$14,Anlægskartotek!I1693)","v":0}]
[null,1683,{"$f":"Anlægskartotek!C1694","v":0},{"$f":"+IF((Basisoplysninger!$D$60=\"Ja\")*(Anlægskartotek!C1694<>0)=1,Anlægskartotek!$L$14,Anlægskartotek!I1694)","v":0}]
[null,1684,{"$f":"Anlægskartotek!C1695","v":0},{"$f":"+IF((Basisoplysninger!$D$60=\"Ja\")*(Anlægskartotek!C1695<>0)=1,Anlægskartotek!$L$14,Anlægskartotek!I1695)","v":0}]
[null,1685,{"$f":"Anlægskartotek!C1696","v":0},{"$f":"+IF((Basisoplysninger!$D$60=\"Ja\")*(Anlægskartotek!C1696<>0)=1,Anlægskartotek!$L$14,Anlægskartotek!I1696)","v":0}]
[null,1686,{"$f":"Anlægskartotek!C1697","v":0},{"$f":"+IF((Basisoplysninger!$D$60=\"Ja\")*(Anlægskartotek!C1697<>0)=1,Anlægskartotek!$L$14,Anlægskartotek!I1697)","v":0}]
[null,1687,{"$f":"Anlægskartotek!C1698","v":0},{"$f":"+IF((Basisoplysninger!$D$60=\"Ja\")*(Anlægskartotek!C1698<>0)=1,Anlægskartotek!$L$14,Anlægskartotek!I1698)","v":0}]
[null,1688,{"$f":"Anlægskartotek!C1699","v":0},{"$f":"+IF((Basisoplysninger!$D$60=\"Ja\")*(Anlægskartotek!C1699<>0)=1,Anlægskartotek!$L$14,Anlægskartotek!I1699)","v":0}]
[null,1689,{"$f":"Anlægskartotek!C1700","v":0},{"$f":"+IF((Basisoplysninger!$D$60=\"Ja\")*(Anlægskartotek!C1700<>0)=1,Anlægskartotek!$L$14,Anlægskartotek!I1700)","v":0}]
[null,1690,{"$f":"Anlægskartotek!C1701","v":0},{"$f":"+IF((Basisoplysninger!$D$60=\"Ja\")*(Anlægskartotek!C1701<>0)=1,Anlægskartotek!$L$14,Anlægskartotek!I1701)","v":0}]
[null,1691,{"$f":"Anlægskartotek!C1702","v":0},{"$f":"+IF((Basisoplysninger!$D$60=\"Ja\")*(Anlægskartotek!C1702<>0)=1,Anlægskartotek!$L$14,Anlægskartotek!I1702)","v":0}]
[null,1692,{"$f":"Anlægskartotek!C1703","v":0},{"$f":"+IF((Basisoplysninger!$D$60=\"Ja\")*(Anlægskartotek!C1703<>0)=1,Anlægskartotek!$L$14,Anlægskartotek!I1703)","v":0}]
[null,1693,{"$f":"Anlægskartotek!C1704","v":0},{"$f":"+IF((Basisoplysninger!$D$60=\"Ja\")*(Anlægskartotek!C1704<>0)=1,Anlægskartotek!$L$14,Anlægskartotek!I1704)","v":0}]
[null,1694,{"$f":"Anlægskartotek!C1705","v":0},{"$f":"+IF((Basisoplysninger!$D$60=\"Ja\")*(Anlægskartotek!C1705<>0)=1,Anlægskartotek!$L$14,Anlægskartotek!I1705)","v":0}]
[null,1695,{"$f":"Anlægskartotek!C1706","v":0},{"$f":"+IF((Basisoplysninger!$D$60=\"Ja\")*(Anlægskartotek!C1706<>0)=1,Anlægskartotek!$L$14,Anlægskartotek!I1706)","v":0}]
[null,1696,{"$f":"Anlægskartotek!C1707","v":0},{"$f":"+IF((Basisoplysninger!$D$60=\"Ja\")*(Anlægskartotek!C1707<>0)=1,Anlægskartotek!$L$14,Anlægskartotek!I1707)","v":0}]
[null,1697,{"$f":"Anlægskartotek!C1708","v":0},{"$f":"+IF((Basisoplysninger!$D$60=\"Ja\")*(Anlægskartotek!C1708<>0)=1,Anlægskartotek!$L$14,Anlægskartotek!I1708)","v":0}]
[null,1698,{"$f":"Anlægskartotek!C1709","v":0},{"$f":"+IF((Basisoplysninger!$D$60=\"Ja\")*(Anlægskartotek!C1709<>0)=1,Anlægskartotek!$L$14,Anlægskartotek!I1709)","v":0}]
[null,1699,{"$f":"Anlægskartotek!C1710","v":0},{"$f":"+IF((Basisoplysninger!$D$60=\"Ja\")*(Anlægskartotek!C1710<>0)=1,Anlægskartotek!$L$14,Anlægskartotek!I1710)","v":0}]
[null,1700,{"$f":"Anlægskartotek!C1711","v":0},{"$f":"+IF((Basisoplysninger!$D$60=\"Ja\")*(Anlægskartotek!C1711<>0)=1,Anlægskartotek!$L$14,Anlægskartotek!I1711)","v":0}]
[null,1701,{"$f":"Anlægskartotek!C1712","v":0},{"$f":"+IF((Basisoplysninger!$D$60=\"Ja\")*(Anlægskartotek!C1712<>0)=1,Anlægskartotek!$L$14,Anlægskartotek!I1712)","v":0}]
[null,1702,{"$f":"Anlægskartotek!C1713","v":0},{"$f":"+IF((Basisoplysninger!$D$60=\"Ja\")*(Anlægskartotek!C1713<>0)=1,Anlægskartotek!$L$14,Anlægskartotek!I1713)","v":0}]
[null,1703,{"$f":"Anlægskartotek!C1714","v":0},{"$f":"+IF((Basisoplysninger!$D$60=\"Ja\")*(Anlægskartotek!C1714<>0)=1,Anlægskartotek!$L$14,Anlægskartotek!I1714)","v":0}]
[null,1704,{"$f":"Anlægskartotek!C1715","v":0},{"$f":"+IF((Basisoplysninger!$D$60=\"Ja\")*(Anlægskartotek!C1715<>0)=1,Anlægskartotek!$L$14,Anlægskartotek!I1715)","v":0}]
[null,1705,{"$f":"Anlægskartotek!C1716","v":0},{"$f":"+IF((Basisoplysninger!$D$60=\"Ja\")*(Anlægskartotek!C1716<>0)=1,Anlægskartotek!$L$14,Anlægskartotek!I1716)","v":0}]
[null,1706,{"$f":"Anlægskartotek!C1717","v":0},{"$f":"+IF((Basisoplysninger!$D$60=\"Ja\")*(Anlægskartotek!C1717<>0)=1,Anlægskartotek!$L$14,Anlægskartotek!I1717)","v":0}]
[null,1707,{"$f":"Anlægskartotek!C1718","v":0},{"$f":"+IF((Basisoplysninger!$D$60=\"Ja\")*(Anlægskartotek!C1718<>0)=1,Anlægskartotek!$L$14,Anlægskartotek!I1718)","v":0}]
[null,1708,{"$f":"Anlægskartotek!C1719","v":0},{"$f":"+IF((Basisoplysninger!$D$60=\"Ja\")*(Anlægskartotek!C1719<>0)=1,Anlægskartotek!$L$14,Anlægskartotek!I1719)","v":0}]
[null,1709,{"$f":"Anlægskartotek!C1720","v":0},{"$f":"+IF((Basisoplysninger!$D$60=\"Ja\")*(Anlægskartotek!C1720<>0)=1,Anlægskartotek!$L$14,Anlægskartotek!I1720)","v":0}]
[null,1710,{"$f":"Anlægskartotek!C1721","v":0},{"$f":"+IF((Basisoplysninger!$D$60=\"Ja\")*(Anlægskartotek!C1721<>0)=1,Anlægskartotek!$L$14,Anlægskartotek!I1721)","v":0}]
[null,1711,{"$f":"Anlægskartotek!C1722","v":0},{"$f":"+IF((Basisoplysninger!$D$60=\"Ja\")*(Anlægskartotek!C1722<>0)=1,Anlægskartotek!$L$14,Anlægskartotek!I1722)","v":0}]
[null,1712,{"$f":"Anlægskartotek!C1723","v":0},{"$f":"+IF((Basisoplysninger!$D$60=\"Ja\")*(Anlægskartotek!C1723<>0)=1,Anlægskartotek!$L$14,Anlægskartotek!I1723)","v":0}]
[null,1713,{"$f":"Anlægskartotek!C1724","v":0},{"$f":"+IF((Basisoplysninger!$D$60=\"Ja\")*(Anlægskartotek!C1724<>0)=1,Anlægskartotek!$L$14,Anlægskartotek!I1724)","v":0}]
[null,1714,{"$f":"Anlægskartotek!C1725","v":0},{"$f":"+IF((Basisoplysninger!$D$60=\"Ja\")*(Anlægskartotek!C1725<>0)=1,Anlægskartotek!$L$14,Anlægskartotek!I1725)","v":0}]
[null,1715,{"$f":"Anlægskartotek!C1726","v":0},{"$f":"+IF((Basisoplysninger!$D$60=\"Ja\")*(Anlægskartotek!C1726<>0)=1,Anlægskartotek!$L$14,Anlægskartotek!I1726)","v":0}]
[null,1716,{"$f":"Anlægskartotek!C1727","v":0},{"$f":"+IF((Basisoplysninger!$D$60=\"Ja\")*(Anlægskartotek!C1727<>0)=1,Anlægskartotek!$L$14,Anlægskartotek!I1727)","v":0}]
[null,1717,{"$f":"Anlægskartotek!C1728","v":0},{"$f":"+IF((Basisoplysninger!$D$60=\"Ja\")*(Anlægskartotek!C1728<>0)=1,Anlægskartotek!$L$14,Anlægskartotek!I1728)","v":0}]
[null,1718,{"$f":"Anlægskartotek!C1729","v":0},{"$f":"+IF((Basisoplysninger!$D$60=\"Ja\")*(Anlægskartotek!C1729<>0)=1,Anlægskartotek!$L$14,Anlægskartotek!I1729)","v":0}]
[null,1719,{"$f":"Anlægskartotek!C1730","v":0},{"$f":"+IF((Basisoplysninger!$D$60=\"Ja\")*(Anlægskartotek!C1730<>0)=1,Anlægskartotek!$L$14,Anlægskartotek!I1730)","v":0}]
[null,1720,{"$f":"Anlægskartotek!C1731","v":0},{"$f":"+IF((Basisoplysninger!$D$60=\"Ja\")*(Anlægskartotek!C1731<>0)=1,Anlægskartotek!$L$14,Anlægskartotek!I1731)","v":0}]
[null,1721,{"$f":"Anlægskartotek!C1732","v":0},{"$f":"+IF((Basisoplysninger!$D$60=\"Ja\")*(Anlægskartotek!C1732<>0)=1,Anlægskartotek!$L$14,Anlægskartotek!I1732)","v":0}]
[null,1722,{"$f":"Anlægskartotek!C1733","v":0},{"$f":"+IF((Basisoplysninger!$D$60=\"Ja\")*(Anlægskartotek!C1733<>0)=1,Anlægskartotek!$L$14,Anlægskartotek!I1733)","v":0}]
[null,1723,{"$f":"Anlægskartotek!C1734","v":0},{"$f":"+IF((Basisoplysninger!$D$60=\"Ja\")*(Anlægskartotek!C1734<>0)=1,Anlægskartotek!$L$14,Anlægskartotek!I1734)","v":0}]
[null,1724,{"$f":"Anlægskartotek!C1735","v":0},{"$f":"+IF((Basisoplysninger!$D$60=\"Ja\")*(Anlægskartotek!C1735<>0)=1,Anlægskartotek!$L$14,Anlægskartotek!I1735)","v":0}]
[null,1725,{"$f":"Anlægskartotek!C1736","v":0},{"$f":"+IF((Basisoplysninger!$D$60=\"Ja\")*(Anlægskartotek!C1736<>0)=1,Anlægskartotek!$L$14,Anlægskartotek!I1736)","v":0}]
[null,1726,{"$f":"Anlægskartotek!C1737","v":0},{"$f":"+IF((Basisoplysninger!$D$60=\"Ja\")*(Anlægskartotek!C1737<>0)=1,Anlægskartotek!$L$14,Anlægskartotek!I1737)","v":0}]
[null,1727,{"$f":"Anlægskartotek!C1738","v":0},{"$f":"+IF((Basisoplysninger!$D$60=\"Ja\")*(Anlægskartotek!C1738<>0)=1,Anlægskartotek!$L$14,Anlægskartotek!I1738)","v":0}]
[null,1728,{"$f":"Anlægskartotek!C1739","v":0},{"$f":"+IF((Basisoplysninger!$D$60=\"Ja\")*(Anlægskartotek!C1739<>0)=1,Anlægskartotek!$L$14,Anlægskartotek!I1739)","v":0}]
[null,1729,{"$f":"Anlægskartotek!C1740","v":0},{"$f":"+IF((Basisoplysninger!$D$60=\"Ja\")*(Anlægskartotek!C1740<>0)=1,Anlægskartotek!$L$14,Anlægskartotek!I1740)","v":0}]
[null,1730,{"$f":"Anlægskartotek!C1741","v":0},{"$f":"+IF((Basisoplysninger!$D$60=\"Ja\")*(Anlægskartotek!C1741<>0)=1,Anlægskartotek!$L$14,Anlægskartotek!I1741)","v":0}]
[null,{"$f":"B1839+1","v":1731},{"$f":"Anlægskartotek!C1742","v":0},{"$f":"+IF((Basisoplysninger!$D$60=\"Ja\")*(Anlægskartotek!C1742<>0)=1,Anlægskartotek!$L$14,Anlægskartotek!I1742)","v":0}]
[null,1732,{"$f":"Anlægskartotek!C1743","v":0},{"$f":"+IF((Basisoplysninger!$D$60=\"Ja\")*(Anlægskartotek!C1743<>0)=1,Anlægskartotek!$L$14,Anlægskartotek!I1743)","v":0}]
[null,1733,{"$f":"Anlægskartotek!C1744","v":0},{"$f":"+IF((Basisoplysninger!$D$60=\"Ja\")*(Anlægskartotek!C1744<>0)=1,Anlægskartotek!$L$14,Anlægskartotek!I1744)","v":0}]
[null,1734,{"$f":"Anlægskartotek!C1745","v":0},{"$f":"+IF((Basisoplysninger!$D$60=\"Ja\")*(Anlægskartotek!C1745<>0)=1,Anlægskartotek!$L$14,Anlægskartotek!I1745)","v":0}]
[null,1735,{"$f":"Anlægskartotek!C1746","v":0},{"$f":"+IF((Basisoplysninger!$D$60=\"Ja\")*(Anlægskartotek!C1746<>0)=1,Anlægskartotek!$L$14,Anlægskartotek!I1746)","v":0}]
[null,1736,{"$f":"Anlægskartotek!C1747","v":0},{"$f":"+IF((Basisoplysninger!$D$60=\"Ja\")*(Anlægskartotek!C1747<>0)=1,Anlægskartotek!$L$14,Anlægskartotek!I1747)","v":0}]
[null,1737,{"$f":"Anlægskartotek!C1748","v":0},{"$f":"+IF((Basisoplysninger!$D$60=\"Ja\")*(Anlægskartotek!C1748<>0)=1,Anlægskartotek!$L$14,Anlægskartotek!I1748)","v":0}]
[null,1738,{"$f":"Anlægskartotek!C1749","v":0},{"$f":"+IF((Basisoplysninger!$D$60=\"Ja\")*(Anlægskartotek!C1749<>0)=1,Anlægskartotek!$L$14,Anlægskartotek!I1749)","v":0}]
[null,1739,{"$f":"Anlægskartotek!C1750","v":0},{"$f":"+IF((Basisoplysninger!$D$60=\"Ja\")*(Anlægskartotek!C1750<>0)=1,Anlægskartotek!$L$14,Anlægskartotek!I1750)","v":0}]
[null,1740,{"$f":"Anlægskartotek!C1751","v":0},{"$f":"+IF((Basisoplysninger!$D$60=\"Ja\")*(Anlægskartotek!C1751<>0)=1,Anlægskartotek!$L$14,Anlægskartotek!I1751)","v":0}]
[null,1741,{"$f":"Anlægskartotek!C1752","v":0},{"$f":"+IF((Basisoplysninger!$D$60=\"Ja\")*(Anlægskartotek!C1752<>0)=1,Anlægskartotek!$L$14,Anlægskartotek!I1752)","v":0}]
[null,1742,{"$f":"Anlægskartotek!C1753","v":0},{"$f":"+IF((Basisoplysninger!$D$60=\"Ja\")*(Anlægskartotek!C1753<>0)=1,Anlægskartotek!$L$14,Anlægskartotek!I1753)","v":0}]
[null,1743,{"$f":"Anlægskartotek!C1754","v":0},{"$f":"+IF((Basisoplysninger!$D$60=\"Ja\")*(Anlægskartotek!C1754<>0)=1,Anlægskartotek!$L$14,Anlægskartotek!I1754)","v":0}]
[null,1744,{"$f":"Anlægskartotek!C1755","v":0},{"$f":"+IF((Basisoplysninger!$D$60=\"Ja\")*(Anlægskartotek!C1755<>0)=1,Anlægskartotek!$L$14,Anlægskartotek!I1755)","v":0}]
[null,1745,{"$f":"Anlægskartotek!C1756","v":0},{"$f":"+IF((Basisoplysninger!$D$60=\"Ja\")*(Anlægskartotek!C1756<>0)=1,Anlægskartotek!$L$14,Anlægskartotek!I1756)","v":0}]
[null,1746,{"$f":"Anlægskartotek!C1757","v":0},{"$f":"+IF((Basisoplysninger!$D$60=\"Ja\")*(Anlægskartotek!C1757<>0)=1,Anlægskartotek!$L$14,Anlægskartotek!I1757)","v":0}]
[null,1747,{"$f":"Anlægskartotek!C1758","v":0},{"$f":"+IF((Basisoplysninger!$D$60=\"Ja\")*(Anlægskartotek!C1758<>0)=1,Anlægskartotek!$L$14,Anlægskartotek!I1758)","v":0}]
[null,1748,{"$f":"Anlægskartotek!C1759","v":0},{"$f":"+IF((Basisoplysninger!$D$60=\"Ja\")*(Anlægskartotek!C1759<>0)=1,Anlægskartotek!$L$14,Anlægskartotek!I1759)","v":0}]
[null,1749,{"$f":"Anlægskartotek!C1760","v":0},{"$f":"+IF((Basisoplysninger!$D$60=\"Ja\")*(Anlægskartotek!C1760<>0)=1,Anlægskartotek!$L$14,Anlægskartotek!I1760)","v":0}]
[null,1750,{"$f":"Anlægskartotek!C1761","v":0},{"$f":"+IF((Basisoplysninger!$D$60=\"Ja\")*(Anlægskartotek!C1761<>0)=1,Anlægskartotek!$L$14,Anlægskartotek!I1761)","v":0}]
[null,1751,{"$f":"Anlægskartotek!C1762","v":0},{"$f":"+IF((Basisoplysninger!$D$60=\"Ja\")*(Anlægskartotek!C1762<>0)=1,Anlægskartotek!$L$14,Anlægskartotek!I1762)","v":0}]
[null,1752,{"$f":"Anlægskartotek!C1763","v":0},{"$f":"+IF((Basisoplysninger!$D$60=\"Ja\")*(Anlægskartotek!C1763<>0)=1,Anlægskartotek!$L$14,Anlægskartotek!I1763)","v":0}]
[null,1753,{"$f":"Anlægskartotek!C1764","v":0},{"$f":"+IF((Basisoplysninger!$D$60=\"Ja\")*(Anlægskartotek!C1764<>0)=1,Anlægskartotek!$L$14,Anlægskartotek!I1764)","v":0}]
[null,1754,{"$f":"Anlægskartotek!C1765","v":0},{"$f":"+IF((Basisoplysninger!$D$60=\"Ja\")*(Anlægskartotek!C1765<>0)=1,Anlægskartotek!$L$14,Anlægskartotek!I1765)","v":0}]
[null,1755,{"$f":"Anlægskartotek!C1766","v":0},{"$f":"+IF((Basisoplysninger!$D$60=\"Ja\")*(Anlægskartotek!C1766<>0)=1,Anlægskartotek!$L$14,Anlægskartotek!I1766)","v":0}]
[null,1756,{"$f":"Anlægskartotek!C1767","v":0},{"$f":"+IF((Basisoplysninger!$D$60=\"Ja\")*(Anlægskartotek!C1767<>0)=1,Anlægskartotek!$L$14,Anlægskartotek!I1767)","v":0}]
[null,1757,{"$f":"Anlægskartotek!C1768","v":0},{"$f":"+IF((Basisoplysninger!$D$60=\"Ja\")*(Anlægskartotek!C1768<>0)=1,Anlægskartotek!$L$14,Anlægskartotek!I1768)","v":0}]
[null,1758,{"$f":"Anlægskartotek!C1769","v":0},{"$f":"+IF((Basisoplysninger!$D$60=\"Ja\")*(Anlægskartotek!C1769<>0)=1,Anlægskartotek!$L$14,Anlægskartotek!I1769)","v":0}]
[null,1759,{"$f":"Anlægskartotek!C1770","v":0},{"$f":"+IF((Basisoplysninger!$D$60=\"Ja\")*(Anlægskartotek!C1770<>0)=1,Anlægskartotek!$L$14,Anlægskartotek!I1770)","v":0}]
[null,1760,{"$f":"Anlægskartotek!C1771","v":0},{"$f":"+IF((Basisoplysninger!$D$60=\"Ja\")*(Anlægskartotek!C1771<>0)=1,Anlægskartotek!$L$14,Anlægskartotek!I1771)","v":0}]
[null,1761,{"$f":"Anlægskartotek!C1772","v":0},{"$f":"+IF((Basisoplysninger!$D$60=\"Ja\")*(Anlægskartotek!C1772<>0)=1,Anlægskartotek!$L$14,Anlægskartotek!I1772)","v":0}]
[null,1762,{"$f":"Anlægskartotek!C1773","v":0},{"$f":"+IF((Basisoplysninger!$D$60=\"Ja\")*(Anlægskartotek!C1773<>0)=1,Anlægskartotek!$L$14,Anlægskartotek!I1773)","v":0}]
[null,1763,{"$f":"Anlægskartotek!C1774","v":0},{"$f":"+IF((Basisoplysninger!$D$60=\"Ja\")*(Anlægskartotek!C1774<>0)=1,Anlægskartotek!$L$14,Anlægskartotek!I1774)","v":0}]
[null,1764,{"$f":"Anlægskartotek!C1775","v":0},{"$f":"+IF((Basisoplysninger!$D$60=\"Ja\")*(Anlægskartotek!C1775<>0)=1,Anlægskartotek!$L$14,Anlægskartotek!I1775)","v":0}]
[null,1765,{"$f":"Anlægskartotek!C1776","v":0},{"$f":"+IF((Basisoplysninger!$D$60=\"Ja\")*(Anlægskartotek!C1776<>0)=1,Anlægskartotek!$L$14,Anlægskartotek!I1776)","v":0}]
[null,1766,{"$f":"Anlægskartotek!C1777","v":0},{"$f":"+IF((Basisoplysninger!$D$60=\"Ja\")*(Anlægskartotek!C1777<>0)=1,Anlægskartotek!$L$14,Anlægskartotek!I1777)","v":0}]
[null,1767,{"$f":"Anlægskartotek!C1778","v":0},{"$f":"+IF((Basisoplysninger!$D$60=\"Ja\")*(Anlægskartotek!C1778<>0)=1,Anlægskartotek!$L$14,Anlægskartotek!I1778)","v":0}]
[null,1768,{"$f":"Anlægskartotek!C1779","v":0},{"$f":"+IF((Basisoplysninger!$D$60=\"Ja\")*(Anlægskartotek!C1779<>0)=1,Anlægskartotek!$L$14,Anlægskartotek!I1779)","v":0}]
[null,1769,{"$f":"Anlægskartotek!C1780","v":0},{"$f":"+IF((Basisoplysninger!$D$60=\"Ja\")*(Anlægskartotek!C1780<>0)=1,Anlægskartotek!$L$14,Anlægskartotek!I1780)","v":0}]
[null,1770,{"$f":"Anlægskartotek!C1781","v":0},{"$f":"+IF((Basisoplysninger!$D$60=\"Ja\")*(Anlægskartotek!C1781<>0)=1,Anlægskartotek!$L$14,Anlægskartotek!I1781)","v":0}]
[null,1771,{"$f":"Anlægskartotek!C1782","v":0},{"$f":"+IF((Basisoplysninger!$D$60=\"Ja\")*(Anlægskartotek!C1782<>0)=1,Anlægskartotek!$L$14,Anlægskartotek!I1782)","v":0}]
[null,1772,{"$f":"Anlægskartotek!C1783","v":0},{"$f":"+IF((Basisoplysninger!$D$60=\"Ja\")*(Anlægskartotek!C1783<>0)=1,Anlægskartotek!$L$14,Anlægskartotek!I1783)","v":0}]
[null,1773,{"$f":"Anlægskartotek!C1784","v":0},{"$f":"+IF((Basisoplysninger!$D$60=\"Ja\")*(Anlægskartotek!C1784<>0)=1,Anlægskartotek!$L$14,Anlægskartotek!I1784)","v":0}]
[null,1774,{"$f":"Anlægskartotek!C1785","v":0},{"$f":"+IF((Basisoplysninger!$D$60=\"Ja\")*(Anlægskartotek!C1785<>0)=1,Anlægskartotek!$L$14,Anlægskartotek!I1785)","v":0}]
[null,1775,{"$f":"Anlægskartotek!C1786","v":0},{"$f":"+IF((Basisoplysninger!$D$60=\"Ja\")*(Anlægskartotek!C1786<>0)=1,Anlægskartotek!$L$14,Anlægskartotek!I1786)","v":0}]
[null,1776,{"$f":"Anlægskartotek!C1787","v":0},{"$f":"+IF((Basisoplysninger!$D$60=\"Ja\")*(Anlægskartotek!C1787<>0)=1,Anlægskartotek!$L$14,Anlægskartotek!I1787)","v":0}]
[null,1777,{"$f":"Anlægskartotek!C1788","v":0},{"$f":"+IF((Basisoplysninger!$D$60=\"Ja\")*(Anlægskartotek!C1788<>0)=1,Anlægskartotek!$L$14,Anlægskartotek!I1788)","v":0}]
[null,1778,{"$f":"Anlægskartotek!C1789","v":0},{"$f":"+IF((Basisoplysninger!$D$60=\"Ja\")*(Anlægskartotek!C1789<>0)=1,Anlægskartotek!$L$14,Anlægskartotek!I1789)","v":0}]
[null,1779,{"$f":"Anlægskartotek!C1790","v":0},{"$f":"+IF((Basisoplysninger!$D$60=\"Ja\")*(Anlægskartotek!C1790<>0)=1,Anlægskartotek!$L$14,Anlægskartotek!I1790)","v":0}]
[null,1780,{"$f":"Anlægskartotek!C1791","v":0},{"$f":"+IF((Basisoplysninger!$D$60=\"Ja\")*(Anlægskartotek!C1791<>0)=1,Anlægskartotek!$L$14,Anlægskartotek!I1791)","v":0}]
[null,1781,{"$f":"Anlægskartotek!C1792","v":0},{"$f":"+IF((Basisoplysninger!$D$60=\"Ja\")*(Anlægskartotek!C1792<>0)=1,Anlægskartotek!$L$14,Anlægskartotek!I1792)","v":0}]
[null,1782,{"$f":"Anlægskartotek!C1793","v":0},{"$f":"+IF((Basisoplysninger!$D$60=\"Ja\")*(Anlægskartotek!C1793<>0)=1,Anlægskartotek!$L$14,Anlægskartotek!I1793)","v":0}]
[null,1783,{"$f":"Anlægskartotek!C1794","v":0},{"$f":"+IF((Basisoplysninger!$D$60=\"Ja\")*(Anlægskartotek!C1794<>0)=1,Anlægskartotek!$L$14,Anlægskartotek!I1794)","v":0}]
[null,1784,{"$f":"Anlægskartotek!C1795","v":0},{"$f":"+IF((Basisoplysninger!$D$60=\"Ja\")*(Anlægskartotek!C1795<>0)=1,Anlægskartotek!$L$14,Anlægskartotek!I1795)","v":0}]
[null,1785,{"$f":"Anlægskartotek!C1796","v":0},{"$f":"+IF((Basisoplysninger!$D$60=\"Ja\")*(Anlægskartotek!C1796<>0)=1,Anlægskartotek!$L$14,Anlægskartotek!I1796)","v":0}]
[null,1786,{"$f":"Anlægskartotek!C1797","v":0},{"$f":"+IF((Basisoplysninger!$D$60=\"Ja\")*(Anlægskartotek!C1797<>0)=1,Anlægskartotek!$L$14,Anlægskartotek!I1797)","v":0}]
[null,1787,{"$f":"Anlægskartotek!C1798","v":0},{"$f":"+IF((Basisoplysninger!$D$60=\"Ja\")*(Anlægskartotek!C1798<>0)=1,Anlægskartotek!$L$14,Anlægskartotek!I1798)","v":0}]
[null,1788,{"$f":"Anlægskartotek!C1799","v":0},{"$f":"+IF((Basisoplysninger!$D$60=\"Ja\")*(Anlægskartotek!C1799<>0)=1,Anlægskartotek!$L$14,Anlægskartotek!I1799)","v":0}]
[null,1789,{"$f":"Anlægskartotek!C1800","v":0},{"$f":"+IF((Basisoplysninger!$D$60=\"Ja\")*(Anlægskartotek!C1800<>0)=1,Anlægskartotek!$L$14,Anlægskartotek!I1800)","v":0}]
[null,1790,{"$f":"Anlægskartotek!C1801","v":0},{"$f":"+IF((Basisoplysninger!$D$60=\"Ja\")*(Anlægskartotek!C1801<>0)=1,Anlægskartotek!$L$14,Anlægskartotek!I1801)","v":0}]
[null,1791,{"$f":"Anlægskartotek!C1802","v":0},{"$f":"+IF((Basisoplysninger!$D$60=\"Ja\")*(Anlægskartotek!C1802<>0)=1,Anlægskartotek!$L$14,Anlægskartotek!I1802)","v":0}]
[null,1792,{"$f":"Anlægskartotek!C1803","v":0},{"$f":"+IF((Basisoplysninger!$D$60=\"Ja\")*(Anlægskartotek!C1803<>0)=1,Anlægskartotek!$L$14,Anlægskartotek!I1803)","v":0}]
[null,1793,{"$f":"Anlægskartotek!C1804","v":0},{"$f":"+IF((Basisoplysninger!$D$60=\"Ja\")*(Anlægskartotek!C1804<>0)=1,Anlægskartotek!$L$14,Anlægskartotek!I1804)","v":0}]
[null,1794,{"$f":"Anlægskartotek!C1805","v":0},{"$f":"+IF((Basisoplysninger!$D$60=\"Ja\")*(Anlægskartotek!C1805<>0)=1,Anlægskartotek!$L$14,Anlægskartotek!I1805)","v":0}]
[null,{"$f":"B1903+1","v":1795},{"$f":"Anlægskartotek!C1806","v":0},{"$f":"+IF((Basisoplysninger!$D$60=\"Ja\")*(Anlægskartotek!C1806<>0)=1,Anlægskartotek!$L$14,Anlægskartotek!I1806)","v":0}]
[null,1796,{"$f":"Anlægskartotek!C1807","v":0},{"$f":"+IF((Basisoplysninger!$D$60=\"Ja\")*(Anlægskartotek!C1807<>0)=1,Anlægskartotek!$L$14,Anlægskartotek!I1807)","v":0}]
[null,1797,{"$f":"Anlægskartotek!C1808","v":0},{"$f":"+IF((Basisoplysninger!$D$60=\"Ja\")*(Anlægskartotek!C1808<>0)=1,Anlægskartotek!$L$14,Anlægskartotek!I1808)","v":0}]
[null,1798,{"$f":"Anlægskartotek!C1809","v":0},{"$f":"+IF((Basisoplysninger!$D$60=\"Ja\")*(Anlægskartotek!C1809<>0)=1,Anlægskartotek!$L$14,Anlægskartotek!I1809)","v":0}]
[null,1799,{"$f":"Anlægskartotek!C1810","v":0},{"$f":"+IF((Basisoplysninger!$D$60=\"Ja\")*(Anlægskartotek!C1810<>0)=1,Anlægskartotek!$L$14,Anlægskartotek!I1810)","v":0}]
[null,1800,{"$f":"Anlægskartotek!C1811","v":0},{"$f":"+IF((Basisoplysninger!$D$60=\"Ja\")*(Anlægskartotek!C1811<>0)=1,Anlægskartotek!$L$14,Anlægskartotek!I1811)","v":0}]
[null,1801,{"$f":"Anlægskartotek!C1812","v":0},{"$f":"+IF((Basisoplysninger!$D$60=\"Ja\")*(Anlægskartotek!C1812<>0)=1,Anlægskartotek!$L$14,Anlægskartotek!I1812)","v":0}]
[null,1802,{"$f":"Anlægskartotek!C1813","v":0},{"$f":"+IF((Basisoplysninger!$D$60=\"Ja\")*(Anlægskartotek!C1813<>0)=1,Anlægskartotek!$L$14,Anlægskartotek!I1813)","v":0}]
[null,1803,{"$f":"Anlægskartotek!C1814","v":0},{"$f":"+IF((Basisoplysninger!$D$60=\"Ja\")*(Anlægskartotek!C1814<>0)=1,Anlægskartotek!$L$14,Anlægskartotek!I1814)","v":0}]
[null,1804,{"$f":"Anlægskartotek!C1815","v":0},{"$f":"+IF((Basisoplysninger!$D$60=\"Ja\")*(Anlægskartotek!C1815<>0)=1,Anlægskartotek!$L$14,Anlægskartotek!I1815)","v":0}]
[null,1805,{"$f":"Anlægskartotek!C1816","v":0},{"$f":"+IF((Basisoplysninger!$D$60=\"Ja\")*(Anlægskartotek!C1816<>0)=1,Anlægskartotek!$L$14,Anlægskartotek!I1816)","v":0}]
[null,1806,{"$f":"Anlægskartotek!C1817","v":0},{"$f":"+IF((Basisoplysninger!$D$60=\"Ja\")*(Anlægskartotek!C1817<>0)=1,Anlægskartotek!$L$14,Anlægskartotek!I1817)","v":0}]
[null,1807,{"$f":"Anlægskartotek!C1818","v":0},{"$f":"+IF((Basisoplysninger!$D$60=\"Ja\")*(Anlægskartotek!C1818<>0)=1,Anlægskartotek!$L$14,Anlægskartotek!I1818)","v":0}]
[null,1808,{"$f":"Anlægskartotek!C1819","v":0},{"$f":"+IF((Basisoplysninger!$D$60=\"Ja\")*(Anlægskartotek!C1819<>0)=1,Anlægskartotek!$L$14,Anlægskartotek!I1819)","v":0}]
[null,1809,{"$f":"Anlægskartotek!C1820","v":0},{"$f":"+IF((Basisoplysninger!$D$60=\"Ja\")*(Anlægskartotek!C1820<>0)=1,Anlægskartotek!$L$14,Anlægskartotek!I1820)","v":0}]
[null,1810,{"$f":"Anlægskartotek!C1821","v":0},{"$f":"+IF((Basisoplysninger!$D$60=\"Ja\")*(Anlægskartotek!C1821<>0)=1,Anlægskartotek!$L$14,Anlægskartotek!I1821)","v":0}]
[null,1811,{"$f":"Anlægskartotek!C1822","v":0},{"$f":"+IF((Basisoplysninger!$D$60=\"Ja\")*(Anlægskartotek!C1822<>0)=1,Anlægskartotek!$L$14,Anlægskartotek!I1822)","v":0}]
[null,1812,{"$f":"Anlægskartotek!C1823","v":0},{"$f":"+IF((Basisoplysninger!$D$60=\"Ja\")*(Anlægskartotek!C1823<>0)=1,Anlægskartotek!$L$14,Anlægskartotek!I1823)","v":0}]
[null,1813,{"$f":"Anlægskartotek!C1824","v":0},{"$f":"+IF((Basisoplysninger!$D$60=\"Ja\")*(Anlægskartotek!C1824<>0)=1,Anlægskartotek!$L$14,Anlægskartotek!I1824)","v":0}]
[null,1814,{"$f":"Anlægskartotek!C1825","v":0},{"$f":"+IF((Basisoplysninger!$D$60=\"Ja\")*(Anlægskartotek!C1825<>0)=1,Anlægskartotek!$L$14,Anlægskartotek!I1825)","v":0}]
[null,1815,{"$f":"Anlægskartotek!C1826","v":0},{"$f":"+IF((Basisoplysninger!$D$60=\"Ja\")*(Anlægskartotek!C1826<>0)=1,Anlægskartotek!$L$14,Anlægskartotek!I1826)","v":0}]
[null,1816,{"$f":"Anlægskartotek!C1827","v":0},{"$f":"+IF((Basisoplysninger!$D$60=\"Ja\")*(Anlægskartotek!C1827<>0)=1,Anlægskartotek!$L$14,Anlægskartotek!I1827)","v":0}]
[null,1817,{"$f":"Anlægskartotek!C1828","v":0},{"$f":"+IF((Basisoplysninger!$D$60=\"Ja\")*(Anlægskartotek!C1828<>0)=1,Anlægskartotek!$L$14,Anlægskartotek!I1828)","v":0}]
[null,1818,{"$f":"Anlægskartotek!C1829","v":0},{"$f":"+IF((Basisoplysninger!$D$60=\"Ja\")*(Anlægskartotek!C1829<>0)=1,Anlægskartotek!$L$14,Anlægskartotek!I1829)","v":0}]
[null,1819,{"$f":"Anlægskartotek!C1830","v":0},{"$f":"+IF((Basisoplysninger!$D$60=\"Ja\")*(Anlægskartotek!C1830<>0)=1,Anlægskartotek!$L$14,Anlægskartotek!I1830)","v":0}]
[null,1820,{"$f":"Anlægskartotek!C1831","v":0},{"$f":"+IF((Basisoplysninger!$D$60=\"Ja\")*(Anlægskartotek!C1831<>0)=1,Anlægskartotek!$L$14,Anlægskartotek!I1831)","v":0}]
[null,1821,{"$f":"Anlægskartotek!C1832","v":0},{"$f":"+IF((Basisoplysninger!$D$60=\"Ja\")*(Anlægskartotek!C1832<>0)=1,Anlægskartotek!$L$14,Anlægskartotek!I1832)","v":0}]
[null,1822,{"$f":"Anlægskartotek!C1833","v":0},{"$f":"+IF((Basisoplysninger!$D$60=\"Ja\")*(Anlægskartotek!C1833<>0)=1,Anlægskartotek!$L$14,Anlægskartotek!I1833)","v":0}]
[null,1823,{"$f":"Anlægskartotek!C1834","v":0},{"$f":"+IF((Basisoplysninger!$D$60=\"Ja\")*(Anlægskartotek!C1834<>0)=1,Anlægskartotek!$L$14,Anlægskartotek!I1834)","v":0}]
[null,1824,{"$f":"Anlægskartotek!C1835","v":0},{"$f":"+IF((Basisoplysninger!$D$60=\"Ja\")*(Anlægskartotek!C1835<>0)=1,Anlægskartotek!$L$14,Anlægskartotek!I1835)","v":0}]
[null,1825,{"$f":"Anlægskartotek!C1836","v":0},{"$f":"+IF((Basisoplysninger!$D$60=\"Ja\")*(Anlægskartotek!C1836<>0)=1,Anlægskartotek!$L$14,Anlægskartotek!I1836)","v":0}]
[null,1826,{"$f":"Anlægskartotek!C1837","v":0},{"$f":"+IF((Basisoplysninger!$D$60=\"Ja\")*(Anlægskartotek!C1837<>0)=1,Anlægskartotek!$L$14,Anlægskartotek!I1837)","v":0}]
[null,1827,{"$f":"Anlægskartotek!C1838","v":0},{"$f":"+IF((Basisoplysninger!$D$60=\"Ja\")*(Anlægskartotek!C1838<>0)=1,Anlægskartotek!$L$14,Anlægskartotek!I1838)","v":0}]
[null,1828,{"$f":"Anlægskartotek!C1839","v":0},{"$f":"+IF((Basisoplysninger!$D$60=\"Ja\")*(Anlægskartotek!C1839<>0)=1,Anlægskartotek!$L$14,Anlægskartotek!I1839)","v":0}]
[null,1829,{"$f":"Anlægskartotek!C1840","v":0},{"$f":"+IF((Basisoplysninger!$D$60=\"Ja\")*(Anlægskartotek!C1840<>0)=1,Anlægskartotek!$L$14,Anlægskartotek!I1840)","v":0}]
[null,1830,{"$f":"Anlægskartotek!C1841","v":0},{"$f":"+IF((Basisoplysninger!$D$60=\"Ja\")*(Anlægskartotek!C1841<>0)=1,Anlægskartotek!$L$14,Anlægskartotek!I1841)","v":0}]
[null,1831,{"$f":"Anlægskartotek!C1842","v":0},{"$f":"+IF((Basisoplysninger!$D$60=\"Ja\")*(Anlægskartotek!C1842<>0)=1,Anlægskartotek!$L$14,Anlægskartotek!I1842)","v":0}]
[null,1832,{"$f":"Anlægskartotek!C1843","v":0},{"$f":"+IF((Basisoplysninger!$D$60=\"Ja\")*(Anlægskartotek!C1843<>0)=1,Anlægskartotek!$L$14,Anlægskartotek!I1843)","v":0}]
[null,1833,{"$f":"Anlægskartotek!C1844","v":0},{"$f":"+IF((Basisoplysninger!$D$60=\"Ja\")*(Anlægskartotek!C1844<>0)=1,Anlægskartotek!$L$14,Anlægskartotek!I1844)","v":0}]
[null,1834,{"$f":"Anlægskartotek!C1845","v":0},{"$f":"+IF((Basisoplysninger!$D$60=\"Ja\")*(Anlægskartotek!C1845<>0)=1,Anlægskartotek!$L$14,Anlægskartotek!I1845)","v":0}]
[null,1835,{"$f":"Anlægskartotek!C1846","v":0},{"$f":"+IF((Basisoplysninger!$D$60=\"Ja\")*(Anlægskartotek!C1846<>0)=1,Anlægskartotek!$L$14,Anlægskartotek!I1846)","v":0}]
[null,1836,{"$f":"Anlægskartotek!C1847","v":0},{"$f":"+IF((Basisoplysninger!$D$60=\"Ja\")*(Anlægskartotek!C1847<>0)=1,Anlægskartotek!$L$14,Anlægskartotek!I1847)","v":0}]
[null,1837,{"$f":"Anlægskartotek!C1848","v":0},{"$f":"+IF((Basisoplysninger!$D$60=\"Ja\")*(Anlægskartotek!C1848<>0)=1,Anlægskartotek!$L$14,Anlægskartotek!I1848)","v":0}]
[null,1838,{"$f":"Anlægskartotek!C1849","v":0},{"$f":"+IF((Basisoplysninger!$D$60=\"Ja\")*(Anlægskartotek!C1849<>0)=1,Anlægskartotek!$L$14,Anlægskartotek!I1849)","v":0}]
[null,1839,{"$f":"Anlægskartotek!C1850","v":0},{"$f":"+IF((Basisoplysninger!$D$60=\"Ja\")*(Anlægskartotek!C1850<>0)=1,Anlægskartotek!$L$14,Anlægskartotek!I1850)","v":0}]
[null,1840,{"$f":"Anlægskartotek!C1851","v":0},{"$f":"+IF((Basisoplysninger!$D$60=\"Ja\")*(Anlægskartotek!C1851<>0)=1,Anlægskartotek!$L$14,Anlægskartotek!I1851)","v":0}]
[null,1841,{"$f":"Anlægskartotek!C1852","v":0},{"$f":"+IF((Basisoplysninger!$D$60=\"Ja\")*(Anlægskartotek!C1852<>0)=1,Anlægskartotek!$L$14,Anlægskartotek!I1852)","v":0}]
[null,1842,{"$f":"Anlægskartotek!C1853","v":0},{"$f":"+IF((Basisoplysninger!$D$60=\"Ja\")*(Anlægskartotek!C1853<>0)=1,Anlægskartotek!$L$14,Anlægskartotek!I1853)","v":0}]
[null,1843,{"$f":"Anlægskartotek!C1854","v":0},{"$f":"+IF((Basisoplysninger!$D$60=\"Ja\")*(Anlægskartotek!C1854<>0)=1,Anlægskartotek!$L$14,Anlægskartotek!I1854)","v":0}]
[null,1844,{"$f":"Anlægskartotek!C1855","v":0},{"$f":"+IF((Basisoplysninger!$D$60=\"Ja\")*(Anlægskartotek!C1855<>0)=1,Anlægskartotek!$L$14,Anlægskartotek!I1855)","v":0}]
[null,1845,{"$f":"Anlægskartotek!C1856","v":0},{"$f":"+IF((Basisoplysninger!$D$60=\"Ja\")*(Anlægskartotek!C1856<>0)=1,Anlægskartotek!$L$14,Anlægskartotek!I1856)","v":0}]
[null,1846,{"$f":"Anlægskartotek!C1857","v":0},{"$f":"+IF((Basisoplysninger!$D$60=\"Ja\")*(Anlægskartotek!C1857<>0)=1,Anlægskartotek!$L$14,Anlægskartotek!I1857)","v":0}]
[null,1847,{"$f":"Anlægskartotek!C1858","v":0},{"$f":"+IF((Basisoplysninger!$D$60=\"Ja\")*(Anlægskartotek!C1858<>0)=1,Anlægskartotek!$L$14,Anlægskartotek!I1858)","v":0}]
[null,1848,{"$f":"Anlægskartotek!C1859","v":0},{"$f":"+IF((Basisoplysninger!$D$60=\"Ja\")*(Anlægskartotek!C1859<>0)=1,Anlægskartotek!$L$14,Anlægskartotek!I1859)","v":0}]
[null,1849,{"$f":"Anlægskartotek!C1860","v":0},{"$f":"+IF((Basisoplysninger!$D$60=\"Ja\")*(Anlægskartotek!C1860<>0)=1,Anlægskartotek!$L$14,Anlægskartotek!I1860)","v":0}]
[null,1850,{"$f":"Anlægskartotek!C1861","v":0},{"$f":"+IF((Basisoplysninger!$D$60=\"Ja\")*(Anlægskartotek!C1861<>0)=1,Anlægskartotek!$L$14,Anlægskartotek!I1861)","v":0}]
[null,1851,{"$f":"Anlægskartotek!C1862","v":0},{"$f":"+IF((Basisoplysninger!$D$60=\"Ja\")*(Anlægskartotek!C1862<>0)=1,Anlægskartotek!$L$14,Anlægskartotek!I1862)","v":0}]
[null,1852,{"$f":"Anlægskartotek!C1863","v":0},{"$f":"+IF((Basisoplysninger!$D$60=\"Ja\")*(Anlægskartotek!C1863<>0)=1,Anlægskartotek!$L$14,Anlægskartotek!I1863)","v":0}]
[null,1853,{"$f":"Anlægskartotek!C1864","v":0},{"$f":"+IF((Basisoplysninger!$D$60=\"Ja\")*(Anlægskartotek!C1864<>0)=1,Anlægskartotek!$L$14,Anlægskartotek!I1864)","v":0}]
[null,1854,{"$f":"Anlægskartotek!C1865","v":0},{"$f":"+IF((Basisoplysninger!$D$60=\"Ja\")*(Anlægskartotek!C1865<>0)=1,Anlægskartotek!$L$14,Anlægskartotek!I1865)","v":0}]
[null,1855,{"$f":"Anlægskartotek!C1866","v":0},{"$f":"+IF((Basisoplysninger!$D$60=\"Ja\")*(Anlægskartotek!C1866<>0)=1,Anlægskartotek!$L$14,Anlægskartotek!I1866)","v":0}]
[null,1856,{"$f":"Anlægskartotek!C1867","v":0},{"$f":"+IF((Basisoplysninger!$D$60=\"Ja\")*(Anlægskartotek!C1867<>0)=1,Anlægskartotek!$L$14,Anlægskartotek!I1867)","v":0}]
[null,1857,{"$f":"Anlægskartotek!C1868","v":0},{"$f":"+IF((Basisoplysninger!$D$60=\"Ja\")*(Anlægskartotek!C1868<>0)=1,Anlægskartotek!$L$14,Anlægskartotek!I1868)","v":0}]
[null,1858,{"$f":"Anlægskartotek!C1869","v":0},{"$f":"+IF((Basisoplysninger!$D$60=\"Ja\")*(Anlægskartotek!C1869<>0)=1,Anlægskartotek!$L$14,Anlægskartotek!I1869)","v":0}]
[null,{"$f":"B1967+1","v":1859},{"$f":"Anlægskartotek!C1870","v":0},{"$f":"+IF((Basisoplysninger!$D$60=\"Ja\")*(Anlægskartotek!C1870<>0)=1,Anlægskartotek!$L$14,Anlægskartotek!I1870)","v":0}]
[null,1860,{"$f":"Anlægskartotek!C1871","v":0},{"$f":"+IF((Basisoplysninger!$D$60=\"Ja\")*(Anlægskartotek!C1871<>0)=1,Anlægskartotek!$L$14,Anlægskartotek!I1871)","v":0}]
[null,1861,{"$f":"Anlægskartotek!C1872","v":0},{"$f":"+IF((Basisoplysninger!$D$60=\"Ja\")*(Anlægskartotek!C1872<>0)=1,Anlægskartotek!$L$14,Anlægskartotek!I1872)","v":0}]
[null,1862,{"$f":"Anlægskartotek!C1873","v":0},{"$f":"+IF((Basisoplysninger!$D$60=\"Ja\")*(Anlægskartotek!C1873<>0)=1,Anlægskartotek!$L$14,Anlægskartotek!I1873)","v":0}]
[null,1863,{"$f":"Anlægskartotek!C1874","v":0},{"$f":"+IF((Basisoplysninger!$D$60=\"Ja\")*(Anlægskartotek!C1874<>0)=1,Anlægskartotek!$L$14,Anlægskartotek!I1874)","v":0}]
[null,1864,{"$f":"Anlægskartotek!C1875","v":0},{"$f":"+IF((Basisoplysninger!$D$60=\"Ja\")*(Anlægskartotek!C1875<>0)=1,Anlægskartotek!$L$14,Anlægskartotek!I1875)","v":0}]
[null,1865,{"$f":"Anlægskartotek!C1876","v":0},{"$f":"+IF((Basisoplysninger!$D$60=\"Ja\")*(Anlægskartotek!C1876<>0)=1,Anlægskartotek!$L$14,Anlægskartotek!I1876)","v":0}]
[null,1866,{"$f":"Anlægskartotek!C1877","v":0},{"$f":"+IF((Basisoplysninger!$D$60=\"Ja\")*(Anlægskartotek!C1877<>0)=1,Anlægskartotek!$L$14,Anlægskartotek!I1877)","v":0}]
[null,1867,{"$f":"Anlægskartotek!C1878","v":0},{"$f":"+IF((Basisoplysninger!$D$60=\"Ja\")*(Anlægskartotek!C1878<>0)=1,Anlægskartotek!$L$14,Anlægskartotek!I1878)","v":0}]
[null,1868,{"$f":"Anlægskartotek!C1879","v":0},{"$f":"+IF((Basisoplysninger!$D$60=\"Ja\")*(Anlægskartotek!C1879<>0)=1,Anlægskartotek!$L$14,Anlægskartotek!I1879)","v":0}]
[null,1869,{"$f":"Anlægskartotek!C1880","v":0},{"$f":"+IF((Basisoplysninger!$D$60=\"Ja\")*(Anlægskartotek!C1880<>0)=1,Anlægskartotek!$L$14,Anlægskartotek!I1880)","v":0}]
[null,1870,{"$f":"Anlægskartotek!C1881","v":0},{"$f":"+IF((Basisoplysninger!$D$60=\"Ja\")*(Anlægskartotek!C1881<>0)=1,Anlægskartotek!$L$14,Anlægskartotek!I1881)","v":0}]
[null,1871,{"$f":"Anlægskartotek!C1882","v":0},{"$f":"+IF((Basisoplysninger!$D$60=\"Ja\")*(Anlægskartotek!C1882<>0)=1,Anlægskartotek!$L$14,Anlægskartotek!I1882)","v":0}]
[null,1872,{"$f":"Anlægskartotek!C1883","v":0},{"$f":"+IF((Basisoplysninger!$D$60=\"Ja\")*(Anlægskartotek!C1883<>0)=1,Anlægskartotek!$L$14,Anlægskartotek!I1883)","v":0}]
[null,1873,{"$f":"Anlægskartotek!C1884","v":0},{"$f":"+IF((Basisoplysninger!$D$60=\"Ja\")*(Anlægskartotek!C1884<>0)=1,Anlægskartotek!$L$14,Anlægskartotek!I1884)","v":0}]
[null,1874,{"$f":"Anlægskartotek!C1885","v":0},{"$f":"+IF((Basisoplysninger!$D$60=\"Ja\")*(Anlægskartotek!C1885<>0)=1,Anlægskartotek!$L$14,Anlægskartotek!I1885)","v":0}]
[null,1875,{"$f":"Anlægskartotek!C1886","v":0},{"$f":"+IF((Basisoplysninger!$D$60=\"Ja\")*(Anlægskartotek!C1886<>0)=1,Anlægskartotek!$L$14,Anlægskartotek!I1886)","v":0}]
[null,1876,{"$f":"Anlægskartotek!C1887","v":0},{"$f":"+IF((Basisoplysninger!$D$60=\"Ja\")*(Anlægskartotek!C1887<>0)=1,Anlægskartotek!$L$14,Anlægskartotek!I1887)","v":0}]
[null,1877,{"$f":"Anlægskartotek!C1888","v":0},{"$f":"+IF((Basisoplysninger!$D$60=\"Ja\")*(Anlægskartotek!C1888<>0)=1,Anlægskartotek!$L$14,Anlægskartotek!I1888)","v":0}]
[null,1878,{"$f":"Anlægskartotek!C1889","v":0},{"$f":"+IF((Basisoplysninger!$D$60=\"Ja\")*(Anlægskartotek!C1889<>0)=1,Anlægskartotek!$L$14,Anlægskartotek!I1889)","v":0}]
[null,1879,{"$f":"Anlægskartotek!C1890","v":0},{"$f":"+IF((Basisoplysninger!$D$60=\"Ja\")*(Anlægskartotek!C1890<>0)=1,Anlægskartotek!$L$14,Anlægskartotek!I1890)","v":0}]
[null,1880,{"$f":"Anlægskartotek!C1891","v":0},{"$f":"+IF((Basisoplysninger!$D$60=\"Ja\")*(Anlægskartotek!C1891<>0)=1,Anlægskartotek!$L$14,Anlægskartotek!I1891)","v":0}]
[null,1881,{"$f":"Anlægskartotek!C1892","v":0},{"$f":"+IF((Basisoplysninger!$D$60=\"Ja\")*(Anlægskartotek!C1892<>0)=1,Anlægskartotek!$L$14,Anlægskartotek!I1892)","v":0}]
[null,1882,{"$f":"Anlægskartotek!C1893","v":0},{"$f":"+IF((Basisoplysninger!$D$60=\"Ja\")*(Anlægskartotek!C1893<>0)=1,Anlægskartotek!$L$14,Anlægskartotek!I1893)","v":0}]
[null,1883,{"$f":"Anlægskartotek!C1894","v":0},{"$f":"+IF((Basisoplysninger!$D$60=\"Ja\")*(Anlægskartotek!C1894<>0)=1,Anlægskartotek!$L$14,Anlægskartotek!I1894)","v":0}]
[null,1884,{"$f":"Anlægskartotek!C1895","v":0},{"$f":"+IF((Basisoplysninger!$D$60=\"Ja\")*(Anlægskartotek!C1895<>0)=1,Anlægskartotek!$L$14,Anlægskartotek!I1895)","v":0}]
[null,1885,{"$f":"Anlægskartotek!C1896","v":0},{"$f":"+IF((Basisoplysninger!$D$60=\"Ja\")*(Anlægskartotek!C1896<>0)=1,Anlægskartotek!$L$14,Anlægskartotek!I1896)","v":0}]
[null,1886,{"$f":"Anlægskartotek!C1897","v":0},{"$f":"+IF((Basisoplysninger!$D$60=\"Ja\")*(Anlægskartotek!C1897<>0)=1,Anlægskartotek!$L$14,Anlægskartotek!I1897)","v":0}]
[null,1887,{"$f":"Anlægskartotek!C1898","v":0},{"$f":"+IF((Basisoplysninger!$D$60=\"Ja\")*(Anlægskartotek!C1898<>0)=1,Anlægskartotek!$L$14,Anlægskartotek!I1898)","v":0}]
[null,1888,{"$f":"Anlægskartotek!C1899","v":0},{"$f":"+IF((Basisoplysninger!$D$60=\"Ja\")*(Anlægskartotek!C1899<>0)=1,Anlægskartotek!$L$14,Anlægskartotek!I1899)","v":0}]
[null,1889,{"$f":"Anlægskartotek!C1900","v":0},{"$f":"+IF((Basisoplysninger!$D$60=\"Ja\")*(Anlægskartotek!C1900<>0)=1,Anlægskartotek!$L$14,Anlægskartotek!I1900)","v":0}]
[null,1890,{"$f":"Anlægskartotek!C1901","v":0},{"$f":"+IF((Basisoplysninger!$D$60=\"Ja\")*(Anlægskartotek!C1901<>0)=1,Anlægskartotek!$L$14,Anlægskartotek!I1901)","v":0}]
[null,1891,{"$f":"Anlægskartotek!C1902","v":0},{"$f":"+IF((Basisoplysninger!$D$60=\"Ja\")*(Anlægskartotek!C1902<>0)=1,Anlægskartotek!$L$14,Anlægskartotek!I1902)","v":0}]
[null,1892,{"$f":"Anlægskartotek!C1903","v":0},{"$f":"+IF((Basisoplysninger!$D$60=\"Ja\")*(Anlægskartotek!C1903<>0)=1,Anlægskartotek!$L$14,Anlægskartotek!I1903)","v":0}]
[null,1893,{"$f":"Anlægskartotek!C1904","v":0},{"$f":"+IF((Basisoplysninger!$D$60=\"Ja\")*(Anlægskartotek!C1904<>0)=1,Anlægskartotek!$L$14,Anlægskartotek!I1904)","v":0}]
[null,1894,{"$f":"Anlægskartotek!C1905","v":0},{"$f":"+IF((Basisoplysninger!$D$60=\"Ja\")*(Anlægskartotek!C1905<>0)=1,Anlægskartotek!$L$14,Anlægskartotek!I1905)","v":0}]
[null,1895,{"$f":"Anlægskartotek!C1906","v":0},{"$f":"+IF((Basisoplysninger!$D$60=\"Ja\")*(Anlægskartotek!C1906<>0)=1,Anlægskartotek!$L$14,Anlægskartotek!I1906)","v":0}]
[null,1896,{"$f":"Anlægskartotek!C1907","v":0},{"$f":"+IF((Basisoplysninger!$D$60=\"Ja\")*(Anlægskartotek!C1907<>0)=1,Anlægskartotek!$L$14,Anlægskartotek!I1907)","v":0}]
[null,1897,{"$f":"Anlægskartotek!C1908","v":0},{"$f":"+IF((Basisoplysninger!$D$60=\"Ja\")*(Anlægskartotek!C1908<>0)=1,Anlægskartotek!$L$14,Anlægskartotek!I1908)","v":0}]
[null,1898,{"$f":"Anlægskartotek!C1909","v":0},{"$f":"+IF((Basisoplysninger!$D$60=\"Ja\")*(Anlægskartotek!C1909<>0)=1,Anlægskartotek!$L$14,Anlægskartotek!I1909)","v":0}]
[null,1899,{"$f":"Anlægskartotek!C1910","v":0},{"$f":"+IF((Basisoplysninger!$D$60=\"Ja\")*(Anlægskartotek!C1910<>0)=1,Anlægskartotek!$L$14,Anlægskartotek!I1910)","v":0}]
[null,1900,{"$f":"Anlægskartotek!C1911","v":0},{"$f":"+IF((Basisoplysninger!$D$60=\"Ja\")*(Anlægskartotek!C1911<>0)=1,Anlægskartotek!$L$14,Anlægskartotek!I1911)","v":0}]
[null,1901,{"$f":"Anlægskartotek!C1912","v":0},{"$f":"+IF((Basisoplysninger!$D$60=\"Ja\")*(Anlægskartotek!C1912<>0)=1,Anlægskartotek!$L$14,Anlægskartotek!I1912)","v":0}]
[null,1902,{"$f":"Anlægskartotek!C1913","v":0},{"$f":"+IF((Basisoplysninger!$D$60=\"Ja\")*(Anlægskartotek!C1913<>0)=1,Anlægskartotek!$L$14,Anlægskartotek!I1913)","v":0}]
[null,1903,{"$f":"Anlægskartotek!C1914","v":0},{"$f":"+IF((Basisoplysninger!$D$60=\"Ja\")*(Anlægskartotek!C1914<>0)=1,Anlægskartotek!$L$14,Anlægskartotek!I1914)","v":0}]
[null,1904,{"$f":"Anlægskartotek!C1915","v":0},{"$f":"+IF((Basisoplysninger!$D$60=\"Ja\")*(Anlægskartotek!C1915<>0)=1,Anlægskartotek!$L$14,Anlægskartotek!I1915)","v":0}]
[null,1905,{"$f":"Anlægskartotek!C1916","v":0},{"$f":"+IF((Basisoplysninger!$D$60=\"Ja\")*(Anlægskartotek!C1916<>0)=1,Anlægskartotek!$L$14,Anlægskartotek!I1916)","v":0}]
[null,1906,{"$f":"Anlægskartotek!C1917","v":0},{"$f":"+IF((Basisoplysninger!$D$60=\"Ja\")*(Anlægskartotek!C1917<>0)=1,Anlægskartotek!$L$14,Anlægskartotek!I1917)","v":0}]
[null,1907,{"$f":"Anlægskartotek!C1918","v":0},{"$f":"+IF((Basisoplysninger!$D$60=\"Ja\")*(Anlægskartotek!C1918<>0)=1,Anlægskartotek!$L$14,Anlægskartotek!I1918)","v":0}]
[null,1908,{"$f":"Anlægskartotek!C1919","v":0},{"$f":"+IF((Basisoplysninger!$D$60=\"Ja\")*(Anlægskartotek!C1919<>0)=1,Anlægskartotek!$L$14,Anlægskartotek!I1919)","v":0}]
[null,1909,{"$f":"Anlægskartotek!C1920","v":0},{"$f":"+IF((Basisoplysninger!$D$60=\"Ja\")*(Anlægskartotek!C1920<>0)=1,Anlægskartotek!$L$14,Anlægskartotek!I1920)","v":0}]
[null,1910,{"$f":"Anlægskartotek!C1921","v":0},{"$f":"+IF((Basisoplysninger!$D$60=\"Ja\")*(Anlægskartotek!C1921<>0)=1,Anlægskartotek!$L$14,Anlægskartotek!I1921)","v":0}]
[null,1911,{"$f":"Anlægskartotek!C1922","v":0},{"$f":"+IF((Basisoplysninger!$D$60=\"Ja\")*(Anlægskartotek!C1922<>0)=1,Anlægskartotek!$L$14,Anlægskartotek!I1922)","v":0}]
[null,1912,{"$f":"Anlægskartotek!C1923","v":0},{"$f":"+IF((Basisoplysninger!$D$60=\"Ja\")*(Anlægskartotek!C1923<>0)=1,Anlægskartotek!$L$14,Anlægskartotek!I1923)","v":0}]
[null,1913,{"$f":"Anlægskartotek!C1924","v":0},{"$f":"+IF((Basisoplysninger!$D$60=\"Ja\")*(Anlægskartotek!C1924<>0)=1,Anlægskartotek!$L$14,Anlægskartotek!I1924)","v":0}]
[null,1914,{"$f":"Anlægskartotek!C1925","v":0},{"$f":"+IF((Basisoplysninger!$D$60=\"Ja\")*(Anlægskartotek!C1925<>0)=1,Anlægskartotek!$L$14,Anlægskartotek!I1925)","v":0}]
[null,1915,{"$f":"Anlægskartotek!C1926","v":0},{"$f":"+IF((Basisoplysninger!$D$60=\"Ja\")*(Anlægskartotek!C1926<>0)=1,Anlægskartotek!$L$14,Anlægskartotek!I1926)","v":0}]
[null,1916,{"$f":"Anlægskartotek!C1927","v":0},{"$f":"+IF((Basisoplysninger!$D$60=\"Ja\")*(Anlægskartotek!C1927<>0)=1,Anlægskartotek!$L$14,Anlægskartotek!I1927)","v":0}]
[null,1917,{"$f":"Anlægskartotek!C1928","v":0},{"$f":"+IF((Basisoplysninger!$D$60=\"Ja\")*(Anlægskartotek!C1928<>0)=1,Anlægskartotek!$L$14,Anlægskartotek!I1928)","v":0}]
[null,1918,{"$f":"Anlægskartotek!C1929","v":0},{"$f":"+IF((Basisoplysninger!$D$60=\"Ja\")*(Anlægskartotek!C1929<>0)=1,Anlægskartotek!$L$14,Anlægskartotek!I1929)","v":0}]
[null,1919,{"$f":"Anlægskartotek!C1930","v":0},{"$f":"+IF((Basisoplysninger!$D$60=\"Ja\")*(Anlægskartotek!C1930<>0)=1,Anlægskartotek!$L$14,Anlægskartotek!I1930)","v":0}]
[null,1920,{"$f":"Anlægskartotek!C1931","v":0},{"$f":"+IF((Basisoplysninger!$D$60=\"Ja\")*(Anlægskartotek!C1931<>0)=1,Anlægskartotek!$L$14,Anlægskartotek!I1931)","v":0}]
[null,1921,{"$f":"Anlægskartotek!C1932","v":0},{"$f":"+IF((Basisoplysninger!$D$60=\"Ja\")*(Anlægskartotek!C1932<>0)=1,Anlægskartotek!$L$14,Anlægskartotek!I1932)","v":0}]
[null,1922,{"$f":"Anlægskartotek!C1933","v":0},{"$f":"+IF((Basisoplysninger!$D$60=\"Ja\")*(Anlægskartotek!C1933<>0)=1,Anlægskartotek!$L$14,Anlægskartotek!I1933)","v":0}]
[null,{"$f":"B2031+1","v":1923},{"$f":"Anlægskartotek!C1934","v":0},{"$f":"+IF((Basisoplysninger!$D$60=\"Ja\")*(Anlægskartotek!C1934<>0)=1,Anlægskartotek!$L$14,Anlægskartotek!I1934)","v":0}]
[null,1924,{"$f":"Anlægskartotek!C1935","v":0},{"$f":"+IF((Basisoplysninger!$D$60=\"Ja\")*(Anlægskartotek!C1935<>0)=1,Anlægskartotek!$L$14,Anlægskartotek!I1935)","v":0}]
[null,1925,{"$f":"Anlægskartotek!C1936","v":0},{"$f":"+IF((Basisoplysninger!$D$60=\"Ja\")*(Anlægskartotek!C1936<>0)=1,Anlægskartotek!$L$14,Anlægskartotek!I1936)","v":0}]
[null,1926,{"$f":"Anlægskartotek!C1937","v":0},{"$f":"+IF((Basisoplysninger!$D$60=\"Ja\")*(Anlægskartotek!C1937<>0)=1,Anlægskartotek!$L$14,Anlægskartotek!I1937)","v":0}]
[null,1927,{"$f":"Anlægskartotek!C1938","v":0},{"$f":"+IF((Basisoplysninger!$D$60=\"Ja\")*(Anlægskartotek!C1938<>0)=1,Anlægskartotek!$L$14,Anlægskartotek!I1938)","v":0}]
[null,1928,{"$f":"Anlægskartotek!C1939","v":0},{"$f":"+IF((Basisoplysninger!$D$60=\"Ja\")*(Anlægskartotek!C1939<>0)=1,Anlægskartotek!$L$14,Anlægskartotek!I1939)","v":0}]
[null,1929,{"$f":"Anlægskartotek!C1940","v":0},{"$f":"+IF((Basisoplysninger!$D$60=\"Ja\")*(Anlægskartotek!C1940<>0)=1,Anlægskartotek!$L$14,Anlægskartotek!I1940)","v":0}]
[null,1930,{"$f":"Anlægskartotek!C1941","v":0},{"$f":"+IF((Basisoplysninger!$D$60=\"Ja\")*(Anlægskartotek!C1941<>0)=1,Anlægskartotek!$L$14,Anlægskartotek!I1941)","v":0}]
[null,1931,{"$f":"Anlægskartotek!C1942","v":0},{"$f":"+IF((Basisoplysninger!$D$60=\"Ja\")*(Anlægskartotek!C1942<>0)=1,Anlægskartotek!$L$14,Anlægskartotek!I1942)","v":0}]
[null,1932,{"$f":"Anlægskartotek!C1943","v":0},{"$f":"+IF((Basisoplysninger!$D$60=\"Ja\")*(Anlægskartotek!C1943<>0)=1,Anlægskartotek!$L$14,Anlægskartotek!I1943)","v":0}]
[null,1933,{"$f":"Anlægskartotek!C1944","v":0},{"$f":"+IF((Basisoplysninger!$D$60=\"Ja\")*(Anlægskartotek!C1944<>0)=1,Anlægskartotek!$L$14,Anlægskartotek!I1944)","v":0}]
[null,1934,{"$f":"Anlægskartotek!C1945","v":0},{"$f":"+IF((Basisoplysninger!$D$60=\"Ja\")*(Anlægskartotek!C1945<>0)=1,Anlægskartotek!$L$14,Anlægskartotek!I1945)","v":0}]
[null,1935,{"$f":"Anlægskartotek!C1946","v":0},{"$f":"+IF((Basisoplysninger!$D$60=\"Ja\")*(Anlægskartotek!C1946<>0)=1,Anlægskartotek!$L$14,Anlægskartotek!I1946)","v":0}]
[null,1936,{"$f":"Anlægskartotek!C1947","v":0},{"$f":"+IF((Basisoplysninger!$D$60=\"Ja\")*(Anlægskartotek!C1947<>0)=1,Anlægskartotek!$L$14,Anlægskartotek!I1947)","v":0}]
[null,1937,{"$f":"Anlægskartotek!C1948","v":0},{"$f":"+IF((Basisoplysninger!$D$60=\"Ja\")*(Anlægskartotek!C1948<>0)=1,Anlægskartotek!$L$14,Anlægskartotek!I1948)","v":0}]
[null,1938,{"$f":"Anlægskartotek!C1949","v":0},{"$f":"+IF((Basisoplysninger!$D$60=\"Ja\")*(Anlægskartotek!C1949<>0)=1,Anlægskartotek!$L$14,Anlægskartotek!I1949)","v":0}]
[null,1939,{"$f":"Anlægskartotek!C1950","v":0},{"$f":"+IF((Basisoplysninger!$D$60=\"Ja\")*(Anlægskartotek!C1950<>0)=1,Anlægskartotek!$L$14,Anlægskartotek!I1950)","v":0}]
[null,1940,{"$f":"Anlægskartotek!C1951","v":0},{"$f":"+IF((Basisoplysninger!$D$60=\"Ja\")*(Anlægskartotek!C1951<>0)=1,Anlægskartotek!$L$14,Anlægskartotek!I1951)","v":0}]
[null,1941,{"$f":"Anlægskartotek!C1952","v":0},{"$f":"+IF((Basisoplysninger!$D$60=\"Ja\")*(Anlægskartotek!C1952<>0)=1,Anlægskartotek!$L$14,Anlægskartotek!I1952)","v":0}]
[null,1942,{"$f":"Anlægskartotek!C1953","v":0},{"$f":"+IF((Basisoplysninger!$D$60=\"Ja\")*(Anlægskartotek!C1953<>0)=1,Anlægskartotek!$L$14,Anlægskartotek!I1953)","v":0}]
[null,1943,{"$f":"Anlægskartotek!C1954","v":0},{"$f":"+IF((Basisoplysninger!$D$60=\"Ja\")*(Anlægskartotek!C1954<>0)=1,Anlægskartotek!$L$14,Anlægskartotek!I1954)","v":0}]
[null,1944,{"$f":"Anlægskartotek!C1955","v":0},{"$f":"+IF((Basisoplysninger!$D$60=\"Ja\")*(Anlægskartotek!C1955<>0)=1,Anlægskartotek!$L$14,Anlægskartotek!I1955)","v":0}]
[null,1945,{"$f":"Anlægskartotek!C1956","v":0},{"$f":"+IF((Basisoplysninger!$D$60=\"Ja\")*(Anlægskartotek!C1956<>0)=1,Anlægskartotek!$L$14,Anlægskartotek!I1956)","v":0}]
[null,1946,{"$f":"Anlægskartotek!C1957","v":0},{"$f":"+IF((Basisoplysninger!$D$60=\"Ja\")*(Anlægskartotek!C1957<>0)=1,Anlægskartotek!$L$14,Anlægskartotek!I1957)","v":0}]
[null,1947,{"$f":"Anlægskartotek!C1958","v":0},{"$f":"+IF((Basisoplysninger!$D$60=\"Ja\")*(Anlægskartotek!C1958<>0)=1,Anlægskartotek!$L$14,Anlægskartotek!I1958)","v":0}]
[null,1948,{"$f":"Anlægskartotek!C1959","v":0},{"$f":"+IF((Basisoplysninger!$D$60=\"Ja\")*(Anlægskartotek!C1959<>0)=1,Anlægskartotek!$L$14,Anlægskartotek!I1959)","v":0}]
[null,1949,{"$f":"Anlægskartotek!C1960","v":0},{"$f":"+IF((Basisoplysninger!$D$60=\"Ja\")*(Anlægskartotek!C1960<>0)=1,Anlægskartotek!$L$14,Anlægskartotek!I1960)","v":0}]
[null,1950,{"$f":"Anlægskartotek!C1961","v":0},{"$f":"+IF((Basisoplysninger!$D$60=\"Ja\")*(Anlægskartotek!C1961<>0)=1,Anlægskartotek!$L$14,Anlægskartotek!I1961)","v":0}]
[null,1951,{"$f":"Anlægskartotek!C1962","v":0},{"$f":"+IF((Basisoplysninger!$D$60=\"Ja\")*(Anlægskartotek!C1962<>0)=1,Anlægskartotek!$L$14,Anlægskartotek!I1962)","v":0}]
[null,1952,{"$f":"Anlægskartotek!C1963","v":0},{"$f":"+IF((Basisoplysninger!$D$60=\"Ja\")*(Anlægskartotek!C1963<>0)=1,Anlægskartotek!$L$14,Anlægskartotek!I1963)","v":0}]
[null,1953,{"$f":"Anlægskartotek!C1964","v":0},{"$f":"+IF((Basisoplysninger!$D$60=\"Ja\")*(Anlægskartotek!C1964<>0)=1,Anlægskartotek!$L$14,Anlægskartotek!I1964)","v":0}]
[null,1954,{"$f":"Anlægskartotek!C1965","v":0},{"$f":"+IF((Basisoplysninger!$D$60=\"Ja\")*(Anlægskartotek!C1965<>0)=1,Anlægskartotek!$L$14,Anlægskartotek!I1965)","v":0}]
[null,1955,{"$f":"Anlægskartotek!C1966","v":0},{"$f":"+IF((Basisoplysninger!$D$60=\"Ja\")*(Anlægskartotek!C1966<>0)=1,Anlægskartotek!$L$14,Anlægskartotek!I1966)","v":0}]
[null,1956,{"$f":"Anlægskartotek!C1967","v":0},{"$f":"+IF((Basisoplysninger!$D$60=\"Ja\")*(Anlægskartotek!C1967<>0)=1,Anlægskartotek!$L$14,Anlægskartotek!I1967)","v":0}]
[null,1957,{"$f":"Anlægskartotek!C1968","v":0},{"$f":"+IF((Basisoplysninger!$D$60=\"Ja\")*(Anlægskartotek!C1968<>0)=1,Anlægskartotek!$L$14,Anlægskartotek!I1968)","v":0}]
[null,1958,{"$f":"Anlægskartotek!C1969","v":0},{"$f":"+IF((Basisoplysninger!$D$60=\"Ja\")*(Anlægskartotek!C1969<>0)=1,Anlægskartotek!$L$14,Anlægskartotek!I1969)","v":0}]
[null,1959,{"$f":"Anlægskartotek!C1970","v":0},{"$f":"+IF((Basisoplysninger!$D$60=\"Ja\")*(Anlægskartotek!C1970<>0)=1,Anlægskartotek!$L$14,Anlægskartotek!I1970)","v":0}]
[null,1960,{"$f":"Anlægskartotek!C1971","v":0},{"$f":"+IF((Basisoplysninger!$D$60=\"Ja\")*(Anlægskartotek!C1971<>0)=1,Anlægskartotek!$L$14,Anlægskartotek!I1971)","v":0}]
[null,1961,{"$f":"Anlægskartotek!C1972","v":0},{"$f":"+IF((Basisoplysninger!$D$60=\"Ja\")*(Anlægskartotek!C1972<>0)=1,Anlægskartotek!$L$14,Anlægskartotek!I1972)","v":0}]
[null,1962,{"$f":"Anlægskartotek!C1973","v":0},{"$f":"+IF((Basisoplysninger!$D$60=\"Ja\")*(Anlægskartotek!C1973<>0)=1,Anlægskartotek!$L$14,Anlægskartotek!I1973)","v":0}]
[null,1963,{"$f":"Anlægskartotek!C1974","v":0},{"$f":"+IF((Basisoplysninger!$D$60=\"Ja\")*(Anlægskartotek!C1974<>0)=1,Anlægskartotek!$L$14,Anlægskartotek!I1974)","v":0}]
[null,1964,{"$f":"Anlægskartotek!C1975","v":0},{"$f":"+IF((Basisoplysninger!$D$60=\"Ja\")*(Anlægskartotek!C1975<>0)=1,Anlægskartotek!$L$14,Anlægskartotek!I1975)","v":0}]
[null,1965,{"$f":"Anlægskartotek!C1976","v":0},{"$f":"+IF((Basisoplysninger!$D$60=\"Ja\")*(Anlægskartotek!C1976<>0)=1,Anlægskartotek!$L$14,Anlægskartotek!I1976)","v":0}]
[null,1966,{"$f":"Anlægskartotek!C1977","v":0},{"$f":"+IF((Basisoplysninger!$D$60=\"Ja\")*(Anlægskartotek!C1977<>0)=1,Anlægskartotek!$L$14,Anlægskartotek!I1977)","v":0}]
[null,1967,{"$f":"Anlægskartotek!C1978","v":0},{"$f":"+IF((Basisoplysninger!$D$60=\"Ja\")*(Anlægskartotek!C1978<>0)=1,Anlægskartotek!$L$14,Anlægskartotek!I1978)","v":0}]
[null,1968,{"$f":"Anlægskartotek!C1979","v":0},{"$f":"+IF((Basisoplysninger!$D$60=\"Ja\")*(Anlægskartotek!C1979<>0)=1,Anlægskartotek!$L$14,Anlægskartotek!I1979)","v":0}]
[null,1969,{"$f":"Anlægskartotek!C1980","v":0},{"$f":"+IF((Basisoplysninger!$D$60=\"Ja\")*(Anlægskartotek!C1980<>0)=1,Anlægskartotek!$L$14,Anlægskartotek!I1980)","v":0}]
[null,1970,{"$f":"Anlægskartotek!C1981","v":0},{"$f":"+IF((Basisoplysninger!$D$60=\"Ja\")*(Anlægskartotek!C1981<>0)=1,Anlægskartotek!$L$14,Anlægskartotek!I1981)","v":0}]
[null,1971,{"$f":"Anlægskartotek!C1982","v":0},{"$f":"+IF((Basisoplysninger!$D$60=\"Ja\")*(Anlægskartotek!C1982<>0)=1,Anlægskartotek!$L$14,Anlægskartotek!I1982)","v":0}]
[null,1972,{"$f":"Anlægskartotek!C1983","v":0},{"$f":"+IF((Basisoplysninger!$D$60=\"Ja\")*(Anlægskartotek!C1983<>0)=1,Anlægskartotek!$L$14,Anlægskartotek!I1983)","v":0}]
[null,1973,{"$f":"Anlægskartotek!C1984","v":0},{"$f":"+IF((Basisoplysninger!$D$60=\"Ja\")*(Anlægskartotek!C1984<>0)=1,Anlægskartotek!$L$14,Anlægskartotek!I1984)","v":0}]
[null,1974,{"$f":"Anlægskartotek!C1985","v":0},{"$f":"+IF((Basisoplysninger!$D$60=\"Ja\")*(Anlægskartotek!C1985<>0)=1,Anlægskartotek!$L$14,Anlægskartotek!I1985)","v":0}]
[null,1975,{"$f":"Anlægskartotek!C1986","v":0},{"$f":"+IF((Basisoplysninger!$D$60=\"Ja\")*(Anlægskartotek!C1986<>0)=1,Anlægskartotek!$L$14,Anlægskartotek!I1986)","v":0}]
[null,1976,{"$f":"Anlægskartotek!C1987","v":0},{"$f":"+IF((Basisoplysninger!$D$60=\"Ja\")*(Anlægskartotek!C1987<>0)=1,Anlægskartotek!$L$14,Anlægskartotek!I1987)","v":0}]
[null,1977,{"$f":"Anlægskartotek!C1988","v":0},{"$f":"+IF((Basisoplysninger!$D$60=\"Ja\")*(Anlægskartotek!C1988<>0)=1,Anlægskartotek!$L$14,Anlægskartotek!I1988)","v":0}]
[null,1978,{"$f":"Anlægskartotek!C1989","v":0},{"$f":"+IF((Basisoplysninger!$D$60=\"Ja\")*(Anlægskartotek!C1989<>0)=1,Anlægskartotek!$L$14,Anlægskartotek!I1989)","v":0}]
[null,1979,{"$f":"Anlægskartotek!C1990","v":0},{"$f":"+IF((Basisoplysninger!$D$60=\"Ja\")*(Anlægskartotek!C1990<>0)=1,Anlægskartotek!$L$14,Anlægskartotek!I1990)","v":0}]
[null,1980,{"$f":"Anlægskartotek!C1991","v":0},{"$f":"+IF((Basisoplysninger!$D$60=\"Ja\")*(Anlægskartotek!C1991<>0)=1,Anlægskartotek!$L$14,Anlægskartotek!I1991)","v":0}]
[null,1981,{"$f":"Anlægskartotek!C1992","v":0},{"$f":"+IF((Basisoplysninger!$D$60=\"Ja\")*(Anlægskartotek!C1992<>0)=1,Anlægskartotek!$L$14,Anlægskartotek!I1992)","v":0}]
[null,1982,{"$f":"Anlægskartotek!C1993","v":0},{"$f":"+IF((Basisoplysninger!$D$60=\"Ja\")*(Anlægskartotek!C1993<>0)=1,Anlægskartotek!$L$14,Anlægskartotek!I1993)","v":0}]
[null,1983,{"$f":"Anlægskartotek!C1994","v":0},{"$f":"+IF((Basisoplysninger!$D$60=\"Ja\")*(Anlægskartotek!C1994<>0)=1,Anlægskartotek!$L$14,Anlægskartotek!I1994)","v":0}]
[null,1984,{"$f":"Anlægskartotek!C1995","v":0},{"$f":"+IF((Basisoplysninger!$D$60=\"Ja\")*(Anlægskartotek!C1995<>0)=1,Anlægskartotek!$L$14,Anlægskartotek!I1995)","v":0}]
[null,1985,{"$f":"Anlægskartotek!C1996","v":0},{"$f":"+IF((Basisoplysninger!$D$60=\"Ja\")*(Anlægskartotek!C1996<>0)=1,Anlægskartotek!$L$14,Anlægskartotek!I1996)","v":0}]
[null,1986,{"$f":"Anlægskartotek!C1997","v":0},{"$f":"+IF((Basisoplysninger!$D$60=\"Ja\")*(Anlægskartotek!C1997<>0)=1,Anlægskartotek!$L$14,Anlægskartotek!I1997)","v":0}]
[null,{"$f":"B2095+1","v":1987},{"$f":"Anlægskartotek!C1998","v":0},{"$f":"+IF((Basisoplysninger!$D$60=\"Ja\")*(Anlægskartotek!C1998<>0)=1,Anlægskartotek!$L$14,Anlægskartotek!I1998)","v":0}]
[null,1988,{"$f":"Anlægskartotek!C1999","v":0},{"$f":"+IF((Basisoplysninger!$D$60=\"Ja\")*(Anlægskartotek!C1999<>0)=1,Anlægskartotek!$L$14,Anlægskartotek!I1999)","v":0}]
[null,1989,{"$f":"Anlægskartotek!C2000","v":0},{"$f":"+IF((Basisoplysninger!$D$60=\"Ja\")*(Anlægskartotek!C2000<>0)=1,Anlægskartotek!$L$14,Anlægskartotek!I2000)","v":0}]
[null,1990,{"$f":"Anlægskartotek!C2001","v":0},{"$f":"+IF((Basisoplysninger!$D$60=\"Ja\")*(Anlægskartotek!C2001<>0)=1,Anlægskartotek!$L$14,Anlægskartotek!I2001)","v":0}]
[null,1991,{"$f":"Anlægskartotek!C2002","v":0},{"$f":"+IF((Basisoplysninger!$D$60=\"Ja\")*(Anlægskartotek!C2002<>0)=1,Anlægskartotek!$L$14,Anlægskartotek!I2002)","v":0}]
[null,1992,{"$f":"Anlægskartotek!C2003","v":0},{"$f":"+IF((Basisoplysninger!$D$60=\"Ja\")*(Anlægskartotek!C2003<>0)=1,Anlægskartotek!$L$14,Anlægskartotek!I2003)","v":0}]
[null,1993,{"$f":"Anlægskartotek!C2004","v":0},{"$f":"+IF((Basisoplysninger!$D$60=\"Ja\")*(Anlægskartotek!C2004<>0)=1,Anlægskartotek!$L$14,Anlægskartotek!I2004)","v":0}]
[null,1994,{"$f":"Anlægskartotek!C2005","v":0},{"$f":"+IF((Basisoplysninger!$D$60=\"Ja\")*(Anlægskartotek!C2005<>0)=1,Anlægskartotek!$L$14,Anlægskartotek!I2005)","v":0}]
[null,1995,{"$f":"Anlægskartotek!C2006","v":0},{"$f":"+IF((Basisoplysninger!$D$60=\"Ja\")*(Anlægskartotek!C2006<>0)=1,Anlægskartotek!$L$14,Anlægskartotek!I2006)","v":0}]
[null,1996,{"$f":"Anlægskartotek!C2007","v":0},{"$f":"+IF((Basisoplysninger!$D$60=\"Ja\")*(Anlægskartotek!C2007<>0)=1,Anlægskartotek!$L$14,Anlægskartotek!I2007)","v":0}]
[null,1997,{"$f":"Anlægskartotek!C2008","v":0},{"$f":"+IF((Basisoplysninger!$D$60=\"Ja\")*(Anlægskartotek!C2008<>0)=1,Anlægskartotek!$L$14,Anlægskartotek!I2008)","v":0}]
[null,1998,{"$f":"Anlægskartotek!C2009","v":0},{"$f":"+IF((Basisoplysninger!$D$60=\"Ja\")*(Anlægskartotek!C2009<>0)=1,Anlægskartotek!$L$14,Anlægskartotek!I2009)","v":0}]
[null,1999,{"$f":"Anlægskartotek!C2010","v":0},{"$f":"+IF((Basisoplysninger!$D$60=\"Ja\")*(Anlægskartotek!C2010<>0)=1,Anlægskartotek!$L$14,Anlægskartotek!I2010)","v":0}]
[null,2000,{"$f":"Anlægskartotek!C2011","v":0},{"$f":"+IF((Basisoplysninger!$D$60=\"Ja\")*(Anlægskartotek!C2011<>0)=1,Anlægskartotek!$L$14,Anlægskartotek!I2011)","v":0}]
[null,2001,{"$f":"Anlægskartotek!C2012","v":0},{"$f":"+IF((Basisoplysninger!$D$60=\"Ja\")*(Anlægskartotek!C2012<>0)=1,Anlægskartotek!$L$14,Anlægskartotek!I2012)","v":0}]
[null,2002,{"$f":"Anlægskartotek!C2013","v":0},{"$f":"+IF((Basisoplysninger!$D$60=\"Ja\")*(Anlægskartotek!C2013<>0)=1,Anlægskartotek!$L$14,Anlægskartotek!I2013)","v":0}]
[null,2003,{"$f":"Anlægskartotek!C2014","v":0},{"$f":"+IF((Basisoplysninger!$D$60=\"Ja\")*(Anlægskartotek!C2014<>0)=1,Anlægskartotek!$L$14,Anlægskartotek!I2014)","v":0}]
[null,2004,{"$f":"Anlægskartotek!C2015","v":0},{"$f":"+IF((Basisoplysninger!$D$60=\"Ja\")*(Anlægskartotek!C2015<>0)=1,Anlægskartotek!$L$14,Anlægskartotek!I2015)","v":0}]
[null,2005,{"$f":"Anlægskartotek!C2016","v":0},{"$f":"+IF((Basisoplysninger!$D$60=\"Ja\")*(Anlægskartotek!C2016<>0)=1,Anlægskartotek!$L$14,Anlægskartotek!I2016)","v":0}]
[null,2006,{"$f":"Anlægskartotek!C2017","v":0},{"$f":"+IF((Basisoplysninger!$D$60=\"Ja\")*(Anlægskartotek!C2017<>0)=1,Anlægskartotek!$L$14,Anlægskartotek!I2017)","v":0}]
[null,2007,{"$f":"Anlægskartotek!C2018","v":0},{"$f":"+IF((Basisoplysninger!$D$60=\"Ja\")*(Anlægskartotek!C2018<>0)=1,Anlægskartotek!$L$14,Anlægskartotek!I2018)","v":0}]
[null,2008,{"$f":"Anlægskartotek!C2019","v":0},{"$f":"+IF((Basisoplysninger!$D$60=\"Ja\")*(Anlægskartotek!C2019<>0)=1,Anlægskartotek!$L$14,Anlægskartotek!I2019)","v":0}]
[null,2009,{"$f":"Anlægskartotek!C2020","v":0},{"$f":"+IF((Basisoplysninger!$D$60=\"Ja\")*(Anlægskartotek!C2020<>0)=1,Anlægskartotek!$L$14,Anlægskartotek!I2020)","v":0}]
[null,2010,{"$f":"Anlægskartotek!C2021","v":0},{"$f":"+IF((Basisoplysninger!$D$60=\"Ja\")*(Anlægskartotek!C2021<>0)=1,Anlægskartotek!$L$14,Anlægskartotek!I2021)","v":0}]
[null,2011,{"$f":"Anlægskartotek!C2022","v":0},{"$f":"+IF((Basisoplysninger!$D$60=\"Ja\")*(Anlægskartotek!C2022<>0)=1,Anlægskartotek!$L$14,Anlægskartotek!I2022)","v":0}]
[null,2012,{"$f":"Anlægskartotek!C2023","v":0},{"$f":"+IF((Basisoplysninger!$D$60=\"Ja\")*(Anlægskartotek!C2023<>0)=1,Anlægskartotek!$L$14,Anlægskartotek!I2023)","v":0}]
[null,2013,{"$f":"Anlægskartotek!C2024","v":0},{"$f":"+IF((Basisoplysninger!$D$60=\"Ja\")*(Anlægskartotek!C2024<>0)=1,Anlægskartotek!$L$14,Anlægskartotek!I2024)","v":0}]
[null,2014,{"$f":"Anlægskartotek!C2025","v":0},{"$f":"+IF((Basisoplysninger!$D$60=\"Ja\")*(Anlægskartotek!C2025<>0)=1,Anlægskartotek!$L$14,Anlægskartotek!I2025)","v":0}]
[null,2015,{"$f":"Anlægskartotek!C2026","v":0},{"$f":"+IF((Basisoplysninger!$D$60=\"Ja\")*(Anlægskartotek!C2026<>0)=1,Anlægskartotek!$L$14,Anlægskartotek!I2026)","v":0}]
[null,2016,{"$f":"Anlægskartotek!C2027","v":0},{"$f":"+IF((Basisoplysninger!$D$60=\"Ja\")*(Anlægskartotek!C2027<>0)=1,Anlægskartotek!$L$14,Anlægskartotek!I2027)","v":0}]
[null,2017,{"$f":"Anlægskartotek!C2028","v":0},{"$f":"+IF((Basisoplysninger!$D$60=\"Ja\")*(Anlægskartotek!C2028<>0)=1,Anlægskartotek!$L$14,Anlægskartotek!I2028)","v":0}]
[null,2018,{"$f":"Anlægskartotek!C2029","v":0},{"$f":"+IF((Basisoplysninger!$D$60=\"Ja\")*(Anlægskartotek!C2029<>0)=1,Anlægskartotek!$L$14,Anlægskartotek!I2029)","v":0}]
[null,2019,{"$f":"Anlægskartotek!C2030","v":0},{"$f":"+IF((Basisoplysninger!$D$60=\"Ja\")*(Anlægskartotek!C2030<>0)=1,Anlægskartotek!$L$14,Anlægskartotek!I2030)","v":0}]
[null,2020,{"$f":"Anlægskartotek!C2031","v":0},{"$f":"+IF((Basisoplysninger!$D$60=\"Ja\")*(Anlægskartotek!C2031<>0)=1,Anlægskartotek!$L$14,Anlægskartotek!I2031)","v":0}]
[null,2021,{"$f":"Anlægskartotek!C2032","v":0},{"$f":"+IF((Basisoplysninger!$D$60=\"Ja\")*(Anlægskartotek!C2032<>0)=1,Anlægskartotek!$L$14,Anlægskartotek!I2032)","v":0}]
[null,2022,{"$f":"Anlægskartotek!C2033","v":0},{"$f":"+IF((Basisoplysninger!$D$60=\"Ja\")*(Anlægskartotek!C2033<>0)=1,Anlægskartotek!$L$14,Anlægskartotek!I2033)","v":0}]
[null,2023,{"$f":"Anlægskartotek!C2034","v":0},{"$f":"+IF((Basisoplysninger!$D$60=\"Ja\")*(Anlægskartotek!C2034<>0)=1,Anlægskartotek!$L$14,Anlægskartotek!I2034)","v":0}]
[null,2024,{"$f":"Anlægskartotek!C2035","v":0},{"$f":"+IF((Basisoplysninger!$D$60=\"Ja\")*(Anlægskartotek!C2035<>0)=1,Anlægskartotek!$L$14,Anlægskartotek!I2035)","v":0}]
[null,2025,{"$f":"Anlægskartotek!C2036","v":0},{"$f":"+IF((Basisoplysninger!$D$60=\"Ja\")*(Anlægskartotek!C2036<>0)=1,Anlægskartotek!$L$14,Anlægskartotek!I2036)","v":0}]
[null,2026,{"$f":"Anlægskartotek!C2037","v":0},{"$f":"+IF((Basisoplysninger!$D$60=\"Ja\")*(Anlægskartotek!C2037<>0)=1,Anlægskartotek!$L$14,Anlægskartotek!I2037)","v":0}]
[null,2027,{"$f":"Anlægskartotek!C2038","v":0},{"$f":"+IF((Basisoplysninger!$D$60=\"Ja\")*(Anlægskartotek!C2038<>0)=1,Anlægskartotek!$L$14,Anlægskartotek!I2038)","v":0}]
[null,2028,{"$f":"Anlægskartotek!C2039","v":0},{"$f":"+IF((Basisoplysninger!$D$60=\"Ja\")*(Anlægskartotek!C2039<>0)=1,Anlægskartotek!$L$14,Anlægskartotek!I2039)","v":0}]
[null,2029,{"$f":"Anlægskartotek!C2040","v":0},{"$f":"+IF((Basisoplysninger!$D$60=\"Ja\")*(Anlægskartotek!C2040<>0)=1,Anlægskartotek!$L$14,Anlægskartotek!I2040)","v":0}]
[null,2030,{"$f":"Anlægskartotek!C2041","v":0},{"$f":"+IF((Basisoplysninger!$D$60=\"Ja\")*(Anlægskartotek!C2041<>0)=1,Anlægskartotek!$L$14,Anlægskartotek!I2041)","v":0}]
[null,2031,{"$f":"Anlægskartotek!C2042","v":0},{"$f":"+IF((Basisoplysninger!$D$60=\"Ja\")*(Anlægskartotek!C2042<>0)=1,Anlægskartotek!$L$14,Anlægskartotek!I2042)","v":0}]
[null,2032,{"$f":"Anlægskartotek!C2043","v":0},{"$f":"+IF((Basisoplysninger!$D$60=\"Ja\")*(Anlægskartotek!C2043<>0)=1,Anlægskartotek!$L$14,Anlægskartotek!I2043)","v":0}]
[null,2033,{"$f":"Anlægskartotek!C2044","v":0},{"$f":"+IF((Basisoplysninger!$D$60=\"Ja\")*(Anlægskartotek!C2044<>0)=1,Anlægskartotek!$L$14,Anlægskartotek!I2044)","v":0}]
[null,2034,{"$f":"Anlægskartotek!C2045","v":0},{"$f":"+IF((Basisoplysninger!$D$60=\"Ja\")*(Anlægskartotek!C2045<>0)=1,Anlægskartotek!$L$14,Anlægskartotek!I2045)","v":0}]
[null,2035,{"$f":"Anlægskartotek!C2046","v":0},{"$f":"+IF((Basisoplysninger!$D$60=\"Ja\")*(Anlægskartotek!C2046<>0)=1,Anlægskartotek!$L$14,Anlægskartotek!I2046)","v":0}]
[null,2036,{"$f":"Anlægskartotek!C2047","v":0},{"$f":"+IF((Basisoplysninger!$D$60=\"Ja\")*(Anlægskartotek!C2047<>0)=1,Anlægskartotek!$L$14,Anlægskartotek!I2047)","v":0}]
[null,2037,{"$f":"Anlægskartotek!C2048","v":0},{"$f":"+IF((Basisoplysninger!$D$60=\"Ja\")*(Anlægskartotek!C2048<>0)=1,Anlægskartotek!$L$14,Anlægskartotek!I2048)","v":0}]
[null,2038,{"$f":"Anlægskartotek!C2049","v":0},{"$f":"+IF((Basisoplysninger!$D$60=\"Ja\")*(Anlægskartotek!C2049<>0)=1,Anlægskartotek!$L$14,Anlægskartotek!I2049)","v":0}]
[null,2039,{"$f":"Anlægskartotek!C2050","v":0},{"$f":"+IF((Basisoplysninger!$D$60=\"Ja\")*(Anlægskartotek!C2050<>0)=1,Anlægskartotek!$L$14,Anlægskartotek!I2050)","v":0}]
[null,2040,{"$f":"Anlægskartotek!C2051","v":0},{"$f":"+IF((Basisoplysninger!$D$60=\"Ja\")*(Anlægskartotek!C2051<>0)=1,Anlægskartotek!$L$14,Anlægskartotek!I2051)","v":0}]
[null,2041,{"$f":"Anlægskartotek!C2052","v":0},{"$f":"+IF((Basisoplysninger!$D$60=\"Ja\")*(Anlægskartotek!C2052<>0)=1,Anlægskartotek!$L$14,Anlægskartotek!I2052)","v":0}]
[null,2042,{"$f":"Anlægskartotek!C2053","v":0},{"$f":"+IF((Basisoplysninger!$D$60=\"Ja\")*(Anlægskartotek!C2053<>0)=1,Anlægskartotek!$L$14,Anlægskartotek!I2053)","v":0}]
[null,2043,{"$f":"Anlægskartotek!C2054","v":0},{"$f":"+IF((Basisoplysninger!$D$60=\"Ja\")*(Anlægskartotek!C2054<>0)=1,Anlægskartotek!$L$14,Anlægskartotek!I2054)","v":0}]
[null,2044,{"$f":"Anlægskartotek!C2055","v":0},{"$f":"+IF((Basisoplysninger!$D$60=\"Ja\")*(Anlægskartotek!C2055<>0)=1,Anlægskartotek!$L$14,Anlægskartotek!I2055)","v":0}]
[null,2045,{"$f":"Anlægskartotek!C2056","v":0},{"$f":"+IF((Basisoplysninger!$D$60=\"Ja\")*(Anlægskartotek!C2056<>0)=1,Anlægskartotek!$L$14,Anlægskartotek!I2056)","v":0}]
[null,2046,{"$f":"Anlægskartotek!C2057","v":0},{"$f":"+IF((Basisoplysninger!$D$60=\"Ja\")*(Anlægskartotek!C2057<>0)=1,Anlægskartotek!$L$14,Anlægskartotek!I2057)","v":0}]
[null,2047,{"$f":"Anlægskartotek!C2058","v":0},{"$f":"+IF((Basisoplysninger!$D$60=\"Ja\")*(Anlægskartotek!C2058<>0)=1,Anlægskartotek!$L$14,Anlægskartotek!I2058)","v":0}]
[null,2048,{"$f":"Anlægskartotek!C2059","v":0},{"$f":"+IF((Basisoplysninger!$D$60=\"Ja\")*(Anlægskartotek!C2059<>0)=1,Anlægskartotek!$L$14,Anlægskartotek!I2059)","v":0}]
[null,2049,{"$f":"Anlægskartotek!C2060","v":0},{"$f":"+IF((Basisoplysninger!$D$60=\"Ja\")*(Anlægskartotek!C2060<>0)=1,Anlægskartotek!$L$14,Anlægskartotek!I2060)","v":0}]
[null,2050,{"$f":"Anlægskartotek!C2061","v":0},{"$f":"+IF((Basisoplysninger!$D$60=\"Ja\")*(Anlægskartotek!C2061<>0)=1,Anlægskartotek!$L$14,Anlægskartotek!I2061)","v":0}]
[null,{"$f":"B2159+1","v":2051},{"$f":"Anlægskartotek!C2062","v":0},{"$f":"+IF((Basisoplysninger!$D$60=\"Ja\")*(Anlægskartotek!C2062<>0)=1,Anlægskartotek!$L$14,Anlægskartotek!I2062)","v":0}]
[null,2052,{"$f":"Anlægskartotek!C2063","v":0},{"$f":"+IF((Basisoplysninger!$D$60=\"Ja\")*(Anlægskartotek!C2063<>0)=1,Anlægskartotek!$L$14,Anlægskartotek!I2063)","v":0}]
[null,2053,{"$f":"Anlægskartotek!C2064","v":0},{"$f":"+IF((Basisoplysninger!$D$60=\"Ja\")*(Anlægskartotek!C2064<>0)=1,Anlægskartotek!$L$14,Anlægskartotek!I2064)","v":0}]
[null,2054,{"$f":"Anlægskartotek!C2065","v":0},{"$f":"+IF((Basisoplysninger!$D$60=\"Ja\")*(Anlægskartotek!C2065<>0)=1,Anlægskartotek!$L$14,Anlægskartotek!I2065)","v":0}]
[null,2055,{"$f":"Anlægskartotek!C2066","v":0},{"$f":"+IF((Basisoplysninger!$D$60=\"Ja\")*(Anlægskartotek!C2066<>0)=1,Anlægskartotek!$L$14,Anlægskartotek!I2066)","v":0}]
[null,2056,{"$f":"Anlægskartotek!C2067","v":0},{"$f":"+IF((Basisoplysninger!$D$60=\"Ja\")*(Anlægskartotek!C2067<>0)=1,Anlægskartotek!$L$14,Anlægskartotek!I2067)","v":0}]
[null,2057,{"$f":"Anlægskartotek!C2068","v":0},{"$f":"+IF((Basisoplysninger!$D$60=\"Ja\")*(Anlægskartotek!C2068<>0)=1,Anlægskartotek!$L$14,Anlægskartotek!I2068)","v":0}]
[null,2058,{"$f":"Anlægskartotek!C2069","v":0},{"$f":"+IF((Basisoplysninger!$D$60=\"Ja\")*(Anlægskartotek!C2069<>0)=1,Anlægskartotek!$L$14,Anlægskartotek!I2069)","v":0}]
[null,2059,{"$f":"Anlægskartotek!C2070","v":0},{"$f":"+IF((Basisoplysninger!$D$60=\"Ja\")*(Anlægskartotek!C2070<>0)=1,Anlægskartotek!$L$14,Anlægskartotek!I2070)","v":0}]
[null,2060,{"$f":"Anlægskartotek!C2071","v":0},{"$f":"+IF((Basisoplysninger!$D$60=\"Ja\")*(Anlægskartotek!C2071<>0)=1,Anlægskartotek!$L$14,Anlægskartotek!I2071)","v":0}]
[null,2061,{"$f":"Anlægskartotek!C2072","v":0},{"$f":"+IF((Basisoplysninger!$D$60=\"Ja\")*(Anlægskartotek!C2072<>0)=1,Anlægskartotek!$L$14,Anlægskartotek!I2072)","v":0}]
[null,2062,{"$f":"Anlægskartotek!C2073","v":0},{"$f":"+IF((Basisoplysninger!$D$60=\"Ja\")*(Anlægskartotek!C2073<>0)=1,Anlægskartotek!$L$14,Anlægskartotek!I2073)","v":0}]
[null,2063,{"$f":"Anlægskartotek!C2074","v":0},{"$f":"+IF((Basisoplysninger!$D$60=\"Ja\")*(Anlægskartotek!C2074<>0)=1,Anlægskartotek!$L$14,Anlægskartotek!I2074)","v":0}]
[null,2064,{"$f":"Anlægskartotek!C2075","v":0},{"$f":"+IF((Basisoplysninger!$D$60=\"Ja\")*(Anlægskartotek!C2075<>0)=1,Anlægskartotek!$L$14,Anlægskartotek!I2075)","v":0}]
[null,2065,{"$f":"Anlægskartotek!C2076","v":0},{"$f":"+IF((Basisoplysninger!$D$60=\"Ja\")*(Anlægskartotek!C2076<>0)=1,Anlægskartotek!$L$14,Anlægskartotek!I2076)","v":0}]
[null,2066,{"$f":"Anlægskartotek!C2077","v":0},{"$f":"+IF((Basisoplysninger!$D$60=\"Ja\")*(Anlægskartotek!C2077<>0)=1,Anlægskartotek!$L$14,Anlægskartotek!I2077)","v":0}]
[null,2067,{"$f":"Anlægskartotek!C2078","v":0},{"$f":"+IF((Basisoplysninger!$D$60=\"Ja\")*(Anlægskartotek!C2078<>0)=1,Anlægskartotek!$L$14,Anlægskartotek!I2078)","v":0}]
[null,2068,{"$f":"Anlægskartotek!C2079","v":0},{"$f":"+IF((Basisoplysninger!$D$60=\"Ja\")*(Anlægskartotek!C2079<>0)=1,Anlægskartotek!$L$14,Anlægskartotek!I2079)","v":0}]
[null,2069,{"$f":"Anlægskartotek!C2080","v":0},{"$f":"+IF((Basisoplysninger!$D$60=\"Ja\")*(Anlægskartotek!C2080<>0)=1,Anlægskartotek!$L$14,Anlægskartotek!I2080)","v":0}]
[null,2070,{"$f":"Anlægskartotek!C2081","v":0},{"$f":"+IF((Basisoplysninger!$D$60=\"Ja\")*(Anlægskartotek!C2081<>0)=1,Anlægskartotek!$L$14,Anlægskartotek!I2081)","v":0}]
[null,2071,{"$f":"Anlægskartotek!C2082","v":0},{"$f":"+IF((Basisoplysninger!$D$60=\"Ja\")*(Anlægskartotek!C2082<>0)=1,Anlægskartotek!$L$14,Anlægskartotek!I2082)","v":0}]
[null,2072,{"$f":"Anlægskartotek!C2083","v":0},{"$f":"+IF((Basisoplysninger!$D$60=\"Ja\")*(Anlægskartotek!C2083<>0)=1,Anlægskartotek!$L$14,Anlægskartotek!I2083)","v":0}]
[null,2073,{"$f":"Anlægskartotek!C2084","v":0},{"$f":"+IF((Basisoplysninger!$D$60=\"Ja\")*(Anlægskartotek!C2084<>0)=1,Anlægskartotek!$L$14,Anlægskartotek!I2084)","v":0}]
[null,2074,{"$f":"Anlægskartotek!C2085","v":0},{"$f":"+IF((Basisoplysninger!$D$60=\"Ja\")*(Anlægskartotek!C2085<>0)=1,Anlægskartotek!$L$14,Anlægskartotek!I2085)","v":0}]
[null,2075,{"$f":"Anlægskartotek!C2086","v":0},{"$f":"+IF((Basisoplysninger!$D$60=\"Ja\")*(Anlægskartotek!C2086<>0)=1,Anlægskartotek!$L$14,Anlægskartotek!I2086)","v":0}]
[null,2076,{"$f":"Anlægskartotek!C2087","v":0},{"$f":"+IF((Basisoplysninger!$D$60=\"Ja\")*(Anlægskartotek!C2087<>0)=1,Anlægskartotek!$L$14,Anlægskartotek!I2087)","v":0}]
[null,2077,{"$f":"Anlægskartotek!C2088","v":0},{"$f":"+IF((Basisoplysninger!$D$60=\"Ja\")*(Anlægskartotek!C2088<>0)=1,Anlægskartotek!$L$14,Anlægskartotek!I2088)","v":0}]
[null,2078,{"$f":"Anlægskartotek!C2089","v":0},{"$f":"+IF((Basisoplysninger!$D$60=\"Ja\")*(Anlægskartotek!C2089<>0)=1,Anlægskartotek!$L$14,Anlægskartotek!I2089)","v":0}]
[null,2079,{"$f":"Anlægskartotek!C2090","v":0},{"$f":"+IF((Basisoplysninger!$D$60=\"Ja\")*(Anlægskartotek!C2090<>0)=1,Anlægskartotek!$L$14,Anlægskartotek!I2090)","v":0}]
[null,2080,{"$f":"Anlægskartotek!C2091","v":0},{"$f":"+IF((Basisoplysninger!$D$60=\"Ja\")*(Anlægskartotek!C2091<>0)=1,Anlægskartotek!$L$14,Anlægskartotek!I2091)","v":0}]
[null,2081,{"$f":"Anlægskartotek!C2092","v":0},{"$f":"+IF((Basisoplysninger!$D$60=\"Ja\")*(Anlægskartotek!C2092<>0)=1,Anlægskartotek!$L$14,Anlægskartotek!I2092)","v":0}]
[null,2082,{"$f":"Anlægskartotek!C2093","v":0},{"$f":"+IF((Basisoplysninger!$D$60=\"Ja\")*(Anlægskartotek!C2093<>0)=1,Anlægskartotek!$L$14,Anlægskartotek!I2093)","v":0}]
[null,2083,{"$f":"Anlægskartotek!C2094","v":0},{"$f":"+IF((Basisoplysninger!$D$60=\"Ja\")*(Anlægskartotek!C2094<>0)=1,Anlægskartotek!$L$14,Anlægskartotek!I2094)","v":0}]
[null,2084,{"$f":"Anlægskartotek!C2095","v":0},{"$f":"+IF((Basisoplysninger!$D$60=\"Ja\")*(Anlægskartotek!C2095<>0)=1,Anlægskartotek!$L$14,Anlægskartotek!I2095)","v":0}]
[null,2085,{"$f":"Anlægskartotek!C2096","v":0},{"$f":"+IF((Basisoplysninger!$D$60=\"Ja\")*(Anlægskartotek!C2096<>0)=1,Anlægskartotek!$L$14,Anlægskartotek!I2096)","v":0}]
[null,2086,{"$f":"Anlægskartotek!C2097","v":0},{"$f":"+IF((Basisoplysninger!$D$60=\"Ja\")*(Anlægskartotek!C2097<>0)=1,Anlægskartotek!$L$14,Anlægskartotek!I2097)","v":0}]
[null,2087,{"$f":"Anlægskartotek!C2098","v":0},{"$f":"+IF((Basisoplysninger!$D$60=\"Ja\")*(Anlægskartotek!C2098<>0)=1,Anlægskartotek!$L$14,Anlægskartotek!I2098)","v":0}]
[null,2088,{"$f":"Anlægskartotek!C2099","v":0},{"$f":"+IF((Basisoplysninger!$D$60=\"Ja\")*(Anlægskartotek!C2099<>0)=1,Anlægskartotek!$L$14,Anlægskartotek!I2099)","v":0}]
[null,2089,{"$f":"Anlægskartotek!C2100","v":0},{"$f":"+IF((Basisoplysninger!$D$60=\"Ja\")*(Anlægskartotek!C2100<>0)=1,Anlægskartotek!$L$14,Anlægskartotek!I2100)","v":0}]
[null,2090,{"$f":"Anlægskartotek!C2101","v":0},{"$f":"+IF((Basisoplysninger!$D$60=\"Ja\")*(Anlægskartotek!C2101<>0)=1,Anlægskartotek!$L$14,Anlægskartotek!I2101)","v":0}]
[null,2091,{"$f":"Anlægskartotek!C2102","v":0},{"$f":"+IF((Basisoplysninger!$D$60=\"Ja\")*(Anlægskartotek!C2102<>0)=1,Anlægskartotek!$L$14,Anlægskartotek!I2102)","v":0}]
[null,2092,{"$f":"Anlægskartotek!C2103","v":0},{"$f":"+IF((Basisoplysninger!$D$60=\"Ja\")*(Anlægskartotek!C2103<>0)=1,Anlægskartotek!$L$14,Anlægskartotek!I2103)","v":0}]
[null,2093,{"$f":"Anlægskartotek!C2104","v":0},{"$f":"+IF((Basisoplysninger!$D$60=\"Ja\")*(Anlægskartotek!C2104<>0)=1,Anlægskartotek!$L$14,Anlægskartotek!I2104)","v":0}]
[null,2094,{"$f":"Anlægskartotek!C2105","v":0},{"$f":"+IF((Basisoplysninger!$D$60=\"Ja\")*(Anlægskartotek!C2105<>0)=1,Anlægskartotek!$L$14,Anlægskartotek!I2105)","v":0}]
[null,2095,{"$f":"Anlægskartotek!C2106","v":0},{"$f":"+IF((Basisoplysninger!$D$60=\"Ja\")*(Anlægskartotek!C2106<>0)=1,Anlægskartotek!$L$14,Anlægskartotek!I2106)","v":0}]
[null,2096,{"$f":"Anlægskartotek!C2107","v":0},{"$f":"+IF((Basisoplysninger!$D$60=\"Ja\")*(Anlægskartotek!C2107<>0)=1,Anlægskartotek!$L$14,Anlægskartotek!I2107)","v":0}]
[null,2097,{"$f":"Anlægskartotek!C2108","v":0},{"$f":"+IF((Basisoplysninger!$D$60=\"Ja\")*(Anlægskartotek!C2108<>0)=1,Anlægskartotek!$L$14,Anlægskartotek!I2108)","v":0}]
[null,2098,{"$f":"Anlægskartotek!C2109","v":0},{"$f":"+IF((Basisoplysninger!$D$60=\"Ja\")*(Anlægskartotek!C2109<>0)=1,Anlægskartotek!$L$14,Anlægskartotek!I2109)","v":0}]
[null,2099,{"$f":"Anlægskartotek!C2110","v":0},{"$f":"+IF((Basisoplysninger!$D$60=\"Ja\")*(Anlægskartotek!C2110<>0)=1,Anlægskartotek!$L$14,Anlægskartotek!I2110)","v":0}]
[null,2100,{"$f":"Anlægskartotek!C2111","v":0},{"$f":"+IF((Basisoplysninger!$D$60=\"Ja\")*(Anlægskartotek!C2111<>0)=1,Anlægskartotek!$L$14,Anlægskartotek!I2111)","v":0}]
[null,2101,{"$f":"Anlægskartotek!C2112","v":0},{"$f":"+IF((Basisoplysninger!$D$60=\"Ja\")*(Anlægskartotek!C2112<>0)=1,Anlægskartotek!$L$14,Anlægskartotek!I2112)","v":0}]
[null,2102,{"$f":"Anlægskartotek!C2113","v":0},{"$f":"+IF((Basisoplysninger!$D$60=\"Ja\")*(Anlægskartotek!C2113<>0)=1,Anlægskartotek!$L$14,Anlægskartotek!I2113)","v":0}]
[null,2103,{"$f":"Anlægskartotek!C2114","v":0},{"$f":"+IF((Basisoplysninger!$D$60=\"Ja\")*(Anlægskartotek!C2114<>0)=1,Anlægskartotek!$L$14,Anlægskartotek!I2114)","v":0}]
[null,2104,{"$f":"Anlægskartotek!C2115","v":0},{"$f":"+IF((Basisoplysninger!$D$60=\"Ja\")*(Anlægskartotek!C2115<>0)=1,Anlægskartotek!$L$14,Anlægskartotek!I2115)","v":0}]
[null,2105,{"$f":"Anlægskartotek!C2116","v":0},{"$f":"+IF((Basisoplysninger!$D$60=\"Ja\")*(Anlægskartotek!C2116<>0)=1,Anlægskartotek!$L$14,Anlægskartotek!I2116)","v":0}]
[null,2106,{"$f":"Anlægskartotek!C2117","v":0},{"$f":"+IF((Basisoplysninger!$D$60=\"Ja\")*(Anlægskartotek!C2117<>0)=1,Anlægskartotek!$L$14,Anlægskartotek!I2117)","v":0}]
[null,2107,{"$f":"Anlægskartotek!C2118","v":0},{"$f":"+IF((Basisoplysninger!$D$60=\"Ja\")*(Anlægskartotek!C2118<>0)=1,Anlægskartotek!$L$14,Anlægskartotek!I2118)","v":0}]
[null,2108,{"$f":"Anlægskartotek!C2119","v":0},{"$f":"+IF((Basisoplysninger!$D$60=\"Ja\")*(Anlægskartotek!C2119<>0)=1,Anlægskartotek!$L$14,Anlægskartotek!I2119)","v":0}]
[null,2109,{"$f":"Anlægskartotek!C2120","v":0},{"$f":"+IF((Basisoplysninger!$D$60=\"Ja\")*(Anlægskartotek!C2120<>0)=1,Anlægskartotek!$L$14,Anlægskartotek!I2120)","v":0}]
[null,2110,{"$f":"Anlægskartotek!C2121","v":0},{"$f":"+IF((Basisoplysninger!$D$60=\"Ja\")*(Anlægskartotek!C2121<>0)=1,Anlægskartotek!$L$14,Anlægskartotek!I2121)","v":0}]
[null,2111,{"$f":"Anlægskartotek!C2122","v":0},{"$f":"+IF((Basisoplysninger!$D$60=\"Ja\")*(Anlægskartotek!C2122<>0)=1,Anlægskartotek!$L$14,Anlægskartotek!I2122)","v":0}]
[null,2112,{"$f":"Anlægskartotek!C2123","v":0},{"$f":"+IF((Basisoplysninger!$D$60=\"Ja\")*(Anlægskartotek!C2123<>0)=1,Anlægskartotek!$L$14,Anlægskartotek!I2123)","v":0}]
[null,2113,{"$f":"Anlægskartotek!C2124","v":0},{"$f":"+IF((Basisoplysninger!$D$60=\"Ja\")*(Anlægskartotek!C2124<>0)=1,Anlægskartotek!$L$14,Anlægskartotek!I2124)","v":0}]
[null,2114,{"$f":"Anlægskartotek!C2125","v":0},{"$f":"+IF((Basisoplysninger!$D$60=\"Ja\")*(Anlægskartotek!C2125<>0)=1,Anlægskartotek!$L$14,Anlægskartotek!I2125)","v":0}]
[null,{"$f":"B2223+1","v":2115},{"$f":"Anlægskartotek!C2126","v":0},{"$f":"+IF((Basisoplysninger!$D$60=\"Ja\")*(Anlægskartotek!C2126<>0)=1,Anlægskartotek!$L$14,Anlægskartotek!I2126)","v":0}]
[null,2116,{"$f":"Anlægskartotek!C2127","v":0},{"$f":"+IF((Basisoplysninger!$D$60=\"Ja\")*(Anlægskartotek!C2127<>0)=1,Anlægskartotek!$L$14,Anlægskartotek!I2127)","v":0}]
[null,2117,{"$f":"Anlægskartotek!C2128","v":0},{"$f":"+IF((Basisoplysninger!$D$60=\"Ja\")*(Anlægskartotek!C2128<>0)=1,Anlægskartotek!$L$14,Anlægskartotek!I2128)","v":0}]
[null,2118,{"$f":"Anlægskartotek!C2129","v":0},{"$f":"+IF((Basisoplysninger!$D$60=\"Ja\")*(Anlægskartotek!C2129<>0)=1,Anlægskartotek!$L$14,Anlægskartotek!I2129)","v":0}]
[null,2119,{"$f":"Anlægskartotek!C2130","v":0},{"$f":"+IF((Basisoplysninger!$D$60=\"Ja\")*(Anlægskartotek!C2130<>0)=1,Anlægskartotek!$L$14,Anlægskartotek!I2130)","v":0}]
[null,2120,{"$f":"Anlægskartotek!C2131","v":0},{"$f":"+IF((Basisoplysninger!$D$60=\"Ja\")*(Anlægskartotek!C2131<>0)=1,Anlægskartotek!$L$14,Anlægskartotek!I2131)","v":0}]
[null,2121,{"$f":"Anlægskartotek!C2132","v":0},{"$f":"+IF((Basisoplysninger!$D$60=\"Ja\")*(Anlægskartotek!C2132<>0)=1,Anlægskartotek!$L$14,Anlægskartotek!I2132)","v":0}]
[null,2122,{"$f":"Anlægskartotek!C2133","v":0},{"$f":"+IF((Basisoplysninger!$D$60=\"Ja\")*(Anlægskartotek!C2133<>0)=1,Anlægskartotek!$L$14,Anlægskartotek!I2133)","v":0}]
[null,2123,{"$f":"Anlægskartotek!C2134","v":0},{"$f":"+IF((Basisoplysninger!$D$60=\"Ja\")*(Anlægskartotek!C2134<>0)=1,Anlægskartotek!$L$14,Anlægskartotek!I2134)","v":0}]
[null,2124,{"$f":"Anlægskartotek!C2135","v":0},{"$f":"+IF((Basisoplysninger!$D$60=\"Ja\")*(Anlægskartotek!C2135<>0)=1,Anlægskartotek!$L$14,Anlægskartotek!I2135)","v":0}]
[null,2125,{"$f":"Anlægskartotek!C2136","v":0},{"$f":"+IF((Basisoplysninger!$D$60=\"Ja\")*(Anlægskartotek!C2136<>0)=1,Anlægskartotek!$L$14,Anlægskartotek!I2136)","v":0}]
[null,2126,{"$f":"Anlægskartotek!C2137","v":0},{"$f":"+IF((Basisoplysninger!$D$60=\"Ja\")*(Anlægskartotek!C2137<>0)=1,Anlægskartotek!$L$14,Anlægskartotek!I2137)","v":0}]
[null,2127,{"$f":"Anlægskartotek!C2138","v":0},{"$f":"+IF((Basisoplysninger!$D$60=\"Ja\")*(Anlægskartotek!C2138<>0)=1,Anlægskartotek!$L$14,Anlægskartotek!I2138)","v":0}]
[null,2128,{"$f":"Anlægskartotek!C2139","v":0},{"$f":"+IF((Basisoplysninger!$D$60=\"Ja\")*(Anlægskartotek!C2139<>0)=1,Anlægskartotek!$L$14,Anlægskartotek!I2139)","v":0}]
[null,2129,{"$f":"Anlægskartotek!C2140","v":0},{"$f":"+IF((Basisoplysninger!$D$60=\"Ja\")*(Anlægskartotek!C2140<>0)=1,Anlægskartotek!$L$14,Anlægskartotek!I2140)","v":0}]
[null,2130,{"$f":"Anlægskartotek!C2141","v":0},{"$f":"+IF((Basisoplysninger!$D$60=\"Ja\")*(Anlægskartotek!C2141<>0)=1,Anlægskartotek!$L$14,Anlægskartotek!I2141)","v":0}]
[null,2131,{"$f":"Anlægskartotek!C2142","v":0},{"$f":"+IF((Basisoplysninger!$D$60=\"Ja\")*(Anlægskartotek!C2142<>0)=1,Anlægskartotek!$L$14,Anlægskartotek!I2142)","v":0}]
[null,2132,{"$f":"Anlægskartotek!C2143","v":0},{"$f":"+IF((Basisoplysninger!$D$60=\"Ja\")*(Anlægskartotek!C2143<>0)=1,Anlægskartotek!$L$14,Anlægskartotek!I2143)","v":0}]
[null,2133,{"$f":"Anlægskartotek!C2144","v":0},{"$f":"+IF((Basisoplysninger!$D$60=\"Ja\")*(Anlægskartotek!C2144<>0)=1,Anlægskartotek!$L$14,Anlægskartotek!I2144)","v":0}]
[null,2134,{"$f":"Anlægskartotek!C2145","v":0},{"$f":"+IF((Basisoplysninger!$D$60=\"Ja\")*(Anlægskartotek!C2145<>0)=1,Anlægskartotek!$L$14,Anlægskartotek!I2145)","v":0}]
[null,2135,{"$f":"Anlægskartotek!C2146","v":0},{"$f":"+IF((Basisoplysninger!$D$60=\"Ja\")*(Anlægskartotek!C2146<>0)=1,Anlægskartotek!$L$14,Anlægskartotek!I2146)","v":0}]
[null,2136,{"$f":"Anlægskartotek!C2147","v":0},{"$f":"+IF((Basisoplysninger!$D$60=\"Ja\")*(Anlægskartotek!C2147<>0)=1,Anlægskartotek!$L$14,Anlægskartotek!I2147)","v":0}]
[null,2137,{"$f":"Anlægskartotek!C2148","v":0},{"$f":"+IF((Basisoplysninger!$D$60=\"Ja\")*(Anlægskartotek!C2148<>0)=1,Anlægskartotek!$L$14,Anlægskartotek!I2148)","v":0}]
[null,2138,{"$f":"Anlægskartotek!C2149","v":0},{"$f":"+IF((Basisoplysninger!$D$60=\"Ja\")*(Anlægskartotek!C2149<>0)=1,Anlægskartotek!$L$14,Anlægskartotek!I2149)","v":0}]
[null,2139,{"$f":"Anlægskartotek!C2150","v":0},{"$f":"+IF((Basisoplysninger!$D$60=\"Ja\")*(Anlægskartotek!C2150<>0)=1,Anlægskartotek!$L$14,Anlægskartotek!I2150)","v":0}]
[null,2140,{"$f":"Anlægskartotek!C2151","v":0},{"$f":"+IF((Basisoplysninger!$D$60=\"Ja\")*(Anlægskartotek!C2151<>0)=1,Anlægskartotek!$L$14,Anlægskartotek!I2151)","v":0}]
[null,2141,{"$f":"Anlægskartotek!C2152","v":0},{"$f":"+IF((Basisoplysninger!$D$60=\"Ja\")*(Anlægskartotek!C2152<>0)=1,Anlægskartotek!$L$14,Anlægskartotek!I2152)","v":0}]
[null,2142,{"$f":"Anlægskartotek!C2153","v":0},{"$f":"+IF((Basisoplysninger!$D$60=\"Ja\")*(Anlægskartotek!C2153<>0)=1,Anlægskartotek!$L$14,Anlægskartotek!I2153)","v":0}]
[null,2143,{"$f":"Anlægskartotek!C2154","v":0},{"$f":"+IF((Basisoplysninger!$D$60=\"Ja\")*(Anlægskartotek!C2154<>0)=1,Anlægskartotek!$L$14,Anlægskartotek!I2154)","v":0}]
[null,2144,{"$f":"Anlægskartotek!C2155","v":0},{"$f":"+IF((Basisoplysninger!$D$60=\"Ja\")*(Anlægskartotek!C2155<>0)=1,Anlægskartotek!$L$14,Anlægskartotek!I2155)","v":0}]
[null,2145,{"$f":"Anlægskartotek!C2156","v":0},{"$f":"+IF((Basisoplysninger!$D$60=\"Ja\")*(Anlægskartotek!C2156<>0)=1,Anlægskartotek!$L$14,Anlægskartotek!I2156)","v":0}]
[null,2146,{"$f":"Anlægskartotek!C2157","v":0},{"$f":"+IF((Basisoplysninger!$D$60=\"Ja\")*(Anlægskartotek!C2157<>0)=1,Anlægskartotek!$L$14,Anlægskartotek!I2157)","v":0}]
[null,2147,{"$f":"Anlægskartotek!C2158","v":0},{"$f":"+IF((Basisoplysninger!$D$60=\"Ja\")*(Anlægskartotek!C2158<>0)=1,Anlægskartotek!$L$14,Anlægskartotek!I2158)","v":0}]
[null,2148,{"$f":"Anlægskartotek!C2159","v":0},{"$f":"+IF((Basisoplysninger!$D$60=\"Ja\")*(Anlægskartotek!C2159<>0)=1,Anlægskartotek!$L$14,Anlægskartotek!I2159)","v":0}]
[null,2149,{"$f":"Anlægskartotek!C2160","v":0},{"$f":"+IF((Basisoplysninger!$D$60=\"Ja\")*(Anlægskartotek!C2160<>0)=1,Anlægskartotek!$L$14,Anlægskartotek!I2160)","v":0}]
[null,2150,{"$f":"Anlægskartotek!C2161","v":0},{"$f":"+IF((Basisoplysninger!$D$60=\"Ja\")*(Anlægskartotek!C2161<>0)=1,Anlægskartotek!$L$14,Anlægskartotek!I2161)","v":0}]
[null,2151,{"$f":"Anlægskartotek!C2162","v":0},{"$f":"+IF((Basisoplysninger!$D$60=\"Ja\")*(Anlægskartotek!C2162<>0)=1,Anlægskartotek!$L$14,Anlægskartotek!I2162)","v":0}]
[null,2152,{"$f":"Anlægskartotek!C2163","v":0},{"$f":"+IF((Basisoplysninger!$D$60=\"Ja\")*(Anlægskartotek!C2163<>0)=1,Anlægskartotek!$L$14,Anlægskartotek!I2163)","v":0}]
[null,2153,{"$f":"Anlægskartotek!C2164","v":0},{"$f":"+IF((Basisoplysninger!$D$60=\"Ja\")*(Anlægskartotek!C2164<>0)=1,Anlægskartotek!$L$14,Anlægskartotek!I2164)","v":0}]
[null,2154,{"$f":"Anlægskartotek!C2165","v":0},{"$f":"+IF((Basisoplysninger!$D$60=\"Ja\")*(Anlægskartotek!C2165<>0)=1,Anlægskartotek!$L$14,Anlægskartotek!I2165)","v":0}]
[null,2155,{"$f":"Anlægskartotek!C2166","v":0},{"$f":"+IF((Basisoplysninger!$D$60=\"Ja\")*(Anlægskartotek!C2166<>0)=1,Anlægskartotek!$L$14,Anlægskartotek!I2166)","v":0}]
[null,2156,{"$f":"Anlægskartotek!C2167","v":0},{"$f":"+IF((Basisoplysninger!$D$60=\"Ja\")*(Anlægskartotek!C2167<>0)=1,Anlægskartotek!$L$14,Anlægskartotek!I2167)","v":0}]
[null,2157,{"$f":"Anlægskartotek!C2168","v":0},{"$f":"+IF((Basisoplysninger!$D$60=\"Ja\")*(Anlægskartotek!C2168<>0)=1,Anlægskartotek!$L$14,Anlægskartotek!I2168)","v":0}]
[null,2158,{"$f":"Anlægskartotek!C2169","v":0},{"$f":"+IF((Basisoplysninger!$D$60=\"Ja\")*(Anlægskartotek!C2169<>0)=1,Anlægskartotek!$L$14,Anlægskartotek!I2169)","v":0}]
[null,2159,{"$f":"Anlægskartotek!C2170","v":0},{"$f":"+IF((Basisoplysninger!$D$60=\"Ja\")*(Anlægskartotek!C2170<>0)=1,Anlægskartotek!$L$14,Anlægskartotek!I2170)","v":0}]
[null,2160,{"$f":"Anlægskartotek!C2171","v":0},{"$f":"+IF((Basisoplysninger!$D$60=\"Ja\")*(Anlægskartotek!C2171<>0)=1,Anlægskartotek!$L$14,Anlægskartotek!I2171)","v":0}]
[null,2161,{"$f":"Anlægskartotek!C2172","v":0},{"$f":"+IF((Basisoplysninger!$D$60=\"Ja\")*(Anlægskartotek!C2172<>0)=1,Anlægskartotek!$L$14,Anlægskartotek!I2172)","v":0}]
[null,2162,{"$f":"Anlægskartotek!C2173","v":0},{"$f":"+IF((Basisoplysninger!$D$60=\"Ja\")*(Anlægskartotek!C2173<>0)=1,Anlægskartotek!$L$14,Anlægskartotek!I2173)","v":0}]
[null,2163,{"$f":"Anlægskartotek!C2174","v":0},{"$f":"+IF((Basisoplysninger!$D$60=\"Ja\")*(Anlægskartotek!C2174<>0)=1,Anlægskartotek!$L$14,Anlægskartotek!I2174)","v":0}]
[null,2164,{"$f":"Anlægskartotek!C2175","v":0},{"$f":"+IF((Basisoplysninger!$D$60=\"Ja\")*(Anlægskartotek!C2175<>0)=1,Anlægskartotek!$L$14,Anlægskartotek!I2175)","v":0}]
[null,2165,{"$f":"Anlægskartotek!C2176","v":0},{"$f":"+IF((Basisoplysninger!$D$60=\"Ja\")*(Anlægskartotek!C2176<>0)=1,Anlægskartotek!$L$14,Anlægskartotek!I2176)","v":0}]
[null,2166,{"$f":"Anlægskartotek!C2177","v":0},{"$f":"+IF((Basisoplysninger!$D$60=\"Ja\")*(Anlægskartotek!C2177<>0)=1,Anlægskartotek!$L$14,Anlægskartotek!I2177)","v":0}]
[null,2167,{"$f":"Anlægskartotek!C2178","v":0},{"$f":"+IF((Basisoplysninger!$D$60=\"Ja\")*(Anlægskartotek!C2178<>0)=1,Anlægskartotek!$L$14,Anlægskartotek!I2178)","v":0}]
[null,2168,{"$f":"Anlægskartotek!C2179","v":0},{"$f":"+IF((Basisoplysninger!$D$60=\"Ja\")*(Anlægskartotek!C2179<>0)=1,Anlægskartotek!$L$14,Anlægskartotek!I2179)","v":0}]
[null,2169,{"$f":"Anlægskartotek!C2180","v":0},{"$f":"+IF((Basisoplysninger!$D$60=\"Ja\")*(Anlægskartotek!C2180<>0)=1,Anlægskartotek!$L$14,Anlægskartotek!I2180)","v":0}]
[null,2170,{"$f":"Anlægskartotek!C2181","v":0},{"$f":"+IF((Basisoplysninger!$D$60=\"Ja\")*(Anlægskartotek!C2181<>0)=1,Anlægskartotek!$L$14,Anlægskartotek!I2181)","v":0}]
[null,2171,{"$f":"Anlægskartotek!C2182","v":0},{"$f":"+IF((Basisoplysninger!$D$60=\"Ja\")*(Anlægskartotek!C2182<>0)=1,Anlægskartotek!$L$14,Anlægskartotek!I2182)","v":0}]
[null,2172,{"$f":"Anlægskartotek!C2183","v":0},{"$f":"+IF((Basisoplysninger!$D$60=\"Ja\")*(Anlægskartotek!C2183<>0)=1,Anlægskartotek!$L$14,Anlægskartotek!I2183)","v":0}]
[null,2173,{"$f":"Anlægskartotek!C2184","v":0},{"$f":"+IF((Basisoplysninger!$D$60=\"Ja\")*(Anlægskartotek!C2184<>0)=1,Anlægskartotek!$L$14,Anlægskartotek!I2184)","v":0}]
[null,2174,{"$f":"Anlægskartotek!C2185","v":0},{"$f":"+IF((Basisoplysninger!$D$60=\"Ja\")*(Anlægskartotek!C2185<>0)=1,Anlægskartotek!$L$14,Anlægskartotek!I2185)","v":0}]
[null,2175,{"$f":"Anlægskartotek!C2186","v":0},{"$f":"+IF((Basisoplysninger!$D$60=\"Ja\")*(Anlægskartotek!C2186<>0)=1,Anlægskartotek!$L$14,Anlægskartotek!I2186)","v":0}]
[null,2176,{"$f":"Anlægskartotek!C2187","v":0},{"$f":"+IF((Basisoplysninger!$D$60=\"Ja\")*(Anlægskartotek!C2187<>0)=1,Anlægskartotek!$L$14,Anlægskartotek!I2187)","v":0}]
[null,2177,{"$f":"Anlægskartotek!C2188","v":0},{"$f":"+IF((Basisoplysninger!$D$60=\"Ja\")*(Anlægskartotek!C2188<>0)=1,Anlægskartotek!$L$14,Anlægskartotek!I2188)","v":0}]
[null,2178,{"$f":"Anlægskartotek!C2189","v":0},{"$f":"+IF((Basisoplysninger!$D$60=\"Ja\")*(Anlægskartotek!C2189<>0)=1,Anlægskartotek!$L$14,Anlægskartotek!I2189)","v":0}]
[null,{"$f":"B2287+1","v":2179},{"$f":"Anlægskartotek!C2190","v":0},{"$f":"+IF((Basisoplysninger!$D$60=\"Ja\")*(Anlægskartotek!C2190<>0)=1,Anlægskartotek!$L$14,Anlægskartotek!I2190)","v":0}]
[null,2180,{"$f":"Anlægskartotek!C2191","v":0},{"$f":"+IF((Basisoplysninger!$D$60=\"Ja\")*(Anlægskartotek!C2191<>0)=1,Anlægskartotek!$L$14,Anlægskartotek!I2191)","v":0}]
[null,2181,{"$f":"Anlægskartotek!C2192","v":0},{"$f":"+IF((Basisoplysninger!$D$60=\"Ja\")*(Anlægskartotek!C2192<>0)=1,Anlægskartotek!$L$14,Anlægskartotek!I2192)","v":0}]
[null,2182,{"$f":"Anlægskartotek!C2193","v":0},{"$f":"+IF((Basisoplysninger!$D$60=\"Ja\")*(Anlægskartotek!C2193<>0)=1,Anlægskartotek!$L$14,Anlægskartotek!I2193)","v":0}]
[null,2183,{"$f":"Anlægskartotek!C2194","v":0},{"$f":"+IF((Basisoplysninger!$D$60=\"Ja\")*(Anlægskartotek!C2194<>0)=1,Anlægskartotek!$L$14,Anlægskartotek!I2194)","v":0}]
[null,2184,{"$f":"Anlægskartotek!C2195","v":0},{"$f":"+IF((Basisoplysninger!$D$60=\"Ja\")*(Anlægskartotek!C2195<>0)=1,Anlægskartotek!$L$14,Anlægskartotek!I2195)","v":0}]
[null,2185,{"$f":"Anlægskartotek!C2196","v":0},{"$f":"+IF((Basisoplysninger!$D$60=\"Ja\")*(Anlægskartotek!C2196<>0)=1,Anlægskartotek!$L$14,Anlægskartotek!I2196)","v":0}]
[null,2186,{"$f":"Anlægskartotek!C2197","v":0},{"$f":"+IF((Basisoplysninger!$D$60=\"Ja\")*(Anlægskartotek!C2197<>0)=1,Anlægskartotek!$L$14,Anlægskartotek!I2197)","v":0}]
[null,2187,{"$f":"Anlægskartotek!C2198","v":0},{"$f":"+IF((Basisoplysninger!$D$60=\"Ja\")*(Anlægskartotek!C2198<>0)=1,Anlægskartotek!$L$14,Anlægskartotek!I2198)","v":0}]
[null,2188,{"$f":"Anlægskartotek!C2199","v":0},{"$f":"+IF((Basisoplysninger!$D$60=\"Ja\")*(Anlægskartotek!C2199<>0)=1,Anlægskartotek!$L$14,Anlægskartotek!I2199)","v":0}]
[null,2189,{"$f":"Anlægskartotek!C2200","v":0},{"$f":"+IF((Basisoplysninger!$D$60=\"Ja\")*(Anlægskartotek!C2200<>0)=1,Anlægskartotek!$L$14,Anlægskartotek!I2200)","v":0}]
[null,2190,{"$f":"Anlægskartotek!C2201","v":0},{"$f":"+IF((Basisoplysninger!$D$60=\"Ja\")*(Anlægskartotek!C2201<>0)=1,Anlægskartotek!$L$14,Anlægskartotek!I2201)","v":0}]
[null,2191,{"$f":"Anlægskartotek!C2202","v":0},{"$f":"+IF((Basisoplysninger!$D$60=\"Ja\")*(Anlægskartotek!C2202<>0)=1,Anlægskartotek!$L$14,Anlægskartotek!I2202)","v":0}]
[null,2192,{"$f":"Anlægskartotek!C2203","v":0},{"$f":"+IF((Basisoplysninger!$D$60=\"Ja\")*(Anlægskartotek!C2203<>0)=1,Anlægskartotek!$L$14,Anlægskartotek!I2203)","v":0}]
[null,2193,{"$f":"Anlægskartotek!C2204","v":0},{"$f":"+IF((Basisoplysninger!$D$60=\"Ja\")*(Anlægskartotek!C2204<>0)=1,Anlægskartotek!$L$14,Anlægskartotek!I2204)","v":0}]
[null,2194,{"$f":"Anlægskartotek!C2205","v":0},{"$f":"+IF((Basisoplysninger!$D$60=\"Ja\")*(Anlægskartotek!C2205<>0)=1,Anlægskartotek!$L$14,Anlægskartotek!I2205)","v":0}]
[null,2195,{"$f":"Anlægskartotek!C2206","v":0},{"$f":"+IF((Basisoplysninger!$D$60=\"Ja\")*(Anlægskartotek!C2206<>0)=1,Anlægskartotek!$L$14,Anlægskartotek!I2206)","v":0}]
[null,2196,{"$f":"Anlægskartotek!C2207","v":0},{"$f":"+IF((Basisoplysninger!$D$60=\"Ja\")*(Anlægskartotek!C2207<>0)=1,Anlægskartotek!$L$14,Anlægskartotek!I2207)","v":0}]
[null,2197,{"$f":"Anlægskartotek!C2208","v":0},{"$f":"+IF((Basisoplysninger!$D$60=\"Ja\")*(Anlægskartotek!C2208<>0)=1,Anlægskartotek!$L$14,Anlægskartotek!I2208)","v":0}]
[null,2198,{"$f":"Anlægskartotek!C2209","v":0},{"$f":"+IF((Basisoplysninger!$D$60=\"Ja\")*(Anlægskartotek!C2209<>0)=1,Anlægskartotek!$L$14,Anlægskartotek!I2209)","v":0}]
[null,2199,{"$f":"Anlægskartotek!C2210","v":0},{"$f":"+IF((Basisoplysninger!$D$60=\"Ja\")*(Anlægskartotek!C2210<>0)=1,Anlægskartotek!$L$14,Anlægskartotek!I2210)","v":0}]
[null,2200,{"$f":"Anlægskartotek!C2211","v":0},{"$f":"+IF((Basisoplysninger!$D$60=\"Ja\")*(Anlægskartotek!C2211<>0)=1,Anlægskartotek!$L$14,Anlægskartotek!I2211)","v":0}]
[null,2201,{"$f":"Anlægskartotek!C2212","v":0},{"$f":"+IF((Basisoplysninger!$D$60=\"Ja\")*(Anlægskartotek!C2212<>0)=1,Anlægskartotek!$L$14,Anlægskartotek!I2212)","v":0}]
[null,2202,{"$f":"Anlægskartotek!C2213","v":0},{"$f":"+IF((Basisoplysninger!$D$60=\"Ja\")*(Anlægskartotek!C2213<>0)=1,Anlægskartotek!$L$14,Anlægskartotek!I2213)","v":0}]
[null,2203,{"$f":"Anlægskartotek!C2214","v":0},{"$f":"+IF((Basisoplysninger!$D$60=\"Ja\")*(Anlægskartotek!C2214<>0)=1,Anlægskartotek!$L$14,Anlægskartotek!I2214)","v":0}]
[null,2204,{"$f":"Anlægskartotek!C2215","v":0},{"$f":"+IF((Basisoplysninger!$D$60=\"Ja\")*(Anlægskartotek!C2215<>0)=1,Anlægskartotek!$L$14,Anlægskartotek!I2215)","v":0}]
[null,2205,{"$f":"Anlægskartotek!C2216","v":0},{"$f":"+IF((Basisoplysninger!$D$60=\"Ja\")*(Anlægskartotek!C2216<>0)=1,Anlægskartotek!$L$14,Anlægskartotek!I2216)","v":0}]
[null,2206,{"$f":"Anlægskartotek!C2217","v":0},{"$f":"+IF((Basisoplysninger!$D$60=\"Ja\")*(Anlægskartotek!C2217<>0)=1,Anlægskartotek!$L$14,Anlægskartotek!I2217)","v":0}]
[null,2207,{"$f":"Anlægskartotek!C2218","v":0},{"$f":"+IF((Basisoplysninger!$D$60=\"Ja\")*(Anlægskartotek!C2218<>0)=1,Anlægskartotek!$L$14,Anlægskartotek!I2218)","v":0}]
[null,2208,{"$f":"Anlægskartotek!C2219","v":0},{"$f":"+IF((Basisoplysninger!$D$60=\"Ja\")*(Anlægskartotek!C2219<>0)=1,Anlægskartotek!$L$14,Anlægskartotek!I2219)","v":0}]
[null,2209,{"$f":"Anlægskartotek!C2220","v":0},{"$f":"+IF((Basisoplysninger!$D$60=\"Ja\")*(Anlægskartotek!C2220<>0)=1,Anlægskartotek!$L$14,Anlægskartotek!I2220)","v":0}]
[null,2210,{"$f":"Anlægskartotek!C2221","v":0},{"$f":"+IF((Basisoplysninger!$D$60=\"Ja\")*(Anlægskartotek!C2221<>0)=1,Anlægskartotek!$L$14,Anlægskartotek!I2221)","v":0}]
[null,2211,{"$f":"Anlægskartotek!C2222","v":0},{"$f":"+IF((Basisoplysninger!$D$60=\"Ja\")*(Anlægskartotek!C2222<>0)=1,Anlægskartotek!$L$14,Anlægskartotek!I2222)","v":0}]
[null,2212,{"$f":"Anlægskartotek!C2223","v":0},{"$f":"+IF((Basisoplysninger!$D$60=\"Ja\")*(Anlægskartotek!C2223<>0)=1,Anlægskartotek!$L$14,Anlægskartotek!I2223)","v":0}]
[null,2213,{"$f":"Anlægskartotek!C2224","v":0},{"$f":"+IF((Basisoplysninger!$D$60=\"Ja\")*(Anlægskartotek!C2224<>0)=1,Anlægskartotek!$L$14,Anlægskartotek!I2224)","v":0}]
[null,2214,{"$f":"Anlægskartotek!C2225","v":0},{"$f":"+IF((Basisoplysninger!$D$60=\"Ja\")*(Anlægskartotek!C2225<>0)=1,Anlægskartotek!$L$14,Anlægskartotek!I2225)","v":0}]
[null,2215,{"$f":"Anlægskartotek!C2226","v":0},{"$f":"+IF((Basisoplysninger!$D$60=\"Ja\")*(Anlægskartotek!C2226<>0)=1,Anlægskartotek!$L$14,Anlægskartotek!I2226)","v":0}]
[null,2216,{"$f":"Anlægskartotek!C2227","v":0},{"$f":"+IF((Basisoplysninger!$D$60=\"Ja\")*(Anlægskartotek!C2227<>0)=1,Anlægskartotek!$L$14,Anlægskartotek!I2227)","v":0}]
[null,2217,{"$f":"Anlægskartotek!C2228","v":0},{"$f":"+IF((Basisoplysninger!$D$60=\"Ja\")*(Anlægskartotek!C2228<>0)=1,Anlægskartotek!$L$14,Anlægskartotek!I2228)","v":0}]
[null,2218,{"$f":"Anlægskartotek!C2229","v":0},{"$f":"+IF((Basisoplysninger!$D$60=\"Ja\")*(Anlægskartotek!C2229<>0)=1,Anlægskartotek!$L$14,Anlægskartotek!I2229)","v":0}]
[null,2219,{"$f":"Anlægskartotek!C2230","v":0},{"$f":"+IF((Basisoplysninger!$D$60=\"Ja\")*(Anlægskartotek!C2230<>0)=1,Anlægskartotek!$L$14,Anlægskartotek!I2230)","v":0}]
[null,2220,{"$f":"Anlægskartotek!C2231","v":0},{"$f":"+IF((Basisoplysninger!$D$60=\"Ja\")*(Anlægskartotek!C2231<>0)=1,Anlægskartotek!$L$14,Anlægskartotek!I2231)","v":0}]
[null,2221,{"$f":"Anlægskartotek!C2232","v":0},{"$f":"+IF((Basisoplysninger!$D$60=\"Ja\")*(Anlægskartotek!C2232<>0)=1,Anlægskartotek!$L$14,Anlægskartotek!I2232)","v":0}]
[null,2222,{"$f":"Anlægskartotek!C2233","v":0},{"$f":"+IF((Basisoplysninger!$D$60=\"Ja\")*(Anlægskartotek!C2233<>0)=1,Anlægskartotek!$L$14,Anlægskartotek!I2233)","v":0}]
[null,2223,{"$f":"Anlægskartotek!C2234","v":0},{"$f":"+IF((Basisoplysninger!$D$60=\"Ja\")*(Anlægskartotek!C2234<>0)=1,Anlægskartotek!$L$14,Anlægskartotek!I2234)","v":0}]
[null,2224,{"$f":"Anlægskartotek!C2235","v":0},{"$f":"+IF((Basisoplysninger!$D$60=\"Ja\")*(Anlægskartotek!C2235<>0)=1,Anlægskartotek!$L$14,Anlægskartotek!I2235)","v":0}]
[null,2225,{"$f":"Anlægskartotek!C2236","v":0},{"$f":"+IF((Basisoplysninger!$D$60=\"Ja\")*(Anlægskartotek!C2236<>0)=1,Anlægskartotek!$L$14,Anlægskartotek!I2236)","v":0}]
[null,2226,{"$f":"Anlægskartotek!C2237","v":0},{"$f":"+IF((Basisoplysninger!$D$60=\"Ja\")*(Anlægskartotek!C2237<>0)=1,Anlægskartotek!$L$14,Anlægskartotek!I2237)","v":0}]
[null,2227,{"$f":"Anlægskartotek!C2238","v":0},{"$f":"+IF((Basisoplysninger!$D$60=\"Ja\")*(Anlægskartotek!C2238<>0)=1,Anlægskartotek!$L$14,Anlægskartotek!I2238)","v":0}]
[null,2228,{"$f":"Anlægskartotek!C2239","v":0},{"$f":"+IF((Basisoplysninger!$D$60=\"Ja\")*(Anlægskartotek!C2239<>0)=1,Anlægskartotek!$L$14,Anlægskartotek!I2239)","v":0}]
[null,2229,{"$f":"Anlægskartotek!C2240","v":0},{"$f":"+IF((Basisoplysninger!$D$60=\"Ja\")*(Anlægskartotek!C2240<>0)=1,Anlægskartotek!$L$14,Anlægskartotek!I2240)","v":0}]
[null,2230,{"$f":"Anlægskartotek!C2241","v":0},{"$f":"+IF((Basisoplysninger!$D$60=\"Ja\")*(Anlægskartotek!C2241<>0)=1,Anlægskartotek!$L$14,Anlægskartotek!I2241)","v":0}]
[null,2231,{"$f":"Anlægskartotek!C2242","v":0},{"$f":"+IF((Basisoplysninger!$D$60=\"Ja\")*(Anlægskartotek!C2242<>0)=1,Anlægskartotek!$L$14,Anlægskartotek!I2242)","v":0}]
[null,2232,{"$f":"Anlægskartotek!C2243","v":0},{"$f":"+IF((Basisoplysninger!$D$60=\"Ja\")*(Anlægskartotek!C2243<>0)=1,Anlægskartotek!$L$14,Anlægskartotek!I2243)","v":0}]
[null,2233,{"$f":"Anlægskartotek!C2244","v":0},{"$f":"+IF((Basisoplysninger!$D$60=\"Ja\")*(Anlægskartotek!C2244<>0)=1,Anlægskartotek!$L$14,Anlægskartotek!I2244)","v":0}]
[null,2234,{"$f":"Anlægskartotek!C2245","v":0},{"$f":"+IF((Basisoplysninger!$D$60=\"Ja\")*(Anlægskartotek!C2245<>0)=1,Anlægskartotek!$L$14,Anlægskartotek!I2245)","v":0}]
[null,2235,{"$f":"Anlægskartotek!C2246","v":0},{"$f":"+IF((Basisoplysninger!$D$60=\"Ja\")*(Anlægskartotek!C2246<>0)=1,Anlægskartotek!$L$14,Anlægskartotek!I2246)","v":0}]
[null,2236,{"$f":"Anlægskartotek!C2247","v":0},{"$f":"+IF((Basisoplysninger!$D$60=\"Ja\")*(Anlægskartotek!C2247<>0)=1,Anlægskartotek!$L$14,Anlægskartotek!I2247)","v":0}]
[null,2237,{"$f":"Anlægskartotek!C2248","v":0},{"$f":"+IF((Basisoplysninger!$D$60=\"Ja\")*(Anlægskartotek!C2248<>0)=1,Anlægskartotek!$L$14,Anlægskartotek!I2248)","v":0}]
[null,2238,{"$f":"Anlægskartotek!C2249","v":0},{"$f":"+IF((Basisoplysninger!$D$60=\"Ja\")*(Anlægskartotek!C2249<>0)=1,Anlægskartotek!$L$14,Anlægskartotek!I2249)","v":0}]
[null,2239,{"$f":"Anlægskartotek!C2250","v":0},{"$f":"+IF((Basisoplysninger!$D$60=\"Ja\")*(Anlægskartotek!C2250<>0)=1,Anlægskartotek!$L$14,Anlægskartotek!I2250)","v":0}]
[null,2240,{"$f":"Anlægskartotek!C2251","v":0},{"$f":"+IF((Basisoplysninger!$D$60=\"Ja\")*(Anlægskartotek!C2251<>0)=1,Anlægskartotek!$L$14,Anlægskartotek!I2251)","v":0}]
[null,2241,{"$f":"Anlægskartotek!C2252","v":0},{"$f":"+IF((Basisoplysninger!$D$60=\"Ja\")*(Anlægskartotek!C2252<>0)=1,Anlægskartotek!$L$14,Anlægskartotek!I2252)","v":0}]
[null,2242,{"$f":"Anlægskartotek!C2253","v":0},{"$f":"+IF((Basisoplysninger!$D$60=\"Ja\")*(Anlægskartotek!C2253<>0)=1,Anlægskartotek!$L$14,Anlægskartotek!I2253)","v":0}]
[null,{"$f":"B2351+1","v":2243},{"$f":"Anlægskartotek!C2254","v":0},{"$f":"+IF((Basisoplysninger!$D$60=\"Ja\")*(Anlægskartotek!C2254<>0)=1,Anlægskartotek!$L$14,Anlægskartotek!I2254)","v":0}]
[null,2244,{"$f":"Anlægskartotek!C2255","v":0},{"$f":"+IF((Basisoplysninger!$D$60=\"Ja\")*(Anlægskartotek!C2255<>0)=1,Anlægskartotek!$L$14,Anlægskartotek!I2255)","v":0}]
[null,2245,{"$f":"Anlægskartotek!C2256","v":0},{"$f":"+IF((Basisoplysninger!$D$60=\"Ja\")*(Anlægskartotek!C2256<>0)=1,Anlægskartotek!$L$14,Anlægskartotek!I2256)","v":0}]
[null,2246,{"$f":"Anlægskartotek!C2257","v":0},{"$f":"+IF((Basisoplysninger!$D$60=\"Ja\")*(Anlægskartotek!C2257<>0)=1,Anlægskartotek!$L$14,Anlægskartotek!I2257)","v":0}]
[null,2247,{"$f":"Anlægskartotek!C2258","v":0},{"$f":"+IF((Basisoplysninger!$D$60=\"Ja\")*(Anlægskartotek!C2258<>0)=1,Anlægskartotek!$L$14,Anlægskartotek!I2258)","v":0}]
[null,2248,{"$f":"Anlægskartotek!C2259","v":0},{"$f":"+IF((Basisoplysninger!$D$60=\"Ja\")*(Anlægskartotek!C2259<>0)=1,Anlægskartotek!$L$14,Anlægskartotek!I2259)","v":0}]
[null,2249,{"$f":"Anlægskartotek!C2260","v":0},{"$f":"+IF((Basisoplysninger!$D$60=\"Ja\")*(Anlægskartotek!C2260<>0)=1,Anlægskartotek!$L$14,Anlægskartotek!I2260)","v":0}]
[null,2250,{"$f":"Anlægskartotek!C2261","v":0},{"$f":"+IF((Basisoplysninger!$D$60=\"Ja\")*(Anlægskartotek!C2261<>0)=1,Anlægskartotek!$L$14,Anlægskartotek!I2261)","v":0}]
[null,2251,{"$f":"Anlægskartotek!C2262","v":0},{"$f":"+IF((Basisoplysninger!$D$60=\"Ja\")*(Anlægskartotek!C2262<>0)=1,Anlægskartotek!$L$14,Anlægskartotek!I2262)","v":0}]
[null,2252,{"$f":"Anlægskartotek!C2263","v":0},{"$f":"+IF((Basisoplysninger!$D$60=\"Ja\")*(Anlægskartotek!C2263<>0)=1,Anlægskartotek!$L$14,Anlægskartotek!I2263)","v":0}]
[null,2253,{"$f":"Anlægskartotek!C2264","v":0},{"$f":"+IF((Basisoplysninger!$D$60=\"Ja\")*(Anlægskartotek!C2264<>0)=1,Anlægskartotek!$L$14,Anlægskartotek!I2264)","v":0}]
[null,2254,{"$f":"Anlægskartotek!C2265","v":0},{"$f":"+IF((Basisoplysninger!$D$60=\"Ja\")*(Anlægskartotek!C2265<>0)=1,Anlægskartotek!$L$14,Anlægskartotek!I2265)","v":0}]
[null,2255,{"$f":"Anlægskartotek!C2266","v":0},{"$f":"+IF((Basisoplysninger!$D$60=\"Ja\")*(Anlægskartotek!C2266<>0)=1,Anlægskartotek!$L$14,Anlægskartotek!I2266)","v":0}]
[null,2256,{"$f":"Anlægskartotek!C2267","v":0},{"$f":"+IF((Basisoplysninger!$D$60=\"Ja\")*(Anlægskartotek!C2267<>0)=1,Anlægskartotek!$L$14,Anlægskartotek!I2267)","v":0}]
[null,2257,{"$f":"Anlægskartotek!C2268","v":0},{"$f":"+IF((Basisoplysninger!$D$60=\"Ja\")*(Anlægskartotek!C2268<>0)=1,Anlægskartotek!$L$14,Anlægskartotek!I2268)","v":0}]
[null,2258,{"$f":"Anlægskartotek!C2269","v":0},{"$f":"+IF((Basisoplysninger!$D$60=\"Ja\")*(Anlægskartotek!C2269<>0)=1,Anlægskartotek!$L$14,Anlægskartotek!I2269)","v":0}]
[null,2259,{"$f":"Anlægskartotek!C2270","v":0},{"$f":"+IF((Basisoplysninger!$D$60=\"Ja\")*(Anlægskartotek!C2270<>0)=1,Anlægskartotek!$L$14,Anlægskartotek!I2270)","v":0}]
[null,2260,{"$f":"Anlægskartotek!C2271","v":0},{"$f":"+IF((Basisoplysninger!$D$60=\"Ja\")*(Anlægskartotek!C2271<>0)=1,Anlægskartotek!$L$14,Anlægskartotek!I2271)","v":0}]
[null,2261,{"$f":"Anlægskartotek!C2272","v":0},{"$f":"+IF((Basisoplysninger!$D$60=\"Ja\")*(Anlægskartotek!C2272<>0)=1,Anlægskartotek!$L$14,Anlægskartotek!I2272)","v":0}]
[null,2262,{"$f":"Anlægskartotek!C2273","v":0},{"$f":"+IF((Basisoplysninger!$D$60=\"Ja\")*(Anlægskartotek!C2273<>0)=1,Anlægskartotek!$L$14,Anlægskartotek!I2273)","v":0}]
[null,2263,{"$f":"Anlægskartotek!C2274","v":0},{"$f":"+IF((Basisoplysninger!$D$60=\"Ja\")*(Anlægskartotek!C2274<>0)=1,Anlægskartotek!$L$14,Anlægskartotek!I2274)","v":0}]
[null,2264,{"$f":"Anlægskartotek!C2275","v":0},{"$f":"+IF((Basisoplysninger!$D$60=\"Ja\")*(Anlægskartotek!C2275<>0)=1,Anlægskartotek!$L$14,Anlægskartotek!I2275)","v":0}]
[null,2265,{"$f":"Anlægskartotek!C2276","v":0},{"$f":"+IF((Basisoplysninger!$D$60=\"Ja\")*(Anlægskartotek!C2276<>0)=1,Anlægskartotek!$L$14,Anlægskartotek!I2276)","v":0}]
[null,2266,{"$f":"Anlægskartotek!C2277","v":0},{"$f":"+IF((Basisoplysninger!$D$60=\"Ja\")*(Anlægskartotek!C2277<>0)=1,Anlægskartotek!$L$14,Anlægskartotek!I2277)","v":0}]
[null,2267,{"$f":"Anlægskartotek!C2278","v":0},{"$f":"+IF((Basisoplysninger!$D$60=\"Ja\")*(Anlægskartotek!C2278<>0)=1,Anlægskartotek!$L$14,Anlægskartotek!I2278)","v":0}]
[null,2268,{"$f":"Anlægskartotek!C2279","v":0},{"$f":"+IF((Basisoplysninger!$D$60=\"Ja\")*(Anlægskartotek!C2279<>0)=1,Anlægskartotek!$L$14,Anlægskartotek!I2279)","v":0}]
[null,2269,{"$f":"Anlægskartotek!C2280","v":0},{"$f":"+IF((Basisoplysninger!$D$60=\"Ja\")*(Anlægskartotek!C2280<>0)=1,Anlægskartotek!$L$14,Anlægskartotek!I2280)","v":0}]
[null,2270,{"$f":"Anlægskartotek!C2281","v":0},{"$f":"+IF((Basisoplysninger!$D$60=\"Ja\")*(Anlægskartotek!C2281<>0)=1,Anlægskartotek!$L$14,Anlægskartotek!I2281)","v":0}]
[null,2271,{"$f":"Anlægskartotek!C2282","v":0},{"$f":"+IF((Basisoplysninger!$D$60=\"Ja\")*(Anlægskartotek!C2282<>0)=1,Anlægskartotek!$L$14,Anlægskartotek!I2282)","v":0}]
[null,2272,{"$f":"Anlægskartotek!C2283","v":0},{"$f":"+IF((Basisoplysninger!$D$60=\"Ja\")*(Anlægskartotek!C2283<>0)=1,Anlægskartotek!$L$14,Anlægskartotek!I2283)","v":0}]
[null,2273,{"$f":"Anlægskartotek!C2284","v":0},{"$f":"+IF((Basisoplysninger!$D$60=\"Ja\")*(Anlægskartotek!C2284<>0)=1,Anlægskartotek!$L$14,Anlægskartotek!I2284)","v":0}]
[null,2274,{"$f":"Anlægskartotek!C2285","v":0},{"$f":"+IF((Basisoplysninger!$D$60=\"Ja\")*(Anlægskartotek!C2285<>0)=1,Anlægskartotek!$L$14,Anlægskartotek!I2285)","v":0}]
[null,2275,{"$f":"Anlægskartotek!C2286","v":0},{"$f":"+IF((Basisoplysninger!$D$60=\"Ja\")*(Anlægskartotek!C2286<>0)=1,Anlægskartotek!$L$14,Anlægskartotek!I2286)","v":0}]
[null,2276,{"$f":"Anlægskartotek!C2287","v":0},{"$f":"+IF((Basisoplysninger!$D$60=\"Ja\")*(Anlægskartotek!C2287<>0)=1,Anlægskartotek!$L$14,Anlægskartotek!I2287)","v":0}]
[null,2277,{"$f":"Anlægskartotek!C2288","v":0},{"$f":"+IF((Basisoplysninger!$D$60=\"Ja\")*(Anlægskartotek!C2288<>0)=1,Anlægskartotek!$L$14,Anlægskartotek!I2288)","v":0}]
[null,2278,{"$f":"Anlægskartotek!C2289","v":0},{"$f":"+IF((Basisoplysninger!$D$60=\"Ja\")*(Anlægskartotek!C2289<>0)=1,Anlægskartotek!$L$14,Anlægskartotek!I2289)","v":0}]
[null,2279,{"$f":"Anlægskartotek!C2290","v":0},{"$f":"+IF((Basisoplysninger!$D$60=\"Ja\")*(Anlægskartotek!C2290<>0)=1,Anlægskartotek!$L$14,Anlægskartotek!I2290)","v":0}]
[null,2280,{"$f":"Anlægskartotek!C2291","v":0},{"$f":"+IF((Basisoplysninger!$D$60=\"Ja\")*(Anlægskartotek!C2291<>0)=1,Anlægskartotek!$L$14,Anlægskartotek!I2291)","v":0}]
[null,2281,{"$f":"Anlægskartotek!C2292","v":0},{"$f":"+IF((Basisoplysninger!$D$60=\"Ja\")*(Anlægskartotek!C2292<>0)=1,Anlægskartotek!$L$14,Anlægskartotek!I2292)","v":0}]
[null,2282,{"$f":"Anlægskartotek!C2293","v":0},{"$f":"+IF((Basisoplysninger!$D$60=\"Ja\")*(Anlægskartotek!C2293<>0)=1,Anlægskartotek!$L$14,Anlægskartotek!I2293)","v":0}]
[null,2283,{"$f":"Anlægskartotek!C2294","v":0},{"$f":"+IF((Basisoplysninger!$D$60=\"Ja\")*(Anlægskartotek!C2294<>0)=1,Anlægskartotek!$L$14,Anlægskartotek!I2294)","v":0}]
[null,2284,{"$f":"Anlægskartotek!C2295","v":0},{"$f":"+IF((Basisoplysninger!$D$60=\"Ja\")*(Anlægskartotek!C2295<>0)=1,Anlægskartotek!$L$14,Anlægskartotek!I2295)","v":0}]
[null,2285,{"$f":"Anlægskartotek!C2296","v":0},{"$f":"+IF((Basisoplysninger!$D$60=\"Ja\")*(Anlægskartotek!C2296<>0)=1,Anlægskartotek!$L$14,Anlægskartotek!I2296)","v":0}]
[null,2286,{"$f":"Anlægskartotek!C2297","v":0},{"$f":"+IF((Basisoplysninger!$D$60=\"Ja\")*(Anlægskartotek!C2297<>0)=1,Anlægskartotek!$L$14,Anlægskartotek!I2297)","v":0}]
[null,2287,{"$f":"Anlægskartotek!C2298","v":0},{"$f":"+IF((Basisoplysninger!$D$60=\"Ja\")*(Anlægskartotek!C2298<>0)=1,Anlægskartotek!$L$14,Anlægskartotek!I2298)","v":0}]
[null,2288,{"$f":"Anlægskartotek!C2299","v":0},{"$f":"+IF((Basisoplysninger!$D$60=\"Ja\")*(Anlægskartotek!C2299<>0)=1,Anlægskartotek!$L$14,Anlægskartotek!I2299)","v":0}]
[null,2289,{"$f":"Anlægskartotek!C2300","v":0},{"$f":"+IF((Basisoplysninger!$D$60=\"Ja\")*(Anlægskartotek!C2300<>0)=1,Anlægskartotek!$L$14,Anlægskartotek!I2300)","v":0}]
[null,2290,{"$f":"Anlægskartotek!C2301","v":0},{"$f":"+IF((Basisoplysninger!$D$60=\"Ja\")*(Anlægskartotek!C2301<>0)=1,Anlægskartotek!$L$14,Anlægskartotek!I2301)","v":0}]
[null,2291,{"$f":"Anlægskartotek!C2302","v":0},{"$f":"+IF((Basisoplysninger!$D$60=\"Ja\")*(Anlægskartotek!C2302<>0)=1,Anlægskartotek!$L$14,Anlægskartotek!I2302)","v":0}]
[null,2292,{"$f":"Anlægskartotek!C2303","v":0},{"$f":"+IF((Basisoplysninger!$D$60=\"Ja\")*(Anlægskartotek!C2303<>0)=1,Anlægskartotek!$L$14,Anlægskartotek!I2303)","v":0}]
[null,2293,{"$f":"Anlægskartotek!C2304","v":0},{"$f":"+IF((Basisoplysninger!$D$60=\"Ja\")*(Anlægskartotek!C2304<>0)=1,Anlægskartotek!$L$14,Anlægskartotek!I2304)","v":0}]
[null,2294,{"$f":"Anlægskartotek!C2305","v":0},{"$f":"+IF((Basisoplysninger!$D$60=\"Ja\")*(Anlægskartotek!C2305<>0)=1,Anlægskartotek!$L$14,Anlægskartotek!I2305)","v":0}]
[null,2295,{"$f":"Anlægskartotek!C2306","v":0},{"$f":"+IF((Basisoplysninger!$D$60=\"Ja\")*(Anlægskartotek!C2306<>0)=1,Anlægskartotek!$L$14,Anlægskartotek!I2306)","v":0}]
[null,2296,{"$f":"Anlægskartotek!C2307","v":0},{"$f":"+IF((Basisoplysninger!$D$60=\"Ja\")*(Anlægskartotek!C2307<>0)=1,Anlægskartotek!$L$14,Anlægskartotek!I2307)","v":0}]
[null,2297,{"$f":"Anlægskartotek!C2308","v":0},{"$f":"+IF((Basisoplysninger!$D$60=\"Ja\")*(Anlægskartotek!C2308<>0)=1,Anlægskartotek!$L$14,Anlægskartotek!I2308)","v":0}]
[null,2298,{"$f":"Anlægskartotek!C2309","v":0},{"$f":"+IF((Basisoplysninger!$D$60=\"Ja\")*(Anlægskartotek!C2309<>0)=1,Anlægskartotek!$L$14,Anlægskartotek!I2309)","v":0}]
[null,2299,{"$f":"Anlægskartotek!C2310","v":0},{"$f":"+IF((Basisoplysninger!$D$60=\"Ja\")*(Anlægskartotek!C2310<>0)=1,Anlægskartotek!$L$14,Anlægskartotek!I2310)","v":0}]
[null,2300,{"$f":"Anlægskartotek!C2311","v":0},{"$f":"+IF((Basisoplysninger!$D$60=\"Ja\")*(Anlægskartotek!C2311<>0)=1,Anlægskartotek!$L$14,Anlægskartotek!I2311)","v":0}]
[null,2301,{"$f":"Anlægskartotek!C2312","v":0},{"$f":"+IF((Basisoplysninger!$D$60=\"Ja\")*(Anlægskartotek!C2312<>0)=1,Anlægskartotek!$L$14,Anlægskartotek!I2312)","v":0}]
[null,2302,{"$f":"Anlægskartotek!C2313","v":0},{"$f":"+IF((Basisoplysninger!$D$60=\"Ja\")*(Anlægskartotek!C2313<>0)=1,Anlægskartotek!$L$14,Anlægskartotek!I2313)","v":0}]
[null,2303,{"$f":"Anlægskartotek!C2314","v":0},{"$f":"+IF((Basisoplysninger!$D$60=\"Ja\")*(Anlægskartotek!C2314<>0)=1,Anlægskartotek!$L$14,Anlægskartotek!I2314)","v":0}]
[null,2304,{"$f":"Anlægskartotek!C2315","v":0},{"$f":"+IF((Basisoplysninger!$D$60=\"Ja\")*(Anlægskartotek!C2315<>0)=1,Anlægskartotek!$L$14,Anlægskartotek!I2315)","v":0}]
[null,2305,{"$f":"Anlægskartotek!C2316","v":0},{"$f":"+IF((Basisoplysninger!$D$60=\"Ja\")*(Anlægskartotek!C2316<>0)=1,Anlægskartotek!$L$14,Anlægskartotek!I2316)","v":0}]
[null,2306,{"$f":"Anlægskartotek!C2317","v":0},{"$f":"+IF((Basisoplysninger!$D$60=\"Ja\")*(Anlægskartotek!C2317<>0)=1,Anlægskartotek!$L$14,Anlægskartotek!I2317)","v":0}]
[null,{"$f":"B2415+1","v":2307},{"$f":"Anlægskartotek!C2318","v":0},{"$f":"+IF((Basisoplysninger!$D$60=\"Ja\")*(Anlægskartotek!C2318<>0)=1,Anlægskartotek!$L$14,Anlægskartotek!I2318)","v":0}]
[null,2308,{"$f":"Anlægskartotek!C2319","v":0},{"$f":"+IF((Basisoplysninger!$D$60=\"Ja\")*(Anlægskartotek!C2319<>0)=1,Anlægskartotek!$L$14,Anlægskartotek!I2319)","v":0}]
[null,2309,{"$f":"Anlægskartotek!C2320","v":0},{"$f":"+IF((Basisoplysninger!$D$60=\"Ja\")*(Anlægskartotek!C2320<>0)=1,Anlægskartotek!$L$14,Anlægskartotek!I2320)","v":0}]
[null,2310,{"$f":"Anlægskartotek!C2321","v":0},{"$f":"+IF((Basisoplysninger!$D$60=\"Ja\")*(Anlægskartotek!C2321<>0)=1,Anlægskartotek!$L$14,Anlægskartotek!I2321)","v":0}]
[null,2311,{"$f":"Anlægskartotek!C2322","v":0},{"$f":"+IF((Basisoplysninger!$D$60=\"Ja\")*(Anlægskartotek!C2322<>0)=1,Anlægskartotek!$L$14,Anlægskartotek!I2322)","v":0}]
[null,2312,{"$f":"Anlægskartotek!C2323","v":0},{"$f":"+IF((Basisoplysninger!$D$60=\"Ja\")*(Anlægskartotek!C2323<>0)=1,Anlægskartotek!$L$14,Anlægskartotek!I2323)","v":0}]
[null,2313,{"$f":"Anlægskartotek!C2324","v":0},{"$f":"+IF((Basisoplysninger!$D$60=\"Ja\")*(Anlægskartotek!C2324<>0)=1,Anlægskartotek!$L$14,Anlægskartotek!I2324)","v":0}]
[null,2314,{"$f":"Anlægskartotek!C2325","v":0},{"$f":"+IF((Basisoplysninger!$D$60=\"Ja\")*(Anlægskartotek!C2325<>0)=1,Anlægskartotek!$L$14,Anlægskartotek!I2325)","v":0}]
[null,2315,{"$f":"Anlægskartotek!C2326","v":0},{"$f":"+IF((Basisoplysninger!$D$60=\"Ja\")*(Anlægskartotek!C2326<>0)=1,Anlægskartotek!$L$14,Anlægskartotek!I2326)","v":0}]
[null,2316,{"$f":"Anlægskartotek!C2327","v":0},{"$f":"+IF((Basisoplysninger!$D$60=\"Ja\")*(Anlægskartotek!C2327<>0)=1,Anlægskartotek!$L$14,Anlægskartotek!I2327)","v":0}]
[null,2317,{"$f":"Anlægskartotek!C2328","v":0},{"$f":"+IF((Basisoplysninger!$D$60=\"Ja\")*(Anlægskartotek!C2328<>0)=1,Anlægskartotek!$L$14,Anlægskartotek!I2328)","v":0}]
[null,2318,{"$f":"Anlægskartotek!C2329","v":0},{"$f":"+IF((Basisoplysninger!$D$60=\"Ja\")*(Anlægskartotek!C2329<>0)=1,Anlægskartotek!$L$14,Anlægskartotek!I2329)","v":0}]
[null,2319,{"$f":"Anlægskartotek!C2330","v":0},{"$f":"+IF((Basisoplysninger!$D$60=\"Ja\")*(Anlægskartotek!C2330<>0)=1,Anlægskartotek!$L$14,Anlægskartotek!I2330)","v":0}]
[null,2320,{"$f":"Anlægskartotek!C2331","v":0},{"$f":"+IF((Basisoplysninger!$D$60=\"Ja\")*(Anlægskartotek!C2331<>0)=1,Anlægskartotek!$L$14,Anlægskartotek!I2331)","v":0}]
[null,2321,{"$f":"Anlægskartotek!C2332","v":0},{"$f":"+IF((Basisoplysninger!$D$60=\"Ja\")*(Anlægskartotek!C2332<>0)=1,Anlægskartotek!$L$14,Anlægskartotek!I2332)","v":0}]
[null,2322,{"$f":"Anlægskartotek!C2333","v":0},{"$f":"+IF((Basisoplysninger!$D$60=\"Ja\")*(Anlægskartotek!C2333<>0)=1,Anlægskartotek!$L$14,Anlægskartotek!I2333)","v":0}]
[null,2323,{"$f":"Anlægskartotek!C2334","v":0},{"$f":"+IF((Basisoplysninger!$D$60=\"Ja\")*(Anlægskartotek!C2334<>0)=1,Anlægskartotek!$L$14,Anlægskartotek!I2334)","v":0}]
[null,2324,{"$f":"Anlægskartotek!C2335","v":0},{"$f":"+IF((Basisoplysninger!$D$60=\"Ja\")*(Anlægskartotek!C2335<>0)=1,Anlægskartotek!$L$14,Anlægskartotek!I2335)","v":0}]
[null,2325,{"$f":"Anlægskartotek!C2336","v":0},{"$f":"+IF((Basisoplysninger!$D$60=\"Ja\")*(Anlægskartotek!C2336<>0)=1,Anlægskartotek!$L$14,Anlægskartotek!I2336)","v":0}]
[null,2326,{"$f":"Anlægskartotek!C2337","v":0},{"$f":"+IF((Basisoplysninger!$D$60=\"Ja\")*(Anlægskartotek!C2337<>0)=1,Anlægskartotek!$L$14,Anlægskartotek!I2337)","v":0}]
[null,2327,{"$f":"Anlægskartotek!C2338","v":0},{"$f":"+IF((Basisoplysninger!$D$60=\"Ja\")*(Anlægskartotek!C2338<>0)=1,Anlægskartotek!$L$14,Anlægskartotek!I2338)","v":0}]
[null,2328,{"$f":"Anlægskartotek!C2339","v":0},{"$f":"+IF((Basisoplysninger!$D$60=\"Ja\")*(Anlægskartotek!C2339<>0)=1,Anlægskartotek!$L$14,Anlægskartotek!I2339)","v":0}]
[null,2329,{"$f":"Anlægskartotek!C2340","v":0},{"$f":"+IF((Basisoplysninger!$D$60=\"Ja\")*(Anlægskartotek!C2340<>0)=1,Anlægskartotek!$L$14,Anlægskartotek!I2340)","v":0}]
[null,2330,{"$f":"Anlægskartotek!C2341","v":0},{"$f":"+IF((Basisoplysninger!$D$60=\"Ja\")*(Anlægskartotek!C2341<>0)=1,Anlægskartotek!$L$14,Anlægskartotek!I2341)","v":0}]
[null,2331,{"$f":"Anlægskartotek!C2342","v":0},{"$f":"+IF((Basisoplysninger!$D$60=\"Ja\")*(Anlægskartotek!C2342<>0)=1,Anlægskartotek!$L$14,Anlægskartotek!I2342)","v":0}]
[null,2332,{"$f":"Anlægskartotek!C2343","v":0},{"$f":"+IF((Basisoplysninger!$D$60=\"Ja\")*(Anlægskartotek!C2343<>0)=1,Anlægskartotek!$L$14,Anlægskartotek!I2343)","v":0}]
[null,2333,{"$f":"Anlægskartotek!C2344","v":0},{"$f":"+IF((Basisoplysninger!$D$60=\"Ja\")*(Anlægskartotek!C2344<>0)=1,Anlægskartotek!$L$14,Anlægskartotek!I2344)","v":0}]
[null,2334,{"$f":"Anlægskartotek!C2345","v":0},{"$f":"+IF((Basisoplysninger!$D$60=\"Ja\")*(Anlægskartotek!C2345<>0)=1,Anlægskartotek!$L$14,Anlægskartotek!I2345)","v":0}]
[null,2335,{"$f":"Anlægskartotek!C2346","v":0},{"$f":"+IF((Basisoplysninger!$D$60=\"Ja\")*(Anlægskartotek!C2346<>0)=1,Anlægskartotek!$L$14,Anlægskartotek!I2346)","v":0}]
[null,2336,{"$f":"Anlægskartotek!C2347","v":0},{"$f":"+IF((Basisoplysninger!$D$60=\"Ja\")*(Anlægskartotek!C2347<>0)=1,Anlægskartotek!$L$14,Anlægskartotek!I2347)","v":0}]
[null,2337,{"$f":"Anlægskartotek!C2348","v":0},{"$f":"+IF((Basisoplysninger!$D$60=\"Ja\")*(Anlægskartotek!C2348<>0)=1,Anlægskartotek!$L$14,Anlægskartotek!I2348)","v":0}]
[null,2338,{"$f":"Anlægskartotek!C2349","v":0},{"$f":"+IF((Basisoplysninger!$D$60=\"Ja\")*(Anlægskartotek!C2349<>0)=1,Anlægskartotek!$L$14,Anlægskartotek!I2349)","v":0}]
[null,2339,{"$f":"Anlægskartotek!C2350","v":0},{"$f":"+IF((Basisoplysninger!$D$60=\"Ja\")*(Anlægskartotek!C2350<>0)=1,Anlægskartotek!$L$14,Anlægskartotek!I2350)","v":0}]
[null,2340,{"$f":"Anlægskartotek!C2351","v":0},{"$f":"+IF((Basisoplysninger!$D$60=\"Ja\")*(Anlægskartotek!C2351<>0)=1,Anlægskartotek!$L$14,Anlægskartotek!I2351)","v":0}]
[null,2341,{"$f":"Anlægskartotek!C2352","v":0},{"$f":"+IF((Basisoplysninger!$D$60=\"Ja\")*(Anlægskartotek!C2352<>0)=1,Anlægskartotek!$L$14,Anlægskartotek!I2352)","v":0}]
[null,2342,{"$f":"Anlægskartotek!C2353","v":0},{"$f":"+IF((Basisoplysninger!$D$60=\"Ja\")*(Anlægskartotek!C2353<>0)=1,Anlægskartotek!$L$14,Anlægskartotek!I2353)","v":0}]
[null,2343,{"$f":"Anlægskartotek!C2354","v":0},{"$f":"+IF((Basisoplysninger!$D$60=\"Ja\")*(Anlægskartotek!C2354<>0)=1,Anlægskartotek!$L$14,Anlægskartotek!I2354)","v":0}]
[null,2344,{"$f":"Anlægskartotek!C2355","v":0},{"$f":"+IF((Basisoplysninger!$D$60=\"Ja\")*(Anlægskartotek!C2355<>0)=1,Anlægskartotek!$L$14,Anlægskartotek!I2355)","v":0}]
[null,2345,{"$f":"Anlægskartotek!C2356","v":0},{"$f":"+IF((Basisoplysninger!$D$60=\"Ja\")*(Anlægskartotek!C2356<>0)=1,Anlægskartotek!$L$14,Anlægskartotek!I2356)","v":0}]
[null,2346,{"$f":"Anlægskartotek!C2357","v":0},{"$f":"+IF((Basisoplysninger!$D$60=\"Ja\")*(Anlægskartotek!C2357<>0)=1,Anlægskartotek!$L$14,Anlægskartotek!I2357)","v":0}]
[null,2347,{"$f":"Anlægskartotek!C2358","v":0},{"$f":"+IF((Basisoplysninger!$D$60=\"Ja\")*(Anlægskartotek!C2358<>0)=1,Anlægskartotek!$L$14,Anlægskartotek!I2358)","v":0}]
[null,2348,{"$f":"Anlægskartotek!C2359","v":0},{"$f":"+IF((Basisoplysninger!$D$60=\"Ja\")*(Anlægskartotek!C2359<>0)=1,Anlægskartotek!$L$14,Anlægskartotek!I2359)","v":0}]
[null,2349,{"$f":"Anlægskartotek!C2360","v":0},{"$f":"+IF((Basisoplysninger!$D$60=\"Ja\")*(Anlægskartotek!C2360<>0)=1,Anlægskartotek!$L$14,Anlægskartotek!I2360)","v":0}]
[null,2350,{"$f":"Anlægskartotek!C2361","v":0},{"$f":"+IF((Basisoplysninger!$D$60=\"Ja\")*(Anlægskartotek!C2361<>0)=1,Anlægskartotek!$L$14,Anlægskartotek!I2361)","v":0}]
[null,2351,{"$f":"Anlægskartotek!C2362","v":0},{"$f":"+IF((Basisoplysninger!$D$60=\"Ja\")*(Anlægskartotek!C2362<>0)=1,Anlægskartotek!$L$14,Anlægskartotek!I2362)","v":0}]
[null,2352,{"$f":"Anlægskartotek!C2363","v":0},{"$f":"+IF((Basisoplysninger!$D$60=\"Ja\")*(Anlægskartotek!C2363<>0)=1,Anlægskartotek!$L$14,Anlægskartotek!I2363)","v":0}]
[null,2353,{"$f":"Anlægskartotek!C2364","v":0},{"$f":"+IF((Basisoplysninger!$D$60=\"Ja\")*(Anlægskartotek!C2364<>0)=1,Anlægskartotek!$L$14,Anlægskartotek!I2364)","v":0}]
[null,2354,{"$f":"Anlægskartotek!C2365","v":0},{"$f":"+IF((Basisoplysninger!$D$60=\"Ja\")*(Anlægskartotek!C2365<>0)=1,Anlægskartotek!$L$14,Anlægskartotek!I2365)","v":0}]
[null,2355,{"$f":"Anlægskartotek!C2366","v":0},{"$f":"+IF((Basisoplysninger!$D$60=\"Ja\")*(Anlægskartotek!C2366<>0)=1,Anlægskartotek!$L$14,Anlægskartotek!I2366)","v":0}]
[null,2356,{"$f":"Anlægskartotek!C2367","v":0},{"$f":"+IF((Basisoplysninger!$D$60=\"Ja\")*(Anlægskartotek!C2367<>0)=1,Anlægskartotek!$L$14,Anlægskartotek!I2367)","v":0}]
[null,2357,{"$f":"Anlægskartotek!C2368","v":0},{"$f":"+IF((Basisoplysninger!$D$60=\"Ja\")*(Anlægskartotek!C2368<>0)=1,Anlægskartotek!$L$14,Anlægskartotek!I2368)","v":0}]
[null,2358,{"$f":"Anlægskartotek!C2369","v":0},{"$f":"+IF((Basisoplysninger!$D$60=\"Ja\")*(Anlægskartotek!C2369<>0)=1,Anlægskartotek!$L$14,Anlægskartotek!I2369)","v":0}]
[null,2359,{"$f":"Anlægskartotek!C2370","v":0},{"$f":"+IF((Basisoplysninger!$D$60=\"Ja\")*(Anlægskartotek!C2370<>0)=1,Anlægskartotek!$L$14,Anlægskartotek!I2370)","v":0}]
[null,2360,{"$f":"Anlægskartotek!C2371","v":0},{"$f":"+IF((Basisoplysninger!$D$60=\"Ja\")*(Anlægskartotek!C2371<>0)=1,Anlægskartotek!$L$14,Anlægskartotek!I2371)","v":0}]
[null,2361,{"$f":"Anlægskartotek!C2372","v":0},{"$f":"+IF((Basisoplysninger!$D$60=\"Ja\")*(Anlægskartotek!C2372<>0)=1,Anlægskartotek!$L$14,Anlægskartotek!I2372)","v":0}]
[null,2362,{"$f":"Anlægskartotek!C2373","v":0},{"$f":"+IF((Basisoplysninger!$D$60=\"Ja\")*(Anlægskartotek!C2373<>0)=1,Anlægskartotek!$L$14,Anlægskartotek!I2373)","v":0}]
[null,2363,{"$f":"Anlægskartotek!C2374","v":0},{"$f":"+IF((Basisoplysninger!$D$60=\"Ja\")*(Anlægskartotek!C2374<>0)=1,Anlægskartotek!$L$14,Anlægskartotek!I2374)","v":0}]
[null,2364,{"$f":"Anlægskartotek!C2375","v":0},{"$f":"+IF((Basisoplysninger!$D$60=\"Ja\")*(Anlægskartotek!C2375<>0)=1,Anlægskartotek!$L$14,Anlægskartotek!I2375)","v":0}]
[null,2365,{"$f":"Anlægskartotek!C2376","v":0},{"$f":"+IF((Basisoplysninger!$D$60=\"Ja\")*(Anlægskartotek!C2376<>0)=1,Anlægskartotek!$L$14,Anlægskartotek!I2376)","v":0}]
[null,2366,{"$f":"Anlægskartotek!C2377","v":0},{"$f":"+IF((Basisoplysninger!$D$60=\"Ja\")*(Anlægskartotek!C2377<>0)=1,Anlægskartotek!$L$14,Anlægskartotek!I2377)","v":0}]
[null,2367,{"$f":"Anlægskartotek!C2378","v":0},{"$f":"+IF((Basisoplysninger!$D$60=\"Ja\")*(Anlægskartotek!C2378<>0)=1,Anlægskartotek!$L$14,Anlægskartotek!I2378)","v":0}]
[null,2368,{"$f":"Anlægskartotek!C2379","v":0},{"$f":"+IF((Basisoplysninger!$D$60=\"Ja\")*(Anlægskartotek!C2379<>0)=1,Anlægskartotek!$L$14,Anlægskartotek!I2379)","v":0}]
[null,2369,{"$f":"Anlægskartotek!C2380","v":0},{"$f":"+IF((Basisoplysninger!$D$60=\"Ja\")*(Anlægskartotek!C2380<>0)=1,Anlægskartotek!$L$14,Anlægskartotek!I2380)","v":0}]
[null,2370,{"$f":"Anlægskartotek!C2381","v":0},{"$f":"+IF((Basisoplysninger!$D$60=\"Ja\")*(Anlægskartotek!C2381<>0)=1,Anlægskartotek!$L$14,Anlægskartotek!I2381)","v":0}]
[null,{"$f":"B2479+1","v":2371},{"$f":"Anlægskartotek!C2382","v":0},{"$f":"+IF((Basisoplysninger!$D$60=\"Ja\")*(Anlægskartotek!C2382<>0)=1,Anlægskartotek!$L$14,Anlægskartotek!I2382)","v":0}]
[null,2372,{"$f":"Anlægskartotek!C2383","v":0},{"$f":"+IF((Basisoplysninger!$D$60=\"Ja\")*(Anlægskartotek!C2383<>0)=1,Anlægskartotek!$L$14,Anlægskartotek!I2383)","v":0}]
[null,2373,{"$f":"Anlægskartotek!C2384","v":0},{"$f":"+IF((Basisoplysninger!$D$60=\"Ja\")*(Anlægskartotek!C2384<>0)=1,Anlægskartotek!$L$14,Anlægskartotek!I2384)","v":0}]
[null,2374,{"$f":"Anlægskartotek!C2385","v":0},{"$f":"+IF((Basisoplysninger!$D$60=\"Ja\")*(Anlægskartotek!C2385<>0)=1,Anlægskartotek!$L$14,Anlægskartotek!I2385)","v":0}]
[null,2375,{"$f":"Anlægskartotek!C2386","v":0},{"$f":"+IF((Basisoplysninger!$D$60=\"Ja\")*(Anlægskartotek!C2386<>0)=1,Anlægskartotek!$L$14,Anlægskartotek!I2386)","v":0}]
[null,2376,{"$f":"Anlægskartotek!C2387","v":0},{"$f":"+IF((Basisoplysninger!$D$60=\"Ja\")*(Anlægskartotek!C2387<>0)=1,Anlægskartotek!$L$14,Anlægskartotek!I2387)","v":0}]
[null,2377,{"$f":"Anlægskartotek!C2388","v":0},{"$f":"+IF((Basisoplysninger!$D$60=\"Ja\")*(Anlægskartotek!C2388<>0)=1,Anlægskartotek!$L$14,Anlægskartotek!I2388)","v":0}]
[null,2378,{"$f":"Anlægskartotek!C2389","v":0},{"$f":"+IF((Basisoplysninger!$D$60=\"Ja\")*(Anlægskartotek!C2389<>0)=1,Anlægskartotek!$L$14,Anlægskartotek!I2389)","v":0}]
[null,2379,{"$f":"Anlægskartotek!C2390","v":0},{"$f":"+IF((Basisoplysninger!$D$60=\"Ja\")*(Anlægskartotek!C2390<>0)=1,Anlægskartotek!$L$14,Anlægskartotek!I2390)","v":0}]
[null,2380,{"$f":"Anlægskartotek!C2391","v":0},{"$f":"+IF((Basisoplysninger!$D$60=\"Ja\")*(Anlægskartotek!C2391<>0)=1,Anlægskartotek!$L$14,Anlægskartotek!I2391)","v":0}]
[null,2381,{"$f":"Anlægskartotek!C2392","v":0},{"$f":"+IF((Basisoplysninger!$D$60=\"Ja\")*(Anlægskartotek!C2392<>0)=1,Anlægskartotek!$L$14,Anlægskartotek!I2392)","v":0}]
[null,2382,{"$f":"Anlægskartotek!C2393","v":0},{"$f":"+IF((Basisoplysninger!$D$60=\"Ja\")*(Anlægskartotek!C2393<>0)=1,Anlægskartotek!$L$14,Anlægskartotek!I2393)","v":0}]
[null,2383,{"$f":"Anlægskartotek!C2394","v":0},{"$f":"+IF((Basisoplysninger!$D$60=\"Ja\")*(Anlægskartotek!C2394<>0)=1,Anlægskartotek!$L$14,Anlægskartotek!I2394)","v":0}]
[null,2384,{"$f":"Anlægskartotek!C2395","v":0},{"$f":"+IF((Basisoplysninger!$D$60=\"Ja\")*(Anlægskartotek!C2395<>0)=1,Anlægskartotek!$L$14,Anlægskartotek!I2395)","v":0}]
[null,2385,{"$f":"Anlægskartotek!C2396","v":0},{"$f":"+IF((Basisoplysninger!$D$60=\"Ja\")*(Anlægskartotek!C2396<>0)=1,Anlægskartotek!$L$14,Anlægskartotek!I2396)","v":0}]
[null,2386,{"$f":"Anlægskartotek!C2397","v":0},{"$f":"+IF((Basisoplysninger!$D$60=\"Ja\")*(Anlægskartotek!C2397<>0)=1,Anlægskartotek!$L$14,Anlægskartotek!I2397)","v":0}]
[null,2387,{"$f":"Anlægskartotek!C2398","v":0},{"$f":"+IF((Basisoplysninger!$D$60=\"Ja\")*(Anlægskartotek!C2398<>0)=1,Anlægskartotek!$L$14,Anlægskartotek!I2398)","v":0}]
[null,2388,{"$f":"Anlægskartotek!C2399","v":0},{"$f":"+IF((Basisoplysninger!$D$60=\"Ja\")*(Anlægskartotek!C2399<>0)=1,Anlægskartotek!$L$14,Anlægskartotek!I2399)","v":0}]
[null,2389,{"$f":"Anlægskartotek!C2400","v":0},{"$f":"+IF((Basisoplysninger!$D$60=\"Ja\")*(Anlægskartotek!C2400<>0)=1,Anlægskartotek!$L$14,Anlægskartotek!I2400)","v":0}]
[null,2390,{"$f":"Anlægskartotek!C2401","v":0},{"$f":"+IF((Basisoplysninger!$D$60=\"Ja\")*(Anlægskartotek!C2401<>0)=1,Anlægskartotek!$L$14,Anlægskartotek!I2401)","v":0}]
[null,2391,{"$f":"Anlægskartotek!C2402","v":0},{"$f":"+IF((Basisoplysninger!$D$60=\"Ja\")*(Anlægskartotek!C2402<>0)=1,Anlægskartotek!$L$14,Anlægskartotek!I2402)","v":0}]
[null,2392,{"$f":"Anlægskartotek!C2403","v":0},{"$f":"+IF((Basisoplysninger!$D$60=\"Ja\")*(Anlægskartotek!C2403<>0)=1,Anlægskartotek!$L$14,Anlægskartotek!I2403)","v":0}]
[null,2393,{"$f":"Anlægskartotek!C2404","v":0},{"$f":"+IF((Basisoplysninger!$D$60=\"Ja\")*(Anlægskartotek!C2404<>0)=1,Anlægskartotek!$L$14,Anlægskartotek!I2404)","v":0}]
[null,2394,{"$f":"Anlægskartotek!C2405","v":0},{"$f":"+IF((Basisoplysninger!$D$60=\"Ja\")*(Anlægskartotek!C2405<>0)=1,Anlægskartotek!$L$14,Anlægskartotek!I2405)","v":0}]
[null,2395,{"$f":"Anlægskartotek!C2406","v":0},{"$f":"+IF((Basisoplysninger!$D$60=\"Ja\")*(Anlægskartotek!C2406<>0)=1,Anlægskartotek!$L$14,Anlægskartotek!I2406)","v":0}]
[null,2396,{"$f":"Anlægskartotek!C2407","v":0},{"$f":"+IF((Basisoplysninger!$D$60=\"Ja\")*(Anlægskartotek!C2407<>0)=1,Anlægskartotek!$L$14,Anlægskartotek!I2407)","v":0}]
[null,2397,{"$f":"Anlægskartotek!C2408","v":0},{"$f":"+IF((Basisoplysninger!$D$60=\"Ja\")*(Anlægskartotek!C2408<>0)=1,Anlægskartotek!$L$14,Anlægskartotek!I2408)","v":0}]
[null,2398,{"$f":"Anlægskartotek!C2409","v":0},{"$f":"+IF((Basisoplysninger!$D$60=\"Ja\")*(Anlægskartotek!C2409<>0)=1,Anlægskartotek!$L$14,Anlægskartotek!I2409)","v":0}]
[null,2399,{"$f":"Anlægskartotek!C2410","v":0},{"$f":"+IF((Basisoplysninger!$D$60=\"Ja\")*(Anlægskartotek!C2410<>0)=1,Anlægskartotek!$L$14,Anlægskartotek!I2410)","v":0}]
[null,2400,{"$f":"Anlægskartotek!C2411","v":0},{"$f":"+IF((Basisoplysninger!$D$60=\"Ja\")*(Anlægskartotek!C2411<>0)=1,Anlægskartotek!$L$14,Anlægskartotek!I2411)","v":0}]
[null,2401,{"$f":"Anlægskartotek!C2412","v":0},{"$f":"+IF((Basisoplysninger!$D$60=\"Ja\")*(Anlægskartotek!C2412<>0)=1,Anlægskartotek!$L$14,Anlægskartotek!I2412)","v":0}]
[null,2402,{"$f":"Anlægskartotek!C2413","v":0},{"$f":"+IF((Basisoplysninger!$D$60=\"Ja\")*(Anlægskartotek!C2413<>0)=1,Anlægskartotek!$L$14,Anlægskartotek!I2413)","v":0}]
[null,2403,{"$f":"Anlægskartotek!C2414","v":0},{"$f":"+IF((Basisoplysninger!$D$60=\"Ja\")*(Anlægskartotek!C2414<>0)=1,Anlægskartotek!$L$14,Anlægskartotek!I2414)","v":0}]
[null,2404,{"$f":"Anlægskartotek!C2415","v":0},{"$f":"+IF((Basisoplysninger!$D$60=\"Ja\")*(Anlægskartotek!C2415<>0)=1,Anlægskartotek!$L$14,Anlægskartotek!I2415)","v":0}]
[null,2405,{"$f":"Anlægskartotek!C2416","v":0},{"$f":"+IF((Basisoplysninger!$D$60=\"Ja\")*(Anlægskartotek!C2416<>0)=1,Anlægskartotek!$L$14,Anlægskartotek!I2416)","v":0}]
[null,2406,{"$f":"Anlægskartotek!C2417","v":0},{"$f":"+IF((Basisoplysninger!$D$60=\"Ja\")*(Anlægskartotek!C2417<>0)=1,Anlægskartotek!$L$14,Anlægskartotek!I2417)","v":0}]
[null,2407,{"$f":"Anlægskartotek!C2418","v":0},{"$f":"+IF((Basisoplysninger!$D$60=\"Ja\")*(Anlægskartotek!C2418<>0)=1,Anlægskartotek!$L$14,Anlægskartotek!I2418)","v":0}]
[null,2408,{"$f":"Anlægskartotek!C2419","v":0},{"$f":"+IF((Basisoplysninger!$D$60=\"Ja\")*(Anlægskartotek!C2419<>0)=1,Anlægskartotek!$L$14,Anlægskartotek!I2419)","v":0}]
[null,2409,{"$f":"Anlægskartotek!C2420","v":0},{"$f":"+IF((Basisoplysninger!$D$60=\"Ja\")*(Anlægskartotek!C2420<>0)=1,Anlægskartotek!$L$14,Anlægskartotek!I2420)","v":0}]
[null,2410,{"$f":"Anlægskartotek!C2421","v":0},{"$f":"+IF((Basisoplysninger!$D$60=\"Ja\")*(Anlægskartotek!C2421<>0)=1,Anlægskartotek!$L$14,Anlægskartotek!I2421)","v":0}]
[null,2411,{"$f":"Anlægskartotek!C2422","v":0},{"$f":"+IF((Basisoplysninger!$D$60=\"Ja\")*(Anlægskartotek!C2422<>0)=1,Anlægskartotek!$L$14,Anlægskartotek!I2422)","v":0}]
[null,2412,{"$f":"Anlægskartotek!C2423","v":0},{"$f":"+IF((Basisoplysninger!$D$60=\"Ja\")*(Anlægskartotek!C2423<>0)=1,Anlægskartotek!$L$14,Anlægskartotek!I2423)","v":0}]
[null,2413,{"$f":"Anlægskartotek!C2424","v":0},{"$f":"+IF((Basisoplysninger!$D$60=\"Ja\")*(Anlægskartotek!C2424<>0)=1,Anlægskartotek!$L$14,Anlægskartotek!I2424)","v":0}]
[null,2414,{"$f":"Anlægskartotek!C2425","v":0},{"$f":"+IF((Basisoplysninger!$D$60=\"Ja\")*(Anlægskartotek!C2425<>0)=1,Anlægskartotek!$L$14,Anlægskartotek!I2425)","v":0}]
[null,2415,{"$f":"Anlægskartotek!C2426","v":0},{"$f":"+IF((Basisoplysninger!$D$60=\"Ja\")*(Anlægskartotek!C2426<>0)=1,Anlægskartotek!$L$14,Anlægskartotek!I2426)","v":0}]
[null,2416,{"$f":"Anlægskartotek!C2427","v":0},{"$f":"+IF((Basisoplysninger!$D$60=\"Ja\")*(Anlægskartotek!C2427<>0)=1,Anlægskartotek!$L$14,Anlægskartotek!I2427)","v":0}]
[null,2417,{"$f":"Anlægskartotek!C2428","v":0},{"$f":"+IF((Basisoplysninger!$D$60=\"Ja\")*(Anlægskartotek!C2428<>0)=1,Anlægskartotek!$L$14,Anlægskartotek!I2428)","v":0}]
[null,2418,{"$f":"Anlægskartotek!C2429","v":0},{"$f":"+IF((Basisoplysninger!$D$60=\"Ja\")*(Anlægskartotek!C2429<>0)=1,Anlægskartotek!$L$14,Anlægskartotek!I2429)","v":0}]
[null,2419,{"$f":"Anlægskartotek!C2430","v":0},{"$f":"+IF((Basisoplysninger!$D$60=\"Ja\")*(Anlægskartotek!C2430<>0)=1,Anlægskartotek!$L$14,Anlægskartotek!I2430)","v":0}]
[null,2420,{"$f":"Anlægskartotek!C2431","v":0},{"$f":"+IF((Basisoplysninger!$D$60=\"Ja\")*(Anlægskartotek!C2431<>0)=1,Anlægskartotek!$L$14,Anlægskartotek!I2431)","v":0}]
[null,2421,{"$f":"Anlægskartotek!C2432","v":0},{"$f":"+IF((Basisoplysninger!$D$60=\"Ja\")*(Anlægskartotek!C2432<>0)=1,Anlægskartotek!$L$14,Anlægskartotek!I2432)","v":0}]
[null,2422,{"$f":"Anlægskartotek!C2433","v":0},{"$f":"+IF((Basisoplysninger!$D$60=\"Ja\")*(Anlægskartotek!C2433<>0)=1,Anlægskartotek!$L$14,Anlægskartotek!I2433)","v":0}]
[null,2423,{"$f":"Anlægskartotek!C2434","v":0},{"$f":"+IF((Basisoplysninger!$D$60=\"Ja\")*(Anlægskartotek!C2434<>0)=1,Anlægskartotek!$L$14,Anlægskartotek!I2434)","v":0}]
[null,2424,{"$f":"Anlægskartotek!C2435","v":0},{"$f":"+IF((Basisoplysninger!$D$60=\"Ja\")*(Anlægskartotek!C2435<>0)=1,Anlægskartotek!$L$14,Anlægskartotek!I2435)","v":0}]
[null,2425,{"$f":"Anlægskartotek!C2436","v":0},{"$f":"+IF((Basisoplysninger!$D$60=\"Ja\")*(Anlægskartotek!C2436<>0)=1,Anlægskartotek!$L$14,Anlægskartotek!I2436)","v":0}]
[null,2426,{"$f":"Anlægskartotek!C2437","v":0},{"$f":"+IF((Basisoplysninger!$D$60=\"Ja\")*(Anlægskartotek!C2437<>0)=1,Anlægskartotek!$L$14,Anlægskartotek!I2437)","v":0}]
[null,2427,{"$f":"Anlægskartotek!C2438","v":0},{"$f":"+IF((Basisoplysninger!$D$60=\"Ja\")*(Anlægskartotek!C2438<>0)=1,Anlægskartotek!$L$14,Anlægskartotek!I2438)","v":0}]
[null,2428,{"$f":"Anlægskartotek!C2439","v":0},{"$f":"+IF((Basisoplysninger!$D$60=\"Ja\")*(Anlægskartotek!C2439<>0)=1,Anlægskartotek!$L$14,Anlægskartotek!I2439)","v":0}]
[null,2429,{"$f":"Anlægskartotek!C2440","v":0},{"$f":"+IF((Basisoplysninger!$D$60=\"Ja\")*(Anlægskartotek!C2440<>0)=1,Anlægskartotek!$L$14,Anlægskartotek!I2440)","v":0}]
[null,2430,{"$f":"Anlægskartotek!C2441","v":0},{"$f":"+IF((Basisoplysninger!$D$60=\"Ja\")*(Anlægskartotek!C2441<>0)=1,Anlægskartotek!$L$14,Anlægskartotek!I2441)","v":0}]
[null,2431,{"$f":"Anlægskartotek!C2442","v":0},{"$f":"+IF((Basisoplysninger!$D$60=\"Ja\")*(Anlægskartotek!C2442<>0)=1,Anlægskartotek!$L$14,Anlægskartotek!I2442)","v":0}]
[null,2432,{"$f":"Anlægskartotek!C2443","v":0},{"$f":"+IF((Basisoplysninger!$D$60=\"Ja\")*(Anlægskartotek!C2443<>0)=1,Anlægskartotek!$L$14,Anlægskartotek!I2443)","v":0}]
[null,2433,{"$f":"Anlægskartotek!C2444","v":0},{"$f":"+IF((Basisoplysninger!$D$60=\"Ja\")*(Anlægskartotek!C2444<>0)=1,Anlægskartotek!$L$14,Anlægskartotek!I2444)","v":0}]
[null,2434,{"$f":"Anlægskartotek!C2445","v":0},{"$f":"+IF((Basisoplysninger!$D$60=\"Ja\")*(Anlægskartotek!C2445<>0)=1,Anlægskartotek!$L$14,Anlægskartotek!I2445)","v":0}]
[null,{"$f":"B2543+1","v":2435},{"$f":"Anlægskartotek!C2446","v":0},{"$f":"+IF((Basisoplysninger!$D$60=\"Ja\")*(Anlægskartotek!C2446<>0)=1,Anlægskartotek!$L$14,Anlægskartotek!I2446)","v":0}]
[null,2436,{"$f":"Anlægskartotek!C2447","v":0},{"$f":"+IF((Basisoplysninger!$D$60=\"Ja\")*(Anlægskartotek!C2447<>0)=1,Anlægskartotek!$L$14,Anlægskartotek!I2447)","v":0}]
[null,2437,{"$f":"Anlægskartotek!C2448","v":0},{"$f":"+IF((Basisoplysninger!$D$60=\"Ja\")*(Anlægskartotek!C2448<>0)=1,Anlægskartotek!$L$14,Anlægskartotek!I2448)","v":0}]
[null,2438,{"$f":"Anlægskartotek!C2449","v":0},{"$f":"+IF((Basisoplysninger!$D$60=\"Ja\")*(Anlægskartotek!C2449<>0)=1,Anlægskartotek!$L$14,Anlægskartotek!I2449)","v":0}]
[null,2439,{"$f":"Anlægskartotek!C2450","v":0},{"$f":"+IF((Basisoplysninger!$D$60=\"Ja\")*(Anlægskartotek!C2450<>0)=1,Anlægskartotek!$L$14,Anlægskartotek!I2450)","v":0}]
[null,2440,{"$f":"Anlægskartotek!C2451","v":0},{"$f":"+IF((Basisoplysninger!$D$60=\"Ja\")*(Anlægskartotek!C2451<>0)=1,Anlægskartotek!$L$14,Anlægskartotek!I2451)","v":0}]
[null,2441,{"$f":"Anlægskartotek!C2452","v":0},{"$f":"+IF((Basisoplysninger!$D$60=\"Ja\")*(Anlægskartotek!C2452<>0)=1,Anlægskartotek!$L$14,Anlægskartotek!I2452)","v":0}]
[null,2442,{"$f":"Anlægskartotek!C2453","v":0},{"$f":"+IF((Basisoplysninger!$D$60=\"Ja\")*(Anlægskartotek!C2453<>0)=1,Anlægskartotek!$L$14,Anlægskartotek!I2453)","v":0}]
[null,2443,{"$f":"Anlægskartotek!C2454","v":0},{"$f":"+IF((Basisoplysninger!$D$60=\"Ja\")*(Anlægskartotek!C2454<>0)=1,Anlægskartotek!$L$14,Anlægskartotek!I2454)","v":0}]
[null,2444,{"$f":"Anlægskartotek!C2455","v":0},{"$f":"+IF((Basisoplysninger!$D$60=\"Ja\")*(Anlægskartotek!C2455<>0)=1,Anlægskartotek!$L$14,Anlægskartotek!I2455)","v":0}]
[null,2445,{"$f":"Anlægskartotek!C2456","v":0},{"$f":"+IF((Basisoplysninger!$D$60=\"Ja\")*(Anlægskartotek!C2456<>0)=1,Anlægskartotek!$L$14,Anlægskartotek!I2456)","v":0}]
[null,2446,{"$f":"Anlægskartotek!C2457","v":0},{"$f":"+IF((Basisoplysninger!$D$60=\"Ja\")*(Anlægskartotek!C2457<>0)=1,Anlægskartotek!$L$14,Anlægskartotek!I2457)","v":0}]
[null,2447,{"$f":"Anlægskartotek!C2458","v":0},{"$f":"+IF((Basisoplysninger!$D$60=\"Ja\")*(Anlægskartotek!C2458<>0)=1,Anlægskartotek!$L$14,Anlægskartotek!I2458)","v":0}]
[null,2448,{"$f":"Anlægskartotek!C2459","v":0},{"$f":"+IF((Basisoplysninger!$D$60=\"Ja\")*(Anlægskartotek!C2459<>0)=1,Anlægskartotek!$L$14,Anlægskartotek!I2459)","v":0}]
[null,2449,{"$f":"Anlægskartotek!C2460","v":0},{"$f":"+IF((Basisoplysninger!$D$60=\"Ja\")*(Anlægskartotek!C2460<>0)=1,Anlægskartotek!$L$14,Anlægskartotek!I2460)","v":0}]
[null,2450,{"$f":"Anlægskartotek!C2461","v":0},{"$f":"+IF((Basisoplysninger!$D$60=\"Ja\")*(Anlægskartotek!C2461<>0)=1,Anlægskartotek!$L$14,Anlægskartotek!I2461)","v":0}]
[null,2451,{"$f":"Anlægskartotek!C2462","v":0},{"$f":"+IF((Basisoplysninger!$D$60=\"Ja\")*(Anlægskartotek!C2462<>0)=1,Anlægskartotek!$L$14,Anlægskartotek!I2462)","v":0}]
[null,2452,{"$f":"Anlægskartotek!C2463","v":0},{"$f":"+IF((Basisoplysninger!$D$60=\"Ja\")*(Anlægskartotek!C2463<>0)=1,Anlægskartotek!$L$14,Anlægskartotek!I2463)","v":0}]
[null,2453,{"$f":"Anlægskartotek!C2464","v":0},{"$f":"+IF((Basisoplysninger!$D$60=\"Ja\")*(Anlægskartotek!C2464<>0)=1,Anlægskartotek!$L$14,Anlægskartotek!I2464)","v":0}]
[null,2454,{"$f":"Anlægskartotek!C2465","v":0},{"$f":"+IF((Basisoplysninger!$D$60=\"Ja\")*(Anlægskartotek!C2465<>0)=1,Anlægskartotek!$L$14,Anlægskartotek!I2465)","v":0}]
[null,2455,{"$f":"Anlægskartotek!C2466","v":0},{"$f":"+IF((Basisoplysninger!$D$60=\"Ja\")*(Anlægskartotek!C2466<>0)=1,Anlægskartotek!$L$14,Anlægskartotek!I2466)","v":0}]
[null,2456,{"$f":"Anlægskartotek!C2467","v":0},{"$f":"+IF((Basisoplysninger!$D$60=\"Ja\")*(Anlægskartotek!C2467<>0)=1,Anlægskartotek!$L$14,Anlægskartotek!I2467)","v":0}]
[null,2457,{"$f":"Anlægskartotek!C2468","v":0},{"$f":"+IF((Basisoplysninger!$D$60=\"Ja\")*(Anlægskartotek!C2468<>0)=1,Anlægskartotek!$L$14,Anlægskartotek!I2468)","v":0}]
[null,2458,{"$f":"Anlægskartotek!C2469","v":0},{"$f":"+IF((Basisoplysninger!$D$60=\"Ja\")*(Anlægskartotek!C2469<>0)=1,Anlægskartotek!$L$14,Anlægskartotek!I2469)","v":0}]
[null,2459,{"$f":"Anlægskartotek!C2470","v":0},{"$f":"+IF((Basisoplysninger!$D$60=\"Ja\")*(Anlægskartotek!C2470<>0)=1,Anlægskartotek!$L$14,Anlægskartotek!I2470)","v":0}]
[null,2460,{"$f":"Anlægskartotek!C2471","v":0},{"$f":"+IF((Basisoplysninger!$D$60=\"Ja\")*(Anlægskartotek!C2471<>0)=1,Anlægskartotek!$L$14,Anlægskartotek!I2471)","v":0}]
[null,2461,{"$f":"Anlægskartotek!C2472","v":0},{"$f":"+IF((Basisoplysninger!$D$60=\"Ja\")*(Anlægskartotek!C2472<>0)=1,Anlægskartotek!$L$14,Anlægskartotek!I2472)","v":0}]
[null,2462,{"$f":"Anlægskartotek!C2473","v":0},{"$f":"+IF((Basisoplysninger!$D$60=\"Ja\")*(Anlægskartotek!C2473<>0)=1,Anlægskartotek!$L$14,Anlægskartotek!I2473)","v":0}]
[null,2463,{"$f":"Anlægskartotek!C2474","v":0},{"$f":"+IF((Basisoplysninger!$D$60=\"Ja\")*(Anlægskartotek!C2474<>0)=1,Anlægskartotek!$L$14,Anlægskartotek!I2474)","v":0}]
[null,2464,{"$f":"Anlægskartotek!C2475","v":0},{"$f":"+IF((Basisoplysninger!$D$60=\"Ja\")*(Anlægskartotek!C2475<>0)=1,Anlægskartotek!$L$14,Anlægskartotek!I2475)","v":0}]
[null,2465,{"$f":"Anlægskartotek!C2476","v":0},{"$f":"+IF((Basisoplysninger!$D$60=\"Ja\")*(Anlægskartotek!C2476<>0)=1,Anlægskartotek!$L$14,Anlægskartotek!I2476)","v":0}]
[null,2466,{"$f":"Anlægskartotek!C2477","v":0},{"$f":"+IF((Basisoplysninger!$D$60=\"Ja\")*(Anlægskartotek!C2477<>0)=1,Anlægskartotek!$L$14,Anlægskartotek!I2477)","v":0}]
[null,2467,{"$f":"Anlægskartotek!C2478","v":0},{"$f":"+IF((Basisoplysninger!$D$60=\"Ja\")*(Anlægskartotek!C2478<>0)=1,Anlægskartotek!$L$14,Anlægskartotek!I2478)","v":0}]
[null,2468,{"$f":"Anlægskartotek!C2479","v":0},{"$f":"+IF((Basisoplysninger!$D$60=\"Ja\")*(Anlægskartotek!C2479<>0)=1,Anlægskartotek!$L$14,Anlægskartotek!I2479)","v":0}]
[null,2469,{"$f":"Anlægskartotek!C2480","v":0},{"$f":"+IF((Basisoplysninger!$D$60=\"Ja\")*(Anlægskartotek!C2480<>0)=1,Anlægskartotek!$L$14,Anlægskartotek!I2480)","v":0}]
[null,2470,{"$f":"Anlægskartotek!C2481","v":0},{"$f":"+IF((Basisoplysninger!$D$60=\"Ja\")*(Anlægskartotek!C2481<>0)=1,Anlægskartotek!$L$14,Anlægskartotek!I2481)","v":0}]
[null,2471,{"$f":"Anlægskartotek!C2482","v":0},{"$f":"+IF((Basisoplysninger!$D$60=\"Ja\")*(Anlægskartotek!C2482<>0)=1,Anlægskartotek!$L$14,Anlægskartotek!I2482)","v":0}]
[null,2472,{"$f":"Anlægskartotek!C2483","v":0},{"$f":"+IF((Basisoplysninger!$D$60=\"Ja\")*(Anlægskartotek!C2483<>0)=1,Anlægskartotek!$L$14,Anlægskartotek!I2483)","v":0}]
[null,2473,{"$f":"Anlægskartotek!C2484","v":0},{"$f":"+IF((Basisoplysninger!$D$60=\"Ja\")*(Anlægskartotek!C2484<>0)=1,Anlægskartotek!$L$14,Anlægskartotek!I2484)","v":0}]
[null,2474,{"$f":"Anlægskartotek!C2485","v":0},{"$f":"+IF((Basisoplysninger!$D$60=\"Ja\")*(Anlægskartotek!C2485<>0)=1,Anlægskartotek!$L$14,Anlægskartotek!I2485)","v":0}]
[null,2475,{"$f":"Anlægskartotek!C2486","v":0},{"$f":"+IF((Basisoplysninger!$D$60=\"Ja\")*(Anlægskartotek!C2486<>0)=1,Anlægskartotek!$L$14,Anlægskartotek!I2486)","v":0}]
[null,2476,{"$f":"Anlægskartotek!C2487","v":0},{"$f":"+IF((Basisoplysninger!$D$60=\"Ja\")*(Anlægskartotek!C2487<>0)=1,Anlægskartotek!$L$14,Anlægskartotek!I2487)","v":0}]
[null,2477,{"$f":"Anlægskartotek!C2488","v":0},{"$f":"+IF((Basisoplysninger!$D$60=\"Ja\")*(Anlægskartotek!C2488<>0)=1,Anlægskartotek!$L$14,Anlægskartotek!I2488)","v":0}]
[null,2478,{"$f":"Anlægskartotek!C2489","v":0},{"$f":"+IF((Basisoplysninger!$D$60=\"Ja\")*(Anlægskartotek!C2489<>0)=1,Anlægskartotek!$L$14,Anlægskartotek!I2489)","v":0}]
[null,2479,{"$f":"Anlægskartotek!C2490","v":0},{"$f":"+IF((Basisoplysninger!$D$60=\"Ja\")*(Anlægskartotek!C2490<>0)=1,Anlægskartotek!$L$14,Anlægskartotek!I2490)","v":0}]
[null,2480,{"$f":"Anlægskartotek!C2491","v":0},{"$f":"+IF((Basisoplysninger!$D$60=\"Ja\")*(Anlægskartotek!C2491<>0)=1,Anlægskartotek!$L$14,Anlægskartotek!I2491)","v":0}]
[null,2481,{"$f":"Anlægskartotek!C2492","v":0},{"$f":"+IF((Basisoplysninger!$D$60=\"Ja\")*(Anlægskartotek!C2492<>0)=1,Anlægskartotek!$L$14,Anlægskartotek!I2492)","v":0}]
[null,2482,{"$f":"Anlægskartotek!C2493","v":0},{"$f":"+IF((Basisoplysninger!$D$60=\"Ja\")*(Anlægskartotek!C2493<>0)=1,Anlægskartotek!$L$14,Anlægskartotek!I2493)","v":0}]
[null,2483,{"$f":"Anlægskartotek!C2494","v":0},{"$f":"+IF((Basisoplysninger!$D$60=\"Ja\")*(Anlægskartotek!C2494<>0)=1,Anlægskartotek!$L$14,Anlægskartotek!I2494)","v":0}]
[null,2484,{"$f":"Anlægskartotek!C2495","v":0},{"$f":"+IF((Basisoplysninger!$D$60=\"Ja\")*(Anlægskartotek!C2495<>0)=1,Anlægskartotek!$L$14,Anlægskartotek!I2495)","v":0}]
[null,2485,{"$f":"Anlægskartotek!C2496","v":0},{"$f":"+IF((Basisoplysninger!$D$60=\"Ja\")*(Anlægskartotek!C2496<>0)=1,Anlægskartotek!$L$14,Anlægskartotek!I2496)","v":0}]
[null,2486,{"$f":"Anlægskartotek!C2497","v":0},{"$f":"+IF((Basisoplysninger!$D$60=\"Ja\")*(Anlægskartotek!C2497<>0)=1,Anlægskartotek!$L$14,Anlægskartotek!I2497)","v":0}]
[null,2487,{"$f":"Anlægskartotek!C2498","v":0},{"$f":"+IF((Basisoplysninger!$D$60=\"Ja\")*(Anlægskartotek!C2498<>0)=1,Anlægskartotek!$L$14,Anlægskartotek!I2498)","v":0}]
[null,2488,{"$f":"Anlægskartotek!C2499","v":0},{"$f":"+IF((Basisoplysninger!$D$60=\"Ja\")*(Anlægskartotek!C2499<>0)=1,Anlægskartotek!$L$14,Anlægskartotek!I2499)","v":0}]
[null,2489,{"$f":"Anlægskartotek!C2500","v":0},{"$f":"+IF((Basisoplysninger!$D$60=\"Ja\")*(Anlægskartotek!C2500<>0)=1,Anlægskartotek!$L$14,Anlægskartotek!I2500)","v":0}]
[null,2490,{"$f":"Anlægskartotek!C2501","v":0},{"$f":"+IF((Basisoplysninger!$D$60=\"Ja\")*(Anlægskartotek!C2501<>0)=1,Anlægskartotek!$L$14,Anlægskartotek!I2501)","v":0}]
[null,2491,{"$f":"Anlægskartotek!C2502","v":0},{"$f":"+IF((Basisoplysninger!$D$60=\"Ja\")*(Anlægskartotek!C2502<>0)=1,Anlægskartotek!$L$14,Anlægskartotek!I2502)","v":0}]
[null,2492,{"$f":"Anlægskartotek!C2503","v":0},{"$f":"+IF((Basisoplysninger!$D$60=\"Ja\")*(Anlægskartotek!C2503<>0)=1,Anlægskartotek!$L$14,Anlægskartotek!I2503)","v":0}]
[null,2493,{"$f":"Anlægskartotek!C2504","v":0},{"$f":"+IF((Basisoplysninger!$D$60=\"Ja\")*(Anlægskartotek!C2504<>0)=1,Anlægskartotek!$L$14,Anlægskartotek!I2504)","v":0}]
[null,2494,{"$f":"Anlægskartotek!C2505","v":0},{"$f":"+IF((Basisoplysninger!$D$60=\"Ja\")*(Anlægskartotek!C2505<>0)=1,Anlægskartotek!$L$14,Anlægskartotek!I2505)","v":0}]
[null,2495,{"$f":"Anlægskartotek!C2506","v":0},{"$f":"+IF((Basisoplysninger!$D$60=\"Ja\")*(Anlægskartotek!C2506<>0)=1,Anlægskartotek!$L$14,Anlægskartotek!I2506)","v":0}]
[null,2496,{"$f":"Anlægskartotek!C2507","v":0},{"$f":"+IF((Basisoplysninger!$D$60=\"Ja\")*(Anlægskartotek!C2507<>0)=1,Anlægskartotek!$L$14,Anlægskartotek!I2507)","v":0}]
[null,2497,{"$f":"Anlægskartotek!C2508","v":0},{"$f":"+IF((Basisoplysninger!$D$60=\"Ja\")*(Anlægskartotek!C2508<>0)=1,Anlægskartotek!$L$14,Anlægskartotek!I2508)","v":0}]
[null,2498,{"$f":"Anlægskartotek!C2509","v":0},{"$f":"+IF((Basisoplysninger!$D$60=\"Ja\")*(Anlægskartotek!C2509<>0)=1,Anlægskartotek!$L$14,Anlægskartotek!I2509)","v":0}]
[null,{"$f":"B2607+1","v":2499},{"$f":"Anlægskartotek!C2510","v":0},{"$f":"+IF((Basisoplysninger!$D$60=\"Ja\")*(Anlægskartotek!C2510<>0)=1,Anlægskartotek!$L$14,Anlægskartotek!I2510)","v":0}]
[null,2500,{"$f":"Anlægskartotek!C2511","v":0},{"$f":"+IF((Basisoplysninger!$D$60=\"Ja\")*(Anlægskartotek!C2511<>0)=1,Anlægskartotek!$L$14,Anlægskartotek!I2511)","v":0}]
[null,2501,{"$f":"Anlægskartotek!C2512","v":0},{"$f":"+IF((Basisoplysninger!$D$60=\"Ja\")*(Anlægskartotek!C2512<>0)=1,Anlægskartotek!$L$14,Anlægskartotek!I2512)","v":0}]
[null,2502,{"$f":"Anlægskartotek!C2513","v":0},{"$f":"+IF((Basisoplysninger!$D$60=\"Ja\")*(Anlægskartotek!C2513<>0)=1,Anlægskartotek!$L$14,Anlægskartotek!I2513)","v":0}]
[null,2503,{"$f":"Anlægskartotek!C2514","v":0},{"$f":"+IF((Basisoplysninger!$D$60=\"Ja\")*(Anlægskartotek!C2514<>0)=1,Anlægskartotek!$L$14,Anlægskartotek!I2514)","v":0}]
[null,2504,{"$f":"Anlægskartotek!C2515","v":0},{"$f":"+IF((Basisoplysninger!$D$60=\"Ja\")*(Anlægskartotek!C2515<>0)=1,Anlægskartotek!$L$14,Anlægskartotek!I2515)","v":0}]
[null,2505,{"$f":"Anlægskartotek!C2516","v":0},{"$f":"+IF((Basisoplysninger!$D$60=\"Ja\")*(Anlægskartotek!C2516<>0)=1,Anlægskartotek!$L$14,Anlægskartotek!I2516)","v":0}]
[null,2506,{"$f":"Anlægskartotek!C2517","v":0},{"$f":"+IF((Basisoplysninger!$D$60=\"Ja\")*(Anlægskartotek!C2517<>0)=1,Anlægskartotek!$L$14,Anlægskartotek!I2517)","v":0}]
[null,2507,{"$f":"Anlægskartotek!C2518","v":0},{"$f":"+IF((Basisoplysninger!$D$60=\"Ja\")*(Anlægskartotek!C2518<>0)=1,Anlægskartotek!$L$14,Anlægskartotek!I2518)","v":0}]
[null,2508,{"$f":"Anlægskartotek!C2519","v":0},{"$f":"+IF((Basisoplysninger!$D$60=\"Ja\")*(Anlægskartotek!C2519<>0)=1,Anlægskartotek!$L$14,Anlægskartotek!I2519)","v":0}]
[null,2509,{"$f":"Anlægskartotek!C2520","v":0},{"$f":"+IF((Basisoplysninger!$D$60=\"Ja\")*(Anlægskartotek!C2520<>0)=1,Anlægskartotek!$L$14,Anlægskartotek!I2520)","v":0}]
[null,2510,{"$f":"Anlægskartotek!C2521","v":0},{"$f":"+IF((Basisoplysninger!$D$60=\"Ja\")*(Anlægskartotek!C2521<>0)=1,Anlægskartotek!$L$14,Anlægskartotek!I2521)","v":0}]
[null,2511,{"$f":"Anlægskartotek!C2522","v":0},{"$f":"+IF((Basisoplysninger!$D$60=\"Ja\")*(Anlægskartotek!C2522<>0)=1,Anlægskartotek!$L$14,Anlægskartotek!I2522)","v":0}]
[null,2512,{"$f":"Anlægskartotek!C2523","v":0},{"$f":"+IF((Basisoplysninger!$D$60=\"Ja\")*(Anlægskartotek!C2523<>0)=1,Anlægskartotek!$L$14,Anlægskartotek!I2523)","v":0}]
[null,2513,{"$f":"Anlægskartotek!C2524","v":0},{"$f":"+IF((Basisoplysninger!$D$60=\"Ja\")*(Anlægskartotek!C2524<>0)=1,Anlægskartotek!$L$14,Anlægskartotek!I2524)","v":0}]
[null,2514,{"$f":"Anlægskartotek!C2525","v":0},{"$f":"+IF((Basisoplysninger!$D$60=\"Ja\")*(Anlægskartotek!C2525<>0)=1,Anlægskartotek!$L$14,Anlægskartotek!I2525)","v":0}]
[null,2515,{"$f":"Anlægskartotek!C2526","v":0},{"$f":"+IF((Basisoplysninger!$D$60=\"Ja\")*(Anlægskartotek!C2526<>0)=1,Anlægskartotek!$L$14,Anlægskartotek!I2526)","v":0}]
[null,2516,{"$f":"Anlægskartotek!C2527","v":0},{"$f":"+IF((Basisoplysninger!$D$60=\"Ja\")*(Anlægskartotek!C2527<>0)=1,Anlægskartotek!$L$14,Anlægskartotek!I2527)","v":0}]
[null,2517,{"$f":"Anlægskartotek!C2528","v":0},{"$f":"+IF((Basisoplysninger!$D$60=\"Ja\")*(Anlægskartotek!C2528<>0)=1,Anlægskartotek!$L$14,Anlægskartotek!I2528)","v":0}]
[null,2518,{"$f":"Anlægskartotek!C2529","v":0},{"$f":"+IF((Basisoplysninger!$D$60=\"Ja\")*(Anlægskartotek!C2529<>0)=1,Anlægskartotek!$L$14,Anlægskartotek!I2529)","v":0}]
[null,2519,{"$f":"Anlægskartotek!C2530","v":0},{"$f":"+IF((Basisoplysninger!$D$60=\"Ja\")*(Anlægskartotek!C2530<>0)=1,Anlægskartotek!$L$14,Anlægskartotek!I2530)","v":0}]
[null,2520,{"$f":"Anlægskartotek!C2531","v":0},{"$f":"+IF((Basisoplysninger!$D$60=\"Ja\")*(Anlægskartotek!C2531<>0)=1,Anlægskartotek!$L$14,Anlægskartotek!I2531)","v":0}]
[null,2521,{"$f":"Anlægskartotek!C2532","v":0},{"$f":"+IF((Basisoplysninger!$D$60=\"Ja\")*(Anlægskartotek!C2532<>0)=1,Anlægskartotek!$L$14,Anlægskartotek!I2532)","v":0}]
[null,2522,{"$f":"Anlægskartotek!C2533","v":0},{"$f":"+IF((Basisoplysninger!$D$60=\"Ja\")*(Anlægskartotek!C2533<>0)=1,Anlægskartotek!$L$14,Anlægskartotek!I2533)","v":0}]
[null,2523,{"$f":"Anlægskartotek!C2534","v":0},{"$f":"+IF((Basisoplysninger!$D$60=\"Ja\")*(Anlægskartotek!C2534<>0)=1,Anlægskartotek!$L$14,Anlægskartotek!I2534)","v":0}]
[null,2524,{"$f":"Anlægskartotek!C2535","v":0},{"$f":"+IF((Basisoplysninger!$D$60=\"Ja\")*(Anlægskartotek!C2535<>0)=1,Anlægskartotek!$L$14,Anlægskartotek!I2535)","v":0}]
[null,2525,{"$f":"Anlægskartotek!C2536","v":0},{"$f":"+IF((Basisoplysninger!$D$60=\"Ja\")*(Anlægskartotek!C2536<>0)=1,Anlægskartotek!$L$14,Anlægskartotek!I2536)","v":0}]
[null,2526,{"$f":"Anlægskartotek!C2537","v":0},{"$f":"+IF((Basisoplysninger!$D$60=\"Ja\")*(Anlægskartotek!C2537<>0)=1,Anlægskartotek!$L$14,Anlægskartotek!I2537)","v":0}]
[null,2527,{"$f":"Anlægskartotek!C2538","v":0},{"$f":"+IF((Basisoplysninger!$D$60=\"Ja\")*(Anlægskartotek!C2538<>0)=1,Anlægskartotek!$L$14,Anlægskartotek!I2538)","v":0}]
[null,2528,{"$f":"Anlægskartotek!C2539","v":0},{"$f":"+IF((Basisoplysninger!$D$60=\"Ja\")*(Anlægskartotek!C2539<>0)=1,Anlægskartotek!$L$14,Anlægskartotek!I2539)","v":0}]
[null,2529,{"$f":"Anlægskartotek!C2540","v":0},{"$f":"+IF((Basisoplysninger!$D$60=\"Ja\")*(Anlægskartotek!C2540<>0)=1,Anlægskartotek!$L$14,Anlægskartotek!I2540)","v":0}]
[null,2530,{"$f":"Anlægskartotek!C2541","v":0},{"$f":"+IF((Basisoplysninger!$D$60=\"Ja\")*(Anlægskartotek!C2541<>0)=1,Anlægskartotek!$L$14,Anlægskartotek!I2541)","v":0}]
[null,2531,{"$f":"Anlægskartotek!C2542","v":0},{"$f":"+IF((Basisoplysninger!$D$60=\"Ja\")*(Anlægskartotek!C2542<>0)=1,Anlægskartotek!$L$14,Anlægskartotek!I2542)","v":0}]
[null,2532,{"$f":"Anlægskartotek!C2543","v":0},{"$f":"+IF((Basisoplysninger!$D$60=\"Ja\")*(Anlægskartotek!C2543<>0)=1,Anlægskartotek!$L$14,Anlægskartotek!I2543)","v":0}]
[null,2533,{"$f":"Anlægskartotek!C2544","v":0},{"$f":"+IF((Basisoplysninger!$D$60=\"Ja\")*(Anlægskartotek!C2544<>0)=1,Anlægskartotek!$L$14,Anlægskartotek!I2544)","v":0}]
[null,2534,{"$f":"Anlægskartotek!C2545","v":0},{"$f":"+IF((Basisoplysninger!$D$60=\"Ja\")*(Anlægskartotek!C2545<>0)=1,Anlægskartotek!$L$14,Anlægskartotek!I2545)","v":0}]
[null,2535,{"$f":"Anlægskartotek!C2546","v":0},{"$f":"+IF((Basisoplysninger!$D$60=\"Ja\")*(Anlægskartotek!C2546<>0)=1,Anlægskartotek!$L$14,Anlægskartotek!I2546)","v":0}]
[null,2536,{"$f":"Anlægskartotek!C2547","v":0},{"$f":"+IF((Basisoplysninger!$D$60=\"Ja\")*(Anlægskartotek!C2547<>0)=1,Anlægskartotek!$L$14,Anlægskartotek!I2547)","v":0}]
[null,2537,{"$f":"Anlægskartotek!C2548","v":0},{"$f":"+IF((Basisoplysninger!$D$60=\"Ja\")*(Anlægskartotek!C2548<>0)=1,Anlægskartotek!$L$14,Anlægskartotek!I2548)","v":0}]
[null,2538,{"$f":"Anlægskartotek!C2549","v":0},{"$f":"+IF((Basisoplysninger!$D$60=\"Ja\")*(Anlægskartotek!C2549<>0)=1,Anlægskartotek!$L$14,Anlægskartotek!I2549)","v":0}]
[null,2539,{"$f":"Anlægskartotek!C2550","v":0},{"$f":"+IF((Basisoplysninger!$D$60=\"Ja\")*(Anlægskartotek!C2550<>0)=1,Anlægskartotek!$L$14,Anlægskartotek!I2550)","v":0}]
[null,2540,{"$f":"Anlægskartotek!C2551","v":0},{"$f":"+IF((Basisoplysninger!$D$60=\"Ja\")*(Anlægskartotek!C2551<>0)=1,Anlægskartotek!$L$14,Anlægskartotek!I2551)","v":0}]
[null,2541,{"$f":"Anlægskartotek!C2552","v":0},{"$f":"+IF((Basisoplysninger!$D$60=\"Ja\")*(Anlægskartotek!C2552<>0)=1,Anlægskartotek!$L$14,Anlægskartotek!I2552)","v":0}]
[null,2542,{"$f":"Anlægskartotek!C2553","v":0},{"$f":"+IF((Basisoplysninger!$D$60=\"Ja\")*(Anlægskartotek!C2553<>0)=1,Anlægskartotek!$L$14,Anlægskartotek!I2553)","v":0}]
[null,2543,{"$f":"Anlægskartotek!C2554","v":0},{"$f":"+IF((Basisoplysninger!$D$60=\"Ja\")*(Anlægskartotek!C2554<>0)=1,Anlægskartotek!$L$14,Anlægskartotek!I2554)","v":0}]
[null,2544,{"$f":"Anlægskartotek!C2555","v":0},{"$f":"+IF((Basisoplysninger!$D$60=\"Ja\")*(Anlægskartotek!C2555<>0)=1,Anlægskartotek!$L$14,Anlægskartotek!I2555)","v":0}]
[null,2545,{"$f":"Anlægskartotek!C2556","v":0},{"$f":"+IF((Basisoplysninger!$D$60=\"Ja\")*(Anlægskartotek!C2556<>0)=1,Anlægskartotek!$L$14,Anlægskartotek!I2556)","v":0}]
[null,2546,{"$f":"Anlægskartotek!C2557","v":0},{"$f":"+IF((Basisoplysninger!$D$60=\"Ja\")*(Anlægskartotek!C2557<>0)=1,Anlægskartotek!$L$14,Anlægskartotek!I2557)","v":0}]
[null,2547,{"$f":"Anlægskartotek!C2558","v":0},{"$f":"+IF((Basisoplysninger!$D$60=\"Ja\")*(Anlægskartotek!C2558<>0)=1,Anlægskartotek!$L$14,Anlægskartotek!I2558)","v":0}]
[null,2548,{"$f":"Anlægskartotek!C2559","v":0},{"$f":"+IF((Basisoplysninger!$D$60=\"Ja\")*(Anlægskartotek!C2559<>0)=1,Anlægskartotek!$L$14,Anlægskartotek!I2559)","v":0}]
[null,2549,{"$f":"Anlægskartotek!C2560","v":0},{"$f":"+IF((Basisoplysninger!$D$60=\"Ja\")*(Anlægskartotek!C2560<>0)=1,Anlægskartotek!$L$14,Anlægskartotek!I2560)","v":0}]
[null,2550,{"$f":"Anlægskartotek!C2561","v":0},{"$f":"+IF((Basisoplysninger!$D$60=\"Ja\")*(Anlægskartotek!C2561<>0)=1,Anlægskartotek!$L$14,Anlægskartotek!I2561)","v":0}]
[null,2551,{"$f":"Anlægskartotek!C2562","v":0},{"$f":"+IF((Basisoplysninger!$D$60=\"Ja\")*(Anlægskartotek!C2562<>0)=1,Anlægskartotek!$L$14,Anlægskartotek!I2562)","v":0}]
[null,2552,{"$f":"Anlægskartotek!C2563","v":0},{"$f":"+IF((Basisoplysninger!$D$60=\"Ja\")*(Anlægskartotek!C2563<>0)=1,Anlægskartotek!$L$14,Anlægskartotek!I2563)","v":0}]
[null,2553,{"$f":"Anlægskartotek!C2564","v":0},{"$f":"+IF((Basisoplysninger!$D$60=\"Ja\")*(Anlægskartotek!C2564<>0)=1,Anlægskartotek!$L$14,Anlægskartotek!I2564)","v":0}]
[null,2554,{"$f":"Anlægskartotek!C2565","v":0},{"$f":"+IF((Basisoplysninger!$D$60=\"Ja\")*(Anlægskartotek!C2565<>0)=1,Anlægskartotek!$L$14,Anlægskartotek!I2565)","v":0}]
[null,2555,{"$f":"Anlægskartotek!C2566","v":0},{"$f":"+IF((Basisoplysninger!$D$60=\"Ja\")*(Anlægskartotek!C2566<>0)=1,Anlægskartotek!$L$14,Anlægskartotek!I2566)","v":0}]
[null,2556,{"$f":"Anlægskartotek!C2567","v":0},{"$f":"+IF((Basisoplysninger!$D$60=\"Ja\")*(Anlægskartotek!C2567<>0)=1,Anlægskartotek!$L$14,Anlægskartotek!I2567)","v":0}]
[null,2557,{"$f":"Anlægskartotek!C2568","v":0},{"$f":"+IF((Basisoplysninger!$D$60=\"Ja\")*(Anlægskartotek!C2568<>0)=1,Anlægskartotek!$L$14,Anlægskartotek!I2568)","v":0}]
[null,2558,{"$f":"Anlægskartotek!C2569","v":0},{"$f":"+IF((Basisoplysninger!$D$60=\"Ja\")*(Anlægskartotek!C2569<>0)=1,Anlægskartotek!$L$14,Anlægskartotek!I2569)","v":0}]
[null,2559,{"$f":"Anlægskartotek!C2570","v":0},{"$f":"+IF((Basisoplysninger!$D$60=\"Ja\")*(Anlægskartotek!C2570<>0)=1,Anlægskartotek!$L$14,Anlægskartotek!I2570)","v":0}]
[null,2560,{"$f":"Anlægskartotek!C2571","v":0},{"$f":"+IF((Basisoplysninger!$D$60=\"Ja\")*(Anlægskartotek!C2571<>0)=1,Anlægskartotek!$L$14,Anlægskartotek!I2571)","v":0}]
[null,2561,{"$f":"Anlægskartotek!C2572","v":0},{"$f":"+IF((Basisoplysninger!$D$60=\"Ja\")*(Anlægskartotek!C2572<>0)=1,Anlægskartotek!$L$14,Anlægskartotek!I2572)","v":0}]
[null,2562,{"$f":"Anlægskartotek!C2573","v":0},{"$f":"+IF((Basisoplysninger!$D$60=\"Ja\")*(Anlægskartotek!C2573<>0)=1,Anlægskartotek!$L$14,Anlægskartotek!I2573)","v":0}]
[null,{"$f":"B2671+1","v":2563},{"$f":"Anlægskartotek!C2574","v":0},{"$f":"+IF((Basisoplysninger!$D$60=\"Ja\")*(Anlægskartotek!C2574<>0)=1,Anlægskartotek!$L$14,Anlægskartotek!I2574)","v":0}]
[null,2564,{"$f":"Anlægskartotek!C2575","v":0},{"$f":"+IF((Basisoplysninger!$D$60=\"Ja\")*(Anlægskartotek!C2575<>0)=1,Anlægskartotek!$L$14,Anlægskartotek!I2575)","v":0}]
[null,2565,{"$f":"Anlægskartotek!C2576","v":0},{"$f":"+IF((Basisoplysninger!$D$60=\"Ja\")*(Anlægskartotek!C2576<>0)=1,Anlægskartotek!$L$14,Anlægskartotek!I2576)","v":0}]
[null,2566,{"$f":"Anlægskartotek!C2577","v":0},{"$f":"+IF((Basisoplysninger!$D$60=\"Ja\")*(Anlægskartotek!C2577<>0)=1,Anlægskartotek!$L$14,Anlægskartotek!I2577)","v":0}]
[null,2567,{"$f":"Anlægskartotek!C2578","v":0},{"$f":"+IF((Basisoplysninger!$D$60=\"Ja\")*(Anlægskartotek!C2578<>0)=1,Anlægskartotek!$L$14,Anlægskartotek!I2578)","v":0}]
[null,2568,{"$f":"Anlægskartotek!C2579","v":0},{"$f":"+IF((Basisoplysninger!$D$60=\"Ja\")*(Anlægskartotek!C2579<>0)=1,Anlægskartotek!$L$14,Anlægskartotek!I2579)","v":0}]
[null,2569,{"$f":"Anlægskartotek!C2580","v":0},{"$f":"+IF((Basisoplysninger!$D$60=\"Ja\")*(Anlægskartotek!C2580<>0)=1,Anlægskartotek!$L$14,Anlægskartotek!I2580)","v":0}]
[null,2570,{"$f":"Anlægskartotek!C2581","v":0},{"$f":"+IF((Basisoplysninger!$D$60=\"Ja\")*(Anlægskartotek!C2581<>0)=1,Anlægskartotek!$L$14,Anlægskartotek!I2581)","v":0}]
[null,2571,{"$f":"Anlægskartotek!C2582","v":0},{"$f":"+IF((Basisoplysninger!$D$60=\"Ja\")*(Anlægskartotek!C2582<>0)=1,Anlægskartotek!$L$14,Anlægskartotek!I2582)","v":0}]
[null,2572,{"$f":"Anlægskartotek!C2583","v":0},{"$f":"+IF((Basisoplysninger!$D$60=\"Ja\")*(Anlægskartotek!C2583<>0)=1,Anlægskartotek!$L$14,Anlægskartotek!I2583)","v":0}]
[null,2573,{"$f":"Anlægskartotek!C2584","v":0},{"$f":"+IF((Basisoplysninger!$D$60=\"Ja\")*(Anlægskartotek!C2584<>0)=1,Anlægskartotek!$L$14,Anlægskartotek!I2584)","v":0}]
[null,2574,{"$f":"Anlægskartotek!C2585","v":0},{"$f":"+IF((Basisoplysninger!$D$60=\"Ja\")*(Anlægskartotek!C2585<>0)=1,Anlægskartotek!$L$14,Anlægskartotek!I2585)","v":0}]
[null,2575,{"$f":"Anlægskartotek!C2586","v":0},{"$f":"+IF((Basisoplysninger!$D$60=\"Ja\")*(Anlægskartotek!C2586<>0)=1,Anlægskartotek!$L$14,Anlægskartotek!I2586)","v":0}]
[null,2576,{"$f":"Anlægskartotek!C2587","v":0},{"$f":"+IF((Basisoplysninger!$D$60=\"Ja\")*(Anlægskartotek!C2587<>0)=1,Anlægskartotek!$L$14,Anlægskartotek!I2587)","v":0}]
[null,2577,{"$f":"Anlægskartotek!C2588","v":0},{"$f":"+IF((Basisoplysninger!$D$60=\"Ja\")*(Anlægskartotek!C2588<>0)=1,Anlægskartotek!$L$14,Anlægskartotek!I2588)","v":0}]
[null,2578,{"$f":"Anlægskartotek!C2589","v":0},{"$f":"+IF((Basisoplysninger!$D$60=\"Ja\")*(Anlægskartotek!C2589<>0)=1,Anlægskartotek!$L$14,Anlægskartotek!I2589)","v":0}]
[null,2579,{"$f":"Anlægskartotek!C2590","v":0},{"$f":"+IF((Basisoplysninger!$D$60=\"Ja\")*(Anlægskartotek!C2590<>0)=1,Anlægskartotek!$L$14,Anlægskartotek!I2590)","v":0}]
[null,2580,{"$f":"Anlægskartotek!C2591","v":0},{"$f":"+IF((Basisoplysninger!$D$60=\"Ja\")*(Anlægskartotek!C2591<>0)=1,Anlægskartotek!$L$14,Anlægskartotek!I2591)","v":0}]
[null,2581,{"$f":"Anlægskartotek!C2592","v":0},{"$f":"+IF((Basisoplysninger!$D$60=\"Ja\")*(Anlægskartotek!C2592<>0)=1,Anlægskartotek!$L$14,Anlægskartotek!I2592)","v":0}]
[null,2582,{"$f":"Anlægskartotek!C2593","v":0},{"$f":"+IF((Basisoplysninger!$D$60=\"Ja\")*(Anlægskartotek!C2593<>0)=1,Anlægskartotek!$L$14,Anlægskartotek!I2593)","v":0}]
[null,2583,{"$f":"Anlægskartotek!C2594","v":0},{"$f":"+IF((Basisoplysninger!$D$60=\"Ja\")*(Anlægskartotek!C2594<>0)=1,Anlægskartotek!$L$14,Anlægskartotek!I2594)","v":0}]
[null,2584,{"$f":"Anlægskartotek!C2595","v":0},{"$f":"+IF((Basisoplysninger!$D$60=\"Ja\")*(Anlægskartotek!C2595<>0)=1,Anlægskartotek!$L$14,Anlægskartotek!I2595)","v":0}]
[null,2585,{"$f":"Anlægskartotek!C2596","v":0},{"$f":"+IF((Basisoplysninger!$D$60=\"Ja\")*(Anlægskartotek!C2596<>0)=1,Anlægskartotek!$L$14,Anlægskartotek!I2596)","v":0}]
[null,2586,{"$f":"Anlægskartotek!C2597","v":0},{"$f":"+IF((Basisoplysninger!$D$60=\"Ja\")*(Anlægskartotek!C2597<>0)=1,Anlægskartotek!$L$14,Anlægskartotek!I2597)","v":0}]
[null,2587,{"$f":"Anlægskartotek!C2598","v":0},{"$f":"+IF((Basisoplysninger!$D$60=\"Ja\")*(Anlægskartotek!C2598<>0)=1,Anlægskartotek!$L$14,Anlægskartotek!I2598)","v":0}]
[null,2588,{"$f":"Anlægskartotek!C2599","v":0},{"$f":"+IF((Basisoplysninger!$D$60=\"Ja\")*(Anlægskartotek!C2599<>0)=1,Anlægskartotek!$L$14,Anlægskartotek!I2599)","v":0}]
[null,2589,{"$f":"Anlægskartotek!C2600","v":0},{"$f":"+IF((Basisoplysninger!$D$60=\"Ja\")*(Anlægskartotek!C2600<>0)=1,Anlægskartotek!$L$14,Anlægskartotek!I2600)","v":0}]
[null,2590,{"$f":"Anlægskartotek!C2601","v":0},{"$f":"+IF((Basisoplysninger!$D$60=\"Ja\")*(Anlægskartotek!C2601<>0)=1,Anlægskartotek!$L$14,Anlægskartotek!I2601)","v":0}]
[null,2591,{"$f":"Anlægskartotek!C2602","v":0},{"$f":"+IF((Basisoplysninger!$D$60=\"Ja\")*(Anlægskartotek!C2602<>0)=1,Anlægskartotek!$L$14,Anlægskartotek!I2602)","v":0}]
[null,2592,{"$f":"Anlægskartotek!C2603","v":0},{"$f":"+IF((Basisoplysninger!$D$60=\"Ja\")*(Anlægskartotek!C2603<>0)=1,Anlægskartotek!$L$14,Anlægskartotek!I2603)","v":0}]
[null,2593,{"$f":"Anlægskartotek!C2604","v":0},{"$f":"+IF((Basisoplysninger!$D$60=\"Ja\")*(Anlægskartotek!C2604<>0)=1,Anlægskartotek!$L$14,Anlægskartotek!I2604)","v":0}]
[null,2594,{"$f":"Anlægskartotek!C2605","v":0},{"$f":"+IF((Basisoplysninger!$D$60=\"Ja\")*(Anlægskartotek!C2605<>0)=1,Anlægskartotek!$L$14,Anlægskartotek!I2605)","v":0}]
[null,2595,{"$f":"Anlægskartotek!C2606","v":0},{"$f":"+IF((Basisoplysninger!$D$60=\"Ja\")*(Anlægskartotek!C2606<>0)=1,Anlægskartotek!$L$14,Anlægskartotek!I2606)","v":0}]
[null,2596,{"$f":"Anlægskartotek!C2607","v":0},{"$f":"+IF((Basisoplysninger!$D$60=\"Ja\")*(Anlægskartotek!C2607<>0)=1,Anlægskartotek!$L$14,Anlægskartotek!I2607)","v":0}]
[null,2597,{"$f":"Anlægskartotek!C2608","v":0},{"$f":"+IF((Basisoplysninger!$D$60=\"Ja\")*(Anlægskartotek!C2608<>0)=1,Anlægskartotek!$L$14,Anlægskartotek!I2608)","v":0}]
[null,2598,{"$f":"Anlægskartotek!C2609","v":0},{"$f":"+IF((Basisoplysninger!$D$60=\"Ja\")*(Anlægskartotek!C2609<>0)=1,Anlægskartotek!$L$14,Anlægskartotek!I2609)","v":0}]
[null,2599,{"$f":"Anlægskartotek!C2610","v":0},{"$f":"+IF((Basisoplysninger!$D$60=\"Ja\")*(Anlægskartotek!C2610<>0)=1,Anlægskartotek!$L$14,Anlægskartotek!I2610)","v":0}]
[null,2600,{"$f":"Anlægskartotek!C2611","v":0},{"$f":"+IF((Basisoplysninger!$D$60=\"Ja\")*(Anlægskartotek!C2611<>0)=1,Anlægskartotek!$L$14,Anlægskartotek!I2611)","v":0}]
[null,2601,{"$f":"Anlægskartotek!C2612","v":0},{"$f":"+IF((Basisoplysninger!$D$60=\"Ja\")*(Anlægskartotek!C2612<>0)=1,Anlægskartotek!$L$14,Anlægskartotek!I2612)","v":0}]
[null,2602,{"$f":"Anlægskartotek!C2613","v":0},{"$f":"+IF((Basisoplysninger!$D$60=\"Ja\")*(Anlægskartotek!C2613<>0)=1,Anlægskartotek!$L$14,Anlægskartotek!I2613)","v":0}]
[null,2603,{"$f":"Anlægskartotek!C2614","v":0},{"$f":"+IF((Basisoplysninger!$D$60=\"Ja\")*(Anlægskartotek!C2614<>0)=1,Anlægskartotek!$L$14,Anlægskartotek!I2614)","v":0}]
[null,2604,{"$f":"Anlægskartotek!C2615","v":0},{"$f":"+IF((Basisoplysninger!$D$60=\"Ja\")*(Anlægskartotek!C2615<>0)=1,Anlægskartotek!$L$14,Anlægskartotek!I2615)","v":0}]
[null,2605,{"$f":"Anlægskartotek!C2616","v":0},{"$f":"+IF((Basisoplysninger!$D$60=\"Ja\")*(Anlægskartotek!C2616<>0)=1,Anlægskartotek!$L$14,Anlægskartotek!I2616)","v":0}]
[null,2606,{"$f":"Anlægskartotek!C2617","v":0},{"$f":"+IF((Basisoplysninger!$D$60=\"Ja\")*(Anlægskartotek!C2617<>0)=1,Anlægskartotek!$L$14,Anlægskartotek!I2617)","v":0}]
[null,2607,{"$f":"Anlægskartotek!C2618","v":0},{"$f":"+IF((Basisoplysninger!$D$60=\"Ja\")*(Anlægskartotek!C2618<>0)=1,Anlægskartotek!$L$14,Anlægskartotek!I2618)","v":0}]
[null,2608,{"$f":"Anlægskartotek!C2619","v":0},{"$f":"+IF((Basisoplysninger!$D$60=\"Ja\")*(Anlægskartotek!C2619<>0)=1,Anlægskartotek!$L$14,Anlægskartotek!I2619)","v":0}]
[null,2609,{"$f":"Anlægskartotek!C2620","v":0},{"$f":"+IF((Basisoplysninger!$D$60=\"Ja\")*(Anlægskartotek!C2620<>0)=1,Anlægskartotek!$L$14,Anlægskartotek!I2620)","v":0}]
[null,2610,{"$f":"Anlægskartotek!C2621","v":0},{"$f":"+IF((Basisoplysninger!$D$60=\"Ja\")*(Anlægskartotek!C2621<>0)=1,Anlægskartotek!$L$14,Anlægskartotek!I2621)","v":0}]
[null,2611,{"$f":"Anlægskartotek!C2622","v":0},{"$f":"+IF((Basisoplysninger!$D$60=\"Ja\")*(Anlægskartotek!C2622<>0)=1,Anlægskartotek!$L$14,Anlægskartotek!I2622)","v":0}]
[null,2612,{"$f":"Anlægskartotek!C2623","v":0},{"$f":"+IF((Basisoplysninger!$D$60=\"Ja\")*(Anlægskartotek!C2623<>0)=1,Anlægskartotek!$L$14,Anlægskartotek!I2623)","v":0}]
[null,2613,{"$f":"Anlægskartotek!C2624","v":0},{"$f":"+IF((Basisoplysninger!$D$60=\"Ja\")*(Anlægskartotek!C2624<>0)=1,Anlægskartotek!$L$14,Anlægskartotek!I2624)","v":0}]
[null,2614,{"$f":"Anlægskartotek!C2625","v":0},{"$f":"+IF((Basisoplysninger!$D$60=\"Ja\")*(Anlægskartotek!C2625<>0)=1,Anlægskartotek!$L$14,Anlægskartotek!I2625)","v":0}]
[null,2615,{"$f":"Anlægskartotek!C2626","v":0},{"$f":"+IF((Basisoplysninger!$D$60=\"Ja\")*(Anlægskartotek!C2626<>0)=1,Anlægskartotek!$L$14,Anlægskartotek!I2626)","v":0}]
[null,2616,{"$f":"Anlægskartotek!C2627","v":0},{"$f":"+IF((Basisoplysninger!$D$60=\"Ja\")*(Anlægskartotek!C2627<>0)=1,Anlægskartotek!$L$14,Anlægskartotek!I2627)","v":0}]
[null,2617,{"$f":"Anlægskartotek!C2628","v":0},{"$f":"+IF((Basisoplysninger!$D$60=\"Ja\")*(Anlægskartotek!C2628<>0)=1,Anlægskartotek!$L$14,Anlægskartotek!I2628)","v":0}]
[null,2618,{"$f":"Anlægskartotek!C2629","v":0},{"$f":"+IF((Basisoplysninger!$D$60=\"Ja\")*(Anlægskartotek!C2629<>0)=1,Anlægskartotek!$L$14,Anlægskartotek!I2629)","v":0}]
[null,2619,{"$f":"Anlægskartotek!C2630","v":0},{"$f":"+IF((Basisoplysninger!$D$60=\"Ja\")*(Anlægskartotek!C2630<>0)=1,Anlægskartotek!$L$14,Anlægskartotek!I2630)","v":0}]
[null,2620,{"$f":"Anlægskartotek!C2631","v":0},{"$f":"+IF((Basisoplysninger!$D$60=\"Ja\")*(Anlægskartotek!C2631<>0)=1,Anlægskartotek!$L$14,Anlægskartotek!I2631)","v":0}]
[null,2621,{"$f":"Anlægskartotek!C2632","v":0},{"$f":"+IF((Basisoplysninger!$D$60=\"Ja\")*(Anlægskartotek!C2632<>0)=1,Anlægskartotek!$L$14,Anlægskartotek!I2632)","v":0}]
[null,2622,{"$f":"Anlægskartotek!C2633","v":0},{"$f":"+IF((Basisoplysninger!$D$60=\"Ja\")*(Anlægskartotek!C2633<>0)=1,Anlægskartotek!$L$14,Anlægskartotek!I2633)","v":0}]
[null,2623,{"$f":"Anlægskartotek!C2634","v":0},{"$f":"+IF((Basisoplysninger!$D$60=\"Ja\")*(Anlægskartotek!C2634<>0)=1,Anlægskartotek!$L$14,Anlægskartotek!I2634)","v":0}]
[null,2624,{"$f":"Anlægskartotek!C2635","v":0},{"$f":"+IF((Basisoplysninger!$D$60=\"Ja\")*(Anlægskartotek!C2635<>0)=1,Anlægskartotek!$L$14,Anlægskartotek!I2635)","v":0}]
[null,2625,{"$f":"Anlægskartotek!C2636","v":0},{"$f":"+IF((Basisoplysninger!$D$60=\"Ja\")*(Anlægskartotek!C2636<>0)=1,Anlægskartotek!$L$14,Anlægskartotek!I2636)","v":0}]
[null,2626,{"$f":"Anlægskartotek!C2637","v":0},{"$f":"+IF((Basisoplysninger!$D$60=\"Ja\")*(Anlægskartotek!C2637<>0)=1,Anlægskartotek!$L$14,Anlægskartotek!I2637)","v":0}]
[null,{"$f":"B2735+1","v":2627},{"$f":"Anlægskartotek!C2638","v":0},{"$f":"+IF((Basisoplysninger!$D$60=\"Ja\")*(Anlægskartotek!C2638<>0)=1,Anlægskartotek!$L$14,Anlægskartotek!I2638)","v":0}]
[null,2628,{"$f":"Anlægskartotek!C2639","v":0},{"$f":"+IF((Basisoplysninger!$D$60=\"Ja\")*(Anlægskartotek!C2639<>0)=1,Anlægskartotek!$L$14,Anlægskartotek!I2639)","v":0}]
[null,2629,{"$f":"Anlægskartotek!C2640","v":0},{"$f":"+IF((Basisoplysninger!$D$60=\"Ja\")*(Anlægskartotek!C2640<>0)=1,Anlægskartotek!$L$14,Anlægskartotek!I2640)","v":0}]
[null,2630,{"$f":"Anlægskartotek!C2641","v":0},{"$f":"+IF((Basisoplysninger!$D$60=\"Ja\")*(Anlægskartotek!C2641<>0)=1,Anlægskartotek!$L$14,Anlægskartotek!I2641)","v":0}]
[null,2631,{"$f":"Anlægskartotek!C2642","v":0},{"$f":"+IF((Basisoplysninger!$D$60=\"Ja\")*(Anlægskartotek!C2642<>0)=1,Anlægskartotek!$L$14,Anlægskartotek!I2642)","v":0}]
[null,2632,{"$f":"Anlægskartotek!C2643","v":0},{"$f":"+IF((Basisoplysninger!$D$60=\"Ja\")*(Anlægskartotek!C2643<>0)=1,Anlægskartotek!$L$14,Anlægskartotek!I2643)","v":0}]
[null,2633,{"$f":"Anlægskartotek!C2644","v":0},{"$f":"+IF((Basisoplysninger!$D$60=\"Ja\")*(Anlægskartotek!C2644<>0)=1,Anlægskartotek!$L$14,Anlægskartotek!I2644)","v":0}]
[null,2634,{"$f":"Anlægskartotek!C2645","v":0},{"$f":"+IF((Basisoplysninger!$D$60=\"Ja\")*(Anlægskartotek!C2645<>0)=1,Anlægskartotek!$L$14,Anlægskartotek!I2645)","v":0}]
[null,2635,{"$f":"Anlægskartotek!C2646","v":0},{"$f":"+IF((Basisoplysninger!$D$60=\"Ja\")*(Anlægskartotek!C2646<>0)=1,Anlægskartotek!$L$14,Anlægskartotek!I2646)","v":0}]
[null,2636,{"$f":"Anlægskartotek!C2647","v":0},{"$f":"+IF((Basisoplysninger!$D$60=\"Ja\")*(Anlægskartotek!C2647<>0)=1,Anlægskartotek!$L$14,Anlægskartotek!I2647)","v":0}]
[null,2637,{"$f":"Anlægskartotek!C2648","v":0},{"$f":"+IF((Basisoplysninger!$D$60=\"Ja\")*(Anlægskartotek!C2648<>0)=1,Anlægskartotek!$L$14,Anlægskartotek!I2648)","v":0}]
[null,2638,{"$f":"Anlægskartotek!C2649","v":0},{"$f":"+IF((Basisoplysninger!$D$60=\"Ja\")*(Anlægskartotek!C2649<>0)=1,Anlægskartotek!$L$14,Anlægskartotek!I2649)","v":0}]
[null,2639,{"$f":"Anlægskartotek!C2650","v":0},{"$f":"+IF((Basisoplysninger!$D$60=\"Ja\")*(Anlægskartotek!C2650<>0)=1,Anlægskartotek!$L$14,Anlægskartotek!I2650)","v":0}]
[null,2640,{"$f":"Anlægskartotek!C2651","v":0},{"$f":"+IF((Basisoplysninger!$D$60=\"Ja\")*(Anlægskartotek!C2651<>0)=1,Anlægskartotek!$L$14,Anlægskartotek!I2651)","v":0}]
[null,2641,{"$f":"Anlægskartotek!C2652","v":0},{"$f":"+IF((Basisoplysninger!$D$60=\"Ja\")*(Anlægskartotek!C2652<>0)=1,Anlægskartotek!$L$14,Anlægskartotek!I2652)","v":0}]
[null,2642,{"$f":"Anlægskartotek!C2653","v":0},{"$f":"+IF((Basisoplysninger!$D$60=\"Ja\")*(Anlægskartotek!C2653<>0)=1,Anlægskartotek!$L$14,Anlægskartotek!I2653)","v":0}]
[null,2643,{"$f":"Anlægskartotek!C2654","v":0},{"$f":"+IF((Basisoplysninger!$D$60=\"Ja\")*(Anlægskartotek!C2654<>0)=1,Anlægskartotek!$L$14,Anlægskartotek!I2654)","v":0}]
[null,2644,{"$f":"Anlægskartotek!C2655","v":0},{"$f":"+IF((Basisoplysninger!$D$60=\"Ja\")*(Anlægskartotek!C2655<>0)=1,Anlægskartotek!$L$14,Anlægskartotek!I2655)","v":0}]
[null,2645,{"$f":"Anlægskartotek!C2656","v":0},{"$f":"+IF((Basisoplysninger!$D$60=\"Ja\")*(Anlægskartotek!C2656<>0)=1,Anlægskartotek!$L$14,Anlægskartotek!I2656)","v":0}]
[null,2646,{"$f":"Anlægskartotek!C2657","v":0},{"$f":"+IF((Basisoplysninger!$D$60=\"Ja\")*(Anlægskartotek!C2657<>0)=1,Anlægskartotek!$L$14,Anlægskartotek!I2657)","v":0}]
[null,2647,{"$f":"Anlægskartotek!C2658","v":0},{"$f":"+IF((Basisoplysninger!$D$60=\"Ja\")*(Anlægskartotek!C2658<>0)=1,Anlægskartotek!$L$14,Anlægskartotek!I2658)","v":0}]
[null,2648,{"$f":"Anlægskartotek!C2659","v":0},{"$f":"+IF((Basisoplysninger!$D$60=\"Ja\")*(Anlægskartotek!C2659<>0)=1,Anlægskartotek!$L$14,Anlægskartotek!I2659)","v":0}]
[null,2649,{"$f":"Anlægskartotek!C2660","v":0},{"$f":"+IF((Basisoplysninger!$D$60=\"Ja\")*(Anlægskartotek!C2660<>0)=1,Anlægskartotek!$L$14,Anlægskartotek!I2660)","v":0}]
[null,2650,{"$f":"Anlægskartotek!C2661","v":0},{"$f":"+IF((Basisoplysninger!$D$60=\"Ja\")*(Anlægskartotek!C2661<>0)=1,Anlægskartotek!$L$14,Anlægskartotek!I2661)","v":0}]
[null,2651,{"$f":"Anlægskartotek!C2662","v":0},{"$f":"+IF((Basisoplysninger!$D$60=\"Ja\")*(Anlægskartotek!C2662<>0)=1,Anlægskartotek!$L$14,Anlægskartotek!I2662)","v":0}]
[null,2652,{"$f":"Anlægskartotek!C2663","v":0},{"$f":"+IF((Basisoplysninger!$D$60=\"Ja\")*(Anlægskartotek!C2663<>0)=1,Anlægskartotek!$L$14,Anlægskartotek!I2663)","v":0}]
[null,2653,{"$f":"Anlægskartotek!C2664","v":0},{"$f":"+IF((Basisoplysninger!$D$60=\"Ja\")*(Anlægskartotek!C2664<>0)=1,Anlægskartotek!$L$14,Anlægskartotek!I2664)","v":0}]
[null,2654,{"$f":"Anlægskartotek!C2665","v":0},{"$f":"+IF((Basisoplysninger!$D$60=\"Ja\")*(Anlægskartotek!C2665<>0)=1,Anlægskartotek!$L$14,Anlægskartotek!I2665)","v":0}]
[null,2655,{"$f":"Anlægskartotek!C2666","v":0},{"$f":"+IF((Basisoplysninger!$D$60=\"Ja\")*(Anlægskartotek!C2666<>0)=1,Anlægskartotek!$L$14,Anlægskartotek!I2666)","v":0}]
[null,2656,{"$f":"Anlægskartotek!C2667","v":0},{"$f":"+IF((Basisoplysninger!$D$60=\"Ja\")*(Anlægskartotek!C2667<>0)=1,Anlægskartotek!$L$14,Anlægskartotek!I2667)","v":0}]
[null,2657,{"$f":"Anlægskartotek!C2668","v":0},{"$f":"+IF((Basisoplysninger!$D$60=\"Ja\")*(Anlægskartotek!C2668<>0)=1,Anlægskartotek!$L$14,Anlægskartotek!I2668)","v":0}]
[null,2658,{"$f":"Anlægskartotek!C2669","v":0},{"$f":"+IF((Basisoplysninger!$D$60=\"Ja\")*(Anlægskartotek!C2669<>0)=1,Anlægskartotek!$L$14,Anlægskartotek!I2669)","v":0}]
[null,2659,{"$f":"Anlægskartotek!C2670","v":0},{"$f":"+IF((Basisoplysninger!$D$60=\"Ja\")*(Anlægskartotek!C2670<>0)=1,Anlægskartotek!$L$14,Anlægskartotek!I2670)","v":0}]
[null,2660,{"$f":"Anlægskartotek!C2671","v":0},{"$f":"+IF((Basisoplysninger!$D$60=\"Ja\")*(Anlægskartotek!C2671<>0)=1,Anlægskartotek!$L$14,Anlægskartotek!I2671)","v":0}]
[null,2661,{"$f":"Anlægskartotek!C2672","v":0},{"$f":"+IF((Basisoplysninger!$D$60=\"Ja\")*(Anlægskartotek!C2672<>0)=1,Anlægskartotek!$L$14,Anlægskartotek!I2672)","v":0}]
[null,2662,{"$f":"Anlægskartotek!C2673","v":0},{"$f":"+IF((Basisoplysninger!$D$60=\"Ja\")*(Anlægskartotek!C2673<>0)=1,Anlægskartotek!$L$14,Anlægskartotek!I2673)","v":0}]
[null,2663,{"$f":"Anlægskartotek!C2674","v":0},{"$f":"+IF((Basisoplysninger!$D$60=\"Ja\")*(Anlægskartotek!C2674<>0)=1,Anlægskartotek!$L$14,Anlægskartotek!I2674)","v":0}]
[null,2664,{"$f":"Anlægskartotek!C2675","v":0},{"$f":"+IF((Basisoplysninger!$D$60=\"Ja\")*(Anlægskartotek!C2675<>0)=1,Anlægskartotek!$L$14,Anlægskartotek!I2675)","v":0}]
[null,2665,{"$f":"Anlægskartotek!C2676","v":0},{"$f":"+IF((Basisoplysninger!$D$60=\"Ja\")*(Anlægskartotek!C2676<>0)=1,Anlægskartotek!$L$14,Anlægskartotek!I2676)","v":0}]
[null,2666,{"$f":"Anlægskartotek!C2677","v":0},{"$f":"+IF((Basisoplysninger!$D$60=\"Ja\")*(Anlægskartotek!C2677<>0)=1,Anlægskartotek!$L$14,Anlægskartotek!I2677)","v":0}]
[null,2667,{"$f":"Anlægskartotek!C2678","v":0},{"$f":"+IF((Basisoplysninger!$D$60=\"Ja\")*(Anlægskartotek!C2678<>0)=1,Anlægskartotek!$L$14,Anlægskartotek!I2678)","v":0}]
[null,2668,{"$f":"Anlægskartotek!C2679","v":0},{"$f":"+IF((Basisoplysninger!$D$60=\"Ja\")*(Anlægskartotek!C2679<>0)=1,Anlægskartotek!$L$14,Anlægskartotek!I2679)","v":0}]
[null,2669,{"$f":"Anlægskartotek!C2680","v":0},{"$f":"+IF((Basisoplysninger!$D$60=\"Ja\")*(Anlægskartotek!C2680<>0)=1,Anlægskartotek!$L$14,Anlægskartotek!I2680)","v":0}]
[null,2670,{"$f":"Anlægskartotek!C2681","v":0},{"$f":"+IF((Basisoplysninger!$D$60=\"Ja\")*(Anlægskartotek!C2681<>0)=1,Anlægskartotek!$L$14,Anlægskartotek!I2681)","v":0}]
[null,2671,{"$f":"Anlægskartotek!C2682","v":0},{"$f":"+IF((Basisoplysninger!$D$60=\"Ja\")*(Anlægskartotek!C2682<>0)=1,Anlægskartotek!$L$14,Anlægskartotek!I2682)","v":0}]
[null,2672,{"$f":"Anlægskartotek!C2683","v":0},{"$f":"+IF((Basisoplysninger!$D$60=\"Ja\")*(Anlægskartotek!C2683<>0)=1,Anlægskartotek!$L$14,Anlægskartotek!I2683)","v":0}]
[null,2673,{"$f":"Anlægskartotek!C2684","v":0},{"$f":"+IF((Basisoplysninger!$D$60=\"Ja\")*(Anlægskartotek!C2684<>0)=1,Anlægskartotek!$L$14,Anlægskartotek!I2684)","v":0}]
[null,2674,{"$f":"Anlægskartotek!C2685","v":0},{"$f":"+IF((Basisoplysninger!$D$60=\"Ja\")*(Anlægskartotek!C2685<>0)=1,Anlægskartotek!$L$14,Anlægskartotek!I2685)","v":0}]
[null,2675,{"$f":"Anlægskartotek!C2686","v":0},{"$f":"+IF((Basisoplysninger!$D$60=\"Ja\")*(Anlægskartotek!C2686<>0)=1,Anlægskartotek!$L$14,Anlægskartotek!I2686)","v":0}]
[null,2676,{"$f":"Anlægskartotek!C2687","v":0},{"$f":"+IF((Basisoplysninger!$D$60=\"Ja\")*(Anlægskartotek!C2687<>0)=1,Anlægskartotek!$L$14,Anlægskartotek!I2687)","v":0}]
[null,2677,{"$f":"Anlægskartotek!C2688","v":0},{"$f":"+IF((Basisoplysninger!$D$60=\"Ja\")*(Anlægskartotek!C2688<>0)=1,Anlægskartotek!$L$14,Anlægskartotek!I2688)","v":0}]
[null,2678,{"$f":"Anlægskartotek!C2689","v":0},{"$f":"+IF((Basisoplysninger!$D$60=\"Ja\")*(Anlægskartotek!C2689<>0)=1,Anlægskartotek!$L$14,Anlægskartotek!I2689)","v":0}]
[null,2679,{"$f":"Anlægskartotek!C2690","v":0},{"$f":"+IF((Basisoplysninger!$D$60=\"Ja\")*(Anlægskartotek!C2690<>0)=1,Anlægskartotek!$L$14,Anlægskartotek!I2690)","v":0}]
[null,2680,{"$f":"Anlægskartotek!C2691","v":0},{"$f":"+IF((Basisoplysninger!$D$60=\"Ja\")*(Anlægskartotek!C2691<>0)=1,Anlægskartotek!$L$14,Anlægskartotek!I2691)","v":0}]
[null,2681,{"$f":"Anlægskartotek!C2692","v":0},{"$f":"+IF((Basisoplysninger!$D$60=\"Ja\")*(Anlægskartotek!C2692<>0)=1,Anlægskartotek!$L$14,Anlægskartotek!I2692)","v":0}]
[null,2682,{"$f":"Anlægskartotek!C2693","v":0},{"$f":"+IF((Basisoplysninger!$D$60=\"Ja\")*(Anlægskartotek!C2693<>0)=1,Anlægskartotek!$L$14,Anlægskartotek!I2693)","v":0}]
[null,2683,{"$f":"Anlægskartotek!C2694","v":0},{"$f":"+IF((Basisoplysninger!$D$60=\"Ja\")*(Anlægskartotek!C2694<>0)=1,Anlægskartotek!$L$14,Anlægskartotek!I2694)","v":0}]
[null,2684,{"$f":"Anlægskartotek!C2695","v":0},{"$f":"+IF((Basisoplysninger!$D$60=\"Ja\")*(Anlægskartotek!C2695<>0)=1,Anlægskartotek!$L$14,Anlægskartotek!I2695)","v":0}]
[null,2685,{"$f":"Anlægskartotek!C2696","v":0},{"$f":"+IF((Basisoplysninger!$D$60=\"Ja\")*(Anlægskartotek!C2696<>0)=1,Anlægskartotek!$L$14,Anlægskartotek!I2696)","v":0}]
[null,2686,{"$f":"Anlægskartotek!C2697","v":0},{"$f":"+IF((Basisoplysninger!$D$60=\"Ja\")*(Anlægskartotek!C2697<>0)=1,Anlægskartotek!$L$14,Anlægskartotek!I2697)","v":0}]
[null,2687,{"$f":"Anlægskartotek!C2698","v":0},{"$f":"+IF((Basisoplysninger!$D$60=\"Ja\")*(Anlægskartotek!C2698<>0)=1,Anlægskartotek!$L$14,Anlægskartotek!I2698)","v":0}]
[null,2688,{"$f":"Anlægskartotek!C2699","v":0},{"$f":"+IF((Basisoplysninger!$D$60=\"Ja\")*(Anlægskartotek!C2699<>0)=1,Anlægskartotek!$L$14,Anlægskartotek!I2699)","v":0}]
[null,2689,{"$f":"Anlægskartotek!C2700","v":0},{"$f":"+IF((Basisoplysninger!$D$60=\"Ja\")*(Anlægskartotek!C2700<>0)=1,Anlægskartotek!$L$14,Anlægskartotek!I2700)","v":0}]
[null,2690,{"$f":"Anlægskartotek!C2701","v":0},{"$f":"+IF((Basisoplysninger!$D$60=\"Ja\")*(Anlægskartotek!C2701<>0)=1,Anlægskartotek!$L$14,Anlægskartotek!I2701)","v":0}]
[null,{"$f":"B2799+1","v":2691},{"$f":"Anlægskartotek!C2702","v":0},{"$f":"+IF((Basisoplysninger!$D$60=\"Ja\")*(Anlægskartotek!C2702<>0)=1,Anlægskartotek!$L$14,Anlægskartotek!I2702)","v":0}]
[null,2692,{"$f":"Anlægskartotek!C2703","v":0},{"$f":"+IF((Basisoplysninger!$D$60=\"Ja\")*(Anlægskartotek!C2703<>0)=1,Anlægskartotek!$L$14,Anlægskartotek!I2703)","v":0}]
[null,2693,{"$f":"Anlægskartotek!C2704","v":0},{"$f":"+IF((Basisoplysninger!$D$60=\"Ja\")*(Anlægskartotek!C2704<>0)=1,Anlægskartotek!$L$14,Anlægskartotek!I2704)","v":0}]
[null,2694,{"$f":"Anlægskartotek!C2705","v":0},{"$f":"+IF((Basisoplysninger!$D$60=\"Ja\")*(Anlægskartotek!C2705<>0)=1,Anlægskartotek!$L$14,Anlægskartotek!I2705)","v":0}]
[null,2695,{"$f":"Anlægskartotek!C2706","v":0},{"$f":"+IF((Basisoplysninger!$D$60=\"Ja\")*(Anlægskartotek!C2706<>0)=1,Anlægskartotek!$L$14,Anlægskartotek!I2706)","v":0}]
[null,2696,{"$f":"Anlægskartotek!C2707","v":0},{"$f":"+IF((Basisoplysninger!$D$60=\"Ja\")*(Anlægskartotek!C2707<>0)=1,Anlægskartotek!$L$14,Anlægskartotek!I2707)","v":0}]
[null,2697,{"$f":"Anlægskartotek!C2708","v":0},{"$f":"+IF((Basisoplysninger!$D$60=\"Ja\")*(Anlægskartotek!C2708<>0)=1,Anlægskartotek!$L$14,Anlægskartotek!I2708)","v":0}]
[null,2698,{"$f":"Anlægskartotek!C2709","v":0},{"$f":"+IF((Basisoplysninger!$D$60=\"Ja\")*(Anlægskartotek!C2709<>0)=1,Anlægskartotek!$L$14,Anlægskartotek!I2709)","v":0}]
[null,2699,{"$f":"Anlægskartotek!C2710","v":0},{"$f":"+IF((Basisoplysninger!$D$60=\"Ja\")*(Anlægskartotek!C2710<>0)=1,Anlægskartotek!$L$14,Anlægskartotek!I2710)","v":0}]
[null,2700,{"$f":"Anlægskartotek!C2711","v":0},{"$f":"+IF((Basisoplysninger!$D$60=\"Ja\")*(Anlægskartotek!C2711<>0)=1,Anlægskartotek!$L$14,Anlægskartotek!I2711)","v":0}]
[null,2701,{"$f":"Anlægskartotek!C2712","v":0},{"$f":"+IF((Basisoplysninger!$D$60=\"Ja\")*(Anlægskartotek!C2712<>0)=1,Anlægskartotek!$L$14,Anlægskartotek!I2712)","v":0}]
[null,2702,{"$f":"Anlægskartotek!C2713","v":0},{"$f":"+IF((Basisoplysninger!$D$60=\"Ja\")*(Anlægskartotek!C2713<>0)=1,Anlægskartotek!$L$14,Anlægskartotek!I2713)","v":0}]
[null,2703,{"$f":"Anlægskartotek!C2714","v":0},{"$f":"+IF((Basisoplysninger!$D$60=\"Ja\")*(Anlægskartotek!C2714<>0)=1,Anlægskartotek!$L$14,Anlægskartotek!I2714)","v":0}]
[null,2704,{"$f":"Anlægskartotek!C2715","v":0},{"$f":"+IF((Basisoplysninger!$D$60=\"Ja\")*(Anlægskartotek!C2715<>0)=1,Anlægskartotek!$L$14,Anlægskartotek!I2715)","v":0}]
[null,2705,{"$f":"Anlægskartotek!C2716","v":0},{"$f":"+IF((Basisoplysninger!$D$60=\"Ja\")*(Anlægskartotek!C2716<>0)=1,Anlægskartotek!$L$14,Anlægskartotek!I2716)","v":0}]
[null,2706,{"$f":"Anlægskartotek!C2717","v":0},{"$f":"+IF((Basisoplysninger!$D$60=\"Ja\")*(Anlægskartotek!C2717<>0)=1,Anlægskartotek!$L$14,Anlægskartotek!I2717)","v":0}]
[null,2707,{"$f":"Anlægskartotek!C2718","v":0},{"$f":"+IF((Basisoplysninger!$D$60=\"Ja\")*(Anlægskartotek!C2718<>0)=1,Anlægskartotek!$L$14,Anlægskartotek!I2718)","v":0}]
[null,2708,{"$f":"Anlægskartotek!C2719","v":0},{"$f":"+IF((Basisoplysninger!$D$60=\"Ja\")*(Anlægskartotek!C2719<>0)=1,Anlægskartotek!$L$14,Anlægskartotek!I2719)","v":0}]
[null,2709,{"$f":"Anlægskartotek!C2720","v":0},{"$f":"+IF((Basisoplysninger!$D$60=\"Ja\")*(Anlægskartotek!C2720<>0)=1,Anlægskartotek!$L$14,Anlægskartotek!I2720)","v":0}]
[null,2710,{"$f":"Anlægskartotek!C2721","v":0},{"$f":"+IF((Basisoplysninger!$D$60=\"Ja\")*(Anlægskartotek!C2721<>0)=1,Anlægskartotek!$L$14,Anlægskartotek!I2721)","v":0}]
[null,2711,{"$f":"Anlægskartotek!C2722","v":0},{"$f":"+IF((Basisoplysninger!$D$60=\"Ja\")*(Anlægskartotek!C2722<>0)=1,Anlægskartotek!$L$14,Anlægskartotek!I2722)","v":0}]
[null,2712,{"$f":"Anlægskartotek!C2723","v":0},{"$f":"+IF((Basisoplysninger!$D$60=\"Ja\")*(Anlægskartotek!C2723<>0)=1,Anlægskartotek!$L$14,Anlægskartotek!I2723)","v":0}]
[null,2713,{"$f":"Anlægskartotek!C2724","v":0},{"$f":"+IF((Basisoplysninger!$D$60=\"Ja\")*(Anlægskartotek!C2724<>0)=1,Anlægskartotek!$L$14,Anlægskartotek!I2724)","v":0}]
[null,2714,{"$f":"Anlægskartotek!C2725","v":0},{"$f":"+IF((Basisoplysninger!$D$60=\"Ja\")*(Anlægskartotek!C2725<>0)=1,Anlægskartotek!$L$14,Anlægskartotek!I2725)","v":0}]
[null,2715,{"$f":"Anlægskartotek!C2726","v":0},{"$f":"+IF((Basisoplysninger!$D$60=\"Ja\")*(Anlægskartotek!C2726<>0)=1,Anlægskartotek!$L$14,Anlægskartotek!I2726)","v":0}]
[null,2716,{"$f":"Anlægskartotek!C2727","v":0},{"$f":"+IF((Basisoplysninger!$D$60=\"Ja\")*(Anlægskartotek!C2727<>0)=1,Anlægskartotek!$L$14,Anlægskartotek!I2727)","v":0}]
[null,2717,{"$f":"Anlægskartotek!C2728","v":0},{"$f":"+IF((Basisoplysninger!$D$60=\"Ja\")*(Anlægskartotek!C2728<>0)=1,Anlægskartotek!$L$14,Anlægskartotek!I2728)","v":0}]
[null,2718,{"$f":"Anlægskartotek!C2729","v":0},{"$f":"+IF((Basisoplysninger!$D$60=\"Ja\")*(Anlægskartotek!C2729<>0)=1,Anlægskartotek!$L$14,Anlægskartotek!I2729)","v":0}]
[null,2719,{"$f":"Anlægskartotek!C2730","v":0},{"$f":"+IF((Basisoplysninger!$D$60=\"Ja\")*(Anlægskartotek!C2730<>0)=1,Anlægskartotek!$L$14,Anlægskartotek!I2730)","v":0}]
[null,2720,{"$f":"Anlægskartotek!C2731","v":0},{"$f":"+IF((Basisoplysninger!$D$60=\"Ja\")*(Anlægskartotek!C2731<>0)=1,Anlægskartotek!$L$14,Anlægskartotek!I2731)","v":0}]
[null,2721,{"$f":"Anlægskartotek!C2732","v":0},{"$f":"+IF((Basisoplysninger!$D$60=\"Ja\")*(Anlægskartotek!C2732<>0)=1,Anlægskartotek!$L$14,Anlægskartotek!I2732)","v":0}]
[null,2722,{"$f":"Anlægskartotek!C2733","v":0},{"$f":"+IF((Basisoplysninger!$D$60=\"Ja\")*(Anlægskartotek!C2733<>0)=1,Anlægskartotek!$L$14,Anlægskartotek!I2733)","v":0}]
[null,2723,{"$f":"Anlægskartotek!C2734","v":0},{"$f":"+IF((Basisoplysninger!$D$60=\"Ja\")*(Anlægskartotek!C2734<>0)=1,Anlægskartotek!$L$14,Anlægskartotek!I2734)","v":0}]
[null,2724,{"$f":"Anlægskartotek!C2735","v":0},{"$f":"+IF((Basisoplysninger!$D$60=\"Ja\")*(Anlægskartotek!C2735<>0)=1,Anlægskartotek!$L$14,Anlægskartotek!I2735)","v":0}]
[null,2725,{"$f":"Anlægskartotek!C2736","v":0},{"$f":"+IF((Basisoplysninger!$D$60=\"Ja\")*(Anlægskartotek!C2736<>0)=1,Anlægskartotek!$L$14,Anlægskartotek!I2736)","v":0}]
[null,2726,{"$f":"Anlægskartotek!C2737","v":0},{"$f":"+IF((Basisoplysninger!$D$60=\"Ja\")*(Anlægskartotek!C2737<>0)=1,Anlægskartotek!$L$14,Anlægskartotek!I2737)","v":0}]
[null,2727,{"$f":"Anlægskartotek!C2738","v":0},{"$f":"+IF((Basisoplysninger!$D$60=\"Ja\")*(Anlægskartotek!C2738<>0)=1,Anlægskartotek!$L$14,Anlægskartotek!I2738)","v":0}]
[null,2728,{"$f":"Anlægskartotek!C2739","v":0},{"$f":"+IF((Basisoplysninger!$D$60=\"Ja\")*(Anlægskartotek!C2739<>0)=1,Anlægskartotek!$L$14,Anlægskartotek!I2739)","v":0}]
[null,2729,{"$f":"Anlægskartotek!C2740","v":0},{"$f":"+IF((Basisoplysninger!$D$60=\"Ja\")*(Anlægskartotek!C2740<>0)=1,Anlægskartotek!$L$14,Anlægskartotek!I2740)","v":0}]
[null,2730,{"$f":"Anlægskartotek!C2741","v":0},{"$f":"+IF((Basisoplysninger!$D$60=\"Ja\")*(Anlægskartotek!C2741<>0)=1,Anlægskartotek!$L$14,Anlægskartotek!I2741)","v":0}]
[null,2731,{"$f":"Anlægskartotek!C2742","v":0},{"$f":"+IF((Basisoplysninger!$D$60=\"Ja\")*(Anlægskartotek!C2742<>0)=1,Anlægskartotek!$L$14,Anlægskartotek!I2742)","v":0}]
[null,2732,{"$f":"Anlægskartotek!C2743","v":0},{"$f":"+IF((Basisoplysninger!$D$60=\"Ja\")*(Anlægskartotek!C2743<>0)=1,Anlægskartotek!$L$14,Anlægskartotek!I2743)","v":0}]
[null,2733,{"$f":"Anlægskartotek!C2744","v":0},{"$f":"+IF((Basisoplysninger!$D$60=\"Ja\")*(Anlægskartotek!C2744<>0)=1,Anlægskartotek!$L$14,Anlægskartotek!I2744)","v":0}]
[null,2734,{"$f":"Anlægskartotek!C2745","v":0},{"$f":"+IF((Basisoplysninger!$D$60=\"Ja\")*(Anlægskartotek!C2745<>0)=1,Anlægskartotek!$L$14,Anlægskartotek!I2745)","v":0}]
[null,2735,{"$f":"Anlægskartotek!C2746","v":0},{"$f":"+IF((Basisoplysninger!$D$60=\"Ja\")*(Anlægskartotek!C2746<>0)=1,Anlægskartotek!$L$14,Anlægskartotek!I2746)","v":0}]
[null,2736,{"$f":"Anlægskartotek!C2747","v":0},{"$f":"+IF((Basisoplysninger!$D$60=\"Ja\")*(Anlægskartotek!C2747<>0)=1,Anlægskartotek!$L$14,Anlægskartotek!I2747)","v":0}]
[null,2737,{"$f":"Anlægskartotek!C2748","v":0},{"$f":"+IF((Basisoplysninger!$D$60=\"Ja\")*(Anlægskartotek!C2748<>0)=1,Anlægskartotek!$L$14,Anlægskartotek!I2748)","v":0}]
[null,2738,{"$f":"Anlægskartotek!C2749","v":0},{"$f":"+IF((Basisoplysninger!$D$60=\"Ja\")*(Anlægskartotek!C2749<>0)=1,Anlægskartotek!$L$14,Anlægskartotek!I2749)","v":0}]
[null,2739,{"$f":"Anlægskartotek!C2750","v":0},{"$f":"+IF((Basisoplysninger!$D$60=\"Ja\")*(Anlægskartotek!C2750<>0)=1,Anlægskartotek!$L$14,Anlægskartotek!I2750)","v":0}]
[null,2740,{"$f":"Anlægskartotek!C2751","v":0},{"$f":"+IF((Basisoplysninger!$D$60=\"Ja\")*(Anlægskartotek!C2751<>0)=1,Anlægskartotek!$L$14,Anlægskartotek!I2751)","v":0}]
[null,2741,{"$f":"Anlægskartotek!C2752","v":0},{"$f":"+IF((Basisoplysninger!$D$60=\"Ja\")*(Anlægskartotek!C2752<>0)=1,Anlægskartotek!$L$14,Anlægskartotek!I2752)","v":0}]
[null,2742,{"$f":"Anlægskartotek!C2753","v":0},{"$f":"+IF((Basisoplysninger!$D$60=\"Ja\")*(Anlægskartotek!C2753<>0)=1,Anlægskartotek!$L$14,Anlægskartotek!I2753)","v":0}]
[null,2743,{"$f":"Anlægskartotek!C2754","v":0},{"$f":"+IF((Basisoplysninger!$D$60=\"Ja\")*(Anlægskartotek!C2754<>0)=1,Anlægskartotek!$L$14,Anlægskartotek!I2754)","v":0}]
[null,2744,{"$f":"Anlægskartotek!C2755","v":0},{"$f":"+IF((Basisoplysninger!$D$60=\"Ja\")*(Anlægskartotek!C2755<>0)=1,Anlægskartotek!$L$14,Anlægskartotek!I2755)","v":0}]
[null,2745,{"$f":"Anlægskartotek!C2756","v":0},{"$f":"+IF((Basisoplysninger!$D$60=\"Ja\")*(Anlægskartotek!C2756<>0)=1,Anlægskartotek!$L$14,Anlægskartotek!I2756)","v":0}]
[null,2746,{"$f":"Anlægskartotek!C2757","v":0},{"$f":"+IF((Basisoplysninger!$D$60=\"Ja\")*(Anlægskartotek!C2757<>0)=1,Anlægskartotek!$L$14,Anlægskartotek!I2757)","v":0}]
[null,2747,{"$f":"Anlægskartotek!C2758","v":0},{"$f":"+IF((Basisoplysninger!$D$60=\"Ja\")*(Anlægskartotek!C2758<>0)=1,Anlægskartotek!$L$14,Anlægskartotek!I2758)","v":0}]
[null,2748,{"$f":"Anlægskartotek!C2759","v":0},{"$f":"+IF((Basisoplysninger!$D$60=\"Ja\")*(Anlægskartotek!C2759<>0)=1,Anlægskartotek!$L$14,Anlægskartotek!I2759)","v":0}]
[null,2749,{"$f":"Anlægskartotek!C2760","v":0},{"$f":"+IF((Basisoplysninger!$D$60=\"Ja\")*(Anlægskartotek!C2760<>0)=1,Anlægskartotek!$L$14,Anlægskartotek!I2760)","v":0}]
[null,2750,{"$f":"Anlægskartotek!C2761","v":0},{"$f":"+IF((Basisoplysninger!$D$60=\"Ja\")*(Anlægskartotek!C2761<>0)=1,Anlægskartotek!$L$14,Anlægskartotek!I2761)","v":0}]
[null,2751,{"$f":"Anlægskartotek!C2762","v":0},{"$f":"+IF((Basisoplysninger!$D$60=\"Ja\")*(Anlægskartotek!C2762<>0)=1,Anlægskartotek!$L$14,Anlægskartotek!I2762)","v":0}]
[null,2752,{"$f":"Anlægskartotek!C2763","v":0},{"$f":"+IF((Basisoplysninger!$D$60=\"Ja\")*(Anlægskartotek!C2763<>0)=1,Anlægskartotek!$L$14,Anlægskartotek!I2763)","v":0}]
[null,2753,{"$f":"Anlægskartotek!C2764","v":0},{"$f":"+IF((Basisoplysninger!$D$60=\"Ja\")*(Anlægskartotek!C2764<>0)=1,Anlægskartotek!$L$14,Anlægskartotek!I2764)","v":0}]
[null,2754,{"$f":"Anlægskartotek!C2765","v":0},{"$f":"+IF((Basisoplysninger!$D$60=\"Ja\")*(Anlægskartotek!C2765<>0)=1,Anlægskartotek!$L$14,Anlægskartotek!I2765)","v":0}]
[null,{"$f":"B2863+1","v":2755},{"$f":"Anlægskartotek!C2766","v":0},{"$f":"+IF((Basisoplysninger!$D$60=\"Ja\")*(Anlægskartotek!C2766<>0)=1,Anlægskartotek!$L$14,Anlægskartotek!I2766)","v":0}]
[null,2756,{"$f":"Anlægskartotek!C2767","v":0},{"$f":"+IF((Basisoplysninger!$D$60=\"Ja\")*(Anlægskartotek!C2767<>0)=1,Anlægskartotek!$L$14,Anlægskartotek!I2767)","v":0}]
[null,2757,{"$f":"Anlægskartotek!C2768","v":0},{"$f":"+IF((Basisoplysninger!$D$60=\"Ja\")*(Anlægskartotek!C2768<>0)=1,Anlægskartotek!$L$14,Anlægskartotek!I2768)","v":0}]
[null,2758,{"$f":"Anlægskartotek!C2769","v":0},{"$f":"+IF((Basisoplysninger!$D$60=\"Ja\")*(Anlægskartotek!C2769<>0)=1,Anlægskartotek!$L$14,Anlægskartotek!I2769)","v":0}]
[null,2759,{"$f":"Anlægskartotek!C2770","v":0},{"$f":"+IF((Basisoplysninger!$D$60=\"Ja\")*(Anlægskartotek!C2770<>0)=1,Anlægskartotek!$L$14,Anlægskartotek!I2770)","v":0}]
[null,2760,{"$f":"Anlægskartotek!C2771","v":0},{"$f":"+IF((Basisoplysninger!$D$60=\"Ja\")*(Anlægskartotek!C2771<>0)=1,Anlægskartotek!$L$14,Anlægskartotek!I2771)","v":0}]
[null,2761,{"$f":"Anlægskartotek!C2772","v":0},{"$f":"+IF((Basisoplysninger!$D$60=\"Ja\")*(Anlægskartotek!C2772<>0)=1,Anlægskartotek!$L$14,Anlægskartotek!I2772)","v":0}]
[null,2762,{"$f":"Anlægskartotek!C2773","v":0},{"$f":"+IF((Basisoplysninger!$D$60=\"Ja\")*(Anlægskartotek!C2773<>0)=1,Anlægskartotek!$L$14,Anlægskartotek!I2773)","v":0}]
[null,2763,{"$f":"Anlægskartotek!C2774","v":0},{"$f":"+IF((Basisoplysninger!$D$60=\"Ja\")*(Anlægskartotek!C2774<>0)=1,Anlægskartotek!$L$14,Anlægskartotek!I2774)","v":0}]
[null,2764,{"$f":"Anlægskartotek!C2775","v":0},{"$f":"+IF((Basisoplysninger!$D$60=\"Ja\")*(Anlægskartotek!C2775<>0)=1,Anlægskartotek!$L$14,Anlægskartotek!I2775)","v":0}]
[null,2765,{"$f":"Anlægskartotek!C2776","v":0},{"$f":"+IF((Basisoplysninger!$D$60=\"Ja\")*(Anlægskartotek!C2776<>0)=1,Anlægskartotek!$L$14,Anlægskartotek!I2776)","v":0}]
[null,2766,{"$f":"Anlægskartotek!C2777","v":0},{"$f":"+IF((Basisoplysninger!$D$60=\"Ja\")*(Anlægskartotek!C2777<>0)=1,Anlægskartotek!$L$14,Anlægskartotek!I2777)","v":0}]
[null,2767,{"$f":"Anlægskartotek!C2778","v":0},{"$f":"+IF((Basisoplysninger!$D$60=\"Ja\")*(Anlægskartotek!C2778<>0)=1,Anlægskartotek!$L$14,Anlægskartotek!I2778)","v":0}]
[null,2768,{"$f":"Anlægskartotek!C2779","v":0},{"$f":"+IF((Basisoplysninger!$D$60=\"Ja\")*(Anlægskartotek!C2779<>0)=1,Anlægskartotek!$L$14,Anlægskartotek!I2779)","v":0}]
[null,2769,{"$f":"Anlægskartotek!C2780","v":0},{"$f":"+IF((Basisoplysninger!$D$60=\"Ja\")*(Anlægskartotek!C2780<>0)=1,Anlægskartotek!$L$14,Anlægskartotek!I2780)","v":0}]
[null,2770,{"$f":"Anlægskartotek!C2781","v":0},{"$f":"+IF((Basisoplysninger!$D$60=\"Ja\")*(Anlægskartotek!C2781<>0)=1,Anlægskartotek!$L$14,Anlægskartotek!I2781)","v":0}]
[null,2771,{"$f":"Anlægskartotek!C2782","v":0},{"$f":"+IF((Basisoplysninger!$D$60=\"Ja\")*(Anlægskartotek!C2782<>0)=1,Anlægskartotek!$L$14,Anlægskartotek!I2782)","v":0}]
[null,2772,{"$f":"Anlægskartotek!C2783","v":0},{"$f":"+IF((Basisoplysninger!$D$60=\"Ja\")*(Anlægskartotek!C2783<>0)=1,Anlægskartotek!$L$14,Anlægskartotek!I2783)","v":0}]
[null,2773,{"$f":"Anlægskartotek!C2784","v":0},{"$f":"+IF((Basisoplysninger!$D$60=\"Ja\")*(Anlægskartotek!C2784<>0)=1,Anlægskartotek!$L$14,Anlægskartotek!I2784)","v":0}]
[null,2774,{"$f":"Anlægskartotek!C2785","v":0},{"$f":"+IF((Basisoplysninger!$D$60=\"Ja\")*(Anlægskartotek!C2785<>0)=1,Anlægskartotek!$L$14,Anlægskartotek!I2785)","v":0}]
[null,2775,{"$f":"Anlægskartotek!C2786","v":0},{"$f":"+IF((Basisoplysninger!$D$60=\"Ja\")*(Anlægskartotek!C2786<>0)=1,Anlægskartotek!$L$14,Anlægskartotek!I2786)","v":0}]
[null,2776,{"$f":"Anlægskartotek!C2787","v":0},{"$f":"+IF((Basisoplysninger!$D$60=\"Ja\")*(Anlægskartotek!C2787<>0)=1,Anlægskartotek!$L$14,Anlægskartotek!I2787)","v":0}]
[null,2777,{"$f":"Anlægskartotek!C2788","v":0},{"$f":"+IF((Basisoplysninger!$D$60=\"Ja\")*(Anlægskartotek!C2788<>0)=1,Anlægskartotek!$L$14,Anlægskartotek!I2788)","v":0}]
[null,2778,{"$f":"Anlægskartotek!C2789","v":0},{"$f":"+IF((Basisoplysninger!$D$60=\"Ja\")*(Anlægskartotek!C2789<>0)=1,Anlægskartotek!$L$14,Anlægskartotek!I2789)","v":0}]
[null,2779,{"$f":"Anlægskartotek!C2790","v":0},{"$f":"+IF((Basisoplysninger!$D$60=\"Ja\")*(Anlægskartotek!C2790<>0)=1,Anlægskartotek!$L$14,Anlægskartotek!I2790)","v":0}]
[null,2780,{"$f":"Anlægskartotek!C2791","v":0},{"$f":"+IF((Basisoplysninger!$D$60=\"Ja\")*(Anlægskartotek!C2791<>0)=1,Anlægskartotek!$L$14,Anlægskartotek!I2791)","v":0}]
[null,2781,{"$f":"Anlægskartotek!C2792","v":0},{"$f":"+IF((Basisoplysninger!$D$60=\"Ja\")*(Anlægskartotek!C2792<>0)=1,Anlægskartotek!$L$14,Anlægskartotek!I2792)","v":0}]
[null,2782,{"$f":"Anlægskartotek!C2793","v":0},{"$f":"+IF((Basisoplysninger!$D$60=\"Ja\")*(Anlægskartotek!C2793<>0)=1,Anlægskartotek!$L$14,Anlægskartotek!I2793)","v":0}]
[null,2783,{"$f":"Anlægskartotek!C2794","v":0},{"$f":"+IF((Basisoplysninger!$D$60=\"Ja\")*(Anlægskartotek!C2794<>0)=1,Anlægskartotek!$L$14,Anlægskartotek!I2794)","v":0}]
[null,2784,{"$f":"Anlægskartotek!C2795","v":0},{"$f":"+IF((Basisoplysninger!$D$60=\"Ja\")*(Anlægskartotek!C2795<>0)=1,Anlægskartotek!$L$14,Anlægskartotek!I2795)","v":0}]
[null,2785,{"$f":"Anlægskartotek!C2796","v":0},{"$f":"+IF((Basisoplysninger!$D$60=\"Ja\")*(Anlægskartotek!C2796<>0)=1,Anlægskartotek!$L$14,Anlægskartotek!I2796)","v":0}]
[null,2786,{"$f":"Anlægskartotek!C2797","v":0},{"$f":"+IF((Basisoplysninger!$D$60=\"Ja\")*(Anlægskartotek!C2797<>0)=1,Anlægskartotek!$L$14,Anlægskartotek!I2797)","v":0}]
[null,2787,{"$f":"Anlægskartotek!C2798","v":0},{"$f":"+IF((Basisoplysninger!$D$60=\"Ja\")*(Anlægskartotek!C2798<>0)=1,Anlægskartotek!$L$14,Anlægskartotek!I2798)","v":0}]
[null,2788,{"$f":"Anlægskartotek!C2799","v":0},{"$f":"+IF((Basisoplysninger!$D$60=\"Ja\")*(Anlægskartotek!C2799<>0)=1,Anlægskartotek!$L$14,Anlægskartotek!I2799)","v":0}]
[null,2789,{"$f":"Anlægskartotek!C2800","v":0},{"$f":"+IF((Basisoplysninger!$D$60=\"Ja\")*(Anlægskartotek!C2800<>0)=1,Anlægskartotek!$L$14,Anlægskartotek!I2800)","v":0}]
[null,2790,{"$f":"Anlægskartotek!C2801","v":0},{"$f":"+IF((Basisoplysninger!$D$60=\"Ja\")*(Anlægskartotek!C2801<>0)=1,Anlægskartotek!$L$14,Anlægskartotek!I2801)","v":0}]
[null,2791,{"$f":"Anlægskartotek!C2802","v":0},{"$f":"+IF((Basisoplysninger!$D$60=\"Ja\")*(Anlægskartotek!C2802<>0)=1,Anlægskartotek!$L$14,Anlægskartotek!I2802)","v":0}]
[null,2792,{"$f":"Anlægskartotek!C2803","v":0},{"$f":"+IF((Basisoplysninger!$D$60=\"Ja\")*(Anlægskartotek!C2803<>0)=1,Anlægskartotek!$L$14,Anlægskartotek!I2803)","v":0}]
[null,2793,{"$f":"Anlægskartotek!C2804","v":0},{"$f":"+IF((Basisoplysninger!$D$60=\"Ja\")*(Anlægskartotek!C2804<>0)=1,Anlægskartotek!$L$14,Anlægskartotek!I2804)","v":0}]
[null,2794,{"$f":"Anlægskartotek!C2805","v":0},{"$f":"+IF((Basisoplysninger!$D$60=\"Ja\")*(Anlægskartotek!C2805<>0)=1,Anlægskartotek!$L$14,Anlægskartotek!I2805)","v":0}]
[null,2795,{"$f":"Anlægskartotek!C2806","v":0},{"$f":"+IF((Basisoplysninger!$D$60=\"Ja\")*(Anlægskartotek!C2806<>0)=1,Anlægskartotek!$L$14,Anlægskartotek!I2806)","v":0}]
[null,2796,{"$f":"Anlægskartotek!C2807","v":0},{"$f":"+IF((Basisoplysninger!$D$60=\"Ja\")*(Anlægskartotek!C2807<>0)=1,Anlægskartotek!$L$14,Anlægskartotek!I2807)","v":0}]
[null,2797,{"$f":"Anlægskartotek!C2808","v":0},{"$f":"+IF((Basisoplysninger!$D$60=\"Ja\")*(Anlægskartotek!C2808<>0)=1,Anlægskartotek!$L$14,Anlægskartotek!I2808)","v":0}]
[null,2798,{"$f":"Anlægskartotek!C2809","v":0},{"$f":"+IF((Basisoplysninger!$D$60=\"Ja\")*(Anlægskartotek!C2809<>0)=1,Anlægskartotek!$L$14,Anlægskartotek!I2809)","v":0}]
[null,2799,{"$f":"Anlægskartotek!C2810","v":0},{"$f":"+IF((Basisoplysninger!$D$60=\"Ja\")*(Anlægskartotek!C2810<>0)=1,Anlægskartotek!$L$14,Anlægskartotek!I2810)","v":0}]
[null,2800,{"$f":"Anlægskartotek!C2811","v":0},{"$f":"+IF((Basisoplysninger!$D$60=\"Ja\")*(Anlægskartotek!C2811<>0)=1,Anlægskartotek!$L$14,Anlægskartotek!I2811)","v":0}]
[null,2801,{"$f":"Anlægskartotek!C2812","v":0},{"$f":"+IF((Basisoplysninger!$D$60=\"Ja\")*(Anlægskartotek!C2812<>0)=1,Anlægskartotek!$L$14,Anlægskartotek!I2812)","v":0}]
[null,2802,{"$f":"Anlægskartotek!C2813","v":0},{"$f":"+IF((Basisoplysninger!$D$60=\"Ja\")*(Anlægskartotek!C2813<>0)=1,Anlægskartotek!$L$14,Anlægskartotek!I2813)","v":0}]
[null,2803,{"$f":"Anlægskartotek!C2814","v":0},{"$f":"+IF((Basisoplysninger!$D$60=\"Ja\")*(Anlægskartotek!C2814<>0)=1,Anlægskartotek!$L$14,Anlægskartotek!I2814)","v":0}]
[null,2804,{"$f":"Anlægskartotek!C2815","v":0},{"$f":"+IF((Basisoplysninger!$D$60=\"Ja\")*(Anlægskartotek!C2815<>0)=1,Anlægskartotek!$L$14,Anlægskartotek!I2815)","v":0}]
[null,2805,{"$f":"Anlægskartotek!C2816","v":0},{"$f":"+IF((Basisoplysninger!$D$60=\"Ja\")*(Anlægskartotek!C2816<>0)=1,Anlægskartotek!$L$14,Anlægskartotek!I2816)","v":0}]
[null,2806,{"$f":"Anlægskartotek!C2817","v":0},{"$f":"+IF((Basisoplysninger!$D$60=\"Ja\")*(Anlægskartotek!C2817<>0)=1,Anlægskartotek!$L$14,Anlægskartotek!I2817)","v":0}]
[null,2807,{"$f":"Anlægskartotek!C2818","v":0},{"$f":"+IF((Basisoplysninger!$D$60=\"Ja\")*(Anlægskartotek!C2818<>0)=1,Anlægskartotek!$L$14,Anlægskartotek!I2818)","v":0}]
[null,2808,{"$f":"Anlægskartotek!C2819","v":0},{"$f":"+IF((Basisoplysninger!$D$60=\"Ja\")*(Anlægskartotek!C2819<>0)=1,Anlægskartotek!$L$14,Anlægskartotek!I2819)","v":0}]
[null,2809,{"$f":"Anlægskartotek!C2820","v":0},{"$f":"+IF((Basisoplysninger!$D$60=\"Ja\")*(Anlægskartotek!C2820<>0)=1,Anlægskartotek!$L$14,Anlægskartotek!I2820)","v":0}]
[null,2810,{"$f":"Anlægskartotek!C2821","v":0},{"$f":"+IF((Basisoplysninger!$D$60=\"Ja\")*(Anlægskartotek!C2821<>0)=1,Anlægskartotek!$L$14,Anlægskartotek!I2821)","v":0}]
[null,2811,{"$f":"Anlægskartotek!C2822","v":0},{"$f":"+IF((Basisoplysninger!$D$60=\"Ja\")*(Anlægskartotek!C2822<>0)=1,Anlægskartotek!$L$14,Anlægskartotek!I2822)","v":0}]
[null,2812,{"$f":"Anlægskartotek!C2823","v":0},{"$f":"+IF((Basisoplysninger!$D$60=\"Ja\")*(Anlægskartotek!C2823<>0)=1,Anlægskartotek!$L$14,Anlægskartotek!I2823)","v":0}]
[null,2813,{"$f":"Anlægskartotek!C2824","v":0},{"$f":"+IF((Basisoplysninger!$D$60=\"Ja\")*(Anlægskartotek!C2824<>0)=1,Anlægskartotek!$L$14,Anlægskartotek!I2824)","v":0}]
[null,2814,{"$f":"Anlægskartotek!C2825","v":0},{"$f":"+IF((Basisoplysninger!$D$60=\"Ja\")*(Anlægskartotek!C2825<>0)=1,Anlægskartotek!$L$14,Anlægskartotek!I2825)","v":0}]
[null,2815,{"$f":"Anlægskartotek!C2826","v":0},{"$f":"+IF((Basisoplysninger!$D$60=\"Ja\")*(Anlægskartotek!C2826<>0)=1,Anlægskartotek!$L$14,Anlægskartotek!I2826)","v":0}]
[null,2816,{"$f":"Anlægskartotek!C2827","v":0},{"$f":"+IF((Basisoplysninger!$D$60=\"Ja\")*(Anlægskartotek!C2827<>0)=1,Anlægskartotek!$L$14,Anlægskartotek!I2827)","v":0}]
[null,2817,{"$f":"Anlægskartotek!C2828","v":0},{"$f":"+IF((Basisoplysninger!$D$60=\"Ja\")*(Anlægskartotek!C2828<>0)=1,Anlægskartotek!$L$14,Anlægskartotek!I2828)","v":0}]
[null,2818,{"$f":"Anlægskartotek!C2829","v":0},{"$f":"+IF((Basisoplysninger!$D$60=\"Ja\")*(Anlægskartotek!C2829<>0)=1,Anlægskartotek!$L$14,Anlægskartotek!I2829)","v":0}]
[null,{"$f":"B2927+1","v":2819},{"$f":"Anlægskartotek!C2830","v":0},{"$f":"+IF((Basisoplysninger!$D$60=\"Ja\")*(Anlægskartotek!C2830<>0)=1,Anlægskartotek!$L$14,Anlægskartotek!I2830)","v":0}]
[null,2820,{"$f":"Anlægskartotek!C2831","v":0},{"$f":"+IF((Basisoplysninger!$D$60=\"Ja\")*(Anlægskartotek!C2831<>0)=1,Anlægskartotek!$L$14,Anlægskartotek!I2831)","v":0}]
[null,2821,{"$f":"Anlægskartotek!C2832","v":0},{"$f":"+IF((Basisoplysninger!$D$60=\"Ja\")*(Anlægskartotek!C2832<>0)=1,Anlægskartotek!$L$14,Anlægskartotek!I2832)","v":0}]
[null,2822,{"$f":"Anlægskartotek!C2833","v":0},{"$f":"+IF((Basisoplysninger!$D$60=\"Ja\")*(Anlægskartotek!C2833<>0)=1,Anlægskartotek!$L$14,Anlægskartotek!I2833)","v":0}]
[null,2823,{"$f":"Anlægskartotek!C2834","v":0},{"$f":"+IF((Basisoplysninger!$D$60=\"Ja\")*(Anlægskartotek!C2834<>0)=1,Anlægskartotek!$L$14,Anlægskartotek!I2834)","v":0}]
[null,2824,{"$f":"Anlægskartotek!C2835","v":0},{"$f":"+IF((Basisoplysninger!$D$60=\"Ja\")*(Anlægskartotek!C2835<>0)=1,Anlægskartotek!$L$14,Anlægskartotek!I2835)","v":0}]
[null,2825,{"$f":"Anlægskartotek!C2836","v":0},{"$f":"+IF((Basisoplysninger!$D$60=\"Ja\")*(Anlægskartotek!C2836<>0)=1,Anlægskartotek!$L$14,Anlægskartotek!I2836)","v":0}]
[null,2826,{"$f":"Anlægskartotek!C2837","v":0},{"$f":"+IF((Basisoplysninger!$D$60=\"Ja\")*(Anlægskartotek!C2837<>0)=1,Anlægskartotek!$L$14,Anlægskartotek!I2837)","v":0}]
[null,2827,{"$f":"Anlægskartotek!C2838","v":0},{"$f":"+IF((Basisoplysninger!$D$60=\"Ja\")*(Anlægskartotek!C2838<>0)=1,Anlægskartotek!$L$14,Anlægskartotek!I2838)","v":0}]
[null,2828,{"$f":"Anlægskartotek!C2839","v":0},{"$f":"+IF((Basisoplysninger!$D$60=\"Ja\")*(Anlægskartotek!C2839<>0)=1,Anlægskartotek!$L$14,Anlægskartotek!I2839)","v":0}]
[null,2829,{"$f":"Anlægskartotek!C2840","v":0},{"$f":"+IF((Basisoplysninger!$D$60=\"Ja\")*(Anlægskartotek!C2840<>0)=1,Anlægskartotek!$L$14,Anlægskartotek!I2840)","v":0}]
[null,2830,{"$f":"Anlægskartotek!C2841","v":0},{"$f":"+IF((Basisoplysninger!$D$60=\"Ja\")*(Anlægskartotek!C2841<>0)=1,Anlægskartotek!$L$14,Anlægskartotek!I2841)","v":0}]
[null,2831,{"$f":"Anlægskartotek!C2842","v":0},{"$f":"+IF((Basisoplysninger!$D$60=\"Ja\")*(Anlægskartotek!C2842<>0)=1,Anlægskartotek!$L$14,Anlægskartotek!I2842)","v":0}]
[null,2832,{"$f":"Anlægskartotek!C2843","v":0},{"$f":"+IF((Basisoplysninger!$D$60=\"Ja\")*(Anlægskartotek!C2843<>0)=1,Anlægskartotek!$L$14,Anlægskartotek!I2843)","v":0}]
[null,2833,{"$f":"Anlægskartotek!C2844","v":0},{"$f":"+IF((Basisoplysninger!$D$60=\"Ja\")*(Anlægskartotek!C2844<>0)=1,Anlægskartotek!$L$14,Anlægskartotek!I2844)","v":0}]
[null,2834,{"$f":"Anlægskartotek!C2845","v":0},{"$f":"+IF((Basisoplysninger!$D$60=\"Ja\")*(Anlægskartotek!C2845<>0)=1,Anlægskartotek!$L$14,Anlægskartotek!I2845)","v":0}]
[null,2835,{"$f":"Anlægskartotek!C2846","v":0},{"$f":"+IF((Basisoplysninger!$D$60=\"Ja\")*(Anlægskartotek!C2846<>0)=1,Anlægskartotek!$L$14,Anlægskartotek!I2846)","v":0}]
[null,2836,{"$f":"Anlægskartotek!C2847","v":0},{"$f":"+IF((Basisoplysninger!$D$60=\"Ja\")*(Anlægskartotek!C2847<>0)=1,Anlægskartotek!$L$14,Anlægskartotek!I2847)","v":0}]
[null,2837,{"$f":"Anlægskartotek!C2848","v":0},{"$f":"+IF((Basisoplysninger!$D$60=\"Ja\")*(Anlægskartotek!C2848<>0)=1,Anlægskartotek!$L$14,Anlægskartotek!I2848)","v":0}]
[null,2838,{"$f":"Anlægskartotek!C2849","v":0},{"$f":"+IF((Basisoplysninger!$D$60=\"Ja\")*(Anlægskartotek!C2849<>0)=1,Anlægskartotek!$L$14,Anlægskartotek!I2849)","v":0}]
[null,2839,{"$f":"Anlægskartotek!C2850","v":0},{"$f":"+IF((Basisoplysninger!$D$60=\"Ja\")*(Anlægskartotek!C2850<>0)=1,Anlægskartotek!$L$14,Anlægskartotek!I2850)","v":0}]
[null,2840,{"$f":"Anlægskartotek!C2851","v":0},{"$f":"+IF((Basisoplysninger!$D$60=\"Ja\")*(Anlægskartotek!C2851<>0)=1,Anlægskartotek!$L$14,Anlægskartotek!I2851)","v":0}]
[null,2841,{"$f":"Anlægskartotek!C2852","v":0},{"$f":"+IF((Basisoplysninger!$D$60=\"Ja\")*(Anlægskartotek!C2852<>0)=1,Anlægskartotek!$L$14,Anlægskartotek!I2852)","v":0}]
[null,2842,{"$f":"Anlægskartotek!C2853","v":0},{"$f":"+IF((Basisoplysninger!$D$60=\"Ja\")*(Anlægskartotek!C2853<>0)=1,Anlægskartotek!$L$14,Anlægskartotek!I2853)","v":0}]
[null,2843,{"$f":"Anlægskartotek!C2854","v":0},{"$f":"+IF((Basisoplysninger!$D$60=\"Ja\")*(Anlægskartotek!C2854<>0)=1,Anlægskartotek!$L$14,Anlægskartotek!I2854)","v":0}]
[null,2844,{"$f":"Anlægskartotek!C2855","v":0},{"$f":"+IF((Basisoplysninger!$D$60=\"Ja\")*(Anlægskartotek!C2855<>0)=1,Anlægskartotek!$L$14,Anlægskartotek!I2855)","v":0}]
[null,2845,{"$f":"Anlægskartotek!C2856","v":0},{"$f":"+IF((Basisoplysninger!$D$60=\"Ja\")*(Anlægskartotek!C2856<>0)=1,Anlægskartotek!$L$14,Anlægskartotek!I2856)","v":0}]
[null,2846,{"$f":"Anlægskartotek!C2857","v":0},{"$f":"+IF((Basisoplysninger!$D$60=\"Ja\")*(Anlægskartotek!C2857<>0)=1,Anlægskartotek!$L$14,Anlægskartotek!I2857)","v":0}]
[null,2847,{"$f":"Anlægskartotek!C2858","v":0},{"$f":"+IF((Basisoplysninger!$D$60=\"Ja\")*(Anlægskartotek!C2858<>0)=1,Anlægskartotek!$L$14,Anlægskartotek!I2858)","v":0}]
[null,2848,{"$f":"Anlægskartotek!C2859","v":0},{"$f":"+IF((Basisoplysninger!$D$60=\"Ja\")*(Anlægskartotek!C2859<>0)=1,Anlægskartotek!$L$14,Anlægskartotek!I2859)","v":0}]
[null,2849,{"$f":"Anlægskartotek!C2860","v":0},{"$f":"+IF((Basisoplysninger!$D$60=\"Ja\")*(Anlægskartotek!C2860<>0)=1,Anlægskartotek!$L$14,Anlægskartotek!I2860)","v":0}]
[null,2850,{"$f":"Anlægskartotek!C2861","v":0},{"$f":"+IF((Basisoplysninger!$D$60=\"Ja\")*(Anlægskartotek!C2861<>0)=1,Anlægskartotek!$L$14,Anlægskartotek!I2861)","v":0}]
[null,2851,{"$f":"Anlægskartotek!C2862","v":0},{"$f":"+IF((Basisoplysninger!$D$60=\"Ja\")*(Anlægskartotek!C2862<>0)=1,Anlægskartotek!$L$14,Anlægskartotek!I2862)","v":0}]
[null,2852,{"$f":"Anlægskartotek!C2863","v":0},{"$f":"+IF((Basisoplysninger!$D$60=\"Ja\")*(Anlægskartotek!C2863<>0)=1,Anlægskartotek!$L$14,Anlægskartotek!I2863)","v":0}]
[null,2853,{"$f":"Anlægskartotek!C2864","v":0},{"$f":"+IF((Basisoplysninger!$D$60=\"Ja\")*(Anlægskartotek!C2864<>0)=1,Anlægskartotek!$L$14,Anlægskartotek!I2864)","v":0}]
[null,2854,{"$f":"Anlægskartotek!C2865","v":0},{"$f":"+IF((Basisoplysninger!$D$60=\"Ja\")*(Anlægskartotek!C2865<>0)=1,Anlægskartotek!$L$14,Anlægskartotek!I2865)","v":0}]
[null,2855,{"$f":"Anlægskartotek!C2866","v":0},{"$f":"+IF((Basisoplysninger!$D$60=\"Ja\")*(Anlægskartotek!C2866<>0)=1,Anlægskartotek!$L$14,Anlægskartotek!I2866)","v":0}]
[null,2856,{"$f":"Anlægskartotek!C2867","v":0},{"$f":"+IF((Basisoplysninger!$D$60=\"Ja\")*(Anlægskartotek!C2867<>0)=1,Anlægskartotek!$L$14,Anlægskartotek!I2867)","v":0}]
[null,2857,{"$f":"Anlægskartotek!C2868","v":0},{"$f":"+IF((Basisoplysninger!$D$60=\"Ja\")*(Anlægskartotek!C2868<>0)=1,Anlægskartotek!$L$14,Anlægskartotek!I2868)","v":0}]
[null,2858,{"$f":"Anlægskartotek!C2869","v":0},{"$f":"+IF((Basisoplysninger!$D$60=\"Ja\")*(Anlægskartotek!C2869<>0)=1,Anlægskartotek!$L$14,Anlægskartotek!I2869)","v":0}]
[null,2859,{"$f":"Anlægskartotek!C2870","v":0},{"$f":"+IF((Basisoplysninger!$D$60=\"Ja\")*(Anlægskartotek!C2870<>0)=1,Anlægskartotek!$L$14,Anlægskartotek!I2870)","v":0}]
[null,2860,{"$f":"Anlægskartotek!C2871","v":0},{"$f":"+IF((Basisoplysninger!$D$60=\"Ja\")*(Anlægskartotek!C2871<>0)=1,Anlægskartotek!$L$14,Anlægskartotek!I2871)","v":0}]
[null,2861,{"$f":"Anlægskartotek!C2872","v":0},{"$f":"+IF((Basisoplysninger!$D$60=\"Ja\")*(Anlægskartotek!C2872<>0)=1,Anlægskartotek!$L$14,Anlægskartotek!I2872)","v":0}]
[null,2862,{"$f":"Anlægskartotek!C2873","v":0},{"$f":"+IF((Basisoplysninger!$D$60=\"Ja\")*(Anlægskartotek!C2873<>0)=1,Anlægskartotek!$L$14,Anlægskartotek!I2873)","v":0}]
[null,2863,{"$f":"Anlægskartotek!C2874","v":0},{"$f":"+IF((Basisoplysninger!$D$60=\"Ja\")*(Anlægskartotek!C2874<>0)=1,Anlægskartotek!$L$14,Anlægskartotek!I2874)","v":0}]
[null,2864,{"$f":"Anlægskartotek!C2875","v":0},{"$f":"+IF((Basisoplysninger!$D$60=\"Ja\")*(Anlægskartotek!C2875<>0)=1,Anlægskartotek!$L$14,Anlægskartotek!I2875)","v":0}]
[null,2865,{"$f":"Anlægskartotek!C2876","v":0},{"$f":"+IF((Basisoplysninger!$D$60=\"Ja\")*(Anlægskartotek!C2876<>0)=1,Anlægskartotek!$L$14,Anlægskartotek!I2876)","v":0}]
[null,2866,{"$f":"Anlægskartotek!C2877","v":0},{"$f":"+IF((Basisoplysninger!$D$60=\"Ja\")*(Anlægskartotek!C2877<>0)=1,Anlægskartotek!$L$14,Anlægskartotek!I2877)","v":0}]
[null,2867,{"$f":"Anlægskartotek!C2878","v":0},{"$f":"+IF((Basisoplysninger!$D$60=\"Ja\")*(Anlægskartotek!C2878<>0)=1,Anlægskartotek!$L$14,Anlægskartotek!I2878)","v":0}]
[null,2868,{"$f":"Anlægskartotek!C2879","v":0},{"$f":"+IF((Basisoplysninger!$D$60=\"Ja\")*(Anlægskartotek!C2879<>0)=1,Anlægskartotek!$L$14,Anlægskartotek!I2879)","v":0}]
[null,2869,{"$f":"Anlægskartotek!C2880","v":0},{"$f":"+IF((Basisoplysninger!$D$60=\"Ja\")*(Anlægskartotek!C2880<>0)=1,Anlægskartotek!$L$14,Anlægskartotek!I2880)","v":0}]
[null,2870,{"$f":"Anlægskartotek!C2881","v":0},{"$f":"+IF((Basisoplysninger!$D$60=\"Ja\")*(Anlægskartotek!C2881<>0)=1,Anlægskartotek!$L$14,Anlægskartotek!I2881)","v":0}]
[null,2871,{"$f":"Anlægskartotek!C2882","v":0},{"$f":"+IF((Basisoplysninger!$D$60=\"Ja\")*(Anlægskartotek!C2882<>0)=1,Anlægskartotek!$L$14,Anlægskartotek!I2882)","v":0}]
[null,2872,{"$f":"Anlægskartotek!C2883","v":0},{"$f":"+IF((Basisoplysninger!$D$60=\"Ja\")*(Anlægskartotek!C2883<>0)=1,Anlægskartotek!$L$14,Anlægskartotek!I2883)","v":0}]
[null,2873,{"$f":"Anlægskartotek!C2884","v":0},{"$f":"+IF((Basisoplysninger!$D$60=\"Ja\")*(Anlægskartotek!C2884<>0)=1,Anlægskartotek!$L$14,Anlægskartotek!I2884)","v":0}]
[null,2874,{"$f":"Anlægskartotek!C2885","v":0},{"$f":"+IF((Basisoplysninger!$D$60=\"Ja\")*(Anlægskartotek!C2885<>0)=1,Anlægskartotek!$L$14,Anlægskartotek!I2885)","v":0}]
[null,2875,{"$f":"Anlægskartotek!C2886","v":0},{"$f":"+IF((Basisoplysninger!$D$60=\"Ja\")*(Anlægskartotek!C2886<>0)=1,Anlægskartotek!$L$14,Anlægskartotek!I2886)","v":0}]
[null,2876,{"$f":"Anlægskartotek!C2887","v":0},{"$f":"+IF((Basisoplysninger!$D$60=\"Ja\")*(Anlægskartotek!C2887<>0)=1,Anlægskartotek!$L$14,Anlægskartotek!I2887)","v":0}]
[null,2877,{"$f":"Anlægskartotek!C2888","v":0},{"$f":"+IF((Basisoplysninger!$D$60=\"Ja\")*(Anlægskartotek!C2888<>0)=1,Anlægskartotek!$L$14,Anlægskartotek!I2888)","v":0}]
[null,2878,{"$f":"Anlægskartotek!C2889","v":0},{"$f":"+IF((Basisoplysninger!$D$60=\"Ja\")*(Anlægskartotek!C2889<>0)=1,Anlægskartotek!$L$14,Anlægskartotek!I2889)","v":0}]
[null,2879,{"$f":"Anlægskartotek!C2890","v":0},{"$f":"+IF((Basisoplysninger!$D$60=\"Ja\")*(Anlægskartotek!C2890<>0)=1,Anlægskartotek!$L$14,Anlægskartotek!I2890)","v":0}]
[null,2880,{"$f":"Anlægskartotek!C2891","v":0},{"$f":"+IF((Basisoplysninger!$D$60=\"Ja\")*(Anlægskartotek!C2891<>0)=1,Anlægskartotek!$L$14,Anlægskartotek!I2891)","v":0}]
[null,2881,{"$f":"Anlægskartotek!C2892","v":0},{"$f":"+IF((Basisoplysninger!$D$60=\"Ja\")*(Anlægskartotek!C2892<>0)=1,Anlægskartotek!$L$14,Anlægskartotek!I2892)","v":0}]
[null,2882,{"$f":"Anlægskartotek!C2893","v":0},{"$f":"+IF((Basisoplysninger!$D$60=\"Ja\")*(Anlægskartotek!C2893<>0)=1,Anlægskartotek!$L$14,Anlægskartotek!I2893)","v":0}]
[null,{"$f":"B2991+1","v":2883},{"$f":"Anlægskartotek!C2894","v":0},{"$f":"+IF((Basisoplysninger!$D$60=\"Ja\")*(Anlægskartotek!C2894<>0)=1,Anlægskartotek!$L$14,Anlægskartotek!I2894)","v":0}]
[null,2884,{"$f":"Anlægskartotek!C2895","v":0},{"$f":"+IF((Basisoplysninger!$D$60=\"Ja\")*(Anlægskartotek!C2895<>0)=1,Anlægskartotek!$L$14,Anlægskartotek!I2895)","v":0}]
[null,2885,{"$f":"Anlægskartotek!C2896","v":0},{"$f":"+IF((Basisoplysninger!$D$60=\"Ja\")*(Anlægskartotek!C2896<>0)=1,Anlægskartotek!$L$14,Anlægskartotek!I2896)","v":0}]
[null,2886,{"$f":"Anlægskartotek!C2897","v":0},{"$f":"+IF((Basisoplysninger!$D$60=\"Ja\")*(Anlægskartotek!C2897<>0)=1,Anlægskartotek!$L$14,Anlægskartotek!I2897)","v":0}]
[null,2887,{"$f":"Anlægskartotek!C2898","v":0},{"$f":"+IF((Basisoplysninger!$D$60=\"Ja\")*(Anlægskartotek!C2898<>0)=1,Anlægskartotek!$L$14,Anlægskartotek!I2898)","v":0}]
[null,2888,{"$f":"Anlægskartotek!C2899","v":0},{"$f":"+IF((Basisoplysninger!$D$60=\"Ja\")*(Anlægskartotek!C2899<>0)=1,Anlægskartotek!$L$14,Anlægskartotek!I2899)","v":0}]
[null,2889,{"$f":"Anlægskartotek!C2900","v":0},{"$f":"+IF((Basisoplysninger!$D$60=\"Ja\")*(Anlægskartotek!C2900<>0)=1,Anlægskartotek!$L$14,Anlægskartotek!I2900)","v":0}]
[null,2890,{"$f":"Anlægskartotek!C2901","v":0},{"$f":"+IF((Basisoplysninger!$D$60=\"Ja\")*(Anlægskartotek!C2901<>0)=1,Anlægskartotek!$L$14,Anlægskartotek!I2901)","v":0}]
[null,2891,{"$f":"Anlægskartotek!C2902","v":0},{"$f":"+IF((Basisoplysninger!$D$60=\"Ja\")*(Anlægskartotek!C2902<>0)=1,Anlægskartotek!$L$14,Anlægskartotek!I2902)","v":0}]
[null,2892,{"$f":"Anlægskartotek!C2903","v":0},{"$f":"+IF((Basisoplysninger!$D$60=\"Ja\")*(Anlægskartotek!C2903<>0)=1,Anlægskartotek!$L$14,Anlægskartotek!I2903)","v":0}]
[null,2893,{"$f":"Anlægskartotek!C2904","v":0},{"$f":"+IF((Basisoplysninger!$D$60=\"Ja\")*(Anlægskartotek!C2904<>0)=1,Anlægskartotek!$L$14,Anlægskartotek!I2904)","v":0}]
[null,2894,{"$f":"Anlægskartotek!C2905","v":0},{"$f":"+IF((Basisoplysninger!$D$60=\"Ja\")*(Anlægskartotek!C2905<>0)=1,Anlægskartotek!$L$14,Anlægskartotek!I2905)","v":0}]
[null,2895,{"$f":"Anlægskartotek!C2906","v":0},{"$f":"+IF((Basisoplysninger!$D$60=\"Ja\")*(Anlægskartotek!C2906<>0)=1,Anlægskartotek!$L$14,Anlægskartotek!I2906)","v":0}]
[null,2896,{"$f":"Anlægskartotek!C2907","v":0},{"$f":"+IF((Basisoplysninger!$D$60=\"Ja\")*(Anlægskartotek!C2907<>0)=1,Anlægskartotek!$L$14,Anlægskartotek!I2907)","v":0}]
[null,2897,{"$f":"Anlægskartotek!C2908","v":0},{"$f":"+IF((Basisoplysninger!$D$60=\"Ja\")*(Anlægskartotek!C2908<>0)=1,Anlægskartotek!$L$14,Anlægskartotek!I2908)","v":0}]
[null,2898,{"$f":"Anlægskartotek!C2909","v":0},{"$f":"+IF((Basisoplysninger!$D$60=\"Ja\")*(Anlægskartotek!C2909<>0)=1,Anlægskartotek!$L$14,Anlægskartotek!I2909)","v":0}]
[null,2899,{"$f":"Anlægskartotek!C2910","v":0},{"$f":"+IF((Basisoplysninger!$D$60=\"Ja\")*(Anlægskartotek!C2910<>0)=1,Anlægskartotek!$L$14,Anlægskartotek!I2910)","v":0}]
[null,2900,{"$f":"Anlægskartotek!C2911","v":0},{"$f":"+IF((Basisoplysninger!$D$60=\"Ja\")*(Anlægskartotek!C2911<>0)=1,Anlægskartotek!$L$14,Anlægskartotek!I2911)","v":0}]
[null,2901,{"$f":"Anlægskartotek!C2912","v":0},{"$f":"+IF((Basisoplysninger!$D$60=\"Ja\")*(Anlægskartotek!C2912<>0)=1,Anlægskartotek!$L$14,Anlægskartotek!I2912)","v":0}]
[null,2902,{"$f":"Anlægskartotek!C2913","v":0},{"$f":"+IF((Basisoplysninger!$D$60=\"Ja\")*(Anlægskartotek!C2913<>0)=1,Anlægskartotek!$L$14,Anlægskartotek!I2913)","v":0}]
[null,2903,{"$f":"Anlægskartotek!C2914","v":0},{"$f":"+IF((Basisoplysninger!$D$60=\"Ja\")*(Anlægskartotek!C2914<>0)=1,Anlægskartotek!$L$14,Anlægskartotek!I2914)","v":0}]
[null,2904,{"$f":"Anlægskartotek!C2915","v":0},{"$f":"+IF((Basisoplysninger!$D$60=\"Ja\")*(Anlægskartotek!C2915<>0)=1,Anlægskartotek!$L$14,Anlægskartotek!I2915)","v":0}]
[null,2905,{"$f":"Anlægskartotek!C2916","v":0},{"$f":"+IF((Basisoplysninger!$D$60=\"Ja\")*(Anlægskartotek!C2916<>0)=1,Anlægskartotek!$L$14,Anlægskartotek!I2916)","v":0}]
[null,2906,{"$f":"Anlægskartotek!C2917","v":0},{"$f":"+IF((Basisoplysninger!$D$60=\"Ja\")*(Anlægskartotek!C2917<>0)=1,Anlægskartotek!$L$14,Anlægskartotek!I2917)","v":0}]
[null,2907,{"$f":"Anlægskartotek!C2918","v":0},{"$f":"+IF((Basisoplysninger!$D$60=\"Ja\")*(Anlægskartotek!C2918<>0)=1,Anlægskartotek!$L$14,Anlægskartotek!I2918)","v":0}]
[null,2908,{"$f":"Anlægskartotek!C2919","v":0},{"$f":"+IF((Basisoplysninger!$D$60=\"Ja\")*(Anlægskartotek!C2919<>0)=1,Anlægskartotek!$L$14,Anlægskartotek!I2919)","v":0}]
[null,2909,{"$f":"Anlægskartotek!C2920","v":0},{"$f":"+IF((Basisoplysninger!$D$60=\"Ja\")*(Anlægskartotek!C2920<>0)=1,Anlægskartotek!$L$14,Anlægskartotek!I2920)","v":0}]
[null,2910,{"$f":"Anlægskartotek!C2921","v":0},{"$f":"+IF((Basisoplysninger!$D$60=\"Ja\")*(Anlægskartotek!C2921<>0)=1,Anlægskartotek!$L$14,Anlægskartotek!I2921)","v":0}]
[null,2911,{"$f":"Anlægskartotek!C2922","v":0},{"$f":"+IF((Basisoplysninger!$D$60=\"Ja\")*(Anlægskartotek!C2922<>0)=1,Anlægskartotek!$L$14,Anlægskartotek!I2922)","v":0}]
[null,2912,{"$f":"Anlægskartotek!C2923","v":0},{"$f":"+IF((Basisoplysninger!$D$60=\"Ja\")*(Anlægskartotek!C2923<>0)=1,Anlægskartotek!$L$14,Anlægskartotek!I2923)","v":0}]
[null,2913,{"$f":"Anlægskartotek!C2924","v":0},{"$f":"+IF((Basisoplysninger!$D$60=\"Ja\")*(Anlægskartotek!C2924<>0)=1,Anlægskartotek!$L$14,Anlægskartotek!I2924)","v":0}]
[null,2914,{"$f":"Anlægskartotek!C2925","v":0},{"$f":"+IF((Basisoplysninger!$D$60=\"Ja\")*(Anlægskartotek!C2925<>0)=1,Anlægskartotek!$L$14,Anlægskartotek!I2925)","v":0}]
[null,2915,{"$f":"Anlægskartotek!C2926","v":0},{"$f":"+IF((Basisoplysninger!$D$60=\"Ja\")*(Anlægskartotek!C2926<>0)=1,Anlægskartotek!$L$14,Anlægskartotek!I2926)","v":0}]
[null,2916,{"$f":"Anlægskartotek!C2927","v":0},{"$f":"+IF((Basisoplysninger!$D$60=\"Ja\")*(Anlægskartotek!C2927<>0)=1,Anlægskartotek!$L$14,Anlægskartotek!I2927)","v":0}]
[null,2917,{"$f":"Anlægskartotek!C2928","v":0},{"$f":"+IF((Basisoplysninger!$D$60=\"Ja\")*(Anlægskartotek!C2928<>0)=1,Anlægskartotek!$L$14,Anlægskartotek!I2928)","v":0}]
[null,2918,{"$f":"Anlægskartotek!C2929","v":0},{"$f":"+IF((Basisoplysninger!$D$60=\"Ja\")*(Anlægskartotek!C2929<>0)=1,Anlægskartotek!$L$14,Anlægskartotek!I2929)","v":0}]
[null,2919,{"$f":"Anlægskartotek!C2930","v":0},{"$f":"+IF((Basisoplysninger!$D$60=\"Ja\")*(Anlægskartotek!C2930<>0)=1,Anlægskartotek!$L$14,Anlægskartotek!I2930)","v":0}]
[null,2920,{"$f":"Anlægskartotek!C2931","v":0},{"$f":"+IF((Basisoplysninger!$D$60=\"Ja\")*(Anlægskartotek!C2931<>0)=1,Anlægskartotek!$L$14,Anlægskartotek!I2931)","v":0}]
[null,2921,{"$f":"Anlægskartotek!C2932","v":0},{"$f":"+IF((Basisoplysninger!$D$60=\"Ja\")*(Anlægskartotek!C2932<>0)=1,Anlægskartotek!$L$14,Anlægskartotek!I2932)","v":0}]
[null,2922,{"$f":"Anlægskartotek!C2933","v":0},{"$f":"+IF((Basisoplysninger!$D$60=\"Ja\")*(Anlægskartotek!C2933<>0)=1,Anlægskartotek!$L$14,Anlægskartotek!I2933)","v":0}]
[null,2923,{"$f":"Anlægskartotek!C2934","v":0},{"$f":"+IF((Basisoplysninger!$D$60=\"Ja\")*(Anlægskartotek!C2934<>0)=1,Anlægskartotek!$L$14,Anlægskartotek!I2934)","v":0}]
[null,2924,{"$f":"Anlægskartotek!C2935","v":0},{"$f":"+IF((Basisoplysninger!$D$60=\"Ja\")*(Anlægskartotek!C2935<>0)=1,Anlægskartotek!$L$14,Anlægskartotek!I2935)","v":0}]
[null,2925,{"$f":"Anlægskartotek!C2936","v":0},{"$f":"+IF((Basisoplysninger!$D$60=\"Ja\")*(Anlægskartotek!C2936<>0)=1,Anlægskartotek!$L$14,Anlægskartotek!I2936)","v":0}]
[null,2926,{"$f":"Anlægskartotek!C2937","v":0},{"$f":"+IF((Basisoplysninger!$D$60=\"Ja\")*(Anlægskartotek!C2937<>0)=1,Anlægskartotek!$L$14,Anlægskartotek!I2937)","v":0}]
[null,2927,{"$f":"Anlægskartotek!C2938","v":0},{"$f":"+IF((Basisoplysninger!$D$60=\"Ja\")*(Anlægskartotek!C2938<>0)=1,Anlægskartotek!$L$14,Anlægskartotek!I2938)","v":0}]
[null,2928,{"$f":"Anlægskartotek!C2939","v":0},{"$f":"+IF((Basisoplysninger!$D$60=\"Ja\")*(Anlægskartotek!C2939<>0)=1,Anlægskartotek!$L$14,Anlægskartotek!I2939)","v":0}]
[null,2929,{"$f":"Anlægskartotek!C2940","v":0},{"$f":"+IF((Basisoplysninger!$D$60=\"Ja\")*(Anlægskartotek!C2940<>0)=1,Anlægskartotek!$L$14,Anlægskartotek!I2940)","v":0}]
[null,2930,{"$f":"Anlægskartotek!C2941","v":0},{"$f":"+IF((Basisoplysninger!$D$60=\"Ja\")*(Anlægskartotek!C2941<>0)=1,Anlægskartotek!$L$14,Anlægskartotek!I2941)","v":0}]
[null,2931,{"$f":"Anlægskartotek!C2942","v":0},{"$f":"+IF((Basisoplysninger!$D$60=\"Ja\")*(Anlægskartotek!C2942<>0)=1,Anlægskartotek!$L$14,Anlægskartotek!I2942)","v":0}]
[null,2932,{"$f":"Anlægskartotek!C2943","v":0},{"$f":"+IF((Basisoplysninger!$D$60=\"Ja\")*(Anlægskartotek!C2943<>0)=1,Anlægskartotek!$L$14,Anlægskartotek!I2943)","v":0}]
[null,2933,{"$f":"Anlægskartotek!C2944","v":0},{"$f":"+IF((Basisoplysninger!$D$60=\"Ja\")*(Anlægskartotek!C2944<>0)=1,Anlægskartotek!$L$14,Anlægskartotek!I2944)","v":0}]
[null,2934,{"$f":"Anlægskartotek!C2945","v":0},{"$f":"+IF((Basisoplysninger!$D$60=\"Ja\")*(Anlægskartotek!C2945<>0)=1,Anlægskartotek!$L$14,Anlægskartotek!I2945)","v":0}]
[null,2935,{"$f":"Anlægskartotek!C2946","v":0},{"$f":"+IF((Basisoplysninger!$D$60=\"Ja\")*(Anlægskartotek!C2946<>0)=1,Anlægskartotek!$L$14,Anlægskartotek!I2946)","v":0}]
[null,2936,{"$f":"Anlægskartotek!C2947","v":0},{"$f":"+IF((Basisoplysninger!$D$60=\"Ja\")*(Anlægskartotek!C2947<>0)=1,Anlægskartotek!$L$14,Anlægskartotek!I2947)","v":0}]
[null,2937,{"$f":"Anlægskartotek!C2948","v":0},{"$f":"+IF((Basisoplysninger!$D$60=\"Ja\")*(Anlægskartotek!C2948<>0)=1,Anlægskartotek!$L$14,Anlægskartotek!I2948)","v":0}]
[null,2938,{"$f":"Anlægskartotek!C2949","v":0},{"$f":"+IF((Basisoplysninger!$D$60=\"Ja\")*(Anlægskartotek!C2949<>0)=1,Anlægskartotek!$L$14,Anlægskartotek!I2949)","v":0}]
[null,2939,{"$f":"Anlægskartotek!C2950","v":0},{"$f":"+IF((Basisoplysninger!$D$60=\"Ja\")*(Anlægskartotek!C2950<>0)=1,Anlægskartotek!$L$14,Anlægskartotek!I2950)","v":0}]
[null,2940,{"$f":"Anlægskartotek!C2951","v":0},{"$f":"+IF((Basisoplysninger!$D$60=\"Ja\")*(Anlægskartotek!C2951<>0)=1,Anlægskartotek!$L$14,Anlægskartotek!I2951)","v":0}]
[null,2941,{"$f":"Anlægskartotek!C2952","v":0},{"$f":"+IF((Basisoplysninger!$D$60=\"Ja\")*(Anlægskartotek!C2952<>0)=1,Anlægskartotek!$L$14,Anlægskartotek!I2952)","v":0}]
[null,2942,{"$f":"Anlægskartotek!C2953","v":0},{"$f":"+IF((Basisoplysninger!$D$60=\"Ja\")*(Anlægskartotek!C2953<>0)=1,Anlægskartotek!$L$14,Anlægskartotek!I2953)","v":0}]
[null,2943,{"$f":"Anlægskartotek!C2954","v":0},{"$f":"+IF((Basisoplysninger!$D$60=\"Ja\")*(Anlægskartotek!C2954<>0)=1,Anlægskartotek!$L$14,Anlægskartotek!I2954)","v":0}]
[null,2944,{"$f":"Anlægskartotek!C2955","v":0},{"$f":"+IF((Basisoplysninger!$D$60=\"Ja\")*(Anlægskartotek!C2955<>0)=1,Anlægskartotek!$L$14,Anlægskartotek!I2955)","v":0}]
[null,2945,{"$f":"Anlægskartotek!C2956","v":0},{"$f":"+IF((Basisoplysninger!$D$60=\"Ja\")*(Anlægskartotek!C2956<>0)=1,Anlægskartotek!$L$14,Anlægskartotek!I2956)","v":0}]
[null,2946,{"$f":"Anlægskartotek!C2957","v":0},{"$f":"+IF((Basisoplysninger!$D$60=\"Ja\")*(Anlægskartotek!C2957<>0)=1,Anlægskartotek!$L$14,Anlægskartotek!I2957)","v":0}]
[null,{"$f":"B3055+1","v":2947},{"$f":"Anlægskartotek!C2958","v":0},{"$f":"+IF((Basisoplysninger!$D$60=\"Ja\")*(Anlægskartotek!C2958<>0)=1,Anlægskartotek!$L$14,Anlægskartotek!I2958)","v":0}]
[null,2948,{"$f":"Anlægskartotek!C2959","v":0},{"$f":"+IF((Basisoplysninger!$D$60=\"Ja\")*(Anlægskartotek!C2959<>0)=1,Anlægskartotek!$L$14,Anlægskartotek!I2959)","v":0}]
[null,2949,{"$f":"Anlægskartotek!C2960","v":0},{"$f":"+IF((Basisoplysninger!$D$60=\"Ja\")*(Anlægskartotek!C2960<>0)=1,Anlægskartotek!$L$14,Anlægskartotek!I2960)","v":0}]
[null,2950,{"$f":"Anlægskartotek!C2961","v":0},{"$f":"+IF((Basisoplysninger!$D$60=\"Ja\")*(Anlægskartotek!C2961<>0)=1,Anlægskartotek!$L$14,Anlægskartotek!I2961)","v":0}]
[null,2951,{"$f":"Anlægskartotek!C2962","v":0},{"$f":"+IF((Basisoplysninger!$D$60=\"Ja\")*(Anlægskartotek!C2962<>0)=1,Anlægskartotek!$L$14,Anlægskartotek!I2962)","v":0}]
[null,2952,{"$f":"Anlægskartotek!C2963","v":0},{"$f":"+IF((Basisoplysninger!$D$60=\"Ja\")*(Anlægskartotek!C2963<>0)=1,Anlægskartotek!$L$14,Anlægskartotek!I2963)","v":0}]
[null,2953,{"$f":"Anlægskartotek!C2964","v":0},{"$f":"+IF((Basisoplysninger!$D$60=\"Ja\")*(Anlægskartotek!C2964<>0)=1,Anlægskartotek!$L$14,Anlægskartotek!I2964)","v":0}]
[null,2954,{"$f":"Anlægskartotek!C2965","v":0},{"$f":"+IF((Basisoplysninger!$D$60=\"Ja\")*(Anlægskartotek!C2965<>0)=1,Anlægskartotek!$L$14,Anlægskartotek!I2965)","v":0}]
[null,2955,{"$f":"Anlægskartotek!C2966","v":0},{"$f":"+IF((Basisoplysninger!$D$60=\"Ja\")*(Anlægskartotek!C2966<>0)=1,Anlægskartotek!$L$14,Anlægskartotek!I2966)","v":0}]
[null,2956,{"$f":"Anlægskartotek!C2967","v":0},{"$f":"+IF((Basisoplysninger!$D$60=\"Ja\")*(Anlægskartotek!C2967<>0)=1,Anlægskartotek!$L$14,Anlægskartotek!I2967)","v":0}]
[null,2957,{"$f":"Anlægskartotek!C2968","v":0},{"$f":"+IF((Basisoplysninger!$D$60=\"Ja\")*(Anlægskartotek!C2968<>0)=1,Anlægskartotek!$L$14,Anlægskartotek!I2968)","v":0}]
[null,2958,{"$f":"Anlægskartotek!C2969","v":0},{"$f":"+IF((Basisoplysninger!$D$60=\"Ja\")*(Anlægskartotek!C2969<>0)=1,Anlægskartotek!$L$14,Anlægskartotek!I2969)","v":0}]
[null,2959,{"$f":"Anlægskartotek!C2970","v":0},{"$f":"+IF((Basisoplysninger!$D$60=\"Ja\")*(Anlægskartotek!C2970<>0)=1,Anlægskartotek!$L$14,Anlægskartotek!I2970)","v":0}]
[null,2960,{"$f":"Anlægskartotek!C2971","v":0},{"$f":"+IF((Basisoplysninger!$D$60=\"Ja\")*(Anlægskartotek!C2971<>0)=1,Anlægskartotek!$L$14,Anlægskartotek!I2971)","v":0}]
[null,2961,{"$f":"Anlægskartotek!C2972","v":0},{"$f":"+IF((Basisoplysninger!$D$60=\"Ja\")*(Anlægskartotek!C2972<>0)=1,Anlægskartotek!$L$14,Anlægskartotek!I2972)","v":0}]
[null,2962,{"$f":"Anlægskartotek!C2973","v":0},{"$f":"+IF((Basisoplysninger!$D$60=\"Ja\")*(Anlægskartotek!C2973<>0)=1,Anlægskartotek!$L$14,Anlægskartotek!I2973)","v":0}]
[null,2963,{"$f":"Anlægskartotek!C2974","v":0},{"$f":"+IF((Basisoplysninger!$D$60=\"Ja\")*(Anlægskartotek!C2974<>0)=1,Anlægskartotek!$L$14,Anlægskartotek!I2974)","v":0}]
[null,2964,{"$f":"Anlægskartotek!C2975","v":0},{"$f":"+IF((Basisoplysninger!$D$60=\"Ja\")*(Anlægskartotek!C2975<>0)=1,Anlægskartotek!$L$14,Anlægskartotek!I2975)","v":0}]
[null,2965,{"$f":"Anlægskartotek!C2976","v":0},{"$f":"+IF((Basisoplysninger!$D$60=\"Ja\")*(Anlægskartotek!C2976<>0)=1,Anlægskartotek!$L$14,Anlægskartotek!I2976)","v":0}]
[null,2966,{"$f":"Anlægskartotek!C2977","v":0},{"$f":"+IF((Basisoplysninger!$D$60=\"Ja\")*(Anlægskartotek!C2977<>0)=1,Anlægskartotek!$L$14,Anlægskartotek!I2977)","v":0}]
[null,2967,{"$f":"Anlægskartotek!C2978","v":0},{"$f":"+IF((Basisoplysninger!$D$60=\"Ja\")*(Anlægskartotek!C2978<>0)=1,Anlægskartotek!$L$14,Anlægskartotek!I2978)","v":0}]
[null,2968,{"$f":"Anlægskartotek!C2979","v":0},{"$f":"+IF((Basisoplysninger!$D$60=\"Ja\")*(Anlægskartotek!C2979<>0)=1,Anlægskartotek!$L$14,Anlægskartotek!I2979)","v":0}]
[null,2969,{"$f":"Anlægskartotek!C2980","v":0},{"$f":"+IF((Basisoplysninger!$D$60=\"Ja\")*(Anlægskartotek!C2980<>0)=1,Anlægskartotek!$L$14,Anlægskartotek!I2980)","v":0}]
[null,2970,{"$f":"Anlægskartotek!C2981","v":0},{"$f":"+IF((Basisoplysninger!$D$60=\"Ja\")*(Anlægskartotek!C2981<>0)=1,Anlægskartotek!$L$14,Anlægskartotek!I2981)","v":0}]
[null,2971,{"$f":"Anlægskartotek!C2982","v":0},{"$f":"+IF((Basisoplysninger!$D$60=\"Ja\")*(Anlægskartotek!C2982<>0)=1,Anlægskartotek!$L$14,Anlægskartotek!I2982)","v":0}]
[null,2972,{"$f":"Anlægskartotek!C2983","v":0},{"$f":"+IF((Basisoplysninger!$D$60=\"Ja\")*(Anlægskartotek!C2983<>0)=1,Anlægskartotek!$L$14,Anlægskartotek!I2983)","v":0}]
[null,2973,{"$f":"Anlægskartotek!C2984","v":0},{"$f":"+IF((Basisoplysninger!$D$60=\"Ja\")*(Anlægskartotek!C2984<>0)=1,Anlægskartotek!$L$14,Anlægskartotek!I2984)","v":0}]
[null,2974,{"$f":"Anlægskartotek!C2985","v":0},{"$f":"+IF((Basisoplysninger!$D$60=\"Ja\")*(Anlægskartotek!C2985<>0)=1,Anlægskartotek!$L$14,Anlægskartotek!I2985)","v":0}]
[null,2975,{"$f":"Anlægskartotek!C2986","v":0},{"$f":"+IF((Basisoplysninger!$D$60=\"Ja\")*(Anlægskartotek!C2986<>0)=1,Anlægskartotek!$L$14,Anlægskartotek!I2986)","v":0}]
[null,2976,{"$f":"Anlægskartotek!C2987","v":0},{"$f":"+IF((Basisoplysninger!$D$60=\"Ja\")*(Anlægskartotek!C2987<>0)=1,Anlægskartotek!$L$14,Anlægskartotek!I2987)","v":0}]
[null,2977,{"$f":"Anlægskartotek!C2988","v":0},{"$f":"+IF((Basisoplysninger!$D$60=\"Ja\")*(Anlægskartotek!C2988<>0)=1,Anlægskartotek!$L$14,Anlægskartotek!I2988)","v":0}]
[null,2978,{"$f":"Anlægskartotek!C2989","v":0},{"$f":"+IF((Basisoplysninger!$D$60=\"Ja\")*(Anlægskartotek!C2989<>0)=1,Anlægskartotek!$L$14,Anlægskartotek!I2989)","v":0}]
[null,2979,{"$f":"Anlægskartotek!C2990","v":0},{"$f":"+IF((Basisoplysninger!$D$60=\"Ja\")*(Anlægskartotek!C2990<>0)=1,Anlægskartotek!$L$14,Anlægskartotek!I2990)","v":0}]
[null,2980,{"$f":"Anlægskartotek!C2991","v":0},{"$f":"+IF((Basisoplysninger!$D$60=\"Ja\")*(Anlægskartotek!C2991<>0)=1,Anlægskartotek!$L$14,Anlægskartotek!I2991)","v":0}]
[null,2981,{"$f":"Anlægskartotek!C2992","v":0},{"$f":"+IF((Basisoplysninger!$D$60=\"Ja\")*(Anlægskartotek!C2992<>0)=1,Anlægskartotek!$L$14,Anlægskartotek!I2992)","v":0}]
[null,2982,{"$f":"Anlægskartotek!C2993","v":0},{"$f":"+IF((Basisoplysninger!$D$60=\"Ja\")*(Anlægskartotek!C2993<>0)=1,Anlægskartotek!$L$14,Anlægskartotek!I2993)","v":0}]
[null,2983,{"$f":"Anlægskartotek!C2994","v":0},{"$f":"+IF((Basisoplysninger!$D$60=\"Ja\")*(Anlægskartotek!C2994<>0)=1,Anlægskartotek!$L$14,Anlægskartotek!I2994)","v":0}]
[null,2984,{"$f":"Anlægskartotek!C2995","v":0},{"$f":"+IF((Basisoplysninger!$D$60=\"Ja\")*(Anlægskartotek!C2995<>0)=1,Anlægskartotek!$L$14,Anlægskartotek!I2995)","v":0}]
[null,2985,{"$f":"Anlægskartotek!C2996","v":0},{"$f":"+IF((Basisoplysninger!$D$60=\"Ja\")*(Anlægskartotek!C2996<>0)=1,Anlægskartotek!$L$14,Anlægskartotek!I2996)","v":0}]
[null,2986,{"$f":"Anlægskartotek!C2997","v":0},{"$f":"+IF((Basisoplysninger!$D$60=\"Ja\")*(Anlægskartotek!C2997<>0)=1,Anlægskartotek!$L$14,Anlægskartotek!I2997)","v":0}]
[null,2987,{"$f":"Anlægskartotek!C2998","v":0},{"$f":"+IF((Basisoplysninger!$D$60=\"Ja\")*(Anlægskartotek!C2998<>0)=1,Anlægskartotek!$L$14,Anlægskartotek!I2998)","v":0}]
[null,2988,{"$f":"Anlægskartotek!C2999","v":0},{"$f":"+IF((Basisoplysninger!$D$60=\"Ja\")*(Anlægskartotek!C2999<>0)=1,Anlægskartotek!$L$14,Anlægskartotek!I2999)","v":0}]
[null,2989,{"$f":"Anlægskartotek!C3000","v":0},{"$f":"+IF((Basisoplysninger!$D$60=\"Ja\")*(Anlægskartotek!C3000<>0)=1,Anlægskartotek!$L$14,Anlægskartotek!I3000)","v":0}]
[null,2990,{"$f":"Anlægskartotek!C3001","v":0},{"$f":"+IF((Basisoplysninger!$D$60=\"Ja\")*(Anlægskartotek!C3001<>0)=1,Anlægskartotek!$L$14,Anlægskartotek!I3001)","v":0}]
[null,2991,{"$f":"Anlægskartotek!C3002","v":0},{"$f":"+IF((Basisoplysninger!$D$60=\"Ja\")*(Anlægskartotek!C3002<>0)=1,Anlægskartotek!$L$14,Anlægskartotek!I3002)","v":0}]
[null,2992,{"$f":"Anlægskartotek!C3003","v":0},{"$f":"+IF((Basisoplysninger!$D$60=\"Ja\")*(Anlægskartotek!C3003<>0)=1,Anlægskartotek!$L$14,Anlægskartotek!I3003)","v":0}]
[null,2993,{"$f":"Anlægskartotek!C3004","v":0},{"$f":"+IF((Basisoplysninger!$D$60=\"Ja\")*(Anlægskartotek!C3004<>0)=1,Anlægskartotek!$L$14,Anlægskartotek!I3004)","v":0}]
[null,2994,{"$f":"Anlægskartotek!C3005","v":0},{"$f":"+IF((Basisoplysninger!$D$60=\"Ja\")*(Anlægskartotek!C3005<>0)=1,Anlægskartotek!$L$14,Anlægskartotek!I3005)","v":0}]
[null,2995,{"$f":"Anlægskartotek!C3006","v":0},{"$f":"+IF((Basisoplysninger!$D$60=\"Ja\")*(Anlægskartotek!C3006<>0)=1,Anlægskartotek!$L$14,Anlægskartotek!I3006)","v":0}]
[null,2996,{"$f":"Anlægskartotek!C3007","v":0},{"$f":"+IF((Basisoplysninger!$D$60=\"Ja\")*(Anlægskartotek!C3007<>0)=1,Anlægskartotek!$L$14,Anlægskartotek!I3007)","v":0}]
[null,2997,{"$f":"Anlægskartotek!C3008","v":0},{"$f":"+IF((Basisoplysninger!$D$60=\"Ja\")*(Anlægskartotek!C3008<>0)=1,Anlægskartotek!$L$14,Anlægskartotek!I3008)","v":0}]
[null,2998,{"$f":"Anlægskartotek!C3009","v":0},{"$f":"+IF((Basisoplysninger!$D$60=\"Ja\")*(Anlægskartotek!C3009<>0)=1,Anlægskartotek!$L$14,Anlægskartotek!I3009)","v":0}]
[null,2999,{"$f":"Anlægskartotek!C3010","v":0},{"$f":"+IF((Basisoplysninger!$D$60=\"Ja\")*(Anlægskartotek!C3010<>0)=1,Anlægskartotek!$L$14,Anlægskartotek!I3010)","v":0}]
[null,3000,{"$f":"Anlægskartotek!C3011","v":0},{"$f":"+IF((Basisoplysninger!$D$60=\"Ja\")*(Anlægskartotek!C3011<>0)=1,Anlægskartotek!$L$14,Anlægskartotek!I3011)","v":0}]
[null,3001,{"$f":"Anlægskartotek!C3012","v":0},{"$f":"+IF((Basisoplysninger!$D$60=\"Ja\")*(Anlægskartotek!C3012<>0)=1,Anlægskartotek!$L$14,Anlægskartotek!I3012)","v":0}]
[null,3002,{"$f":"Anlægskartotek!C3013","v":0},{"$f":"+IF((Basisoplysninger!$D$60=\"Ja\")*(Anlægskartotek!C3013<>0)=1,Anlægskartotek!$L$14,Anlægskartotek!I3013)","v":0}]
[null,3003,{"$f":"Anlægskartotek!C3014","v":0},{"$f":"+IF((Basisoplysninger!$D$60=\"Ja\")*(Anlægskartotek!C3014<>0)=1,Anlægskartotek!$L$14,Anlægskartotek!I3014)","v":0}]
[null,3004,{"$f":"Anlægskartotek!C3015","v":0},{"$f":"+IF((Basisoplysninger!$D$60=\"Ja\")*(Anlægskartotek!C3015<>0)=1,Anlægskartotek!$L$14,Anlægskartotek!I3015)","v":0}]
[null,3005,{"$f":"Anlægskartotek!C3016","v":0},{"$f":"+IF((Basisoplysninger!$D$60=\"Ja\")*(Anlægskartotek!C3016<>0)=1,Anlægskartotek!$L$14,Anlægskartotek!I3016)","v":0}]
[null,3006,{"$f":"Anlægskartotek!C3017","v":0},{"$f":"+IF((Basisoplysninger!$D$60=\"Ja\")*(Anlægskartotek!C3017<>0)=1,Anlægskartotek!$L$14,Anlægskartotek!I3017)","v":0}]
[null,3007,{"$f":"Anlægskartotek!C3018","v":0},{"$f":"+IF((Basisoplysninger!$D$60=\"Ja\")*(Anlægskartotek!C3018<>0)=1,Anlægskartotek!$L$14,Anlægskartotek!I3018)","v":0}]
[null,3008,{"$f":"Anlægskartotek!C3019","v":0},{"$f":"+IF((Basisoplysninger!$D$60=\"Ja\")*(Anlægskartotek!C3019<>0)=1,Anlægskartotek!$L$14,Anlægskartotek!I3019)","v":0}]
[null,3009,{"$f":"Anlægskartotek!C3020","v":0},{"$f":"+IF((Basisoplysninger!$D$60=\"Ja\")*(Anlægskartotek!C3020<>0)=1,Anlægskartotek!$L$14,Anlægskartotek!I3020)","v":0}]
[null,3010,{"$f":"Anlægskartotek!C3021","v":0},{"$f":"+IF((Basisoplysninger!$D$60=\"Ja\")*(Anlægskartotek!C3021<>0)=1,Anlægskartotek!$L$14,Anlægskartotek!I3021)","v":0}]
[null,{"$f":"B3119+1","v":3011},{"$f":"Anlægskartotek!C3022","v":0},{"$f":"+IF((Basisoplysninger!$D$60=\"Ja\")*(Anlægskartotek!C3022<>0)=1,Anlægskartotek!$L$14,Anlægskartotek!I3022)","v":0}]
[null,3012,{"$f":"Anlægskartotek!C3023","v":0},{"$f":"+IF((Basisoplysninger!$D$60=\"Ja\")*(Anlægskartotek!C3023<>0)=1,Anlægskartotek!$L$14,Anlægskartotek!I3023)","v":0}]
[null,3013,{"$f":"Anlægskartotek!C3024","v":0},{"$f":"+IF((Basisoplysninger!$D$60=\"Ja\")*(Anlægskartotek!C3024<>0)=1,Anlægskartotek!$L$14,Anlægskartotek!I3024)","v":0}]
[null,3014,{"$f":"Anlægskartotek!C3025","v":0},{"$f":"+IF((Basisoplysninger!$D$60=\"Ja\")*(Anlægskartotek!C3025<>0)=1,Anlægskartotek!$L$14,Anlægskartotek!I3025)","v":0}]
[null,3015,{"$f":"Anlægskartotek!C3026","v":0},{"$f":"+IF((Basisoplysninger!$D$60=\"Ja\")*(Anlægskartotek!C3026<>0)=1,Anlægskartotek!$L$14,Anlægskartotek!I3026)","v":0}]
[null,3016,{"$f":"Anlægskartotek!C3027","v":0},{"$f":"+IF((Basisoplysninger!$D$60=\"Ja\")*(Anlægskartotek!C3027<>0)=1,Anlægskartotek!$L$14,Anlægskartotek!I3027)","v":0}]
[null,3017,{"$f":"Anlægskartotek!C3028","v":0},{"$f":"+IF((Basisoplysninger!$D$60=\"Ja\")*(Anlægskartotek!C3028<>0)=1,Anlægskartotek!$L$14,Anlægskartotek!I3028)","v":0}]
[null,3018,{"$f":"Anlægskartotek!C3029","v":0},{"$f":"+IF((Basisoplysninger!$D$60=\"Ja\")*(Anlægskartotek!C3029<>0)=1,Anlægskartotek!$L$14,Anlægskartotek!I3029)","v":0}]
[null,3019,{"$f":"Anlægskartotek!C3030","v":0},{"$f":"+IF((Basisoplysninger!$D$60=\"Ja\")*(Anlægskartotek!C3030<>0)=1,Anlægskartotek!$L$14,Anlægskartotek!I3030)","v":0}]
[null,3020,{"$f":"Anlægskartotek!C3031","v":0},{"$f":"+IF((Basisoplysninger!$D$60=\"Ja\")*(Anlægskartotek!C3031<>0)=1,Anlægskartotek!$L$14,Anlægskartotek!I3031)","v":0}]
[null,3021,{"$f":"Anlægskartotek!C3032","v":0},{"$f":"+IF((Basisoplysninger!$D$60=\"Ja\")*(Anlægskartotek!C3032<>0)=1,Anlægskartotek!$L$14,Anlægskartotek!I3032)","v":0}]
[null,3022,{"$f":"Anlægskartotek!C3033","v":0},{"$f":"+IF((Basisoplysninger!$D$60=\"Ja\")*(Anlægskartotek!C3033<>0)=1,Anlægskartotek!$L$14,Anlægskartotek!I3033)","v":0}]
[null,3023,{"$f":"Anlægskartotek!C3034","v":0},{"$f":"+IF((Basisoplysninger!$D$60=\"Ja\")*(Anlægskartotek!C3034<>0)=1,Anlægskartotek!$L$14,Anlægskartotek!I3034)","v":0}]
[null,3024,{"$f":"Anlægskartotek!C3035","v":0},{"$f":"+IF((Basisoplysninger!$D$60=\"Ja\")*(Anlægskartotek!C3035<>0)=1,Anlægskartotek!$L$14,Anlægskartotek!I3035)","v":0}]
[null,3025,{"$f":"Anlægskartotek!C3036","v":0},{"$f":"+IF((Basisoplysninger!$D$60=\"Ja\")*(Anlægskartotek!C3036<>0)=1,Anlægskartotek!$L$14,Anlægskartotek!I3036)","v":0}]
[null,3026,{"$f":"Anlægskartotek!C3037","v":0},{"$f":"+IF((Basisoplysninger!$D$60=\"Ja\")*(Anlægskartotek!C3037<>0)=1,Anlægskartotek!$L$14,Anlægskartotek!I3037)","v":0}]
[null,3027,{"$f":"Anlægskartotek!C3038","v":0},{"$f":"+IF((Basisoplysninger!$D$60=\"Ja\")*(Anlægskartotek!C3038<>0)=1,Anlægskartotek!$L$14,Anlægskartotek!I3038)","v":0}]
[null,3028,{"$f":"Anlægskartotek!C3039","v":0},{"$f":"+IF((Basisoplysninger!$D$60=\"Ja\")*(Anlægskartotek!C3039<>0)=1,Anlægskartotek!$L$14,Anlægskartotek!I3039)","v":0}]
[null,3029,{"$f":"Anlægskartotek!C3040","v":0},{"$f":"+IF((Basisoplysninger!$D$60=\"Ja\")*(Anlægskartotek!C3040<>0)=1,Anlægskartotek!$L$14,Anlægskartotek!I3040)","v":0}]
[null,3030,{"$f":"Anlægskartotek!C3041","v":0},{"$f":"+IF((Basisoplysninger!$D$60=\"Ja\")*(Anlægskartotek!C3041<>0)=1,Anlægskartotek!$L$14,Anlægskartotek!I3041)","v":0}]
[null,3031,{"$f":"Anlægskartotek!C3042","v":0},{"$f":"+IF((Basisoplysninger!$D$60=\"Ja\")*(Anlægskartotek!C3042<>0)=1,Anlægskartotek!$L$14,Anlægskartotek!I3042)","v":0}]
[null,3032,{"$f":"Anlægskartotek!C3043","v":0},{"$f":"+IF((Basisoplysninger!$D$60=\"Ja\")*(Anlægskartotek!C3043<>0)=1,Anlægskartotek!$L$14,Anlægskartotek!I3043)","v":0}]
[null,3033,{"$f":"Anlægskartotek!C3044","v":0},{"$f":"+IF((Basisoplysninger!$D$60=\"Ja\")*(Anlægskartotek!C3044<>0)=1,Anlægskartotek!$L$14,Anlægskartotek!I3044)","v":0}]
[null,3034,{"$f":"Anlægskartotek!C3045","v":0},{"$f":"+IF((Basisoplysninger!$D$60=\"Ja\")*(Anlægskartotek!C3045<>0)=1,Anlægskartotek!$L$14,Anlægskartotek!I3045)","v":0}]
[null,3035,{"$f":"Anlægskartotek!C3046","v":0},{"$f":"+IF((Basisoplysninger!$D$60=\"Ja\")*(Anlægskartotek!C3046<>0)=1,Anlægskartotek!$L$14,Anlægskartotek!I3046)","v":0}]
[null,3036,{"$f":"Anlægskartotek!C3047","v":0},{"$f":"+IF((Basisoplysninger!$D$60=\"Ja\")*(Anlægskartotek!C3047<>0)=1,Anlægskartotek!$L$14,Anlægskartotek!I3047)","v":0}]
[null,3037,{"$f":"Anlægskartotek!C3048","v":0},{"$f":"+IF((Basisoplysninger!$D$60=\"Ja\")*(Anlægskartotek!C3048<>0)=1,Anlægskartotek!$L$14,Anlægskartotek!I3048)","v":0}]
[null,3038,{"$f":"Anlægskartotek!C3049","v":0},{"$f":"+IF((Basisoplysninger!$D$60=\"Ja\")*(Anlægskartotek!C3049<>0)=1,Anlægskartotek!$L$14,Anlægskartotek!I3049)","v":0}]
[null,3039,{"$f":"Anlægskartotek!C3050","v":0},{"$f":"+IF((Basisoplysninger!$D$60=\"Ja\")*(Anlægskartotek!C3050<>0)=1,Anlægskartotek!$L$14,Anlægskartotek!I3050)","v":0}]
[null,3040,{"$f":"Anlægskartotek!C3051","v":0},{"$f":"+IF((Basisoplysninger!$D$60=\"Ja\")*(Anlægskartotek!C3051<>0)=1,Anlægskartotek!$L$14,Anlægskartotek!I3051)","v":0}]
[null,3041,{"$f":"Anlægskartotek!C3052","v":0},{"$f":"+IF((Basisoplysninger!$D$60=\"Ja\")*(Anlægskartotek!C3052<>0)=1,Anlægskartotek!$L$14,Anlægskartotek!I3052)","v":0}]
[null,3042,{"$f":"Anlægskartotek!C3053","v":0},{"$f":"+IF((Basisoplysninger!$D$60=\"Ja\")*(Anlægskartotek!C3053<>0)=1,Anlægskartotek!$L$14,Anlægskartotek!I3053)","v":0}]
[null,3043,{"$f":"Anlægskartotek!C3054","v":0},{"$f":"+IF((Basisoplysninger!$D$60=\"Ja\")*(Anlægskartotek!C3054<>0)=1,Anlægskartotek!$L$14,Anlægskartotek!I3054)","v":0}]
[null,3044,{"$f":"Anlægskartotek!C3055","v":0},{"$f":"+IF((Basisoplysninger!$D$60=\"Ja\")*(Anlægskartotek!C3055<>0)=1,Anlægskartotek!$L$14,Anlægskartotek!I3055)","v":0}]
[null,3045,{"$f":"Anlægskartotek!C3056","v":0},{"$f":"+IF((Basisoplysninger!$D$60=\"Ja\")*(Anlægskartotek!C3056<>0)=1,Anlægskartotek!$L$14,Anlægskartotek!I3056)","v":0}]
[null,3046,{"$f":"Anlægskartotek!C3057","v":0},{"$f":"+IF((Basisoplysninger!$D$60=\"Ja\")*(Anlægskartotek!C3057<>0)=1,Anlægskartotek!$L$14,Anlægskartotek!I3057)","v":0}]
[null,3047,{"$f":"Anlægskartotek!C3058","v":0},{"$f":"+IF((Basisoplysninger!$D$60=\"Ja\")*(Anlægskartotek!C3058<>0)=1,Anlægskartotek!$L$14,Anlægskartotek!I3058)","v":0}]
[null,3048,{"$f":"Anlægskartotek!C3059","v":0},{"$f":"+IF((Basisoplysninger!$D$60=\"Ja\")*(Anlægskartotek!C3059<>0)=1,Anlægskartotek!$L$14,Anlægskartotek!I3059)","v":0}]
[null,3049,{"$f":"Anlægskartotek!C3060","v":0},{"$f":"+IF((Basisoplysninger!$D$60=\"Ja\")*(Anlægskartotek!C3060<>0)=1,Anlægskartotek!$L$14,Anlægskartotek!I3060)","v":0}]
[null,3050,{"$f":"Anlægskartotek!C3061","v":0},{"$f":"+IF((Basisoplysninger!$D$60=\"Ja\")*(Anlægskartotek!C3061<>0)=1,Anlægskartotek!$L$14,Anlægskartotek!I3061)","v":0}]
[null,3051,{"$f":"Anlægskartotek!C3062","v":0},{"$f":"+IF((Basisoplysninger!$D$60=\"Ja\")*(Anlægskartotek!C3062<>0)=1,Anlægskartotek!$L$14,Anlægskartotek!I3062)","v":0}]
[null,3052,{"$f":"Anlægskartotek!C3063","v":0},{"$f":"+IF((Basisoplysninger!$D$60=\"Ja\")*(Anlægskartotek!C3063<>0)=1,Anlægskartotek!$L$14,Anlægskartotek!I3063)","v":0}]
[null,3053,{"$f":"Anlægskartotek!C3064","v":0},{"$f":"+IF((Basisoplysninger!$D$60=\"Ja\")*(Anlægskartotek!C3064<>0)=1,Anlægskartotek!$L$14,Anlægskartotek!I3064)","v":0}]
[null,3054,{"$f":"Anlægskartotek!C3065","v":0},{"$f":"+IF((Basisoplysninger!$D$60=\"Ja\")*(Anlægskartotek!C3065<>0)=1,Anlægskartotek!$L$14,Anlægskartotek!I3065)","v":0}]
[null,3055,{"$f":"Anlægskartotek!C3066","v":0},{"$f":"+IF((Basisoplysninger!$D$60=\"Ja\")*(Anlægskartotek!C3066<>0)=1,Anlægskartotek!$L$14,Anlægskartotek!I3066)","v":0}]
[null,3056,{"$f":"Anlægskartotek!C3067","v":0},{"$f":"+IF((Basisoplysninger!$D$60=\"Ja\")*(Anlægskartotek!C3067<>0)=1,Anlægskartotek!$L$14,Anlægskartotek!I3067)","v":0}]
[null,3057,{"$f":"Anlægskartotek!C3068","v":0},{"$f":"+IF((Basisoplysninger!$D$60=\"Ja\")*(Anlægskartotek!C3068<>0)=1,Anlægskartotek!$L$14,Anlægskartotek!I3068)","v":0}]
[null,3058,{"$f":"Anlægskartotek!C3069","v":0},{"$f":"+IF((Basisoplysninger!$D$60=\"Ja\")*(Anlægskartotek!C3069<>0)=1,Anlægskartotek!$L$14,Anlægskartotek!I3069)","v":0}]
[null,3059,{"$f":"Anlægskartotek!C3070","v":0},{"$f":"+IF((Basisoplysninger!$D$60=\"Ja\")*(Anlægskartotek!C3070<>0)=1,Anlægskartotek!$L$14,Anlægskartotek!I3070)","v":0}]
[null,3060,{"$f":"Anlægskartotek!C3071","v":0},{"$f":"+IF((Basisoplysninger!$D$60=\"Ja\")*(Anlægskartotek!C3071<>0)=1,Anlægskartotek!$L$14,Anlægskartotek!I3071)","v":0}]
[null,3061,{"$f":"Anlægskartotek!C3072","v":0},{"$f":"+IF((Basisoplysninger!$D$60=\"Ja\")*(Anlægskartotek!C3072<>0)=1,Anlægskartotek!$L$14,Anlægskartotek!I3072)","v":0}]
[null,3062,{"$f":"Anlægskartotek!C3073","v":0},{"$f":"+IF((Basisoplysninger!$D$60=\"Ja\")*(Anlægskartotek!C3073<>0)=1,Anlægskartotek!$L$14,Anlægskartotek!I3073)","v":0}]
[null,3063,{"$f":"Anlægskartotek!C3074","v":0},{"$f":"+IF((Basisoplysninger!$D$60=\"Ja\")*(Anlægskartotek!C3074<>0)=1,Anlægskartotek!$L$14,Anlægskartotek!I3074)","v":0}]
[null,3064,{"$f":"Anlægskartotek!C3075","v":0},{"$f":"+IF((Basisoplysninger!$D$60=\"Ja\")*(Anlægskartotek!C3075<>0)=1,Anlægskartotek!$L$14,Anlægskartotek!I3075)","v":0}]
[null,3065,{"$f":"Anlægskartotek!C3076","v":0},{"$f":"+IF((Basisoplysninger!$D$60=\"Ja\")*(Anlægskartotek!C3076<>0)=1,Anlægskartotek!$L$14,Anlægskartotek!I3076)","v":0}]
[null,3066,{"$f":"Anlægskartotek!C3077","v":0},{"$f":"+IF((Basisoplysninger!$D$60=\"Ja\")*(Anlægskartotek!C3077<>0)=1,Anlægskartotek!$L$14,Anlægskartotek!I3077)","v":0}]
[null,3067,{"$f":"Anlægskartotek!C3078","v":0},{"$f":"+IF((Basisoplysninger!$D$60=\"Ja\")*(Anlægskartotek!C3078<>0)=1,Anlægskartotek!$L$14,Anlægskartotek!I3078)","v":0}]
[null,3068,{"$f":"Anlægskartotek!C3079","v":0},{"$f":"+IF((Basisoplysninger!$D$60=\"Ja\")*(Anlægskartotek!C3079<>0)=1,Anlægskartotek!$L$14,Anlægskartotek!I3079)","v":0}]
[null,3069,{"$f":"Anlægskartotek!C3080","v":0},{"$f":"+IF((Basisoplysninger!$D$60=\"Ja\")*(Anlægskartotek!C3080<>0)=1,Anlægskartotek!$L$14,Anlægskartotek!I3080)","v":0}]
[null,3070,{"$f":"Anlægskartotek!C3081","v":0},{"$f":"+IF((Basisoplysninger!$D$60=\"Ja\")*(Anlægskartotek!C3081<>0)=1,Anlægskartotek!$L$14,Anlægskartotek!I3081)","v":0}]
[null,3071,{"$f":"Anlægskartotek!C3082","v":0},{"$f":"+IF((Basisoplysninger!$D$60=\"Ja\")*(Anlægskartotek!C3082<>0)=1,Anlægskartotek!$L$14,Anlægskartotek!I3082)","v":0}]
[null,3072,{"$f":"Anlægskartotek!C3083","v":0},{"$f":"+IF((Basisoplysninger!$D$60=\"Ja\")*(Anlægskartotek!C3083<>0)=1,Anlægskartotek!$L$14,Anlægskartotek!I3083)","v":0}]
[null,3073,{"$f":"Anlægskartotek!C3084","v":0},{"$f":"+IF((Basisoplysninger!$D$60=\"Ja\")*(Anlægskartotek!C3084<>0)=1,Anlægskartotek!$L$14,Anlægskartotek!I3084)","v":0}]
[null,3074,{"$f":"Anlægskartotek!C3085","v":0},{"$f":"+IF((Basisoplysninger!$D$60=\"Ja\")*(Anlægskartotek!C3085<>0)=1,Anlægskartotek!$L$14,Anlægskartotek!I3085)","v":0}]
[null,{"$f":"B3183+1","v":3075},{"$f":"Anlægskartotek!C3086","v":0},{"$f":"+IF((Basisoplysninger!$D$60=\"Ja\")*(Anlægskartotek!C3086<>0)=1,Anlægskartotek!$L$14,Anlægskartotek!I3086)","v":0}]
[null,3076,{"$f":"Anlægskartotek!C3087","v":0},{"$f":"+IF((Basisoplysninger!$D$60=\"Ja\")*(Anlægskartotek!C3087<>0)=1,Anlægskartotek!$L$14,Anlægskartotek!I3087)","v":0}]
[null,3077,{"$f":"Anlægskartotek!C3088","v":0},{"$f":"+IF((Basisoplysninger!$D$60=\"Ja\")*(Anlægskartotek!C3088<>0)=1,Anlægskartotek!$L$14,Anlægskartotek!I3088)","v":0}]
[null,3078,{"$f":"Anlægskartotek!C3089","v":0},{"$f":"+IF((Basisoplysninger!$D$60=\"Ja\")*(Anlægskartotek!C3089<>0)=1,Anlægskartotek!$L$14,Anlægskartotek!I3089)","v":0}]
[null,3079,{"$f":"Anlægskartotek!C3090","v":0},{"$f":"+IF((Basisoplysninger!$D$60=\"Ja\")*(Anlægskartotek!C3090<>0)=1,Anlægskartotek!$L$14,Anlægskartotek!I3090)","v":0}]
[null,3080,{"$f":"Anlægskartotek!C3091","v":0},{"$f":"+IF((Basisoplysninger!$D$60=\"Ja\")*(Anlægskartotek!C3091<>0)=1,Anlægskartotek!$L$14,Anlægskartotek!I3091)","v":0}]
[null,3081,{"$f":"Anlægskartotek!C3092","v":0},{"$f":"+IF((Basisoplysninger!$D$60=\"Ja\")*(Anlægskartotek!C3092<>0)=1,Anlægskartotek!$L$14,Anlægskartotek!I3092)","v":0}]
[null,3082,{"$f":"Anlægskartotek!C3093","v":0},{"$f":"+IF((Basisoplysninger!$D$60=\"Ja\")*(Anlægskartotek!C3093<>0)=1,Anlægskartotek!$L$14,Anlægskartotek!I3093)","v":0}]
[null,3083,{"$f":"Anlægskartotek!C3094","v":0},{"$f":"+IF((Basisoplysninger!$D$60=\"Ja\")*(Anlægskartotek!C3094<>0)=1,Anlægskartotek!$L$14,Anlægskartotek!I3094)","v":0}]
[null,3084,{"$f":"Anlægskartotek!C3095","v":0},{"$f":"+IF((Basisoplysninger!$D$60=\"Ja\")*(Anlægskartotek!C3095<>0)=1,Anlægskartotek!$L$14,Anlægskartotek!I3095)","v":0}]
[null,3085,{"$f":"Anlægskartotek!C3096","v":0},{"$f":"+IF((Basisoplysninger!$D$60=\"Ja\")*(Anlægskartotek!C3096<>0)=1,Anlægskartotek!$L$14,Anlægskartotek!I3096)","v":0}]
[null,3086,{"$f":"Anlægskartotek!C3097","v":0},{"$f":"+IF((Basisoplysninger!$D$60=\"Ja\")*(Anlægskartotek!C3097<>0)=1,Anlægskartotek!$L$14,Anlægskartotek!I3097)","v":0}]
[null,3087,{"$f":"Anlægskartotek!C3098","v":0},{"$f":"+IF((Basisoplysninger!$D$60=\"Ja\")*(Anlægskartotek!C3098<>0)=1,Anlægskartotek!$L$14,Anlægskartotek!I3098)","v":0}]
[null,3088,{"$f":"Anlægskartotek!C3099","v":0},{"$f":"+IF((Basisoplysninger!$D$60=\"Ja\")*(Anlægskartotek!C3099<>0)=1,Anlægskartotek!$L$14,Anlægskartotek!I3099)","v":0}]
[null,3089,{"$f":"Anlægskartotek!C3100","v":0},{"$f":"+IF((Basisoplysninger!$D$60=\"Ja\")*(Anlægskartotek!C3100<>0)=1,Anlægskartotek!$L$14,Anlægskartotek!I3100)","v":0}]
[null,3090,{"$f":"Anlægskartotek!C3101","v":0},{"$f":"+IF((Basisoplysninger!$D$60=\"Ja\")*(Anlægskartotek!C3101<>0)=1,Anlægskartotek!$L$14,Anlægskartotek!I3101)","v":0}]
[null,3091,{"$f":"Anlægskartotek!C3102","v":0},{"$f":"+IF((Basisoplysninger!$D$60=\"Ja\")*(Anlægskartotek!C3102<>0)=1,Anlægskartotek!$L$14,Anlægskartotek!I3102)","v":0}]
[null,3092,{"$f":"Anlægskartotek!C3103","v":0},{"$f":"+IF((Basisoplysninger!$D$60=\"Ja\")*(Anlægskartotek!C3103<>0)=1,Anlægskartotek!$L$14,Anlægskartotek!I3103)","v":0}]
[null,3093,{"$f":"Anlægskartotek!C3104","v":0},{"$f":"+IF((Basisoplysninger!$D$60=\"Ja\")*(Anlægskartotek!C3104<>0)=1,Anlægskartotek!$L$14,Anlægskartotek!I3104)","v":0}]
[null,3094,{"$f":"Anlægskartotek!C3105","v":0},{"$f":"+IF((Basisoplysninger!$D$60=\"Ja\")*(Anlægskartotek!C3105<>0)=1,Anlægskartotek!$L$14,Anlægskartotek!I3105)","v":0}]
[null,3095,{"$f":"Anlægskartotek!C3106","v":0},{"$f":"+IF((Basisoplysninger!$D$60=\"Ja\")*(Anlægskartotek!C3106<>0)=1,Anlægskartotek!$L$14,Anlægskartotek!I3106)","v":0}]
[null,3096,{"$f":"Anlægskartotek!C3107","v":0},{"$f":"+IF((Basisoplysninger!$D$60=\"Ja\")*(Anlægskartotek!C3107<>0)=1,Anlægskartotek!$L$14,Anlægskartotek!I3107)","v":0}]
[null,3097,{"$f":"Anlægskartotek!C3108","v":0},{"$f":"+IF((Basisoplysninger!$D$60=\"Ja\")*(Anlægskartotek!C3108<>0)=1,Anlægskartotek!$L$14,Anlægskartotek!I3108)","v":0}]
[null,3098,{"$f":"Anlægskartotek!C3109","v":0},{"$f":"+IF((Basisoplysninger!$D$60=\"Ja\")*(Anlægskartotek!C3109<>0)=1,Anlægskartotek!$L$14,Anlægskartotek!I3109)","v":0}]
[null,3099,{"$f":"Anlægskartotek!C3110","v":0},{"$f":"+IF((Basisoplysninger!$D$60=\"Ja\")*(Anlægskartotek!C3110<>0)=1,Anlægskartotek!$L$14,Anlægskartotek!I3110)","v":0}]
[null,3100,{"$f":"Anlægskartotek!C3111","v":0},{"$f":"+IF((Basisoplysninger!$D$60=\"Ja\")*(Anlægskartotek!C3111<>0)=1,Anlægskartotek!$L$14,Anlægskartotek!I3111)","v":0}]
[null,3101,{"$f":"Anlægskartotek!C3112","v":0},{"$f":"+IF((Basisoplysninger!$D$60=\"Ja\")*(Anlægskartotek!C3112<>0)=1,Anlægskartotek!$L$14,Anlægskartotek!I3112)","v":0}]
[null,3102,{"$f":"Anlægskartotek!C3113","v":0},{"$f":"+IF((Basisoplysninger!$D$60=\"Ja\")*(Anlægskartotek!C3113<>0)=1,Anlægskartotek!$L$14,Anlægskartotek!I3113)","v":0}]
[null,3103,{"$f":"Anlægskartotek!C3114","v":0},{"$f":"+IF((Basisoplysninger!$D$60=\"Ja\")*(Anlægskartotek!C3114<>0)=1,Anlægskartotek!$L$14,Anlægskartotek!I3114)","v":0}]
[null,3104,{"$f":"Anlægskartotek!C3115","v":0},{"$f":"+IF((Basisoplysninger!$D$60=\"Ja\")*(Anlægskartotek!C3115<>0)=1,Anlægskartotek!$L$14,Anlægskartotek!I3115)","v":0}]
[null,3105,{"$f":"Anlægskartotek!C3116","v":0},{"$f":"+IF((Basisoplysninger!$D$60=\"Ja\")*(Anlægskartotek!C3116<>0)=1,Anlægskartotek!$L$14,Anlægskartotek!I3116)","v":0}]
[null,3106,{"$f":"Anlægskartotek!C3117","v":0},{"$f":"+IF((Basisoplysninger!$D$60=\"Ja\")*(Anlægskartotek!C3117<>0)=1,Anlægskartotek!$L$14,Anlægskartotek!I3117)","v":0}]
[null,3107,{"$f":"Anlægskartotek!C3118","v":0},{"$f":"+IF((Basisoplysninger!$D$60=\"Ja\")*(Anlægskartotek!C3118<>0)=1,Anlægskartotek!$L$14,Anlægskartotek!I3118)","v":0}]
[null,3108,{"$f":"Anlægskartotek!C3119","v":0},{"$f":"+IF((Basisoplysninger!$D$60=\"Ja\")*(Anlægskartotek!C3119<>0)=1,Anlægskartotek!$L$14,Anlægskartotek!I3119)","v":0}]
[null,3109,{"$f":"Anlægskartotek!C3120","v":0},{"$f":"+IF((Basisoplysninger!$D$60=\"Ja\")*(Anlægskartotek!C3120<>0)=1,Anlægskartotek!$L$14,Anlægskartotek!I3120)","v":0}]
[null,3110,{"$f":"Anlægskartotek!C3121","v":0},{"$f":"+IF((Basisoplysninger!$D$60=\"Ja\")*(Anlægskartotek!C3121<>0)=1,Anlægskartotek!$L$14,Anlægskartotek!I3121)","v":0}]
[null,3111,{"$f":"Anlægskartotek!C3122","v":0},{"$f":"+IF((Basisoplysninger!$D$60=\"Ja\")*(Anlægskartotek!C3122<>0)=1,Anlægskartotek!$L$14,Anlægskartotek!I3122)","v":0}]
[null,3112,{"$f":"Anlægskartotek!C3123","v":0},{"$f":"+IF((Basisoplysninger!$D$60=\"Ja\")*(Anlægskartotek!C3123<>0)=1,Anlægskartotek!$L$14,Anlægskartotek!I3123)","v":0}]
[null,3113,{"$f":"Anlægskartotek!C3124","v":0},{"$f":"+IF((Basisoplysninger!$D$60=\"Ja\")*(Anlægskartotek!C3124<>0)=1,Anlægskartotek!$L$14,Anlægskartotek!I3124)","v":0}]
[null,3114,{"$f":"Anlægskartotek!C3125","v":0},{"$f":"+IF((Basisoplysninger!$D$60=\"Ja\")*(Anlægskartotek!C3125<>0)=1,Anlægskartotek!$L$14,Anlægskartotek!I3125)","v":0}]
[null,3115,{"$f":"Anlægskartotek!C3126","v":0},{"$f":"+IF((Basisoplysninger!$D$60=\"Ja\")*(Anlægskartotek!C3126<>0)=1,Anlægskartotek!$L$14,Anlægskartotek!I3126)","v":0}]
[null,3116,{"$f":"Anlægskartotek!C3127","v":0},{"$f":"+IF((Basisoplysninger!$D$60=\"Ja\")*(Anlægskartotek!C3127<>0)=1,Anlægskartotek!$L$14,Anlægskartotek!I3127)","v":0}]
[null,3117,{"$f":"Anlægskartotek!C3128","v":0},{"$f":"+IF((Basisoplysninger!$D$60=\"Ja\")*(Anlægskartotek!C3128<>0)=1,Anlægskartotek!$L$14,Anlægskartotek!I3128)","v":0}]
[null,3118,{"$f":"Anlægskartotek!C3129","v":0},{"$f":"+IF((Basisoplysninger!$D$60=\"Ja\")*(Anlægskartotek!C3129<>0)=1,Anlægskartotek!$L$14,Anlægskartotek!I3129)","v":0}]
[null,3119,{"$f":"Anlægskartotek!C3130","v":0},{"$f":"+IF((Basisoplysninger!$D$60=\"Ja\")*(Anlægskartotek!C3130<>0)=1,Anlægskartotek!$L$14,Anlægskartotek!I3130)","v":0}]
[null,3120,{"$f":"Anlægskartotek!C3131","v":0},{"$f":"+IF((Basisoplysninger!$D$60=\"Ja\")*(Anlægskartotek!C3131<>0)=1,Anlægskartotek!$L$14,Anlægskartotek!I3131)","v":0}]
[null,3121,{"$f":"Anlægskartotek!C3132","v":0},{"$f":"+IF((Basisoplysninger!$D$60=\"Ja\")*(Anlægskartotek!C3132<>0)=1,Anlægskartotek!$L$14,Anlægskartotek!I3132)","v":0}]
[null,3122,{"$f":"Anlægskartotek!C3133","v":0},{"$f":"+IF((Basisoplysninger!$D$60=\"Ja\")*(Anlægskartotek!C3133<>0)=1,Anlægskartotek!$L$14,Anlægskartotek!I3133)","v":0}]
[null,3123,{"$f":"Anlægskartotek!C3134","v":0},{"$f":"+IF((Basisoplysninger!$D$60=\"Ja\")*(Anlægskartotek!C3134<>0)=1,Anlægskartotek!$L$14,Anlægskartotek!I3134)","v":0}]
[null,3124,{"$f":"Anlægskartotek!C3135","v":0},{"$f":"+IF((Basisoplysninger!$D$60=\"Ja\")*(Anlægskartotek!C3135<>0)=1,Anlægskartotek!$L$14,Anlægskartotek!I3135)","v":0}]
[null,3125,{"$f":"Anlægskartotek!C3136","v":0},{"$f":"+IF((Basisoplysninger!$D$60=\"Ja\")*(Anlægskartotek!C3136<>0)=1,Anlægskartotek!$L$14,Anlægskartotek!I3136)","v":0}]
[null,3126,{"$f":"Anlægskartotek!C3137","v":0},{"$f":"+IF((Basisoplysninger!$D$60=\"Ja\")*(Anlægskartotek!C3137<>0)=1,Anlægskartotek!$L$14,Anlægskartotek!I3137)","v":0}]
[null,3127,{"$f":"Anlægskartotek!C3138","v":0},{"$f":"+IF((Basisoplysninger!$D$60=\"Ja\")*(Anlægskartotek!C3138<>0)=1,Anlægskartotek!$L$14,Anlægskartotek!I3138)","v":0}]
[null,3128,{"$f":"Anlægskartotek!C3139","v":0},{"$f":"+IF((Basisoplysninger!$D$60=\"Ja\")*(Anlægskartotek!C3139<>0)=1,Anlægskartotek!$L$14,Anlægskartotek!I3139)","v":0}]
[null,3129,{"$f":"Anlægskartotek!C3140","v":0},{"$f":"+IF((Basisoplysninger!$D$60=\"Ja\")*(Anlægskartotek!C3140<>0)=1,Anlægskartotek!$L$14,Anlægskartotek!I3140)","v":0}]
[null,3130,{"$f":"Anlægskartotek!C3141","v":0},{"$f":"+IF((Basisoplysninger!$D$60=\"Ja\")*(Anlægskartotek!C3141<>0)=1,Anlægskartotek!$L$14,Anlægskartotek!I3141)","v":0}]
[null,3131,{"$f":"Anlægskartotek!C3142","v":0},{"$f":"+IF((Basisoplysninger!$D$60=\"Ja\")*(Anlægskartotek!C3142<>0)=1,Anlægskartotek!$L$14,Anlægskartotek!I3142)","v":0}]
[null,3132,{"$f":"Anlægskartotek!C3143","v":0},{"$f":"+IF((Basisoplysninger!$D$60=\"Ja\")*(Anlægskartotek!C3143<>0)=1,Anlægskartotek!$L$14,Anlægskartotek!I3143)","v":0}]
[null,3133,{"$f":"Anlægskartotek!C3144","v":0},{"$f":"+IF((Basisoplysninger!$D$60=\"Ja\")*(Anlægskartotek!C3144<>0)=1,Anlægskartotek!$L$14,Anlægskartotek!I3144)","v":0}]
[null,3134,{"$f":"Anlægskartotek!C3145","v":0},{"$f":"+IF((Basisoplysninger!$D$60=\"Ja\")*(Anlægskartotek!C3145<>0)=1,Anlægskartotek!$L$14,Anlægskartotek!I3145)","v":0}]
[null,3135,{"$f":"Anlægskartotek!C3146","v":0},{"$f":"+IF((Basisoplysninger!$D$60=\"Ja\")*(Anlægskartotek!C3146<>0)=1,Anlægskartotek!$L$14,Anlægskartotek!I3146)","v":0}]
[null,3136,{"$f":"Anlægskartotek!C3147","v":0},{"$f":"+IF((Basisoplysninger!$D$60=\"Ja\")*(Anlægskartotek!C3147<>0)=1,Anlægskartotek!$L$14,Anlægskartotek!I3147)","v":0}]
[null,3137,{"$f":"Anlægskartotek!C3148","v":0},{"$f":"+IF((Basisoplysninger!$D$60=\"Ja\")*(Anlægskartotek!C3148<>0)=1,Anlægskartotek!$L$14,Anlægskartotek!I3148)","v":0}]
[null,3138,{"$f":"Anlægskartotek!C3149","v":0},{"$f":"+IF((Basisoplysninger!$D$60=\"Ja\")*(Anlægskartotek!C3149<>0)=1,Anlægskartotek!$L$14,Anlægskartotek!I3149)","v":0}]
[null,{"$f":"B3247+1","v":3139},{"$f":"Anlægskartotek!C3150","v":0},{"$f":"+IF((Basisoplysninger!$D$60=\"Ja\")*(Anlægskartotek!C3150<>0)=1,Anlægskartotek!$L$14,Anlægskartotek!I3150)","v":0}]
[null,3140,{"$f":"Anlægskartotek!C3151","v":0},{"$f":"+IF((Basisoplysninger!$D$60=\"Ja\")*(Anlægskartotek!C3151<>0)=1,Anlægskartotek!$L$14,Anlægskartotek!I3151)","v":0}]
[null,3141,{"$f":"Anlægskartotek!C3152","v":0},{"$f":"+IF((Basisoplysninger!$D$60=\"Ja\")*(Anlægskartotek!C3152<>0)=1,Anlægskartotek!$L$14,Anlægskartotek!I3152)","v":0}]
[null,3142,{"$f":"Anlægskartotek!C3153","v":0},{"$f":"+IF((Basisoplysninger!$D$60=\"Ja\")*(Anlægskartotek!C3153<>0)=1,Anlægskartotek!$L$14,Anlægskartotek!I3153)","v":0}]
[null,3143,{"$f":"Anlægskartotek!C3154","v":0},{"$f":"+IF((Basisoplysninger!$D$60=\"Ja\")*(Anlægskartotek!C3154<>0)=1,Anlægskartotek!$L$14,Anlægskartotek!I3154)","v":0}]
[null,3144,{"$f":"Anlægskartotek!C3155","v":0},{"$f":"+IF((Basisoplysninger!$D$60=\"Ja\")*(Anlægskartotek!C3155<>0)=1,Anlægskartotek!$L$14,Anlægskartotek!I3155)","v":0}]
[null,3145,{"$f":"Anlægskartotek!C3156","v":0},{"$f":"+IF((Basisoplysninger!$D$60=\"Ja\")*(Anlægskartotek!C3156<>0)=1,Anlægskartotek!$L$14,Anlægskartotek!I3156)","v":0}]
[null,3146,{"$f":"Anlægskartotek!C3157","v":0},{"$f":"+IF((Basisoplysninger!$D$60=\"Ja\")*(Anlægskartotek!C3157<>0)=1,Anlægskartotek!$L$14,Anlægskartotek!I3157)","v":0}]
[null,3147,{"$f":"Anlægskartotek!C3158","v":0},{"$f":"+IF((Basisoplysninger!$D$60=\"Ja\")*(Anlægskartotek!C3158<>0)=1,Anlægskartotek!$L$14,Anlægskartotek!I3158)","v":0}]
[null,3148,{"$f":"Anlægskartotek!C3159","v":0},{"$f":"+IF((Basisoplysninger!$D$60=\"Ja\")*(Anlægskartotek!C3159<>0)=1,Anlægskartotek!$L$14,Anlægskartotek!I3159)","v":0}]
[null,3149,{"$f":"Anlægskartotek!C3160","v":0},{"$f":"+IF((Basisoplysninger!$D$60=\"Ja\")*(Anlægskartotek!C3160<>0)=1,Anlægskartotek!$L$14,Anlægskartotek!I3160)","v":0}]
[null,3150,{"$f":"Anlægskartotek!C3161","v":0},{"$f":"+IF((Basisoplysninger!$D$60=\"Ja\")*(Anlægskartotek!C3161<>0)=1,Anlægskartotek!$L$14,Anlægskartotek!I3161)","v":0}]
[null,3151,{"$f":"Anlægskartotek!C3162","v":0},{"$f":"+IF((Basisoplysninger!$D$60=\"Ja\")*(Anlægskartotek!C3162<>0)=1,Anlægskartotek!$L$14,Anlægskartotek!I3162)","v":0}]
[null,3152,{"$f":"Anlægskartotek!C3163","v":0},{"$f":"+IF((Basisoplysninger!$D$60=\"Ja\")*(Anlægskartotek!C3163<>0)=1,Anlægskartotek!$L$14,Anlægskartotek!I3163)","v":0}]
[null,3153,{"$f":"Anlægskartotek!C3164","v":0},{"$f":"+IF((Basisoplysninger!$D$60=\"Ja\")*(Anlægskartotek!C3164<>0)=1,Anlægskartotek!$L$14,Anlægskartotek!I3164)","v":0}]
[null,3154,{"$f":"Anlægskartotek!C3165","v":0},{"$f":"+IF((Basisoplysninger!$D$60=\"Ja\")*(Anlægskartotek!C3165<>0)=1,Anlægskartotek!$L$14,Anlægskartotek!I3165)","v":0}]
[null,3155,{"$f":"Anlægskartotek!C3166","v":0},{"$f":"+IF((Basisoplysninger!$D$60=\"Ja\")*(Anlægskartotek!C3166<>0)=1,Anlægskartotek!$L$14,Anlægskartotek!I3166)","v":0}]
[null,3156,{"$f":"Anlægskartotek!C3167","v":0},{"$f":"+IF((Basisoplysninger!$D$60=\"Ja\")*(Anlægskartotek!C3167<>0)=1,Anlægskartotek!$L$14,Anlægskartotek!I3167)","v":0}]
[null,3157,{"$f":"Anlægskartotek!C3168","v":0},{"$f":"+IF((Basisoplysninger!$D$60=\"Ja\")*(Anlægskartotek!C3168<>0)=1,Anlægskartotek!$L$14,Anlægskartotek!I3168)","v":0}]
[null,3158,{"$f":"Anlægskartotek!C3169","v":0},{"$f":"+IF((Basisoplysninger!$D$60=\"Ja\")*(Anlægskartotek!C3169<>0)=1,Anlægskartotek!$L$14,Anlægskartotek!I3169)","v":0}]
[null,3159,{"$f":"Anlægskartotek!C3170","v":0},{"$f":"+IF((Basisoplysninger!$D$60=\"Ja\")*(Anlægskartotek!C3170<>0)=1,Anlægskartotek!$L$14,Anlægskartotek!I3170)","v":0}]
[null,3160,{"$f":"Anlægskartotek!C3171","v":0},{"$f":"+IF((Basisoplysninger!$D$60=\"Ja\")*(Anlægskartotek!C3171<>0)=1,Anlægskartotek!$L$14,Anlægskartotek!I3171)","v":0}]
[null,3161,{"$f":"Anlægskartotek!C3172","v":0},{"$f":"+IF((Basisoplysninger!$D$60=\"Ja\")*(Anlægskartotek!C3172<>0)=1,Anlægskartotek!$L$14,Anlægskartotek!I3172)","v":0}]
[null,3162,{"$f":"Anlægskartotek!C3173","v":0},{"$f":"+IF((Basisoplysninger!$D$60=\"Ja\")*(Anlægskartotek!C3173<>0)=1,Anlægskartotek!$L$14,Anlægskartotek!I3173)","v":0}]
[null,3163,{"$f":"Anlægskartotek!C3174","v":0},{"$f":"+IF((Basisoplysninger!$D$60=\"Ja\")*(Anlægskartotek!C3174<>0)=1,Anlægskartotek!$L$14,Anlægskartotek!I3174)","v":0}]
[null,3164,{"$f":"Anlægskartotek!C3175","v":0},{"$f":"+IF((Basisoplysninger!$D$60=\"Ja\")*(Anlægskartotek!C3175<>0)=1,Anlægskartotek!$L$14,Anlægskartotek!I3175)","v":0}]
[null,3165,{"$f":"Anlægskartotek!C3176","v":0},{"$f":"+IF((Basisoplysninger!$D$60=\"Ja\")*(Anlægskartotek!C3176<>0)=1,Anlægskartotek!$L$14,Anlægskartotek!I3176)","v":0}]
[null,3166,{"$f":"Anlægskartotek!C3177","v":0},{"$f":"+IF((Basisoplysninger!$D$60=\"Ja\")*(Anlægskartotek!C3177<>0)=1,Anlægskartotek!$L$14,Anlægskartotek!I3177)","v":0}]
[null,3167,{"$f":"Anlægskartotek!C3178","v":0},{"$f":"+IF((Basisoplysninger!$D$60=\"Ja\")*(Anlægskartotek!C3178<>0)=1,Anlægskartotek!$L$14,Anlægskartotek!I3178)","v":0}]
[null,3168,{"$f":"Anlægskartotek!C3179","v":0},{"$f":"+IF((Basisoplysninger!$D$60=\"Ja\")*(Anlægskartotek!C3179<>0)=1,Anlægskartotek!$L$14,Anlægskartotek!I3179)","v":0}]
[null,3169,{"$f":"Anlægskartotek!C3180","v":0},{"$f":"+IF((Basisoplysninger!$D$60=\"Ja\")*(Anlægskartotek!C3180<>0)=1,Anlægskartotek!$L$14,Anlægskartotek!I3180)","v":0}]
[null,3170,{"$f":"Anlægskartotek!C3181","v":0},{"$f":"+IF((Basisoplysninger!$D$60=\"Ja\")*(Anlægskartotek!C3181<>0)=1,Anlægskartotek!$L$14,Anlægskartotek!I3181)","v":0}]
[null,3171,{"$f":"Anlægskartotek!C3182","v":0},{"$f":"+IF((Basisoplysninger!$D$60=\"Ja\")*(Anlægskartotek!C3182<>0)=1,Anlægskartotek!$L$14,Anlægskartotek!I3182)","v":0}]
[null,3172,{"$f":"Anlægskartotek!C3183","v":0},{"$f":"+IF((Basisoplysninger!$D$60=\"Ja\")*(Anlægskartotek!C3183<>0)=1,Anlægskartotek!$L$14,Anlægskartotek!I3183)","v":0}]
[null,3173,{"$f":"Anlægskartotek!C3184","v":0},{"$f":"+IF((Basisoplysninger!$D$60=\"Ja\")*(Anlægskartotek!C3184<>0)=1,Anlægskartotek!$L$14,Anlægskartotek!I3184)","v":0}]
[null,3174,{"$f":"Anlægskartotek!C3185","v":0},{"$f":"+IF((Basisoplysninger!$D$60=\"Ja\")*(Anlægskartotek!C3185<>0)=1,Anlægskartotek!$L$14,Anlægskartotek!I3185)","v":0}]
[null,3175,{"$f":"Anlægskartotek!C3186","v":0},{"$f":"+IF((Basisoplysninger!$D$60=\"Ja\")*(Anlægskartotek!C3186<>0)=1,Anlægskartotek!$L$14,Anlægskartotek!I3186)","v":0}]
[null,3176,{"$f":"Anlægskartotek!C3187","v":0},{"$f":"+IF((Basisoplysninger!$D$60=\"Ja\")*(Anlægskartotek!C3187<>0)=1,Anlægskartotek!$L$14,Anlægskartotek!I3187)","v":0}]
[null,3177,{"$f":"Anlægskartotek!C3188","v":0},{"$f":"+IF((Basisoplysninger!$D$60=\"Ja\")*(Anlægskartotek!C3188<>0)=1,Anlægskartotek!$L$14,Anlægskartotek!I3188)","v":0}]
[null,3178,{"$f":"Anlægskartotek!C3189","v":0},{"$f":"+IF((Basisoplysninger!$D$60=\"Ja\")*(Anlægskartotek!C3189<>0)=1,Anlægskartotek!$L$14,Anlægskartotek!I3189)","v":0}]
[null,3179,{"$f":"Anlægskartotek!C3190","v":0},{"$f":"+IF((Basisoplysninger!$D$60=\"Ja\")*(Anlægskartotek!C3190<>0)=1,Anlægskartotek!$L$14,Anlægskartotek!I3190)","v":0}]
[null,3180,{"$f":"Anlægskartotek!C3191","v":0},{"$f":"+IF((Basisoplysninger!$D$60=\"Ja\")*(Anlægskartotek!C3191<>0)=1,Anlægskartotek!$L$14,Anlægskartotek!I3191)","v":0}]
[null,3181,{"$f":"Anlægskartotek!C3192","v":0},{"$f":"+IF((Basisoplysninger!$D$60=\"Ja\")*(Anlægskartotek!C3192<>0)=1,Anlægskartotek!$L$14,Anlægskartotek!I3192)","v":0}]
[null,3182,{"$f":"Anlægskartotek!C3193","v":0},{"$f":"+IF((Basisoplysninger!$D$60=\"Ja\")*(Anlægskartotek!C3193<>0)=1,Anlægskartotek!$L$14,Anlægskartotek!I3193)","v":0}]
[null,3183,{"$f":"Anlægskartotek!C3194","v":0},{"$f":"+IF((Basisoplysninger!$D$60=\"Ja\")*(Anlægskartotek!C3194<>0)=1,Anlægskartotek!$L$14,Anlægskartotek!I3194)","v":0}]
[null,3184,{"$f":"Anlægskartotek!C3195","v":0},{"$f":"+IF((Basisoplysninger!$D$60=\"Ja\")*(Anlægskartotek!C3195<>0)=1,Anlægskartotek!$L$14,Anlægskartotek!I3195)","v":0}]
[null,3185,{"$f":"Anlægskartotek!C3196","v":0},{"$f":"+IF((Basisoplysninger!$D$60=\"Ja\")*(Anlægskartotek!C3196<>0)=1,Anlægskartotek!$L$14,Anlægskartotek!I3196)","v":0}]
[null,3186,{"$f":"Anlægskartotek!C3197","v":0},{"$f":"+IF((Basisoplysninger!$D$60=\"Ja\")*(Anlægskartotek!C3197<>0)=1,Anlægskartotek!$L$14,Anlægskartotek!I3197)","v":0}]
[null,3187,{"$f":"Anlægskartotek!C3198","v":0},{"$f":"+IF((Basisoplysninger!$D$60=\"Ja\")*(Anlægskartotek!C3198<>0)=1,Anlægskartotek!$L$14,Anlægskartotek!I3198)","v":0}]
[null,3188,{"$f":"Anlægskartotek!C3199","v":0},{"$f":"+IF((Basisoplysninger!$D$60=\"Ja\")*(Anlægskartotek!C3199<>0)=1,Anlægskartotek!$L$14,Anlægskartotek!I3199)","v":0}]
[null,3189,{"$f":"Anlægskartotek!C3200","v":0},{"$f":"+IF((Basisoplysninger!$D$60=\"Ja\")*(Anlægskartotek!C3200<>0)=1,Anlægskartotek!$L$14,Anlægskartotek!I3200)","v":0}]
[null,3190,{"$f":"Anlægskartotek!C3201","v":0},{"$f":"+IF((Basisoplysninger!$D$60=\"Ja\")*(Anlægskartotek!C3201<>0)=1,Anlægskartotek!$L$14,Anlægskartotek!I3201)","v":0}]
[null,3191,{"$f":"Anlægskartotek!C3202","v":0},{"$f":"+IF((Basisoplysninger!$D$60=\"Ja\")*(Anlægskartotek!C3202<>0)=1,Anlægskartotek!$L$14,Anlægskartotek!I3202)","v":0}]
[null,3192,{"$f":"Anlægskartotek!C3203","v":0},{"$f":"+IF((Basisoplysninger!$D$60=\"Ja\")*(Anlægskartotek!C3203<>0)=1,Anlægskartotek!$L$14,Anlægskartotek!I3203)","v":0}]
[null,3193,{"$f":"Anlægskartotek!C3204","v":0},{"$f":"+IF((Basisoplysninger!$D$60=\"Ja\")*(Anlægskartotek!C3204<>0)=1,Anlægskartotek!$L$14,Anlægskartotek!I3204)","v":0}]
[null,3194,{"$f":"Anlægskartotek!C3205","v":0},{"$f":"+IF((Basisoplysninger!$D$60=\"Ja\")*(Anlægskartotek!C3205<>0)=1,Anlægskartotek!$L$14,Anlægskartotek!I3205)","v":0}]
[null,3195,{"$f":"Anlægskartotek!C3206","v":0},{"$f":"+IF((Basisoplysninger!$D$60=\"Ja\")*(Anlægskartotek!C3206<>0)=1,Anlægskartotek!$L$14,Anlægskartotek!I3206)","v":0}]
[null,3196,{"$f":"Anlægskartotek!C3207","v":0},{"$f":"+IF((Basisoplysninger!$D$60=\"Ja\")*(Anlægskartotek!C3207<>0)=1,Anlægskartotek!$L$14,Anlægskartotek!I3207)","v":0}]
[null,3197,{"$f":"Anlægskartotek!C3208","v":0},{"$f":"+IF((Basisoplysninger!$D$60=\"Ja\")*(Anlægskartotek!C3208<>0)=1,Anlægskartotek!$L$14,Anlægskartotek!I3208)","v":0}]
[null,3198,{"$f":"Anlægskartotek!C3209","v":0},{"$f":"+IF((Basisoplysninger!$D$60=\"Ja\")*(Anlægskartotek!C3209<>0)=1,Anlægskartotek!$L$14,Anlægskartotek!I3209)","v":0}]
[null,3199,{"$f":"Anlægskartotek!C3210","v":0},{"$f":"+IF((Basisoplysninger!$D$60=\"Ja\")*(Anlægskartotek!C3210<>0)=1,Anlægskartotek!$L$14,Anlægskartotek!I3210)","v":0}]
[null,3200,{"$f":"Anlægskartotek!C3211","v":0},{"$f":"+IF((Basisoplysninger!$D$60=\"Ja\")*(Anlægskartotek!C3211<>0)=1,Anlægskartotek!$L$14,Anlægskartotek!I3211)","v":0}]
[null,3201,{"$f":"Anlægskartotek!C3212","v":0},{"$f":"+IF((Basisoplysninger!$D$60=\"Ja\")*(Anlægskartotek!C3212<>0)=1,Anlægskartotek!$L$14,Anlægskartotek!I3212)","v":0}]
[null,3202,{"$f":"Anlægskartotek!C3213","v":0},{"$f":"+IF((Basisoplysninger!$D$60=\"Ja\")*(Anlægskartotek!C3213<>0)=1,Anlægskartotek!$L$14,Anlægskartotek!I3213)","v":0}]
[null,{"$f":"B3311+1","v":3203},{"$f":"Anlægskartotek!C3214","v":0},{"$f":"+IF((Basisoplysninger!$D$60=\"Ja\")*(Anlægskartotek!C3214<>0)=1,Anlægskartotek!$L$14,Anlægskartotek!I3214)","v":0}]
[null,3204,{"$f":"Anlægskartotek!C3215","v":0},{"$f":"+IF((Basisoplysninger!$D$60=\"Ja\")*(Anlægskartotek!C3215<>0)=1,Anlægskartotek!$L$14,Anlægskartotek!I3215)","v":0}]
[null,3205,{"$f":"Anlægskartotek!C3216","v":0},{"$f":"+IF((Basisoplysninger!$D$60=\"Ja\")*(Anlægskartotek!C3216<>0)=1,Anlægskartotek!$L$14,Anlægskartotek!I3216)","v":0}]
[null,3206,{"$f":"Anlægskartotek!C3217","v":0},{"$f":"+IF((Basisoplysninger!$D$60=\"Ja\")*(Anlægskartotek!C3217<>0)=1,Anlægskartotek!$L$14,Anlægskartotek!I3217)","v":0}]
[null,3207,{"$f":"Anlægskartotek!C3218","v":0},{"$f":"+IF((Basisoplysninger!$D$60=\"Ja\")*(Anlægskartotek!C3218<>0)=1,Anlægskartotek!$L$14,Anlægskartotek!I3218)","v":0}]
[null,3208,{"$f":"Anlægskartotek!C3219","v":0},{"$f":"+IF((Basisoplysninger!$D$60=\"Ja\")*(Anlægskartotek!C3219<>0)=1,Anlægskartotek!$L$14,Anlægskartotek!I3219)","v":0}]
[null,3209,{"$f":"Anlægskartotek!C3220","v":0},{"$f":"+IF((Basisoplysninger!$D$60=\"Ja\")*(Anlægskartotek!C3220<>0)=1,Anlægskartotek!$L$14,Anlægskartotek!I3220)","v":0}]
[null,3210,{"$f":"Anlægskartotek!C3221","v":0},{"$f":"+IF((Basisoplysninger!$D$60=\"Ja\")*(Anlægskartotek!C3221<>0)=1,Anlægskartotek!$L$14,Anlægskartotek!I3221)","v":0}]
[null,3211,{"$f":"Anlægskartotek!C3222","v":0},{"$f":"+IF((Basisoplysninger!$D$60=\"Ja\")*(Anlægskartotek!C3222<>0)=1,Anlægskartotek!$L$14,Anlægskartotek!I3222)","v":0}]
[null,3212,{"$f":"Anlægskartotek!C3223","v":0},{"$f":"+IF((Basisoplysninger!$D$60=\"Ja\")*(Anlægskartotek!C3223<>0)=1,Anlægskartotek!$L$14,Anlægskartotek!I3223)","v":0}]
[null,3213,{"$f":"Anlægskartotek!C3224","v":0},{"$f":"+IF((Basisoplysninger!$D$60=\"Ja\")*(Anlægskartotek!C3224<>0)=1,Anlægskartotek!$L$14,Anlægskartotek!I3224)","v":0}]
[null,3214,{"$f":"Anlægskartotek!C3225","v":0},{"$f":"+IF((Basisoplysninger!$D$60=\"Ja\")*(Anlægskartotek!C3225<>0)=1,Anlægskartotek!$L$14,Anlægskartotek!I3225)","v":0}]
[null,3215,{"$f":"Anlægskartotek!C3226","v":0},{"$f":"+IF((Basisoplysninger!$D$60=\"Ja\")*(Anlægskartotek!C3226<>0)=1,Anlægskartotek!$L$14,Anlægskartotek!I3226)","v":0}]
[null,3216,{"$f":"Anlægskartotek!C3227","v":0},{"$f":"+IF((Basisoplysninger!$D$60=\"Ja\")*(Anlægskartotek!C3227<>0)=1,Anlægskartotek!$L$14,Anlægskartotek!I3227)","v":0}]
[null,3217,{"$f":"Anlægskartotek!C3228","v":0},{"$f":"+IF((Basisoplysninger!$D$60=\"Ja\")*(Anlægskartotek!C3228<>0)=1,Anlægskartotek!$L$14,Anlægskartotek!I3228)","v":0}]
[null,3218,{"$f":"Anlægskartotek!C3229","v":0},{"$f":"+IF((Basisoplysninger!$D$60=\"Ja\")*(Anlægskartotek!C3229<>0)=1,Anlægskartotek!$L$14,Anlægskartotek!I3229)","v":0}]
[null,3219,{"$f":"Anlægskartotek!C3230","v":0},{"$f":"+IF((Basisoplysninger!$D$60=\"Ja\")*(Anlægskartotek!C3230<>0)=1,Anlægskartotek!$L$14,Anlægskartotek!I3230)","v":0}]
[null,3220,{"$f":"Anlægskartotek!C3231","v":0},{"$f":"+IF((Basisoplysninger!$D$60=\"Ja\")*(Anlægskartotek!C3231<>0)=1,Anlægskartotek!$L$14,Anlægskartotek!I3231)","v":0}]
[null,3221,{"$f":"Anlægskartotek!C3232","v":0},{"$f":"+IF((Basisoplysninger!$D$60=\"Ja\")*(Anlægskartotek!C3232<>0)=1,Anlægskartotek!$L$14,Anlægskartotek!I3232)","v":0}]
[null,3222,{"$f":"Anlægskartotek!C3233","v":0},{"$f":"+IF((Basisoplysninger!$D$60=\"Ja\")*(Anlægskartotek!C3233<>0)=1,Anlægskartotek!$L$14,Anlægskartotek!I3233)","v":0}]
[null,3223,{"$f":"Anlægskartotek!C3234","v":0},{"$f":"+IF((Basisoplysninger!$D$60=\"Ja\")*(Anlægskartotek!C3234<>0)=1,Anlægskartotek!$L$14,Anlægskartotek!I3234)","v":0}]
[null,3224,{"$f":"Anlægskartotek!C3235","v":0},{"$f":"+IF((Basisoplysninger!$D$60=\"Ja\")*(Anlægskartotek!C3235<>0)=1,Anlægskartotek!$L$14,Anlægskartotek!I3235)","v":0}]
[null,3225,{"$f":"Anlægskartotek!C3236","v":0},{"$f":"+IF((Basisoplysninger!$D$60=\"Ja\")*(Anlægskartotek!C3236<>0)=1,Anlægskartotek!$L$14,Anlægskartotek!I3236)","v":0}]
[null,3226,{"$f":"Anlægskartotek!C3237","v":0},{"$f":"+IF((Basisoplysninger!$D$60=\"Ja\")*(Anlægskartotek!C3237<>0)=1,Anlægskartotek!$L$14,Anlægskartotek!I3237)","v":0}]
[null,3227,{"$f":"Anlægskartotek!C3238","v":0},{"$f":"+IF((Basisoplysninger!$D$60=\"Ja\")*(Anlægskartotek!C3238<>0)=1,Anlægskartotek!$L$14,Anlægskartotek!I3238)","v":0}]
[null,3228,{"$f":"Anlægskartotek!C3239","v":0},{"$f":"+IF((Basisoplysninger!$D$60=\"Ja\")*(Anlægskartotek!C3239<>0)=1,Anlægskartotek!$L$14,Anlægskartotek!I3239)","v":0}]
[null,3229,{"$f":"Anlægskartotek!C3240","v":0},{"$f":"+IF((Basisoplysninger!$D$60=\"Ja\")*(Anlægskartotek!C3240<>0)=1,Anlægskartotek!$L$14,Anlægskartotek!I3240)","v":0}]
[null,3230,{"$f":"Anlægskartotek!C3241","v":0},{"$f":"+IF((Basisoplysninger!$D$60=\"Ja\")*(Anlægskartotek!C3241<>0)=1,Anlægskartotek!$L$14,Anlægskartotek!I3241)","v":0}]
[null,3231,{"$f":"Anlægskartotek!C3242","v":0},{"$f":"+IF((Basisoplysninger!$D$60=\"Ja\")*(Anlægskartotek!C3242<>0)=1,Anlægskartotek!$L$14,Anlægskartotek!I3242)","v":0}]
[null,3232,{"$f":"Anlægskartotek!C3243","v":0},{"$f":"+IF((Basisoplysninger!$D$60=\"Ja\")*(Anlægskartotek!C3243<>0)=1,Anlægskartotek!$L$14,Anlægskartotek!I3243)","v":0}]
[null,3233,{"$f":"Anlægskartotek!C3244","v":0},{"$f":"+IF((Basisoplysninger!$D$60=\"Ja\")*(Anlægskartotek!C3244<>0)=1,Anlægskartotek!$L$14,Anlægskartotek!I3244)","v":0}]
[null,3234,{"$f":"Anlægskartotek!C3245","v":0},{"$f":"+IF((Basisoplysninger!$D$60=\"Ja\")*(Anlægskartotek!C3245<>0)=1,Anlægskartotek!$L$14,Anlægskartotek!I3245)","v":0}]
[null,3235,{"$f":"Anlægskartotek!C3246","v":0},{"$f":"+IF((Basisoplysninger!$D$60=\"Ja\")*(Anlægskartotek!C3246<>0)=1,Anlægskartotek!$L$14,Anlægskartotek!I3246)","v":0}]
[null,3236,{"$f":"Anlægskartotek!C3247","v":0},{"$f":"+IF((Basisoplysninger!$D$60=\"Ja\")*(Anlægskartotek!C3247<>0)=1,Anlægskartotek!$L$14,Anlægskartotek!I3247)","v":0}]
[null,3237,{"$f":"Anlægskartotek!C3248","v":0},{"$f":"+IF((Basisoplysninger!$D$60=\"Ja\")*(Anlægskartotek!C3248<>0)=1,Anlægskartotek!$L$14,Anlægskartotek!I3248)","v":0}]
[null,3238,{"$f":"Anlægskartotek!C3249","v":0},{"$f":"+IF((Basisoplysninger!$D$60=\"Ja\")*(Anlægskartotek!C3249<>0)=1,Anlægskartotek!$L$14,Anlægskartotek!I3249)","v":0}]
[null,3239,{"$f":"Anlægskartotek!C3250","v":0},{"$f":"+IF((Basisoplysninger!$D$60=\"Ja\")*(Anlægskartotek!C3250<>0)=1,Anlægskartotek!$L$14,Anlægskartotek!I3250)","v":0}]
[null,3240,{"$f":"Anlægskartotek!C3251","v":0},{"$f":"+IF((Basisoplysninger!$D$60=\"Ja\")*(Anlægskartotek!C3251<>0)=1,Anlægskartotek!$L$14,Anlægskartotek!I3251)","v":0}]
[null,3241,{"$f":"Anlægskartotek!C3252","v":0},{"$f":"+IF((Basisoplysninger!$D$60=\"Ja\")*(Anlægskartotek!C3252<>0)=1,Anlægskartotek!$L$14,Anlægskartotek!I3252)","v":0}]
[null,3242,{"$f":"Anlægskartotek!C3253","v":0},{"$f":"+IF((Basisoplysninger!$D$60=\"Ja\")*(Anlægskartotek!C3253<>0)=1,Anlægskartotek!$L$14,Anlægskartotek!I3253)","v":0}]
[null,3243,{"$f":"Anlægskartotek!C3254","v":0},{"$f":"+IF((Basisoplysninger!$D$60=\"Ja\")*(Anlægskartotek!C3254<>0)=1,Anlægskartotek!$L$14,Anlægskartotek!I3254)","v":0}]
[null,3244,{"$f":"Anlægskartotek!C3255","v":0},{"$f":"+IF((Basisoplysninger!$D$60=\"Ja\")*(Anlægskartotek!C3255<>0)=1,Anlægskartotek!$L$14,Anlægskartotek!I3255)","v":0}]
[null,3245,{"$f":"Anlægskartotek!C3256","v":0},{"$f":"+IF((Basisoplysninger!$D$60=\"Ja\")*(Anlægskartotek!C3256<>0)=1,Anlægskartotek!$L$14,Anlægskartotek!I3256)","v":0}]
[null,3246,{"$f":"Anlægskartotek!C3257","v":0},{"$f":"+IF((Basisoplysninger!$D$60=\"Ja\")*(Anlægskartotek!C3257<>0)=1,Anlægskartotek!$L$14,Anlægskartotek!I3257)","v":0}]
[null,3247,{"$f":"Anlægskartotek!C3258","v":0},{"$f":"+IF((Basisoplysninger!$D$60=\"Ja\")*(Anlægskartotek!C3258<>0)=1,Anlægskartotek!$L$14,Anlægskartotek!I3258)","v":0}]
[null,3248,{"$f":"Anlægskartotek!C3259","v":0},{"$f":"+IF((Basisoplysninger!$D$60=\"Ja\")*(Anlægskartotek!C3259<>0)=1,Anlægskartotek!$L$14,Anlægskartotek!I3259)","v":0}]
[null,3249,{"$f":"Anlægskartotek!C3260","v":0},{"$f":"+IF((Basisoplysninger!$D$60=\"Ja\")*(Anlægskartotek!C3260<>0)=1,Anlægskartotek!$L$14,Anlægskartotek!I3260)","v":0}]
[null,3250,{"$f":"Anlægskartotek!C3261","v":0},{"$f":"+IF((Basisoplysninger!$D$60=\"Ja\")*(Anlægskartotek!C3261<>0)=1,Anlægskartotek!$L$14,Anlægskartotek!I3261)","v":0}]
[null,3251,{"$f":"Anlægskartotek!C3262","v":0},{"$f":"+IF((Basisoplysninger!$D$60=\"Ja\")*(Anlægskartotek!C3262<>0)=1,Anlægskartotek!$L$14,Anlægskartotek!I3262)","v":0}]
[null,3252,{"$f":"Anlægskartotek!C3263","v":0},{"$f":"+IF((Basisoplysninger!$D$60=\"Ja\")*(Anlægskartotek!C3263<>0)=1,Anlægskartotek!$L$14,Anlægskartotek!I3263)","v":0}]
[null,3253,{"$f":"Anlægskartotek!C3264","v":0},{"$f":"+IF((Basisoplysninger!$D$60=\"Ja\")*(Anlægskartotek!C3264<>0)=1,Anlægskartotek!$L$14,Anlægskartotek!I3264)","v":0}]
[null,3254,{"$f":"Anlægskartotek!C3265","v":0},{"$f":"+IF((Basisoplysninger!$D$60=\"Ja\")*(Anlægskartotek!C3265<>0)=1,Anlægskartotek!$L$14,Anlægskartotek!I3265)","v":0}]
[null,3255,{"$f":"Anlægskartotek!C3266","v":0},{"$f":"+IF((Basisoplysninger!$D$60=\"Ja\")*(Anlægskartotek!C3266<>0)=1,Anlægskartotek!$L$14,Anlægskartotek!I3266)","v":0}]
[null,3256,{"$f":"Anlægskartotek!C3267","v":0},{"$f":"+IF((Basisoplysninger!$D$60=\"Ja\")*(Anlægskartotek!C3267<>0)=1,Anlægskartotek!$L$14,Anlægskartotek!I3267)","v":0}]
[null,3257,{"$f":"Anlægskartotek!C3268","v":0},{"$f":"+IF((Basisoplysninger!$D$60=\"Ja\")*(Anlægskartotek!C3268<>0)=1,Anlægskartotek!$L$14,Anlægskartotek!I3268)","v":0}]
[null,3258,{"$f":"Anlægskartotek!C3269","v":0},{"$f":"+IF((Basisoplysninger!$D$60=\"Ja\")*(Anlægskartotek!C3269<>0)=1,Anlægskartotek!$L$14,Anlægskartotek!I3269)","v":0}]
[null,3259,{"$f":"Anlægskartotek!C3270","v":0},{"$f":"+IF((Basisoplysninger!$D$60=\"Ja\")*(Anlægskartotek!C3270<>0)=1,Anlægskartotek!$L$14,Anlægskartotek!I3270)","v":0}]
[null,3260,{"$f":"Anlægskartotek!C3271","v":0},{"$f":"+IF((Basisoplysninger!$D$60=\"Ja\")*(Anlægskartotek!C3271<>0)=1,Anlægskartotek!$L$14,Anlægskartotek!I3271)","v":0}]
[null,3261,{"$f":"Anlægskartotek!C3272","v":0},{"$f":"+IF((Basisoplysninger!$D$60=\"Ja\")*(Anlægskartotek!C3272<>0)=1,Anlægskartotek!$L$14,Anlægskartotek!I3272)","v":0}]
[null,3262,{"$f":"Anlægskartotek!C3273","v":0},{"$f":"+IF((Basisoplysninger!$D$60=\"Ja\")*(Anlægskartotek!C3273<>0)=1,Anlægskartotek!$L$14,Anlægskartotek!I3273)","v":0}]
[null,3263,{"$f":"Anlægskartotek!C3274","v":0},{"$f":"+IF((Basisoplysninger!$D$60=\"Ja\")*(Anlægskartotek!C3274<>0)=1,Anlægskartotek!$L$14,Anlægskartotek!I3274)","v":0}]
[null,3264,{"$f":"Anlægskartotek!C3275","v":0},{"$f":"+IF((Basisoplysninger!$D$60=\"Ja\")*(Anlægskartotek!C3275<>0)=1,Anlægskartotek!$L$14,Anlægskartotek!I3275)","v":0}]
[null,3265,{"$f":"Anlægskartotek!C3276","v":0},{"$f":"+IF((Basisoplysninger!$D$60=\"Ja\")*(Anlægskartotek!C3276<>0)=1,Anlægskartotek!$L$14,Anlægskartotek!I3276)","v":0}]
[null,3266,{"$f":"Anlægskartotek!C3277","v":0},{"$f":"+IF((Basisoplysninger!$D$60=\"Ja\")*(Anlægskartotek!C3277<>0)=1,Anlægskartotek!$L$14,Anlægskartotek!I3277)","v":0}]
[null,{"$f":"B3375+1","v":3267},{"$f":"Anlægskartotek!C3278","v":0},{"$f":"+IF((Basisoplysninger!$D$60=\"Ja\")*(Anlægskartotek!C3278<>0)=1,Anlægskartotek!$L$14,Anlægskartotek!I3278)","v":0}]
[null,3268,{"$f":"Anlægskartotek!C3279","v":0},{"$f":"+IF((Basisoplysninger!$D$60=\"Ja\")*(Anlægskartotek!C3279<>0)=1,Anlægskartotek!$L$14,Anlægskartotek!I3279)","v":0}]
[null,3269,{"$f":"Anlægskartotek!C3280","v":0},{"$f":"+IF((Basisoplysninger!$D$60=\"Ja\")*(Anlægskartotek!C3280<>0)=1,Anlægskartotek!$L$14,Anlægskartotek!I3280)","v":0}]
[null,3270,{"$f":"Anlægskartotek!C3281","v":0},{"$f":"+IF((Basisoplysninger!$D$60=\"Ja\")*(Anlægskartotek!C3281<>0)=1,Anlægskartotek!$L$14,Anlægskartotek!I3281)","v":0}]
[null,3271,{"$f":"Anlægskartotek!C3282","v":0},{"$f":"+IF((Basisoplysninger!$D$60=\"Ja\")*(Anlægskartotek!C3282<>0)=1,Anlægskartotek!$L$14,Anlægskartotek!I3282)","v":0}]
[null,3272,{"$f":"Anlægskartotek!C3283","v":0},{"$f":"+IF((Basisoplysninger!$D$60=\"Ja\")*(Anlægskartotek!C3283<>0)=1,Anlægskartotek!$L$14,Anlægskartotek!I3283)","v":0}]
[null,3273,{"$f":"Anlægskartotek!C3284","v":0},{"$f":"+IF((Basisoplysninger!$D$60=\"Ja\")*(Anlægskartotek!C3284<>0)=1,Anlægskartotek!$L$14,Anlægskartotek!I3284)","v":0}]
[null,3274,{"$f":"Anlægskartotek!C3285","v":0},{"$f":"+IF((Basisoplysninger!$D$60=\"Ja\")*(Anlægskartotek!C3285<>0)=1,Anlægskartotek!$L$14,Anlægskartotek!I3285)","v":0}]
[null,3275,{"$f":"Anlægskartotek!C3286","v":0},{"$f":"+IF((Basisoplysninger!$D$60=\"Ja\")*(Anlægskartotek!C3286<>0)=1,Anlægskartotek!$L$14,Anlægskartotek!I3286)","v":0}]
[null,3276,{"$f":"Anlægskartotek!C3287","v":0},{"$f":"+IF((Basisoplysninger!$D$60=\"Ja\")*(Anlægskartotek!C3287<>0)=1,Anlægskartotek!$L$14,Anlægskartotek!I3287)","v":0}]
[null,3277,{"$f":"Anlægskartotek!C3288","v":0},{"$f":"+IF((Basisoplysninger!$D$60=\"Ja\")*(Anlægskartotek!C3288<>0)=1,Anlægskartotek!$L$14,Anlægskartotek!I3288)","v":0}]
[null,3278,{"$f":"Anlægskartotek!C3289","v":0},{"$f":"+IF((Basisoplysninger!$D$60=\"Ja\")*(Anlægskartotek!C3289<>0)=1,Anlægskartotek!$L$14,Anlægskartotek!I3289)","v":0}]
[null,3279,{"$f":"Anlægskartotek!C3290","v":0},{"$f":"+IF((Basisoplysninger!$D$60=\"Ja\")*(Anlægskartotek!C3290<>0)=1,Anlægskartotek!$L$14,Anlægskartotek!I3290)","v":0}]
[null,3280,{"$f":"Anlægskartotek!C3291","v":0},{"$f":"+IF((Basisoplysninger!$D$60=\"Ja\")*(Anlægskartotek!C3291<>0)=1,Anlægskartotek!$L$14,Anlægskartotek!I3291)","v":0}]
[null,3281,{"$f":"Anlægskartotek!C3292","v":0},{"$f":"+IF((Basisoplysninger!$D$60=\"Ja\")*(Anlægskartotek!C3292<>0)=1,Anlægskartotek!$L$14,Anlægskartotek!I3292)","v":0}]
[null,3282,{"$f":"Anlægskartotek!C3293","v":0},{"$f":"+IF((Basisoplysninger!$D$60=\"Ja\")*(Anlægskartotek!C3293<>0)=1,Anlægskartotek!$L$14,Anlægskartotek!I3293)","v":0}]
[null,3283,{"$f":"Anlægskartotek!C3294","v":0},{"$f":"+IF((Basisoplysninger!$D$60=\"Ja\")*(Anlægskartotek!C3294<>0)=1,Anlægskartotek!$L$14,Anlægskartotek!I3294)","v":0}]
[null,3284,{"$f":"Anlægskartotek!C3295","v":0},{"$f":"+IF((Basisoplysninger!$D$60=\"Ja\")*(Anlægskartotek!C3295<>0)=1,Anlægskartotek!$L$14,Anlægskartotek!I3295)","v":0}]
[null,3285,{"$f":"Anlægskartotek!C3296","v":0},{"$f":"+IF((Basisoplysninger!$D$60=\"Ja\")*(Anlægskartotek!C3296<>0)=1,Anlægskartotek!$L$14,Anlægskartotek!I3296)","v":0}]
[null,3286,{"$f":"Anlægskartotek!C3297","v":0},{"$f":"+IF((Basisoplysninger!$D$60=\"Ja\")*(Anlægskartotek!C3297<>0)=1,Anlægskartotek!$L$14,Anlægskartotek!I3297)","v":0}]
[null,3287,{"$f":"Anlægskartotek!C3298","v":0},{"$f":"+IF((Basisoplysninger!$D$60=\"Ja\")*(Anlægskartotek!C3298<>0)=1,Anlægskartotek!$L$14,Anlægskartotek!I3298)","v":0}]
[null,3288,{"$f":"Anlægskartotek!C3299","v":0},{"$f":"+IF((Basisoplysninger!$D$60=\"Ja\")*(Anlægskartotek!C3299<>0)=1,Anlægskartotek!$L$14,Anlægskartotek!I3299)","v":0}]
[null,3289,{"$f":"Anlægskartotek!C3300","v":0},{"$f":"+IF((Basisoplysninger!$D$60=\"Ja\")*(Anlægskartotek!C3300<>0)=1,Anlægskartotek!$L$14,Anlægskartotek!I3300)","v":0}]
[null,3290,{"$f":"Anlægskartotek!C3301","v":0},{"$f":"+IF((Basisoplysninger!$D$60=\"Ja\")*(Anlægskartotek!C3301<>0)=1,Anlægskartotek!$L$14,Anlægskartotek!I3301)","v":0}]
[null,3291,{"$f":"Anlægskartotek!C3302","v":0},{"$f":"+IF((Basisoplysninger!$D$60=\"Ja\")*(Anlægskartotek!C3302<>0)=1,Anlægskartotek!$L$14,Anlægskartotek!I3302)","v":0}]
[null,3292,{"$f":"Anlægskartotek!C3303","v":0},{"$f":"+IF((Basisoplysninger!$D$60=\"Ja\")*(Anlægskartotek!C3303<>0)=1,Anlægskartotek!$L$14,Anlægskartotek!I3303)","v":0}]
[null,3293,{"$f":"Anlægskartotek!C3304","v":0},{"$f":"+IF((Basisoplysninger!$D$60=\"Ja\")*(Anlægskartotek!C3304<>0)=1,Anlægskartotek!$L$14,Anlægskartotek!I3304)","v":0}]
[null,3294,{"$f":"Anlægskartotek!C3305","v":0},{"$f":"+IF((Basisoplysninger!$D$60=\"Ja\")*(Anlægskartotek!C3305<>0)=1,Anlægskartotek!$L$14,Anlægskartotek!I3305)","v":0}]
[null,3295,{"$f":"Anlægskartotek!C3306","v":0},{"$f":"+IF((Basisoplysninger!$D$60=\"Ja\")*(Anlægskartotek!C3306<>0)=1,Anlægskartotek!$L$14,Anlægskartotek!I3306)","v":0}]
[null,3296,{"$f":"Anlægskartotek!C3307","v":0},{"$f":"+IF((Basisoplysninger!$D$60=\"Ja\")*(Anlægskartotek!C3307<>0)=1,Anlægskartotek!$L$14,Anlægskartotek!I3307)","v":0}]
[null,3297,{"$f":"Anlægskartotek!C3308","v":0},{"$f":"+IF((Basisoplysninger!$D$60=\"Ja\")*(Anlægskartotek!C3308<>0)=1,Anlægskartotek!$L$14,Anlægskartotek!I3308)","v":0}]
[null,3298,{"$f":"Anlægskartotek!C3309","v":0},{"$f":"+IF((Basisoplysninger!$D$60=\"Ja\")*(Anlægskartotek!C3309<>0)=1,Anlægskartotek!$L$14,Anlægskartotek!I3309)","v":0}]
[null,3299,{"$f":"Anlægskartotek!C3310","v":0},{"$f":"+IF((Basisoplysninger!$D$60=\"Ja\")*(Anlægskartotek!C3310<>0)=1,Anlægskartotek!$L$14,Anlægskartotek!I3310)","v":0}]
[null,3300,{"$f":"Anlægskartotek!C3311","v":0},{"$f":"+IF((Basisoplysninger!$D$60=\"Ja\")*(Anlægskartotek!C3311<>0)=1,Anlægskartotek!$L$14,Anlægskartotek!I3311)","v":0}]
[null,3301,{"$f":"Anlægskartotek!C3312","v":0},{"$f":"+IF((Basisoplysninger!$D$60=\"Ja\")*(Anlægskartotek!C3312<>0)=1,Anlægskartotek!$L$14,Anlægskartotek!I3312)","v":0}]
[null,3302,{"$f":"Anlægskartotek!C3313","v":0},{"$f":"+IF((Basisoplysninger!$D$60=\"Ja\")*(Anlægskartotek!C3313<>0)=1,Anlægskartotek!$L$14,Anlægskartotek!I3313)","v":0}]
[null,3303,{"$f":"Anlægskartotek!C3314","v":0},{"$f":"+IF((Basisoplysninger!$D$60=\"Ja\")*(Anlægskartotek!C3314<>0)=1,Anlægskartotek!$L$14,Anlægskartotek!I3314)","v":0}]
[null,3304,{"$f":"Anlægskartotek!C3315","v":0},{"$f":"+IF((Basisoplysninger!$D$60=\"Ja\")*(Anlægskartotek!C3315<>0)=1,Anlægskartotek!$L$14,Anlægskartotek!I3315)","v":0}]
[null,3305,{"$f":"Anlægskartotek!C3316","v":0},{"$f":"+IF((Basisoplysninger!$D$60=\"Ja\")*(Anlægskartotek!C3316<>0)=1,Anlægskartotek!$L$14,Anlægskartotek!I3316)","v":0}]
[null,3306,{"$f":"Anlægskartotek!C3317","v":0},{"$f":"+IF((Basisoplysninger!$D$60=\"Ja\")*(Anlægskartotek!C3317<>0)=1,Anlægskartotek!$L$14,Anlægskartotek!I3317)","v":0}]
[null,3307,{"$f":"Anlægskartotek!C3318","v":0},{"$f":"+IF((Basisoplysninger!$D$60=\"Ja\")*(Anlægskartotek!C3318<>0)=1,Anlægskartotek!$L$14,Anlægskartotek!I3318)","v":0}]
[null,3308,{"$f":"Anlægskartotek!C3319","v":0},{"$f":"+IF((Basisoplysninger!$D$60=\"Ja\")*(Anlægskartotek!C3319<>0)=1,Anlægskartotek!$L$14,Anlægskartotek!I3319)","v":0}]
[null,3309,{"$f":"Anlægskartotek!C3320","v":0},{"$f":"+IF((Basisoplysninger!$D$60=\"Ja\")*(Anlægskartotek!C3320<>0)=1,Anlægskartotek!$L$14,Anlægskartotek!I3320)","v":0}]
[null,3310,{"$f":"Anlægskartotek!C3321","v":0},{"$f":"+IF((Basisoplysninger!$D$60=\"Ja\")*(Anlægskartotek!C3321<>0)=1,Anlægskartotek!$L$14,Anlægskartotek!I3321)","v":0}]
[null,3311,{"$f":"Anlægskartotek!C3322","v":0},{"$f":"+IF((Basisoplysninger!$D$60=\"Ja\")*(Anlægskartotek!C3322<>0)=1,Anlægskartotek!$L$14,Anlægskartotek!I3322)","v":0}]
[null,3312,{"$f":"Anlægskartotek!C3323","v":0},{"$f":"+IF((Basisoplysninger!$D$60=\"Ja\")*(Anlægskartotek!C3323<>0)=1,Anlægskartotek!$L$14,Anlægskartotek!I3323)","v":0}]
[null,3313,{"$f":"Anlægskartotek!C3324","v":0},{"$f":"+IF((Basisoplysninger!$D$60=\"Ja\")*(Anlægskartotek!C3324<>0)=1,Anlægskartotek!$L$14,Anlægskartotek!I3324)","v":0}]
[null,3314,{"$f":"Anlægskartotek!C3325","v":0},{"$f":"+IF((Basisoplysninger!$D$60=\"Ja\")*(Anlægskartotek!C3325<>0)=1,Anlægskartotek!$L$14,Anlægskartotek!I3325)","v":0}]
[null,3315,{"$f":"Anlægskartotek!C3326","v":0},{"$f":"+IF((Basisoplysninger!$D$60=\"Ja\")*(Anlægskartotek!C3326<>0)=1,Anlægskartotek!$L$14,Anlægskartotek!I3326)","v":0}]
[null,3316,{"$f":"Anlægskartotek!C3327","v":0},{"$f":"+IF((Basisoplysninger!$D$60=\"Ja\")*(Anlægskartotek!C3327<>0)=1,Anlægskartotek!$L$14,Anlægskartotek!I3327)","v":0}]
[null,3317,{"$f":"Anlægskartotek!C3328","v":0},{"$f":"+IF((Basisoplysninger!$D$60=\"Ja\")*(Anlægskartotek!C3328<>0)=1,Anlægskartotek!$L$14,Anlægskartotek!I3328)","v":0}]
[null,3318,{"$f":"Anlægskartotek!C3329","v":0},{"$f":"+IF((Basisoplysninger!$D$60=\"Ja\")*(Anlægskartotek!C3329<>0)=1,Anlægskartotek!$L$14,Anlægskartotek!I3329)","v":0}]
[null,3319,{"$f":"Anlægskartotek!C3330","v":0},{"$f":"+IF((Basisoplysninger!$D$60=\"Ja\")*(Anlægskartotek!C3330<>0)=1,Anlægskartotek!$L$14,Anlægskartotek!I3330)","v":0}]
[null,3320,{"$f":"Anlægskartotek!C3331","v":0},{"$f":"+IF((Basisoplysninger!$D$60=\"Ja\")*(Anlægskartotek!C3331<>0)=1,Anlægskartotek!$L$14,Anlægskartotek!I3331)","v":0}]
[null,3321,{"$f":"Anlægskartotek!C3332","v":0},{"$f":"+IF((Basisoplysninger!$D$60=\"Ja\")*(Anlægskartotek!C3332<>0)=1,Anlægskartotek!$L$14,Anlægskartotek!I3332)","v":0}]
[null,3322,{"$f":"Anlægskartotek!C3333","v":0},{"$f":"+IF((Basisoplysninger!$D$60=\"Ja\")*(Anlægskartotek!C3333<>0)=1,Anlægskartotek!$L$14,Anlægskartotek!I3333)","v":0}]
[null,3323,{"$f":"Anlægskartotek!C3334","v":0},{"$f":"+IF((Basisoplysninger!$D$60=\"Ja\")*(Anlægskartotek!C3334<>0)=1,Anlægskartotek!$L$14,Anlægskartotek!I3334)","v":0}]
[null,3324,{"$f":"Anlægskartotek!C3335","v":0},{"$f":"+IF((Basisoplysninger!$D$60=\"Ja\")*(Anlægskartotek!C3335<>0)=1,Anlægskartotek!$L$14,Anlægskartotek!I3335)","v":0}]
[null,3325,{"$f":"Anlægskartotek!C3336","v":0},{"$f":"+IF((Basisoplysninger!$D$60=\"Ja\")*(Anlægskartotek!C3336<>0)=1,Anlægskartotek!$L$14,Anlægskartotek!I3336)","v":0}]
[null,3326,{"$f":"Anlægskartotek!C3337","v":0},{"$f":"+IF((Basisoplysninger!$D$60=\"Ja\")*(Anlægskartotek!C3337<>0)=1,Anlægskartotek!$L$14,Anlægskartotek!I3337)","v":0}]
[null,3327,{"$f":"Anlægskartotek!C3338","v":0},{"$f":"+IF((Basisoplysninger!$D$60=\"Ja\")*(Anlægskartotek!C3338<>0)=1,Anlægskartotek!$L$14,Anlægskartotek!I3338)","v":0}]
[null,3328,{"$f":"Anlægskartotek!C3339","v":0},{"$f":"+IF((Basisoplysninger!$D$60=\"Ja\")*(Anlægskartotek!C3339<>0)=1,Anlægskartotek!$L$14,Anlægskartotek!I3339)","v":0}]
[null,3329,{"$f":"Anlægskartotek!C3340","v":0},{"$f":"+IF((Basisoplysninger!$D$60=\"Ja\")*(Anlægskartotek!C3340<>0)=1,Anlægskartotek!$L$14,Anlægskartotek!I3340)","v":0}]
[null,3330,{"$f":"Anlægskartotek!C3341","v":0},{"$f":"+IF((Basisoplysninger!$D$60=\"Ja\")*(Anlægskartotek!C3341<>0)=1,Anlægskartotek!$L$14,Anlægskartotek!I3341)","v":0}]
[null,{"$f":"B3439+1","v":3331},{"$f":"Anlægskartotek!C3342","v":0},{"$f":"+IF((Basisoplysninger!$D$60=\"Ja\")*(Anlægskartotek!C3342<>0)=1,Anlægskartotek!$L$14,Anlægskartotek!I3342)","v":0}]
[null,3332,{"$f":"Anlægskartotek!C3343","v":0},{"$f":"+IF((Basisoplysninger!$D$60=\"Ja\")*(Anlægskartotek!C3343<>0)=1,Anlægskartotek!$L$14,Anlægskartotek!I3343)","v":0}]
[null,3333,{"$f":"Anlægskartotek!C3344","v":0},{"$f":"+IF((Basisoplysninger!$D$60=\"Ja\")*(Anlægskartotek!C3344<>0)=1,Anlægskartotek!$L$14,Anlægskartotek!I3344)","v":0}]
[null,3334,{"$f":"Anlægskartotek!C3345","v":0},{"$f":"+IF((Basisoplysninger!$D$60=\"Ja\")*(Anlægskartotek!C3345<>0)=1,Anlægskartotek!$L$14,Anlægskartotek!I3345)","v":0}]
[null,3335,{"$f":"Anlægskartotek!C3346","v":0},{"$f":"+IF((Basisoplysninger!$D$60=\"Ja\")*(Anlægskartotek!C3346<>0)=1,Anlægskartotek!$L$14,Anlægskartotek!I3346)","v":0}]
[null,3336,{"$f":"Anlægskartotek!C3347","v":0},{"$f":"+IF((Basisoplysninger!$D$60=\"Ja\")*(Anlægskartotek!C3347<>0)=1,Anlægskartotek!$L$14,Anlægskartotek!I3347)","v":0}]
[null,3337,{"$f":"Anlægskartotek!C3348","v":0},{"$f":"+IF((Basisoplysninger!$D$60=\"Ja\")*(Anlægskartotek!C3348<>0)=1,Anlægskartotek!$L$14,Anlægskartotek!I3348)","v":0}]
[null,3338,{"$f":"Anlægskartotek!C3349","v":0},{"$f":"+IF((Basisoplysninger!$D$60=\"Ja\")*(Anlægskartotek!C3349<>0)=1,Anlægskartotek!$L$14,Anlægskartotek!I3349)","v":0}]
[null,3339,{"$f":"Anlægskartotek!C3350","v":0},{"$f":"+IF((Basisoplysninger!$D$60=\"Ja\")*(Anlægskartotek!C3350<>0)=1,Anlægskartotek!$L$14,Anlægskartotek!I3350)","v":0}]
[null,3340,{"$f":"Anlægskartotek!C3351","v":0},{"$f":"+IF((Basisoplysninger!$D$60=\"Ja\")*(Anlægskartotek!C3351<>0)=1,Anlægskartotek!$L$14,Anlægskartotek!I3351)","v":0}]
[null,3341,{"$f":"Anlægskartotek!C3352","v":0},{"$f":"+IF((Basisoplysninger!$D$60=\"Ja\")*(Anlægskartotek!C3352<>0)=1,Anlægskartotek!$L$14,Anlægskartotek!I3352)","v":0}]
[null,3342,{"$f":"Anlægskartotek!C3353","v":0},{"$f":"+IF((Basisoplysninger!$D$60=\"Ja\")*(Anlægskartotek!C3353<>0)=1,Anlægskartotek!$L$14,Anlægskartotek!I3353)","v":0}]
[null,3343,{"$f":"Anlægskartotek!C3354","v":0},{"$f":"+IF((Basisoplysninger!$D$60=\"Ja\")*(Anlægskartotek!C3354<>0)=1,Anlægskartotek!$L$14,Anlægskartotek!I3354)","v":0}]
[null,3344,{"$f":"Anlægskartotek!C3355","v":0},{"$f":"+IF((Basisoplysninger!$D$60=\"Ja\")*(Anlægskartotek!C3355<>0)=1,Anlægskartotek!$L$14,Anlægskartotek!I3355)","v":0}]
[null,3345,{"$f":"Anlægskartotek!C3356","v":0},{"$f":"+IF((Basisoplysninger!$D$60=\"Ja\")*(Anlægskartotek!C3356<>0)=1,Anlægskartotek!$L$14,Anlægskartotek!I3356)","v":0}]
[null,3346,{"$f":"Anlægskartotek!C3357","v":0},{"$f":"+IF((Basisoplysninger!$D$60=\"Ja\")*(Anlægskartotek!C3357<>0)=1,Anlægskartotek!$L$14,Anlægskartotek!I3357)","v":0}]
[null,3347,{"$f":"Anlægskartotek!C3358","v":0},{"$f":"+IF((Basisoplysninger!$D$60=\"Ja\")*(Anlægskartotek!C3358<>0)=1,Anlægskartotek!$L$14,Anlægskartotek!I3358)","v":0}]
[null,3348,{"$f":"Anlægskartotek!C3359","v":0},{"$f":"+IF((Basisoplysninger!$D$60=\"Ja\")*(Anlægskartotek!C3359<>0)=1,Anlægskartotek!$L$14,Anlægskartotek!I3359)","v":0}]
[null,3349,{"$f":"Anlægskartotek!C3360","v":0},{"$f":"+IF((Basisoplysninger!$D$60=\"Ja\")*(Anlægskartotek!C3360<>0)=1,Anlægskartotek!$L$14,Anlægskartotek!I3360)","v":0}]
[null,3350,{"$f":"Anlægskartotek!C3361","v":0},{"$f":"+IF((Basisoplysninger!$D$60=\"Ja\")*(Anlægskartotek!C3361<>0)=1,Anlægskartotek!$L$14,Anlægskartotek!I3361)","v":0}]
[null,3351,{"$f":"Anlægskartotek!C3362","v":0},{"$f":"+IF((Basisoplysninger!$D$60=\"Ja\")*(Anlægskartotek!C3362<>0)=1,Anlægskartotek!$L$14,Anlægskartotek!I3362)","v":0}]
[null,3352,{"$f":"Anlægskartotek!C3363","v":0},{"$f":"+IF((Basisoplysninger!$D$60=\"Ja\")*(Anlægskartotek!C3363<>0)=1,Anlægskartotek!$L$14,Anlægskartotek!I3363)","v":0}]
[null,3353,{"$f":"Anlægskartotek!C3364","v":0},{"$f":"+IF((Basisoplysninger!$D$60=\"Ja\")*(Anlægskartotek!C3364<>0)=1,Anlægskartotek!$L$14,Anlægskartotek!I3364)","v":0}]
[null,3354,{"$f":"Anlægskartotek!C3365","v":0},{"$f":"+IF((Basisoplysninger!$D$60=\"Ja\")*(Anlægskartotek!C3365<>0)=1,Anlægskartotek!$L$14,Anlægskartotek!I3365)","v":0}]
[null,3355,{"$f":"Anlægskartotek!C3366","v":0},{"$f":"+IF((Basisoplysninger!$D$60=\"Ja\")*(Anlægskartotek!C3366<>0)=1,Anlægskartotek!$L$14,Anlægskartotek!I3366)","v":0}]
[null,3356,{"$f":"Anlægskartotek!C3367","v":0},{"$f":"+IF((Basisoplysninger!$D$60=\"Ja\")*(Anlægskartotek!C3367<>0)=1,Anlægskartotek!$L$14,Anlægskartotek!I3367)","v":0}]
[null,3357,{"$f":"Anlægskartotek!C3368","v":0},{"$f":"+IF((Basisoplysninger!$D$60=\"Ja\")*(Anlægskartotek!C3368<>0)=1,Anlægskartotek!$L$14,Anlægskartotek!I3368)","v":0}]
[null,3358,{"$f":"Anlægskartotek!C3369","v":0},{"$f":"+IF((Basisoplysninger!$D$60=\"Ja\")*(Anlægskartotek!C3369<>0)=1,Anlægskartotek!$L$14,Anlægskartotek!I3369)","v":0}]
[null,3359,{"$f":"Anlægskartotek!C3370","v":0},{"$f":"+IF((Basisoplysninger!$D$60=\"Ja\")*(Anlægskartotek!C3370<>0)=1,Anlægskartotek!$L$14,Anlægskartotek!I3370)","v":0}]
[null,3360,{"$f":"Anlægskartotek!C3371","v":0},{"$f":"+IF((Basisoplysninger!$D$60=\"Ja\")*(Anlægskartotek!C3371<>0)=1,Anlægskartotek!$L$14,Anlægskartotek!I3371)","v":0}]
[null,3361,{"$f":"Anlægskartotek!C3372","v":0},{"$f":"+IF((Basisoplysninger!$D$60=\"Ja\")*(Anlægskartotek!C3372<>0)=1,Anlægskartotek!$L$14,Anlægskartotek!I3372)","v":0}]
[null,3362,{"$f":"Anlægskartotek!C3373","v":0},{"$f":"+IF((Basisoplysninger!$D$60=\"Ja\")*(Anlægskartotek!C3373<>0)=1,Anlægskartotek!$L$14,Anlægskartotek!I3373)","v":0}]
[null,3363,{"$f":"Anlægskartotek!C3374","v":0},{"$f":"+IF((Basisoplysninger!$D$60=\"Ja\")*(Anlægskartotek!C3374<>0)=1,Anlægskartotek!$L$14,Anlægskartotek!I3374)","v":0}]
[null,3364,{"$f":"Anlægskartotek!C3375","v":0},{"$f":"+IF((Basisoplysninger!$D$60=\"Ja\")*(Anlægskartotek!C3375<>0)=1,Anlægskartotek!$L$14,Anlægskartotek!I3375)","v":0}]
[null,3365,{"$f":"Anlægskartotek!C3376","v":0},{"$f":"+IF((Basisoplysninger!$D$60=\"Ja\")*(Anlægskartotek!C3376<>0)=1,Anlægskartotek!$L$14,Anlægskartotek!I3376)","v":0}]
[null,3366,{"$f":"Anlægskartotek!C3377","v":0},{"$f":"+IF((Basisoplysninger!$D$60=\"Ja\")*(Anlægskartotek!C3377<>0)=1,Anlægskartotek!$L$14,Anlægskartotek!I3377)","v":0}]
[null,3367,{"$f":"Anlægskartotek!C3378","v":0},{"$f":"+IF((Basisoplysninger!$D$60=\"Ja\")*(Anlægskartotek!C3378<>0)=1,Anlægskartotek!$L$14,Anlægskartotek!I3378)","v":0}]
[null,3368,{"$f":"Anlægskartotek!C3379","v":0},{"$f":"+IF((Basisoplysninger!$D$60=\"Ja\")*(Anlægskartotek!C3379<>0)=1,Anlægskartotek!$L$14,Anlægskartotek!I3379)","v":0}]
[null,3369,{"$f":"Anlægskartotek!C3380","v":0},{"$f":"+IF((Basisoplysninger!$D$60=\"Ja\")*(Anlægskartotek!C3380<>0)=1,Anlægskartotek!$L$14,Anlægskartotek!I3380)","v":0}]
[null,3370,{"$f":"Anlægskartotek!C3381","v":0},{"$f":"+IF((Basisoplysninger!$D$60=\"Ja\")*(Anlægskartotek!C3381<>0)=1,Anlægskartotek!$L$14,Anlægskartotek!I3381)","v":0}]
[null,3371,{"$f":"Anlægskartotek!C3382","v":0},{"$f":"+IF((Basisoplysninger!$D$60=\"Ja\")*(Anlægskartotek!C3382<>0)=1,Anlægskartotek!$L$14,Anlægskartotek!I3382)","v":0}]
[null,3372,{"$f":"Anlægskartotek!C3383","v":0},{"$f":"+IF((Basisoplysninger!$D$60=\"Ja\")*(Anlægskartotek!C3383<>0)=1,Anlægskartotek!$L$14,Anlægskartotek!I3383)","v":0}]
[null,3373,{"$f":"Anlægskartotek!C3384","v":0},{"$f":"+IF((Basisoplysninger!$D$60=\"Ja\")*(Anlægskartotek!C3384<>0)=1,Anlægskartotek!$L$14,Anlægskartotek!I3384)","v":0}]
[null,3374,{"$f":"Anlægskartotek!C3385","v":0},{"$f":"+IF((Basisoplysninger!$D$60=\"Ja\")*(Anlægskartotek!C3385<>0)=1,Anlægskartotek!$L$14,Anlægskartotek!I3385)","v":0}]
[null,3375,{"$f":"Anlægskartotek!C3386","v":0},{"$f":"+IF((Basisoplysninger!$D$60=\"Ja\")*(Anlægskartotek!C3386<>0)=1,Anlægskartotek!$L$14,Anlægskartotek!I3386)","v":0}]
[null,3376,{"$f":"Anlægskartotek!C3387","v":0},{"$f":"+IF((Basisoplysninger!$D$60=\"Ja\")*(Anlægskartotek!C3387<>0)=1,Anlægskartotek!$L$14,Anlægskartotek!I3387)","v":0}]
[null,3377,{"$f":"Anlægskartotek!C3388","v":0},{"$f":"+IF((Basisoplysninger!$D$60=\"Ja\")*(Anlægskartotek!C3388<>0)=1,Anlægskartotek!$L$14,Anlægskartotek!I3388)","v":0}]
[null,3378,{"$f":"Anlægskartotek!C3389","v":0},{"$f":"+IF((Basisoplysninger!$D$60=\"Ja\")*(Anlægskartotek!C3389<>0)=1,Anlægskartotek!$L$14,Anlægskartotek!I3389)","v":0}]
[null,3379,{"$f":"Anlægskartotek!C3390","v":0},{"$f":"+IF((Basisoplysninger!$D$60=\"Ja\")*(Anlægskartotek!C3390<>0)=1,Anlægskartotek!$L$14,Anlægskartotek!I3390)","v":0}]
[null,3380,{"$f":"Anlægskartotek!C3391","v":0},{"$f":"+IF((Basisoplysninger!$D$60=\"Ja\")*(Anlægskartotek!C3391<>0)=1,Anlægskartotek!$L$14,Anlægskartotek!I3391)","v":0}]
[null,3381,{"$f":"Anlægskartotek!C3392","v":0},{"$f":"+IF((Basisoplysninger!$D$60=\"Ja\")*(Anlægskartotek!C3392<>0)=1,Anlægskartotek!$L$14,Anlægskartotek!I3392)","v":0}]
[null,3382,{"$f":"Anlægskartotek!C3393","v":0},{"$f":"+IF((Basisoplysninger!$D$60=\"Ja\")*(Anlægskartotek!C3393<>0)=1,Anlægskartotek!$L$14,Anlægskartotek!I3393)","v":0}]
[null,3383,{"$f":"Anlægskartotek!C3394","v":0},{"$f":"+IF((Basisoplysninger!$D$60=\"Ja\")*(Anlægskartotek!C3394<>0)=1,Anlægskartotek!$L$14,Anlægskartotek!I3394)","v":0}]
[null,3384,{"$f":"Anlægskartotek!C3395","v":0},{"$f":"+IF((Basisoplysninger!$D$60=\"Ja\")*(Anlægskartotek!C3395<>0)=1,Anlægskartotek!$L$14,Anlægskartotek!I3395)","v":0}]
[null,3385,{"$f":"Anlægskartotek!C3396","v":0},{"$f":"+IF((Basisoplysninger!$D$60=\"Ja\")*(Anlægskartotek!C3396<>0)=1,Anlægskartotek!$L$14,Anlægskartotek!I3396)","v":0}]
[null,3386,{"$f":"Anlægskartotek!C3397","v":0},{"$f":"+IF((Basisoplysninger!$D$60=\"Ja\")*(Anlægskartotek!C3397<>0)=1,Anlægskartotek!$L$14,Anlægskartotek!I3397)","v":0}]
[null,3387,{"$f":"Anlægskartotek!C3398","v":0},{"$f":"+IF((Basisoplysninger!$D$60=\"Ja\")*(Anlægskartotek!C3398<>0)=1,Anlægskartotek!$L$14,Anlægskartotek!I3398)","v":0}]
[null,3388,{"$f":"Anlægskartotek!C3399","v":0},{"$f":"+IF((Basisoplysninger!$D$60=\"Ja\")*(Anlægskartotek!C3399<>0)=1,Anlægskartotek!$L$14,Anlægskartotek!I3399)","v":0}]
[null,3389,{"$f":"Anlægskartotek!C3400","v":0},{"$f":"+IF((Basisoplysninger!$D$60=\"Ja\")*(Anlægskartotek!C3400<>0)=1,Anlægskartotek!$L$14,Anlægskartotek!I3400)","v":0}]
[null,3390,{"$f":"Anlægskartotek!C3401","v":0},{"$f":"+IF((Basisoplysninger!$D$60=\"Ja\")*(Anlægskartotek!C3401<>0)=1,Anlægskartotek!$L$14,Anlægskartotek!I3401)","v":0}]
[null,3391,{"$f":"Anlægskartotek!C3402","v":0},{"$f":"+IF((Basisoplysninger!$D$60=\"Ja\")*(Anlægskartotek!C3402<>0)=1,Anlægskartotek!$L$14,Anlægskartotek!I3402)","v":0}]
[null,3392,{"$f":"Anlægskartotek!C3403","v":0},{"$f":"+IF((Basisoplysninger!$D$60=\"Ja\")*(Anlægskartotek!C3403<>0)=1,Anlægskartotek!$L$14,Anlægskartotek!I3403)","v":0}]
[null,3393,{"$f":"Anlægskartotek!C3404","v":0},{"$f":"+IF((Basisoplysninger!$D$60=\"Ja\")*(Anlægskartotek!C3404<>0)=1,Anlægskartotek!$L$14,Anlægskartotek!I3404)","v":0}]
[null,3394,{"$f":"Anlægskartotek!C3405","v":0},{"$f":"+IF((Basisoplysninger!$D$60=\"Ja\")*(Anlægskartotek!C3405<>0)=1,Anlægskartotek!$L$14,Anlægskartotek!I3405)","v":0}]
[null,{"$f":"B3503+1","v":3395},{"$f":"Anlægskartotek!C3406","v":0},{"$f":"+IF((Basisoplysninger!$D$60=\"Ja\")*(Anlægskartotek!C3406<>0)=1,Anlægskartotek!$L$14,Anlægskartotek!I3406)","v":0}]
[null,3396,{"$f":"Anlægskartotek!C3407","v":0},{"$f":"+IF((Basisoplysninger!$D$60=\"Ja\")*(Anlægskartotek!C3407<>0)=1,Anlægskartotek!$L$14,Anlægskartotek!I3407)","v":0}]
[null,3397,{"$f":"Anlægskartotek!C3408","v":0},{"$f":"+IF((Basisoplysninger!$D$60=\"Ja\")*(Anlægskartotek!C3408<>0)=1,Anlægskartotek!$L$14,Anlægskartotek!I3408)","v":0}]
[null,3398,{"$f":"Anlægskartotek!C3409","v":0},{"$f":"+IF((Basisoplysninger!$D$60=\"Ja\")*(Anlægskartotek!C3409<>0)=1,Anlægskartotek!$L$14,Anlægskartotek!I3409)","v":0}]
[null,3399,{"$f":"Anlægskartotek!C3410","v":0},{"$f":"+IF((Basisoplysninger!$D$60=\"Ja\")*(Anlægskartotek!C3410<>0)=1,Anlægskartotek!$L$14,Anlægskartotek!I3410)","v":0}]
[null,3400,{"$f":"Anlægskartotek!C3411","v":0},{"$f":"+IF((Basisoplysninger!$D$60=\"Ja\")*(Anlægskartotek!C3411<>0)=1,Anlægskartotek!$L$14,Anlægskartotek!I3411)","v":0}]
[null,3401,{"$f":"Anlægskartotek!C3412","v":0},{"$f":"+IF((Basisoplysninger!$D$60=\"Ja\")*(Anlægskartotek!C3412<>0)=1,Anlægskartotek!$L$14,Anlægskartotek!I3412)","v":0}]
[null,3402,{"$f":"Anlægskartotek!C3413","v":0},{"$f":"+IF((Basisoplysninger!$D$60=\"Ja\")*(Anlægskartotek!C3413<>0)=1,Anlægskartotek!$L$14,Anlægskartotek!I3413)","v":0}]
[null,3403,{"$f":"Anlægskartotek!C3414","v":0},{"$f":"+IF((Basisoplysninger!$D$60=\"Ja\")*(Anlægskartotek!C3414<>0)=1,Anlægskartotek!$L$14,Anlægskartotek!I3414)","v":0}]
[null,3404,{"$f":"Anlægskartotek!C3415","v":0},{"$f":"+IF((Basisoplysninger!$D$60=\"Ja\")*(Anlægskartotek!C3415<>0)=1,Anlægskartotek!$L$14,Anlægskartotek!I3415)","v":0}]
[null,3405,{"$f":"Anlægskartotek!C3416","v":0},{"$f":"+IF((Basisoplysninger!$D$60=\"Ja\")*(Anlægskartotek!C3416<>0)=1,Anlægskartotek!$L$14,Anlægskartotek!I3416)","v":0}]
[null,3406,{"$f":"Anlægskartotek!C3417","v":0},{"$f":"+IF((Basisoplysninger!$D$60=\"Ja\")*(Anlægskartotek!C3417<>0)=1,Anlægskartotek!$L$14,Anlægskartotek!I3417)","v":0}]
[null,3407,{"$f":"Anlægskartotek!C3418","v":0},{"$f":"+IF((Basisoplysninger!$D$60=\"Ja\")*(Anlægskartotek!C3418<>0)=1,Anlægskartotek!$L$14,Anlægskartotek!I3418)","v":0}]
[null,3408,{"$f":"Anlægskartotek!C3419","v":0},{"$f":"+IF((Basisoplysninger!$D$60=\"Ja\")*(Anlægskartotek!C3419<>0)=1,Anlægskartotek!$L$14,Anlægskartotek!I3419)","v":0}]
[null,3409,{"$f":"Anlægskartotek!C3420","v":0},{"$f":"+IF((Basisoplysninger!$D$60=\"Ja\")*(Anlægskartotek!C3420<>0)=1,Anlægskartotek!$L$14,Anlægskartotek!I3420)","v":0}]
[null,3410,{"$f":"Anlægskartotek!C3421","v":0},{"$f":"+IF((Basisoplysninger!$D$60=\"Ja\")*(Anlægskartotek!C3421<>0)=1,Anlægskartotek!$L$14,Anlægskartotek!I3421)","v":0}]
[null,3411,{"$f":"Anlægskartotek!C3422","v":0},{"$f":"+IF((Basisoplysninger!$D$60=\"Ja\")*(Anlægskartotek!C3422<>0)=1,Anlægskartotek!$L$14,Anlægskartotek!I3422)","v":0}]
[null,3412,{"$f":"Anlægskartotek!C3423","v":0},{"$f":"+IF((Basisoplysninger!$D$60=\"Ja\")*(Anlægskartotek!C3423<>0)=1,Anlægskartotek!$L$14,Anlægskartotek!I3423)","v":0}]
[null,3413,{"$f":"Anlægskartotek!C3424","v":0},{"$f":"+IF((Basisoplysninger!$D$60=\"Ja\")*(Anlægskartotek!C3424<>0)=1,Anlægskartotek!$L$14,Anlægskartotek!I3424)","v":0}]
[null,3414,{"$f":"Anlægskartotek!C3425","v":0},{"$f":"+IF((Basisoplysninger!$D$60=\"Ja\")*(Anlægskartotek!C3425<>0)=1,Anlægskartotek!$L$14,Anlægskartotek!I3425)","v":0}]
[null,3415,{"$f":"Anlægskartotek!C3426","v":0},{"$f":"+IF((Basisoplysninger!$D$60=\"Ja\")*(Anlægskartotek!C3426<>0)=1,Anlægskartotek!$L$14,Anlægskartotek!I3426)","v":0}]
[null,3416,{"$f":"Anlægskartotek!C3427","v":0},{"$f":"+IF((Basisoplysninger!$D$60=\"Ja\")*(Anlægskartotek!C3427<>0)=1,Anlægskartotek!$L$14,Anlægskartotek!I3427)","v":0}]
[null,3417,{"$f":"Anlægskartotek!C3428","v":0},{"$f":"+IF((Basisoplysninger!$D$60=\"Ja\")*(Anlægskartotek!C3428<>0)=1,Anlægskartotek!$L$14,Anlægskartotek!I3428)","v":0}]
[null,3418,{"$f":"Anlægskartotek!C3429","v":0},{"$f":"+IF((Basisoplysninger!$D$60=\"Ja\")*(Anlægskartotek!C3429<>0)=1,Anlægskartotek!$L$14,Anlægskartotek!I3429)","v":0}]
[null,3419,{"$f":"Anlægskartotek!C3430","v":0},{"$f":"+IF((Basisoplysninger!$D$60=\"Ja\")*(Anlægskartotek!C3430<>0)=1,Anlægskartotek!$L$14,Anlægskartotek!I3430)","v":0}]
[null,3420,{"$f":"Anlægskartotek!C3431","v":0},{"$f":"+IF((Basisoplysninger!$D$60=\"Ja\")*(Anlægskartotek!C3431<>0)=1,Anlægskartotek!$L$14,Anlægskartotek!I3431)","v":0}]
[null,3421,{"$f":"Anlægskartotek!C3432","v":0},{"$f":"+IF((Basisoplysninger!$D$60=\"Ja\")*(Anlægskartotek!C3432<>0)=1,Anlægskartotek!$L$14,Anlægskartotek!I3432)","v":0}]
[null,3422,{"$f":"Anlægskartotek!C3433","v":0},{"$f":"+IF((Basisoplysninger!$D$60=\"Ja\")*(Anlægskartotek!C3433<>0)=1,Anlægskartotek!$L$14,Anlægskartotek!I3433)","v":0}]
[null,3423,{"$f":"Anlægskartotek!C3434","v":0},{"$f":"+IF((Basisoplysninger!$D$60=\"Ja\")*(Anlægskartotek!C3434<>0)=1,Anlægskartotek!$L$14,Anlægskartotek!I3434)","v":0}]
[null,3424,{"$f":"Anlægskartotek!C3435","v":0},{"$f":"+IF((Basisoplysninger!$D$60=\"Ja\")*(Anlægskartotek!C3435<>0)=1,Anlægskartotek!$L$14,Anlægskartotek!I3435)","v":0}]
[null,3425,{"$f":"Anlægskartotek!C3436","v":0},{"$f":"+IF((Basisoplysninger!$D$60=\"Ja\")*(Anlægskartotek!C3436<>0)=1,Anlægskartotek!$L$14,Anlægskartotek!I3436)","v":0}]
[null,3426,{"$f":"Anlægskartotek!C3437","v":0},{"$f":"+IF((Basisoplysninger!$D$60=\"Ja\")*(Anlægskartotek!C3437<>0)=1,Anlægskartotek!$L$14,Anlægskartotek!I3437)","v":0}]
[null,3427,{"$f":"Anlægskartotek!C3438","v":0},{"$f":"+IF((Basisoplysninger!$D$60=\"Ja\")*(Anlægskartotek!C3438<>0)=1,Anlægskartotek!$L$14,Anlægskartotek!I3438)","v":0}]
[null,3428,{"$f":"Anlægskartotek!C3439","v":0},{"$f":"+IF((Basisoplysninger!$D$60=\"Ja\")*(Anlægskartotek!C3439<>0)=1,Anlægskartotek!$L$14,Anlægskartotek!I3439)","v":0}]
[null,3429,{"$f":"Anlægskartotek!C3440","v":0},{"$f":"+IF((Basisoplysninger!$D$60=\"Ja\")*(Anlægskartotek!C3440<>0)=1,Anlægskartotek!$L$14,Anlægskartotek!I3440)","v":0}]
[null,3430,{"$f":"Anlægskartotek!C3441","v":0},{"$f":"+IF((Basisoplysninger!$D$60=\"Ja\")*(Anlægskartotek!C3441<>0)=1,Anlægskartotek!$L$14,Anlægskartotek!I3441)","v":0}]
[null,3431,{"$f":"Anlægskartotek!C3442","v":0},{"$f":"+IF((Basisoplysninger!$D$60=\"Ja\")*(Anlægskartotek!C3442<>0)=1,Anlægskartotek!$L$14,Anlægskartotek!I3442)","v":0}]
[null,3432,{"$f":"Anlægskartotek!C3443","v":0},{"$f":"+IF((Basisoplysninger!$D$60=\"Ja\")*(Anlægskartotek!C3443<>0)=1,Anlægskartotek!$L$14,Anlægskartotek!I3443)","v":0}]
[null,3433,{"$f":"Anlægskartotek!C3444","v":0},{"$f":"+IF((Basisoplysninger!$D$60=\"Ja\")*(Anlægskartotek!C3444<>0)=1,Anlægskartotek!$L$14,Anlægskartotek!I3444)","v":0}]
[null,3434,{"$f":"Anlægskartotek!C3445","v":0},{"$f":"+IF((Basisoplysninger!$D$60=\"Ja\")*(Anlægskartotek!C3445<>0)=1,Anlægskartotek!$L$14,Anlægskartotek!I3445)","v":0}]
[null,3435,{"$f":"Anlægskartotek!C3446","v":0},{"$f":"+IF((Basisoplysninger!$D$60=\"Ja\")*(Anlægskartotek!C3446<>0)=1,Anlægskartotek!$L$14,Anlægskartotek!I3446)","v":0}]
[null,3436,{"$f":"Anlægskartotek!C3447","v":0},{"$f":"+IF((Basisoplysninger!$D$60=\"Ja\")*(Anlægskartotek!C3447<>0)=1,Anlægskartotek!$L$14,Anlægskartotek!I3447)","v":0}]
[null,3437,{"$f":"Anlægskartotek!C3448","v":0},{"$f":"+IF((Basisoplysninger!$D$60=\"Ja\")*(Anlægskartotek!C3448<>0)=1,Anlægskartotek!$L$14,Anlægskartotek!I3448)","v":0}]
[null,3438,{"$f":"Anlægskartotek!C3449","v":0},{"$f":"+IF((Basisoplysninger!$D$60=\"Ja\")*(Anlægskartotek!C3449<>0)=1,Anlægskartotek!$L$14,Anlægskartotek!I3449)","v":0}]
[null,3439,{"$f":"Anlægskartotek!C3450","v":0},{"$f":"+IF((Basisoplysninger!$D$60=\"Ja\")*(Anlægskartotek!C3450<>0)=1,Anlægskartotek!$L$14,Anlægskartotek!I3450)","v":0}]
[null,3440,{"$f":"Anlægskartotek!C3451","v":0},{"$f":"+IF((Basisoplysninger!$D$60=\"Ja\")*(Anlægskartotek!C3451<>0)=1,Anlægskartotek!$L$14,Anlægskartotek!I3451)","v":0}]
[null,3441,{"$f":"Anlægskartotek!C3452","v":0},{"$f":"+IF((Basisoplysninger!$D$60=\"Ja\")*(Anlægskartotek!C3452<>0)=1,Anlægskartotek!$L$14,Anlægskartotek!I3452)","v":0}]
[null,3442,{"$f":"Anlægskartotek!C3453","v":0},{"$f":"+IF((Basisoplysninger!$D$60=\"Ja\")*(Anlægskartotek!C3453<>0)=1,Anlægskartotek!$L$14,Anlægskartotek!I3453)","v":0}]
[null,3443,{"$f":"Anlægskartotek!C3454","v":0},{"$f":"+IF((Basisoplysninger!$D$60=\"Ja\")*(Anlægskartotek!C3454<>0)=1,Anlægskartotek!$L$14,Anlægskartotek!I3454)","v":0}]
[null,3444,{"$f":"Anlægskartotek!C3455","v":0},{"$f":"+IF((Basisoplysninger!$D$60=\"Ja\")*(Anlægskartotek!C3455<>0)=1,Anlægskartotek!$L$14,Anlægskartotek!I3455)","v":0}]
[null,3445,{"$f":"Anlægskartotek!C3456","v":0},{"$f":"+IF((Basisoplysninger!$D$60=\"Ja\")*(Anlægskartotek!C3456<>0)=1,Anlægskartotek!$L$14,Anlægskartotek!I3456)","v":0}]
[null,3446,{"$f":"Anlægskartotek!C3457","v":0},{"$f":"+IF((Basisoplysninger!$D$60=\"Ja\")*(Anlægskartotek!C3457<>0)=1,Anlægskartotek!$L$14,Anlægskartotek!I3457)","v":0}]
[null,3447,{"$f":"Anlægskartotek!C3458","v":0},{"$f":"+IF((Basisoplysninger!$D$60=\"Ja\")*(Anlægskartotek!C3458<>0)=1,Anlægskartotek!$L$14,Anlægskartotek!I3458)","v":0}]
[null,3448,{"$f":"Anlægskartotek!C3459","v":0},{"$f":"+IF((Basisoplysninger!$D$60=\"Ja\")*(Anlægskartotek!C3459<>0)=1,Anlægskartotek!$L$14,Anlægskartotek!I3459)","v":0}]
[null,3449,{"$f":"Anlægskartotek!C3460","v":0},{"$f":"+IF((Basisoplysninger!$D$60=\"Ja\")*(Anlægskartotek!C3460<>0)=1,Anlægskartotek!$L$14,Anlægskartotek!I3460)","v":0}]
[null,3450,{"$f":"Anlægskartotek!C3461","v":0},{"$f":"+IF((Basisoplysninger!$D$60=\"Ja\")*(Anlægskartotek!C3461<>0)=1,Anlægskartotek!$L$14,Anlægskartotek!I3461)","v":0}]
[null,3451,{"$f":"Anlægskartotek!C3462","v":0},{"$f":"+IF((Basisoplysninger!$D$60=\"Ja\")*(Anlægskartotek!C3462<>0)=1,Anlægskartotek!$L$14,Anlægskartotek!I3462)","v":0}]
[null,3452,{"$f":"Anlægskartotek!C3463","v":0},{"$f":"+IF((Basisoplysninger!$D$60=\"Ja\")*(Anlægskartotek!C3463<>0)=1,Anlægskartotek!$L$14,Anlægskartotek!I3463)","v":0}]
[null,3453,{"$f":"Anlægskartotek!C3464","v":0},{"$f":"+IF((Basisoplysninger!$D$60=\"Ja\")*(Anlægskartotek!C3464<>0)=1,Anlægskartotek!$L$14,Anlægskartotek!I3464)","v":0}]
[null,3454,{"$f":"Anlægskartotek!C3465","v":0},{"$f":"+IF((Basisoplysninger!$D$60=\"Ja\")*(Anlægskartotek!C3465<>0)=1,Anlægskartotek!$L$14,Anlægskartotek!I3465)","v":0}]
[null,3455,{"$f":"Anlægskartotek!C3466","v":0},{"$f":"+IF((Basisoplysninger!$D$60=\"Ja\")*(Anlægskartotek!C3466<>0)=1,Anlægskartotek!$L$14,Anlægskartotek!I3466)","v":0}]
[null,3456,{"$f":"Anlægskartotek!C3467","v":0},{"$f":"+IF((Basisoplysninger!$D$60=\"Ja\")*(Anlægskartotek!C3467<>0)=1,Anlægskartotek!$L$14,Anlægskartotek!I3467)","v":0}]
[null,3457,{"$f":"Anlægskartotek!C3468","v":0},{"$f":"+IF((Basisoplysninger!$D$60=\"Ja\")*(Anlægskartotek!C3468<>0)=1,Anlægskartotek!$L$14,Anlægskartotek!I3468)","v":0}]
[null,3458,{"$f":"Anlægskartotek!C3469","v":0},{"$f":"+IF((Basisoplysninger!$D$60=\"Ja\")*(Anlægskartotek!C3469<>0)=1,Anlægskartotek!$L$14,Anlægskartotek!I3469)","v":0}]
[null,{"$f":"B3567+1","v":3459},{"$f":"Anlægskartotek!C3470","v":0},{"$f":"+IF((Basisoplysninger!$D$60=\"Ja\")*(Anlægskartotek!C3470<>0)=1,Anlægskartotek!$L$14,Anlægskartotek!I3470)","v":0}]
[null,3460,{"$f":"Anlægskartotek!C3471","v":0},{"$f":"+IF((Basisoplysninger!$D$60=\"Ja\")*(Anlægskartotek!C3471<>0)=1,Anlægskartotek!$L$14,Anlægskartotek!I3471)","v":0}]
[null,3461,{"$f":"Anlægskartotek!C3472","v":0},{"$f":"+IF((Basisoplysninger!$D$60=\"Ja\")*(Anlægskartotek!C3472<>0)=1,Anlægskartotek!$L$14,Anlægskartotek!I3472)","v":0}]
[null,3462,{"$f":"Anlægskartotek!C3473","v":0},{"$f":"+IF((Basisoplysninger!$D$60=\"Ja\")*(Anlægskartotek!C3473<>0)=1,Anlægskartotek!$L$14,Anlægskartotek!I3473)","v":0}]
[null,3463,{"$f":"Anlægskartotek!C3474","v":0},{"$f":"+IF((Basisoplysninger!$D$60=\"Ja\")*(Anlægskartotek!C3474<>0)=1,Anlægskartotek!$L$14,Anlægskartotek!I3474)","v":0}]
[null,3464,{"$f":"Anlægskartotek!C3475","v":0},{"$f":"+IF((Basisoplysninger!$D$60=\"Ja\")*(Anlægskartotek!C3475<>0)=1,Anlægskartotek!$L$14,Anlægskartotek!I3475)","v":0}]
[null,3465,{"$f":"Anlægskartotek!C3476","v":0},{"$f":"+IF((Basisoplysninger!$D$60=\"Ja\")*(Anlægskartotek!C3476<>0)=1,Anlægskartotek!$L$14,Anlægskartotek!I3476)","v":0}]
[null,3466,{"$f":"Anlægskartotek!C3477","v":0},{"$f":"+IF((Basisoplysninger!$D$60=\"Ja\")*(Anlægskartotek!C3477<>0)=1,Anlægskartotek!$L$14,Anlægskartotek!I3477)","v":0}]
[null,3467,{"$f":"Anlægskartotek!C3478","v":0},{"$f":"+IF((Basisoplysninger!$D$60=\"Ja\")*(Anlægskartotek!C3478<>0)=1,Anlægskartotek!$L$14,Anlægskartotek!I3478)","v":0}]
[null,3468,{"$f":"Anlægskartotek!C3479","v":0},{"$f":"+IF((Basisoplysninger!$D$60=\"Ja\")*(Anlægskartotek!C3479<>0)=1,Anlægskartotek!$L$14,Anlægskartotek!I3479)","v":0}]
[null,3469,{"$f":"Anlægskartotek!C3480","v":0},{"$f":"+IF((Basisoplysninger!$D$60=\"Ja\")*(Anlægskartotek!C3480<>0)=1,Anlægskartotek!$L$14,Anlægskartotek!I3480)","v":0}]
[null,3470,{"$f":"Anlægskartotek!C3481","v":0},{"$f":"+IF((Basisoplysninger!$D$60=\"Ja\")*(Anlægskartotek!C3481<>0)=1,Anlægskartotek!$L$14,Anlægskartotek!I3481)","v":0}]
[null,3471,{"$f":"Anlægskartotek!C3482","v":0},{"$f":"+IF((Basisoplysninger!$D$60=\"Ja\")*(Anlægskartotek!C3482<>0)=1,Anlægskartotek!$L$14,Anlægskartotek!I3482)","v":0}]
[null,3472,{"$f":"Anlægskartotek!C3483","v":0},{"$f":"+IF((Basisoplysninger!$D$60=\"Ja\")*(Anlægskartotek!C3483<>0)=1,Anlægskartotek!$L$14,Anlægskartotek!I3483)","v":0}]
[null,3473,{"$f":"Anlægskartotek!C3484","v":0},{"$f":"+IF((Basisoplysninger!$D$60=\"Ja\")*(Anlægskartotek!C3484<>0)=1,Anlægskartotek!$L$14,Anlægskartotek!I3484)","v":0}]
[null,3474,{"$f":"Anlægskartotek!C3485","v":0},{"$f":"+IF((Basisoplysninger!$D$60=\"Ja\")*(Anlægskartotek!C3485<>0)=1,Anlægskartotek!$L$14,Anlægskartotek!I3485)","v":0}]
[null,3475,{"$f":"Anlægskartotek!C3486","v":0},{"$f":"+IF((Basisoplysninger!$D$60=\"Ja\")*(Anlægskartotek!C3486<>0)=1,Anlægskartotek!$L$14,Anlægskartotek!I3486)","v":0}]
[null,3476,{"$f":"Anlægskartotek!C3487","v":0},{"$f":"+IF((Basisoplysninger!$D$60=\"Ja\")*(Anlægskartotek!C3487<>0)=1,Anlægskartotek!$L$14,Anlægskartotek!I3487)","v":0}]
[null,3477,{"$f":"Anlægskartotek!C3488","v":0},{"$f":"+IF((Basisoplysninger!$D$60=\"Ja\")*(Anlægskartotek!C3488<>0)=1,Anlægskartotek!$L$14,Anlægskartotek!I3488)","v":0}]
[null,3478,{"$f":"Anlægskartotek!C3489","v":0},{"$f":"+IF((Basisoplysninger!$D$60=\"Ja\")*(Anlægskartotek!C3489<>0)=1,Anlægskartotek!$L$14,Anlægskartotek!I3489)","v":0}]
[null,3479,{"$f":"Anlægskartotek!C3490","v":0},{"$f":"+IF((Basisoplysninger!$D$60=\"Ja\")*(Anlægskartotek!C3490<>0)=1,Anlægskartotek!$L$14,Anlægskartotek!I3490)","v":0}]
[null,3480,{"$f":"Anlægskartotek!C3491","v":0},{"$f":"+IF((Basisoplysninger!$D$60=\"Ja\")*(Anlægskartotek!C3491<>0)=1,Anlægskartotek!$L$14,Anlægskartotek!I3491)","v":0}]
[null,3481,{"$f":"Anlægskartotek!C3492","v":0},{"$f":"+IF((Basisoplysninger!$D$60=\"Ja\")*(Anlægskartotek!C3492<>0)=1,Anlægskartotek!$L$14,Anlægskartotek!I3492)","v":0}]
[null,3482,{"$f":"Anlægskartotek!C3493","v":0},{"$f":"+IF((Basisoplysninger!$D$60=\"Ja\")*(Anlægskartotek!C3493<>0)=1,Anlægskartotek!$L$14,Anlægskartotek!I3493)","v":0}]
[null,3483,{"$f":"Anlægskartotek!C3494","v":0},{"$f":"+IF((Basisoplysninger!$D$60=\"Ja\")*(Anlægskartotek!C3494<>0)=1,Anlægskartotek!$L$14,Anlægskartotek!I3494)","v":0}]
[null,3484,{"$f":"Anlægskartotek!C3495","v":0},{"$f":"+IF((Basisoplysninger!$D$60=\"Ja\")*(Anlægskartotek!C3495<>0)=1,Anlægskartotek!$L$14,Anlægskartotek!I3495)","v":0}]
[null,3485,{"$f":"Anlægskartotek!C3496","v":0},{"$f":"+IF((Basisoplysninger!$D$60=\"Ja\")*(Anlægskartotek!C3496<>0)=1,Anlægskartotek!$L$14,Anlægskartotek!I3496)","v":0}]
[null,3486,{"$f":"Anlægskartotek!C3497","v":0},{"$f":"+IF((Basisoplysninger!$D$60=\"Ja\")*(Anlægskartotek!C3497<>0)=1,Anlægskartotek!$L$14,Anlægskartotek!I3497)","v":0}]
[null,3487,{"$f":"Anlægskartotek!C3498","v":0},{"$f":"+IF((Basisoplysninger!$D$60=\"Ja\")*(Anlægskartotek!C3498<>0)=1,Anlægskartotek!$L$14,Anlægskartotek!I3498)","v":0}]
[null,3488,{"$f":"Anlægskartotek!C3499","v":0},{"$f":"+IF((Basisoplysninger!$D$60=\"Ja\")*(Anlægskartotek!C3499<>0)=1,Anlægskartotek!$L$14,Anlægskartotek!I3499)","v":0}]
[null,3489,{"$f":"Anlægskartotek!C3500","v":0},{"$f":"+IF((Basisoplysninger!$D$60=\"Ja\")*(Anlægskartotek!C3500<>0)=1,Anlægskartotek!$L$14,Anlægskartotek!I3500)","v":0}]
[null,3490,{"$f":"Anlægskartotek!C3501","v":0},{"$f":"+IF((Basisoplysninger!$D$60=\"Ja\")*(Anlægskartotek!C3501<>0)=1,Anlægskartotek!$L$14,Anlægskartotek!I3501)","v":0}]
[null,3491,{"$f":"Anlægskartotek!C3502","v":0},{"$f":"+IF((Basisoplysninger!$D$60=\"Ja\")*(Anlægskartotek!C3502<>0)=1,Anlægskartotek!$L$14,Anlægskartotek!I3502)","v":0}]
[null,3492,{"$f":"Anlægskartotek!C3503","v":0},{"$f":"+IF((Basisoplysninger!$D$60=\"Ja\")*(Anlægskartotek!C3503<>0)=1,Anlægskartotek!$L$14,Anlægskartotek!I3503)","v":0}]
[null,3493,{"$f":"Anlægskartotek!C3504","v":0},{"$f":"+IF((Basisoplysninger!$D$60=\"Ja\")*(Anlægskartotek!C3504<>0)=1,Anlægskartotek!$L$14,Anlægskartotek!I3504)","v":0}]
[null,3494,{"$f":"Anlægskartotek!C3505","v":0},{"$f":"+IF((Basisoplysninger!$D$60=\"Ja\")*(Anlægskartotek!C3505<>0)=1,Anlægskartotek!$L$14,Anlægskartotek!I3505)","v":0}]
[null,3495,{"$f":"Anlægskartotek!C3506","v":0},{"$f":"+IF((Basisoplysninger!$D$60=\"Ja\")*(Anlægskartotek!C3506<>0)=1,Anlægskartotek!$L$14,Anlægskartotek!I3506)","v":0}]
[null,3496,{"$f":"Anlægskartotek!C3507","v":0},{"$f":"+IF((Basisoplysninger!$D$60=\"Ja\")*(Anlægskartotek!C3507<>0)=1,Anlægskartotek!$L$14,Anlægskartotek!I3507)","v":0}]
[null,3497,{"$f":"Anlægskartotek!C3508","v":0},{"$f":"+IF((Basisoplysninger!$D$60=\"Ja\")*(Anlægskartotek!C3508<>0)=1,Anlægskartotek!$L$14,Anlægskartotek!I3508)","v":0}]
[null,3498,{"$f":"Anlægskartotek!C3509","v":0},{"$f":"+IF((Basisoplysninger!$D$60=\"Ja\")*(Anlægskartotek!C3509<>0)=1,Anlægskartotek!$L$14,Anlægskartotek!I3509)","v":0}]
[null,3499,{"$f":"Anlægskartotek!C3510","v":0},{"$f":"+IF((Basisoplysninger!$D$60=\"Ja\")*(Anlægskartotek!C3510<>0)=1,Anlægskartotek!$L$14,Anlægskartotek!I3510)","v":0}]
[null,3500,{"$f":"Anlægskartotek!C3511","v":0},{"$f":"+IF((Basisoplysninger!$D$60=\"Ja\")*(Anlægskartotek!C3511<>0)=1,Anlægskartotek!$L$14,Anlægskartotek!I3511)","v":0}]
[null,3501,{"$f":"Anlægskartotek!C3512","v":0},{"$f":"+IF((Basisoplysninger!$D$60=\"Ja\")*(Anlægskartotek!C3512<>0)=1,Anlægskartotek!$L$14,Anlægskartotek!I3512)","v":0}]
[null,3502,{"$f":"Anlægskartotek!C3513","v":0},{"$f":"+IF((Basisoplysninger!$D$60=\"Ja\")*(Anlægskartotek!C3513<>0)=1,Anlægskartotek!$L$14,Anlægskartotek!I3513)","v":0}]
[null,3503,{"$f":"Anlægskartotek!C3514","v":0},{"$f":"+IF((Basisoplysninger!$D$60=\"Ja\")*(Anlægskartotek!C3514<>0)=1,Anlægskartotek!$L$14,Anlægskartotek!I3514)","v":0}]
[null,3504,{"$f":"Anlægskartotek!C3515","v":0},{"$f":"+IF((Basisoplysninger!$D$60=\"Ja\")*(Anlægskartotek!C3515<>0)=1,Anlægskartotek!$L$14,Anlægskartotek!I3515)","v":0}]
[null,3505,{"$f":"Anlægskartotek!C3516","v":0},{"$f":"+IF((Basisoplysninger!$D$60=\"Ja\")*(Anlægskartotek!C3516<>0)=1,Anlægskartotek!$L$14,Anlægskartotek!I3516)","v":0}]
[null,3506,{"$f":"Anlægskartotek!C3517","v":0},{"$f":"+IF((Basisoplysninger!$D$60=\"Ja\")*(Anlægskartotek!C3517<>0)=1,Anlægskartotek!$L$14,Anlægskartotek!I3517)","v":0}]
[null,3507,{"$f":"Anlægskartotek!C3518","v":0},{"$f":"+IF((Basisoplysninger!$D$60=\"Ja\")*(Anlægskartotek!C3518<>0)=1,Anlægskartotek!$L$14,Anlægskartotek!I3518)","v":0}]
[null,3508,{"$f":"Anlægskartotek!C3519","v":0},{"$f":"+IF((Basisoplysninger!$D$60=\"Ja\")*(Anlægskartotek!C3519<>0)=1,Anlægskartotek!$L$14,Anlægskartotek!I3519)","v":0}]
[null,3509,{"$f":"Anlægskartotek!C3520","v":0},{"$f":"+IF((Basisoplysninger!$D$60=\"Ja\")*(Anlægskartotek!C3520<>0)=1,Anlægskartotek!$L$14,Anlægskartotek!I3520)","v":0}]
[null,3510,{"$f":"Anlægskartotek!C3521","v":0},{"$f":"+IF((Basisoplysninger!$D$60=\"Ja\")*(Anlægskartotek!C3521<>0)=1,Anlægskartotek!$L$14,Anlægskartotek!I3521)","v":0}]
[null,3511,{"$f":"Anlægskartotek!C3522","v":0},{"$f":"+IF((Basisoplysninger!$D$60=\"Ja\")*(Anlægskartotek!C3522<>0)=1,Anlægskartotek!$L$14,Anlægskartotek!I3522)","v":0}]
[null,3512,{"$f":"Anlægskartotek!C3523","v":0},{"$f":"+IF((Basisoplysninger!$D$60=\"Ja\")*(Anlægskartotek!C3523<>0)=1,Anlægskartotek!$L$14,Anlægskartotek!I3523)","v":0}]
[null,3513,{"$f":"Anlægskartotek!C3524","v":0},{"$f":"+IF((Basisoplysninger!$D$60=\"Ja\")*(Anlægskartotek!C3524<>0)=1,Anlægskartotek!$L$14,Anlægskartotek!I3524)","v":0}]
[null,3514,{"$f":"Anlægskartotek!C3525","v":0},{"$f":"+IF((Basisoplysninger!$D$60=\"Ja\")*(Anlægskartotek!C3525<>0)=1,Anlægskartotek!$L$14,Anlægskartotek!I3525)","v":0}]
[null,3515,{"$f":"Anlægskartotek!C3526","v":0},{"$f":"+IF((Basisoplysninger!$D$60=\"Ja\")*(Anlægskartotek!C3526<>0)=1,Anlægskartotek!$L$14,Anlægskartotek!I3526)","v":0}]
[null,3516,{"$f":"Anlægskartotek!C3527","v":0},{"$f":"+IF((Basisoplysninger!$D$60=\"Ja\")*(Anlægskartotek!C3527<>0)=1,Anlægskartotek!$L$14,Anlægskartotek!I3527)","v":0}]
[null,3517,{"$f":"Anlægskartotek!C3528","v":0},{"$f":"+IF((Basisoplysninger!$D$60=\"Ja\")*(Anlægskartotek!C3528<>0)=1,Anlægskartotek!$L$14,Anlægskartotek!I3528)","v":0}]
[null,3518,{"$f":"Anlægskartotek!C3529","v":0},{"$f":"+IF((Basisoplysninger!$D$60=\"Ja\")*(Anlægskartotek!C3529<>0)=1,Anlægskartotek!$L$14,Anlægskartotek!I3529)","v":0}]
[null,3519,{"$f":"Anlægskartotek!C3530","v":0},{"$f":"+IF((Basisoplysninger!$D$60=\"Ja\")*(Anlægskartotek!C3530<>0)=1,Anlægskartotek!$L$14,Anlægskartotek!I3530)","v":0}]
[null,3520,{"$f":"Anlægskartotek!C3531","v":0},{"$f":"+IF((Basisoplysninger!$D$60=\"Ja\")*(Anlægskartotek!C3531<>0)=1,Anlægskartotek!$L$14,Anlægskartotek!I3531)","v":0}]
[null,3521,{"$f":"Anlægskartotek!C3532","v":0},{"$f":"+IF((Basisoplysninger!$D$60=\"Ja\")*(Anlægskartotek!C3532<>0)=1,Anlægskartotek!$L$14,Anlægskartotek!I3532)","v":0}]
[null,3522,{"$f":"Anlægskartotek!C3533","v":0},{"$f":"+IF((Basisoplysninger!$D$60=\"Ja\")*(Anlægskartotek!C3533<>0)=1,Anlægskartotek!$L$14,Anlægskartotek!I3533)","v":0}]
[null,{"$f":"B3631+1","v":3523},{"$f":"Anlægskartotek!C3534","v":0},{"$f":"+IF((Basisoplysninger!$D$60=\"Ja\")*(Anlægskartotek!C3534<>0)=1,Anlægskartotek!$L$14,Anlægskartotek!I3534)","v":0}]
[null,3524,{"$f":"Anlægskartotek!C3535","v":0},{"$f":"+IF((Basisoplysninger!$D$60=\"Ja\")*(Anlægskartotek!C3535<>0)=1,Anlægskartotek!$L$14,Anlægskartotek!I3535)","v":0}]
[null,3525,{"$f":"Anlægskartotek!C3536","v":0},{"$f":"+IF((Basisoplysninger!$D$60=\"Ja\")*(Anlægskartotek!C3536<>0)=1,Anlægskartotek!$L$14,Anlægskartotek!I3536)","v":0}]
[null,3526,{"$f":"Anlægskartotek!C3537","v":0},{"$f":"+IF((Basisoplysninger!$D$60=\"Ja\")*(Anlægskartotek!C3537<>0)=1,Anlægskartotek!$L$14,Anlægskartotek!I3537)","v":0}]
[null,3527,{"$f":"Anlægskartotek!C3538","v":0},{"$f":"+IF((Basisoplysninger!$D$60=\"Ja\")*(Anlægskartotek!C3538<>0)=1,Anlægskartotek!$L$14,Anlægskartotek!I3538)","v":0}]
[null,3528,{"$f":"Anlægskartotek!C3539","v":0},{"$f":"+IF((Basisoplysninger!$D$60=\"Ja\")*(Anlægskartotek!C3539<>0)=1,Anlægskartotek!$L$14,Anlægskartotek!I3539)","v":0}]
[null,3529,{"$f":"Anlægskartotek!C3540","v":0},{"$f":"+IF((Basisoplysninger!$D$60=\"Ja\")*(Anlægskartotek!C3540<>0)=1,Anlægskartotek!$L$14,Anlægskartotek!I3540)","v":0}]
[null,3530,{"$f":"Anlægskartotek!C3541","v":0},{"$f":"+IF((Basisoplysninger!$D$60=\"Ja\")*(Anlægskartotek!C3541<>0)=1,Anlægskartotek!$L$14,Anlægskartotek!I3541)","v":0}]
[null,3531,{"$f":"Anlægskartotek!C3542","v":0},{"$f":"+IF((Basisoplysninger!$D$60=\"Ja\")*(Anlægskartotek!C3542<>0)=1,Anlægskartotek!$L$14,Anlægskartotek!I3542)","v":0}]
[null,3532,{"$f":"Anlægskartotek!C3543","v":0},{"$f":"+IF((Basisoplysninger!$D$60=\"Ja\")*(Anlægskartotek!C3543<>0)=1,Anlægskartotek!$L$14,Anlægskartotek!I3543)","v":0}]
[null,3533,{"$f":"Anlægskartotek!C3544","v":0},{"$f":"+IF((Basisoplysninger!$D$60=\"Ja\")*(Anlægskartotek!C3544<>0)=1,Anlægskartotek!$L$14,Anlægskartotek!I3544)","v":0}]
[null,3534,{"$f":"Anlægskartotek!C3545","v":0},{"$f":"+IF((Basisoplysninger!$D$60=\"Ja\")*(Anlægskartotek!C3545<>0)=1,Anlægskartotek!$L$14,Anlægskartotek!I3545)","v":0}]
[null,3535,{"$f":"Anlægskartotek!C3546","v":0},{"$f":"+IF((Basisoplysninger!$D$60=\"Ja\")*(Anlægskartotek!C3546<>0)=1,Anlægskartotek!$L$14,Anlægskartotek!I3546)","v":0}]
[null,3536,{"$f":"Anlægskartotek!C3547","v":0},{"$f":"+IF((Basisoplysninger!$D$60=\"Ja\")*(Anlægskartotek!C3547<>0)=1,Anlægskartotek!$L$14,Anlægskartotek!I3547)","v":0}]
[null,3537,{"$f":"Anlægskartotek!C3548","v":0},{"$f":"+IF((Basisoplysninger!$D$60=\"Ja\")*(Anlægskartotek!C3548<>0)=1,Anlægskartotek!$L$14,Anlægskartotek!I3548)","v":0}]
[null,3538,{"$f":"Anlægskartotek!C3549","v":0},{"$f":"+IF((Basisoplysninger!$D$60=\"Ja\")*(Anlægskartotek!C3549<>0)=1,Anlægskartotek!$L$14,Anlægskartotek!I3549)","v":0}]
[null,3539,{"$f":"Anlægskartotek!C3550","v":0},{"$f":"+IF((Basisoplysninger!$D$60=\"Ja\")*(Anlægskartotek!C3550<>0)=1,Anlægskartotek!$L$14,Anlægskartotek!I3550)","v":0}]
[null,3540,{"$f":"Anlægskartotek!C3551","v":0},{"$f":"+IF((Basisoplysninger!$D$60=\"Ja\")*(Anlægskartotek!C3551<>0)=1,Anlægskartotek!$L$14,Anlægskartotek!I3551)","v":0}]
[null,3541,{"$f":"Anlægskartotek!C3552","v":0},{"$f":"+IF((Basisoplysninger!$D$60=\"Ja\")*(Anlægskartotek!C3552<>0)=1,Anlægskartotek!$L$14,Anlægskartotek!I3552)","v":0}]
[null,3542,{"$f":"Anlægskartotek!C3553","v":0},{"$f":"+IF((Basisoplysninger!$D$60=\"Ja\")*(Anlægskartotek!C3553<>0)=1,Anlægskartotek!$L$14,Anlægskartotek!I3553)","v":0}]
[null,3543,{"$f":"Anlægskartotek!C3554","v":0},{"$f":"+IF((Basisoplysninger!$D$60=\"Ja\")*(Anlægskartotek!C3554<>0)=1,Anlægskartotek!$L$14,Anlægskartotek!I3554)","v":0}]
[null,3544,{"$f":"Anlægskartotek!C3555","v":0},{"$f":"+IF((Basisoplysninger!$D$60=\"Ja\")*(Anlægskartotek!C3555<>0)=1,Anlægskartotek!$L$14,Anlægskartotek!I3555)","v":0}]
[null,3545,{"$f":"Anlægskartotek!C3556","v":0},{"$f":"+IF((Basisoplysninger!$D$60=\"Ja\")*(Anlægskartotek!C3556<>0)=1,Anlægskartotek!$L$14,Anlægskartotek!I3556)","v":0}]
[null,3546,{"$f":"Anlægskartotek!C3557","v":0},{"$f":"+IF((Basisoplysninger!$D$60=\"Ja\")*(Anlægskartotek!C3557<>0)=1,Anlægskartotek!$L$14,Anlægskartotek!I3557)","v":0}]
[null,3547,{"$f":"Anlægskartotek!C3558","v":0},{"$f":"+IF((Basisoplysninger!$D$60=\"Ja\")*(Anlægskartotek!C3558<>0)=1,Anlægskartotek!$L$14,Anlægskartotek!I3558)","v":0}]
[null,3548,{"$f":"Anlægskartotek!C3559","v":0},{"$f":"+IF((Basisoplysninger!$D$60=\"Ja\")*(Anlægskartotek!C3559<>0)=1,Anlægskartotek!$L$14,Anlægskartotek!I3559)","v":0}]
[null,3549,{"$f":"Anlægskartotek!C3560","v":0},{"$f":"+IF((Basisoplysninger!$D$60=\"Ja\")*(Anlægskartotek!C3560<>0)=1,Anlægskartotek!$L$14,Anlægskartotek!I3560)","v":0}]
[null,3550,{"$f":"Anlægskartotek!C3561","v":0},{"$f":"+IF((Basisoplysninger!$D$60=\"Ja\")*(Anlægskartotek!C3561<>0)=1,Anlægskartotek!$L$14,Anlægskartotek!I3561)","v":0}]
[null,3551,{"$f":"Anlægskartotek!C3562","v":0},{"$f":"+IF((Basisoplysninger!$D$60=\"Ja\")*(Anlægskartotek!C3562<>0)=1,Anlægskartotek!$L$14,Anlægskartotek!I3562)","v":0}]
[null,3552,{"$f":"Anlægskartotek!C3563","v":0},{"$f":"+IF((Basisoplysninger!$D$60=\"Ja\")*(Anlægskartotek!C3563<>0)=1,Anlægskartotek!$L$14,Anlægskartotek!I3563)","v":0}]
[null,3553,{"$f":"Anlægskartotek!C3564","v":0},{"$f":"+IF((Basisoplysninger!$D$60=\"Ja\")*(Anlægskartotek!C3564<>0)=1,Anlægskartotek!$L$14,Anlægskartotek!I3564)","v":0}]
[null,3554,{"$f":"Anlægskartotek!C3565","v":0},{"$f":"+IF((Basisoplysninger!$D$60=\"Ja\")*(Anlægskartotek!C3565<>0)=1,Anlægskartotek!$L$14,Anlægskartotek!I3565)","v":0}]
[null,3555,{"$f":"Anlægskartotek!C3566","v":0},{"$f":"+IF((Basisoplysninger!$D$60=\"Ja\")*(Anlægskartotek!C3566<>0)=1,Anlægskartotek!$L$14,Anlægskartotek!I3566)","v":0}]
[null,3556,{"$f":"Anlægskartotek!C3567","v":0},{"$f":"+IF((Basisoplysninger!$D$60=\"Ja\")*(Anlægskartotek!C3567<>0)=1,Anlægskartotek!$L$14,Anlægskartotek!I3567)","v":0}]
[null,3557,{"$f":"Anlægskartotek!C3568","v":0},{"$f":"+IF((Basisoplysninger!$D$60=\"Ja\")*(Anlægskartotek!C3568<>0)=1,Anlægskartotek!$L$14,Anlægskartotek!I3568)","v":0}]
[null,3558,{"$f":"Anlægskartotek!C3569","v":0},{"$f":"+IF((Basisoplysninger!$D$60=\"Ja\")*(Anlægskartotek!C3569<>0)=1,Anlægskartotek!$L$14,Anlægskartotek!I3569)","v":0}]
[null,3559,{"$f":"Anlægskartotek!C3570","v":0},{"$f":"+IF((Basisoplysninger!$D$60=\"Ja\")*(Anlægskartotek!C3570<>0)=1,Anlægskartotek!$L$14,Anlægskartotek!I3570)","v":0}]
[null,3560,{"$f":"Anlægskartotek!C3571","v":0},{"$f":"+IF((Basisoplysninger!$D$60=\"Ja\")*(Anlægskartotek!C3571<>0)=1,Anlægskartotek!$L$14,Anlægskartotek!I3571)","v":0}]
[null,3561,{"$f":"Anlægskartotek!C3572","v":0},{"$f":"+IF((Basisoplysninger!$D$60=\"Ja\")*(Anlægskartotek!C3572<>0)=1,Anlægskartotek!$L$14,Anlægskartotek!I3572)","v":0}]
[null,3562,{"$f":"Anlægskartotek!C3573","v":0},{"$f":"+IF((Basisoplysninger!$D$60=\"Ja\")*(Anlægskartotek!C3573<>0)=1,Anlægskartotek!$L$14,Anlægskartotek!I3573)","v":0}]
[null,3563,{"$f":"Anlægskartotek!C3574","v":0},{"$f":"+IF((Basisoplysninger!$D$60=\"Ja\")*(Anlægskartotek!C3574<>0)=1,Anlægskartotek!$L$14,Anlægskartotek!I3574)","v":0}]
[null,3564,{"$f":"Anlægskartotek!C3575","v":0},{"$f":"+IF((Basisoplysninger!$D$60=\"Ja\")*(Anlægskartotek!C3575<>0)=1,Anlægskartotek!$L$14,Anlægskartotek!I3575)","v":0}]
[null,3565,{"$f":"Anlægskartotek!C3576","v":0},{"$f":"+IF((Basisoplysninger!$D$60=\"Ja\")*(Anlægskartotek!C3576<>0)=1,Anlægskartotek!$L$14,Anlægskartotek!I3576)","v":0}]
[null,3566,{"$f":"Anlægskartotek!C3577","v":0},{"$f":"+IF((Basisoplysninger!$D$60=\"Ja\")*(Anlægskartotek!C3577<>0)=1,Anlægskartotek!$L$14,Anlægskartotek!I3577)","v":0}]
[null,3567,{"$f":"Anlægskartotek!C3578","v":0},{"$f":"+IF((Basisoplysninger!$D$60=\"Ja\")*(Anlægskartotek!C3578<>0)=1,Anlægskartotek!$L$14,Anlægskartotek!I3578)","v":0}]
[null,3568,{"$f":"Anlægskartotek!C3579","v":0},{"$f":"+IF((Basisoplysninger!$D$60=\"Ja\")*(Anlægskartotek!C3579<>0)=1,Anlægskartotek!$L$14,Anlægskartotek!I3579)","v":0}]
[null,3569,{"$f":"Anlægskartotek!C3580","v":0},{"$f":"+IF((Basisoplysninger!$D$60=\"Ja\")*(Anlægskartotek!C3580<>0)=1,Anlægskartotek!$L$14,Anlægskartotek!I3580)","v":0}]
[null,3570,{"$f":"Anlægskartotek!C3581","v":0},{"$f":"+IF((Basisoplysninger!$D$60=\"Ja\")*(Anlægskartotek!C3581<>0)=1,Anlægskartotek!$L$14,Anlægskartotek!I3581)","v":0}]
[null,3571,{"$f":"Anlægskartotek!C3582","v":0},{"$f":"+IF((Basisoplysninger!$D$60=\"Ja\")*(Anlægskartotek!C3582<>0)=1,Anlægskartotek!$L$14,Anlægskartotek!I3582)","v":0}]
[null,3572,{"$f":"Anlægskartotek!C3583","v":0},{"$f":"+IF((Basisoplysninger!$D$60=\"Ja\")*(Anlægskartotek!C3583<>0)=1,Anlægskartotek!$L$14,Anlægskartotek!I3583)","v":0}]
[null,3573,{"$f":"Anlægskartotek!C3584","v":0},{"$f":"+IF((Basisoplysninger!$D$60=\"Ja\")*(Anlægskartotek!C3584<>0)=1,Anlægskartotek!$L$14,Anlægskartotek!I3584)","v":0}]
[null,3574,{"$f":"Anlægskartotek!C3585","v":0},{"$f":"+IF((Basisoplysninger!$D$60=\"Ja\")*(Anlægskartotek!C3585<>0)=1,Anlægskartotek!$L$14,Anlægskartotek!I3585)","v":0}]
[null,3575,{"$f":"Anlægskartotek!C3586","v":0},{"$f":"+IF((Basisoplysninger!$D$60=\"Ja\")*(Anlægskartotek!C3586<>0)=1,Anlægskartotek!$L$14,Anlægskartotek!I3586)","v":0}]
[null,3576,{"$f":"Anlægskartotek!C3587","v":0},{"$f":"+IF((Basisoplysninger!$D$60=\"Ja\")*(Anlægskartotek!C3587<>0)=1,Anlægskartotek!$L$14,Anlægskartotek!I3587)","v":0}]
[null,3577,{"$f":"Anlægskartotek!C3588","v":0},{"$f":"+IF((Basisoplysninger!$D$60=\"Ja\")*(Anlægskartotek!C3588<>0)=1,Anlægskartotek!$L$14,Anlægskartotek!I3588)","v":0}]
[null,3578,{"$f":"Anlægskartotek!C3589","v":0},{"$f":"+IF((Basisoplysninger!$D$60=\"Ja\")*(Anlægskartotek!C3589<>0)=1,Anlægskartotek!$L$14,Anlægskartotek!I3589)","v":0}]
[null,3579,{"$f":"Anlægskartotek!C3590","v":0},{"$f":"+IF((Basisoplysninger!$D$60=\"Ja\")*(Anlægskartotek!C3590<>0)=1,Anlægskartotek!$L$14,Anlægskartotek!I3590)","v":0}]
[null,3580,{"$f":"Anlægskartotek!C3591","v":0},{"$f":"+IF((Basisoplysninger!$D$60=\"Ja\")*(Anlægskartotek!C3591<>0)=1,Anlægskartotek!$L$14,Anlægskartotek!I3591)","v":0}]
[null,3581,{"$f":"Anlægskartotek!C3592","v":0},{"$f":"+IF((Basisoplysninger!$D$60=\"Ja\")*(Anlægskartotek!C3592<>0)=1,Anlægskartotek!$L$14,Anlægskartotek!I3592)","v":0}]
[null,3582,{"$f":"Anlægskartotek!C3593","v":0},{"$f":"+IF((Basisoplysninger!$D$60=\"Ja\")*(Anlægskartotek!C3593<>0)=1,Anlægskartotek!$L$14,Anlægskartotek!I3593)","v":0}]
[null,3583,{"$f":"Anlægskartotek!C3594","v":0},{"$f":"+IF((Basisoplysninger!$D$60=\"Ja\")*(Anlægskartotek!C3594<>0)=1,Anlægskartotek!$L$14,Anlægskartotek!I3594)","v":0}]
[null,3584,{"$f":"Anlægskartotek!C3595","v":0},{"$f":"+IF((Basisoplysninger!$D$60=\"Ja\")*(Anlægskartotek!C3595<>0)=1,Anlægskartotek!$L$14,Anlægskartotek!I3595)","v":0}]
[null,3585,{"$f":"Anlægskartotek!C3596","v":0},{"$f":"+IF((Basisoplysninger!$D$60=\"Ja\")*(Anlægskartotek!C3596<>0)=1,Anlægskartotek!$L$14,Anlægskartotek!I3596)","v":0}]
[null,3586,{"$f":"Anlægskartotek!C3597","v":0},{"$f":"+IF((Basisoplysninger!$D$60=\"Ja\")*(Anlægskartotek!C3597<>0)=1,Anlægskartotek!$L$14,Anlægskartotek!I3597)","v":0}]
[null,{"$f":"B3695+1","v":3587},{"$f":"Anlægskartotek!C3598","v":0},{"$f":"+IF((Basisoplysninger!$D$60=\"Ja\")*(Anlægskartotek!C3598<>0)=1,Anlægskartotek!$L$14,Anlægskartotek!I3598)","v":0}]
[null,3588,{"$f":"Anlægskartotek!C3599","v":0},{"$f":"+IF((Basisoplysninger!$D$60=\"Ja\")*(Anlægskartotek!C3599<>0)=1,Anlægskartotek!$L$14,Anlægskartotek!I3599)","v":0}]
[null,3589,{"$f":"Anlægskartotek!C3600","v":0},{"$f":"+IF((Basisoplysninger!$D$60=\"Ja\")*(Anlægskartotek!C3600<>0)=1,Anlægskartotek!$L$14,Anlægskartotek!I3600)","v":0}]
[null,3590,{"$f":"Anlægskartotek!C3601","v":0},{"$f":"+IF((Basisoplysninger!$D$60=\"Ja\")*(Anlægskartotek!C3601<>0)=1,Anlægskartotek!$L$14,Anlægskartotek!I3601)","v":0}]
[null,3591,{"$f":"Anlægskartotek!C3602","v":0},{"$f":"+IF((Basisoplysninger!$D$60=\"Ja\")*(Anlægskartotek!C3602<>0)=1,Anlægskartotek!$L$14,Anlægskartotek!I3602)","v":0}]
[null,3592,{"$f":"Anlægskartotek!C3603","v":0},{"$f":"+IF((Basisoplysninger!$D$60=\"Ja\")*(Anlægskartotek!C3603<>0)=1,Anlægskartotek!$L$14,Anlægskartotek!I3603)","v":0}]
[null,3593,{"$f":"Anlægskartotek!C3604","v":0},{"$f":"+IF((Basisoplysninger!$D$60=\"Ja\")*(Anlægskartotek!C3604<>0)=1,Anlægskartotek!$L$14,Anlægskartotek!I3604)","v":0}]
[null,3594,{"$f":"Anlægskartotek!C3605","v":0},{"$f":"+IF((Basisoplysninger!$D$60=\"Ja\")*(Anlægskartotek!C3605<>0)=1,Anlægskartotek!$L$14,Anlægskartotek!I3605)","v":0}]
[null,3595,{"$f":"Anlægskartotek!C3606","v":0},{"$f":"+IF((Basisoplysninger!$D$60=\"Ja\")*(Anlægskartotek!C3606<>0)=1,Anlægskartotek!$L$14,Anlægskartotek!I3606)","v":0}]
[null,3596,{"$f":"Anlægskartotek!C3607","v":0},{"$f":"+IF((Basisoplysninger!$D$60=\"Ja\")*(Anlægskartotek!C3607<>0)=1,Anlægskartotek!$L$14,Anlægskartotek!I3607)","v":0}]
[null,3597,{"$f":"Anlægskartotek!C3608","v":0},{"$f":"+IF((Basisoplysninger!$D$60=\"Ja\")*(Anlægskartotek!C3608<>0)=1,Anlægskartotek!$L$14,Anlægskartotek!I3608)","v":0}]
[null,3598,{"$f":"Anlægskartotek!C3609","v":0},{"$f":"+IF((Basisoplysninger!$D$60=\"Ja\")*(Anlægskartotek!C3609<>0)=1,Anlægskartotek!$L$14,Anlægskartotek!I3609)","v":0}]
[null,3599,{"$f":"Anlægskartotek!C3610","v":0},{"$f":"+IF((Basisoplysninger!$D$60=\"Ja\")*(Anlægskartotek!C3610<>0)=1,Anlægskartotek!$L$14,Anlægskartotek!I3610)","v":0}]
[null,3600,{"$f":"Anlægskartotek!C3611","v":0},{"$f":"+IF((Basisoplysninger!$D$60=\"Ja\")*(Anlægskartotek!C3611<>0)=1,Anlægskartotek!$L$14,Anlægskartotek!I3611)","v":0}]
[null,3601,{"$f":"Anlægskartotek!C3612","v":0},{"$f":"+IF((Basisoplysninger!$D$60=\"Ja\")*(Anlægskartotek!C3612<>0)=1,Anlægskartotek!$L$14,Anlægskartotek!I3612)","v":0}]
[null,3602,{"$f":"Anlægskartotek!C3613","v":0},{"$f":"+IF((Basisoplysninger!$D$60=\"Ja\")*(Anlægskartotek!C3613<>0)=1,Anlægskartotek!$L$14,Anlægskartotek!I3613)","v":0}]
[null,3603,{"$f":"Anlægskartotek!C3614","v":0},{"$f":"+IF((Basisoplysninger!$D$60=\"Ja\")*(Anlægskartotek!C3614<>0)=1,Anlægskartotek!$L$14,Anlægskartotek!I3614)","v":0}]
[null,3604,{"$f":"Anlægskartotek!C3615","v":0},{"$f":"+IF((Basisoplysninger!$D$60=\"Ja\")*(Anlægskartotek!C3615<>0)=1,Anlægskartotek!$L$14,Anlægskartotek!I3615)","v":0}]
[null,3605,{"$f":"Anlægskartotek!C3616","v":0},{"$f":"+IF((Basisoplysninger!$D$60=\"Ja\")*(Anlægskartotek!C3616<>0)=1,Anlægskartotek!$L$14,Anlægskartotek!I3616)","v":0}]
[null,3606,{"$f":"Anlægskartotek!C3617","v":0},{"$f":"+IF((Basisoplysninger!$D$60=\"Ja\")*(Anlægskartotek!C3617<>0)=1,Anlægskartotek!$L$14,Anlægskartotek!I3617)","v":0}]
[null,3607,{"$f":"Anlægskartotek!C3618","v":0},{"$f":"+IF((Basisoplysninger!$D$60=\"Ja\")*(Anlægskartotek!C3618<>0)=1,Anlægskartotek!$L$14,Anlægskartotek!I3618)","v":0}]
[null,3608,{"$f":"Anlægskartotek!C3619","v":0},{"$f":"+IF((Basisoplysninger!$D$60=\"Ja\")*(Anlægskartotek!C3619<>0)=1,Anlægskartotek!$L$14,Anlægskartotek!I3619)","v":0}]
[null,3609,{"$f":"Anlægskartotek!C3620","v":0},{"$f":"+IF((Basisoplysninger!$D$60=\"Ja\")*(Anlægskartotek!C3620<>0)=1,Anlægskartotek!$L$14,Anlægskartotek!I3620)","v":0}]
[null,3610,{"$f":"Anlægskartotek!C3621","v":0},{"$f":"+IF((Basisoplysninger!$D$60=\"Ja\")*(Anlægskartotek!C3621<>0)=1,Anlægskartotek!$L$14,Anlægskartotek!I3621)","v":0}]
[null,3611,{"$f":"Anlægskartotek!C3622","v":0},{"$f":"+IF((Basisoplysninger!$D$60=\"Ja\")*(Anlægskartotek!C3622<>0)=1,Anlægskartotek!$L$14,Anlægskartotek!I3622)","v":0}]
[null,3612,{"$f":"Anlægskartotek!C3623","v":0},{"$f":"+IF((Basisoplysninger!$D$60=\"Ja\")*(Anlægskartotek!C3623<>0)=1,Anlægskartotek!$L$14,Anlægskartotek!I3623)","v":0}]
[null,3613,{"$f":"Anlægskartotek!C3624","v":0},{"$f":"+IF((Basisoplysninger!$D$60=\"Ja\")*(Anlægskartotek!C3624<>0)=1,Anlægskartotek!$L$14,Anlægskartotek!I3624)","v":0}]
[null,3614,{"$f":"Anlægskartotek!C3625","v":0},{"$f":"+IF((Basisoplysninger!$D$60=\"Ja\")*(Anlægskartotek!C3625<>0)=1,Anlægskartotek!$L$14,Anlægskartotek!I3625)","v":0}]
[null,3615,{"$f":"Anlægskartotek!C3626","v":0},{"$f":"+IF((Basisoplysninger!$D$60=\"Ja\")*(Anlægskartotek!C3626<>0)=1,Anlægskartotek!$L$14,Anlægskartotek!I3626)","v":0}]
[null,3616,{"$f":"Anlægskartotek!C3627","v":0},{"$f":"+IF((Basisoplysninger!$D$60=\"Ja\")*(Anlægskartotek!C3627<>0)=1,Anlægskartotek!$L$14,Anlægskartotek!I3627)","v":0}]
[null,3617,{"$f":"Anlægskartotek!C3628","v":0},{"$f":"+IF((Basisoplysninger!$D$60=\"Ja\")*(Anlægskartotek!C3628<>0)=1,Anlægskartotek!$L$14,Anlægskartotek!I3628)","v":0}]
[null,3618,{"$f":"Anlægskartotek!C3629","v":0},{"$f":"+IF((Basisoplysninger!$D$60=\"Ja\")*(Anlægskartotek!C3629<>0)=1,Anlægskartotek!$L$14,Anlægskartotek!I3629)","v":0}]
[null,3619,{"$f":"Anlægskartotek!C3630","v":0},{"$f":"+IF((Basisoplysninger!$D$60=\"Ja\")*(Anlægskartotek!C3630<>0)=1,Anlægskartotek!$L$14,Anlægskartotek!I3630)","v":0}]
[null,3620,{"$f":"Anlægskartotek!C3631","v":0},{"$f":"+IF((Basisoplysninger!$D$60=\"Ja\")*(Anlægskartotek!C3631<>0)=1,Anlægskartotek!$L$14,Anlægskartotek!I3631)","v":0}]
[null,3621,{"$f":"Anlægskartotek!C3632","v":0},{"$f":"+IF((Basisoplysninger!$D$60=\"Ja\")*(Anlægskartotek!C3632<>0)=1,Anlægskartotek!$L$14,Anlægskartotek!I3632)","v":0}]
[null,3622,{"$f":"Anlægskartotek!C3633","v":0},{"$f":"+IF((Basisoplysninger!$D$60=\"Ja\")*(Anlægskartotek!C3633<>0)=1,Anlægskartotek!$L$14,Anlægskartotek!I3633)","v":0}]
[null,3623,{"$f":"Anlægskartotek!C3634","v":0},{"$f":"+IF((Basisoplysninger!$D$60=\"Ja\")*(Anlægskartotek!C3634<>0)=1,Anlægskartotek!$L$14,Anlægskartotek!I3634)","v":0}]
[null,3624,{"$f":"Anlægskartotek!C3635","v":0},{"$f":"+IF((Basisoplysninger!$D$60=\"Ja\")*(Anlægskartotek!C3635<>0)=1,Anlægskartotek!$L$14,Anlægskartotek!I3635)","v":0}]
[null,3625,{"$f":"Anlægskartotek!C3636","v":0},{"$f":"+IF((Basisoplysninger!$D$60=\"Ja\")*(Anlægskartotek!C3636<>0)=1,Anlægskartotek!$L$14,Anlægskartotek!I3636)","v":0}]
[null,3626,{"$f":"Anlægskartotek!C3637","v":0},{"$f":"+IF((Basisoplysninger!$D$60=\"Ja\")*(Anlægskartotek!C3637<>0)=1,Anlægskartotek!$L$14,Anlægskartotek!I3637)","v":0}]
[null,3627,{"$f":"Anlægskartotek!C3638","v":0},{"$f":"+IF((Basisoplysninger!$D$60=\"Ja\")*(Anlægskartotek!C3638<>0)=1,Anlægskartotek!$L$14,Anlægskartotek!I3638)","v":0}]
[null,3628,{"$f":"Anlægskartotek!C3639","v":0},{"$f":"+IF((Basisoplysninger!$D$60=\"Ja\")*(Anlægskartotek!C3639<>0)=1,Anlægskartotek!$L$14,Anlægskartotek!I3639)","v":0}]
[null,3629,{"$f":"Anlægskartotek!C3640","v":0},{"$f":"+IF((Basisoplysninger!$D$60=\"Ja\")*(Anlægskartotek!C3640<>0)=1,Anlægskartotek!$L$14,Anlægskartotek!I3640)","v":0}]
[null,3630,{"$f":"Anlægskartotek!C3641","v":0},{"$f":"+IF((Basisoplysninger!$D$60=\"Ja\")*(Anlægskartotek!C3641<>0)=1,Anlægskartotek!$L$14,Anlægskartotek!I3641)","v":0}]
[null,3631,{"$f":"Anlægskartotek!C3642","v":0},{"$f":"+IF((Basisoplysninger!$D$60=\"Ja\")*(Anlægskartotek!C3642<>0)=1,Anlægskartotek!$L$14,Anlægskartotek!I3642)","v":0}]
[null,3632,{"$f":"Anlægskartotek!C3643","v":0},{"$f":"+IF((Basisoplysninger!$D$60=\"Ja\")*(Anlægskartotek!C3643<>0)=1,Anlægskartotek!$L$14,Anlægskartotek!I3643)","v":0}]
[null,3633,{"$f":"Anlægskartotek!C3644","v":0},{"$f":"+IF((Basisoplysninger!$D$60=\"Ja\")*(Anlægskartotek!C3644<>0)=1,Anlægskartotek!$L$14,Anlægskartotek!I3644)","v":0}]
[null,3634,{"$f":"Anlægskartotek!C3645","v":0},{"$f":"+IF((Basisoplysninger!$D$60=\"Ja\")*(Anlægskartotek!C3645<>0)=1,Anlægskartotek!$L$14,Anlægskartotek!I3645)","v":0}]
[null,3635,{"$f":"Anlægskartotek!C3646","v":0},{"$f":"+IF((Basisoplysninger!$D$60=\"Ja\")*(Anlægskartotek!C3646<>0)=1,Anlægskartotek!$L$14,Anlægskartotek!I3646)","v":0}]
[null,3636,{"$f":"Anlægskartotek!C3647","v":0},{"$f":"+IF((Basisoplysninger!$D$60=\"Ja\")*(Anlægskartotek!C3647<>0)=1,Anlægskartotek!$L$14,Anlægskartotek!I3647)","v":0}]
[null,3637,{"$f":"Anlægskartotek!C3648","v":0},{"$f":"+IF((Basisoplysninger!$D$60=\"Ja\")*(Anlægskartotek!C3648<>0)=1,Anlægskartotek!$L$14,Anlægskartotek!I3648)","v":0}]
[null,3638,{"$f":"Anlægskartotek!C3649","v":0},{"$f":"+IF((Basisoplysninger!$D$60=\"Ja\")*(Anlægskartotek!C3649<>0)=1,Anlægskartotek!$L$14,Anlægskartotek!I3649)","v":0}]
[null,3639,{"$f":"Anlægskartotek!C3650","v":0},{"$f":"+IF((Basisoplysninger!$D$60=\"Ja\")*(Anlægskartotek!C3650<>0)=1,Anlægskartotek!$L$14,Anlægskartotek!I3650)","v":0}]
[null,3640,{"$f":"Anlægskartotek!C3651","v":0},{"$f":"+IF((Basisoplysninger!$D$60=\"Ja\")*(Anlægskartotek!C3651<>0)=1,Anlægskartotek!$L$14,Anlægskartotek!I3651)","v":0}]
[null,3641,{"$f":"Anlægskartotek!C3652","v":0},{"$f":"+IF((Basisoplysninger!$D$60=\"Ja\")*(Anlægskartotek!C3652<>0)=1,Anlægskartotek!$L$14,Anlægskartotek!I3652)","v":0}]
[null,3642,{"$f":"Anlægskartotek!C3653","v":0},{"$f":"+IF((Basisoplysninger!$D$60=\"Ja\")*(Anlægskartotek!C3653<>0)=1,Anlægskartotek!$L$14,Anlægskartotek!I3653)","v":0}]
[null,3643,{"$f":"Anlægskartotek!C3654","v":0},{"$f":"+IF((Basisoplysninger!$D$60=\"Ja\")*(Anlægskartotek!C3654<>0)=1,Anlægskartotek!$L$14,Anlægskartotek!I3654)","v":0}]
[null,3644,{"$f":"Anlægskartotek!C3655","v":0},{"$f":"+IF((Basisoplysninger!$D$60=\"Ja\")*(Anlægskartotek!C3655<>0)=1,Anlægskartotek!$L$14,Anlægskartotek!I3655)","v":0}]
[null,3645,{"$f":"Anlægskartotek!C3656","v":0},{"$f":"+IF((Basisoplysninger!$D$60=\"Ja\")*(Anlægskartotek!C3656<>0)=1,Anlægskartotek!$L$14,Anlægskartotek!I3656)","v":0}]
[null,3646,{"$f":"Anlægskartotek!C3657","v":0},{"$f":"+IF((Basisoplysninger!$D$60=\"Ja\")*(Anlægskartotek!C3657<>0)=1,Anlægskartotek!$L$14,Anlægskartotek!I3657)","v":0}]
[null,3647,{"$f":"Anlægskartotek!C3658","v":0},{"$f":"+IF((Basisoplysninger!$D$60=\"Ja\")*(Anlægskartotek!C3658<>0)=1,Anlægskartotek!$L$14,Anlægskartotek!I3658)","v":0}]
[null,3648,{"$f":"Anlægskartotek!C3659","v":0},{"$f":"+IF((Basisoplysninger!$D$60=\"Ja\")*(Anlægskartotek!C3659<>0)=1,Anlægskartotek!$L$14,Anlægskartotek!I3659)","v":0}]
[null,3649,{"$f":"Anlægskartotek!C3660","v":0},{"$f":"+IF((Basisoplysninger!$D$60=\"Ja\")*(Anlægskartotek!C3660<>0)=1,Anlægskartotek!$L$14,Anlægskartotek!I3660)","v":0}]
[null,3650,{"$f":"Anlægskartotek!C3661","v":0},{"$f":"+IF((Basisoplysninger!$D$60=\"Ja\")*(Anlægskartotek!C3661<>0)=1,Anlægskartotek!$L$14,Anlægskartotek!I3661)","v":0}]
[null,{"$f":"B3759+1","v":3651},{"$f":"Anlægskartotek!C3662","v":0},{"$f":"+IF((Basisoplysninger!$D$60=\"Ja\")*(Anlægskartotek!C3662<>0)=1,Anlægskartotek!$L$14,Anlægskartotek!I3662)","v":0}]
[null,3652,{"$f":"Anlægskartotek!C3663","v":0},{"$f":"+IF((Basisoplysninger!$D$60=\"Ja\")*(Anlægskartotek!C3663<>0)=1,Anlægskartotek!$L$14,Anlægskartotek!I3663)","v":0}]
[null,3653,{"$f":"Anlægskartotek!C3664","v":0},{"$f":"+IF((Basisoplysninger!$D$60=\"Ja\")*(Anlægskartotek!C3664<>0)=1,Anlægskartotek!$L$14,Anlægskartotek!I3664)","v":0}]
[null,3654,{"$f":"Anlægskartotek!C3665","v":0},{"$f":"+IF((Basisoplysninger!$D$60=\"Ja\")*(Anlægskartotek!C3665<>0)=1,Anlægskartotek!$L$14,Anlægskartotek!I3665)","v":0}]
[null,3655,{"$f":"Anlægskartotek!C3666","v":0},{"$f":"+IF((Basisoplysninger!$D$60=\"Ja\")*(Anlægskartotek!C3666<>0)=1,Anlægskartotek!$L$14,Anlægskartotek!I3666)","v":0}]
[null,3656,{"$f":"Anlægskartotek!C3667","v":0},{"$f":"+IF((Basisoplysninger!$D$60=\"Ja\")*(Anlægskartotek!C3667<>0)=1,Anlægskartotek!$L$14,Anlægskartotek!I3667)","v":0}]
[null,3657,{"$f":"Anlægskartotek!C3668","v":0},{"$f":"+IF((Basisoplysninger!$D$60=\"Ja\")*(Anlægskartotek!C3668<>0)=1,Anlægskartotek!$L$14,Anlægskartotek!I3668)","v":0}]
[null,3658,{"$f":"Anlægskartotek!C3669","v":0},{"$f":"+IF((Basisoplysninger!$D$60=\"Ja\")*(Anlægskartotek!C3669<>0)=1,Anlægskartotek!$L$14,Anlægskartotek!I3669)","v":0}]
[null,3659,{"$f":"Anlægskartotek!C3670","v":0},{"$f":"+IF((Basisoplysninger!$D$60=\"Ja\")*(Anlægskartotek!C3670<>0)=1,Anlægskartotek!$L$14,Anlægskartotek!I3670)","v":0}]
[null,3660,{"$f":"Anlægskartotek!C3671","v":0},{"$f":"+IF((Basisoplysninger!$D$60=\"Ja\")*(Anlægskartotek!C3671<>0)=1,Anlægskartotek!$L$14,Anlægskartotek!I3671)","v":0}]
[null,3661,{"$f":"Anlægskartotek!C3672","v":0},{"$f":"+IF((Basisoplysninger!$D$60=\"Ja\")*(Anlægskartotek!C3672<>0)=1,Anlægskartotek!$L$14,Anlægskartotek!I3672)","v":0}]
[null,3662,{"$f":"Anlægskartotek!C3673","v":0},{"$f":"+IF((Basisoplysninger!$D$60=\"Ja\")*(Anlægskartotek!C3673<>0)=1,Anlægskartotek!$L$14,Anlægskartotek!I3673)","v":0}]
[null,3663,{"$f":"Anlægskartotek!C3674","v":0},{"$f":"+IF((Basisoplysninger!$D$60=\"Ja\")*(Anlægskartotek!C3674<>0)=1,Anlægskartotek!$L$14,Anlægskartotek!I3674)","v":0}]
[null,3664,{"$f":"Anlægskartotek!C3675","v":0},{"$f":"+IF((Basisoplysninger!$D$60=\"Ja\")*(Anlægskartotek!C3675<>0)=1,Anlægskartotek!$L$14,Anlægskartotek!I3675)","v":0}]
[null,3665,{"$f":"Anlægskartotek!C3676","v":0},{"$f":"+IF((Basisoplysninger!$D$60=\"Ja\")*(Anlægskartotek!C3676<>0)=1,Anlægskartotek!$L$14,Anlægskartotek!I3676)","v":0}]
[null,3666,{"$f":"Anlægskartotek!C3677","v":0},{"$f":"+IF((Basisoplysninger!$D$60=\"Ja\")*(Anlægskartotek!C3677<>0)=1,Anlægskartotek!$L$14,Anlægskartotek!I3677)","v":0}]
[null,3667,{"$f":"Anlægskartotek!C3678","v":0},{"$f":"+IF((Basisoplysninger!$D$60=\"Ja\")*(Anlægskartotek!C3678<>0)=1,Anlægskartotek!$L$14,Anlægskartotek!I3678)","v":0}]
[null,3668,{"$f":"Anlægskartotek!C3679","v":0},{"$f":"+IF((Basisoplysninger!$D$60=\"Ja\")*(Anlægskartotek!C3679<>0)=1,Anlægskartotek!$L$14,Anlægskartotek!I3679)","v":0}]
[null,3669,{"$f":"Anlægskartotek!C3680","v":0},{"$f":"+IF((Basisoplysninger!$D$60=\"Ja\")*(Anlægskartotek!C3680<>0)=1,Anlægskartotek!$L$14,Anlægskartotek!I3680)","v":0}]
[null,3670,{"$f":"Anlægskartotek!C3681","v":0},{"$f":"+IF((Basisoplysninger!$D$60=\"Ja\")*(Anlægskartotek!C3681<>0)=1,Anlægskartotek!$L$14,Anlægskartotek!I3681)","v":0}]
[null,3671,{"$f":"Anlægskartotek!C3682","v":0},{"$f":"+IF((Basisoplysninger!$D$60=\"Ja\")*(Anlægskartotek!C3682<>0)=1,Anlægskartotek!$L$14,Anlægskartotek!I3682)","v":0}]
[null,3672,{"$f":"Anlægskartotek!C3683","v":0},{"$f":"+IF((Basisoplysninger!$D$60=\"Ja\")*(Anlægskartotek!C3683<>0)=1,Anlægskartotek!$L$14,Anlægskartotek!I3683)","v":0}]
[null,3673,{"$f":"Anlægskartotek!C3684","v":0},{"$f":"+IF((Basisoplysninger!$D$60=\"Ja\")*(Anlægskartotek!C3684<>0)=1,Anlægskartotek!$L$14,Anlægskartotek!I3684)","v":0}]
[null,3674,{"$f":"Anlægskartotek!C3685","v":0},{"$f":"+IF((Basisoplysninger!$D$60=\"Ja\")*(Anlægskartotek!C3685<>0)=1,Anlægskartotek!$L$14,Anlægskartotek!I3685)","v":0}]
[null,3675,{"$f":"Anlægskartotek!C3686","v":0},{"$f":"+IF((Basisoplysninger!$D$60=\"Ja\")*(Anlægskartotek!C3686<>0)=1,Anlægskartotek!$L$14,Anlægskartotek!I3686)","v":0}]
[null,3676,{"$f":"Anlægskartotek!C3687","v":0},{"$f":"+IF((Basisoplysninger!$D$60=\"Ja\")*(Anlægskartotek!C3687<>0)=1,Anlægskartotek!$L$14,Anlægskartotek!I3687)","v":0}]
[null,3677,{"$f":"Anlægskartotek!C3688","v":0},{"$f":"+IF((Basisoplysninger!$D$60=\"Ja\")*(Anlægskartotek!C3688<>0)=1,Anlægskartotek!$L$14,Anlægskartotek!I3688)","v":0}]
[null,3678,{"$f":"Anlægskartotek!C3689","v":0},{"$f":"+IF((Basisoplysninger!$D$60=\"Ja\")*(Anlægskartotek!C3689<>0)=1,Anlægskartotek!$L$14,Anlægskartotek!I3689)","v":0}]
[null,3679,{"$f":"Anlægskartotek!C3690","v":0},{"$f":"+IF((Basisoplysninger!$D$60=\"Ja\")*(Anlægskartotek!C3690<>0)=1,Anlægskartotek!$L$14,Anlægskartotek!I3690)","v":0}]
[null,3680,{"$f":"Anlægskartotek!C3691","v":0},{"$f":"+IF((Basisoplysninger!$D$60=\"Ja\")*(Anlægskartotek!C3691<>0)=1,Anlægskartotek!$L$14,Anlægskartotek!I3691)","v":0}]
[null,3681,{"$f":"Anlægskartotek!C3692","v":0},{"$f":"+IF((Basisoplysninger!$D$60=\"Ja\")*(Anlægskartotek!C3692<>0)=1,Anlægskartotek!$L$14,Anlægskartotek!I3692)","v":0}]
[null,3682,{"$f":"Anlægskartotek!C3693","v":0},{"$f":"+IF((Basisoplysninger!$D$60=\"Ja\")*(Anlægskartotek!C3693<>0)=1,Anlægskartotek!$L$14,Anlægskartotek!I3693)","v":0}]
[null,3683,{"$f":"Anlægskartotek!C3694","v":0},{"$f":"+IF((Basisoplysninger!$D$60=\"Ja\")*(Anlægskartotek!C3694<>0)=1,Anlægskartotek!$L$14,Anlægskartotek!I3694)","v":0}]
[null,3684,{"$f":"Anlægskartotek!C3695","v":0},{"$f":"+IF((Basisoplysninger!$D$60=\"Ja\")*(Anlægskartotek!C3695<>0)=1,Anlægskartotek!$L$14,Anlægskartotek!I3695)","v":0}]
[null,3685,{"$f":"Anlægskartotek!C3696","v":0},{"$f":"+IF((Basisoplysninger!$D$60=\"Ja\")*(Anlægskartotek!C3696<>0)=1,Anlægskartotek!$L$14,Anlægskartotek!I3696)","v":0}]
[null,3686,{"$f":"Anlægskartotek!C3697","v":0},{"$f":"+IF((Basisoplysninger!$D$60=\"Ja\")*(Anlægskartotek!C3697<>0)=1,Anlægskartotek!$L$14,Anlægskartotek!I3697)","v":0}]
[null,3687,{"$f":"Anlægskartotek!C3698","v":0},{"$f":"+IF((Basisoplysninger!$D$60=\"Ja\")*(Anlægskartotek!C3698<>0)=1,Anlægskartotek!$L$14,Anlægskartotek!I3698)","v":0}]
[null,3688,{"$f":"Anlægskartotek!C3699","v":0},{"$f":"+IF((Basisoplysninger!$D$60=\"Ja\")*(Anlægskartotek!C3699<>0)=1,Anlægskartotek!$L$14,Anlægskartotek!I3699)","v":0}]
[null,3689,{"$f":"Anlægskartotek!C3700","v":0},{"$f":"+IF((Basisoplysninger!$D$60=\"Ja\")*(Anlægskartotek!C3700<>0)=1,Anlægskartotek!$L$14,Anlægskartotek!I3700)","v":0}]
[null,3690,{"$f":"Anlægskartotek!C3701","v":0},{"$f":"+IF((Basisoplysninger!$D$60=\"Ja\")*(Anlægskartotek!C3701<>0)=1,Anlægskartotek!$L$14,Anlægskartotek!I3701)","v":0}]
[null,3691,{"$f":"Anlægskartotek!C3702","v":0},{"$f":"+IF((Basisoplysninger!$D$60=\"Ja\")*(Anlægskartotek!C3702<>0)=1,Anlægskartotek!$L$14,Anlægskartotek!I3702)","v":0}]
[null,3692,{"$f":"Anlægskartotek!C3703","v":0},{"$f":"+IF((Basisoplysninger!$D$60=\"Ja\")*(Anlægskartotek!C3703<>0)=1,Anlægskartotek!$L$14,Anlægskartotek!I3703)","v":0}]
[null,3693,{"$f":"Anlægskartotek!C3704","v":0},{"$f":"+IF((Basisoplysninger!$D$60=\"Ja\")*(Anlægskartotek!C3704<>0)=1,Anlægskartotek!$L$14,Anlægskartotek!I3704)","v":0}]
[null,3694,{"$f":"Anlægskartotek!C3705","v":0},{"$f":"+IF((Basisoplysninger!$D$60=\"Ja\")*(Anlægskartotek!C3705<>0)=1,Anlægskartotek!$L$14,Anlægskartotek!I3705)","v":0}]
[null,3695,{"$f":"Anlægskartotek!C3706","v":0},{"$f":"+IF((Basisoplysninger!$D$60=\"Ja\")*(Anlægskartotek!C3706<>0)=1,Anlægskartotek!$L$14,Anlægskartotek!I3706)","v":0}]
[null,3696,{"$f":"Anlægskartotek!C3707","v":0},{"$f":"+IF((Basisoplysninger!$D$60=\"Ja\")*(Anlægskartotek!C3707<>0)=1,Anlægskartotek!$L$14,Anlægskartotek!I3707)","v":0}]
[null,3697,{"$f":"Anlægskartotek!C3708","v":0},{"$f":"+IF((Basisoplysninger!$D$60=\"Ja\")*(Anlægskartotek!C3708<>0)=1,Anlægskartotek!$L$14,Anlægskartotek!I3708)","v":0}]
[null,3698,{"$f":"Anlægskartotek!C3709","v":0},{"$f":"+IF((Basisoplysninger!$D$60=\"Ja\")*(Anlægskartotek!C3709<>0)=1,Anlægskartotek!$L$14,Anlægskartotek!I3709)","v":0}]
[null,3699,{"$f":"Anlægskartotek!C3710","v":0},{"$f":"+IF((Basisoplysninger!$D$60=\"Ja\")*(Anlægskartotek!C3710<>0)=1,Anlægskartotek!$L$14,Anlægskartotek!I3710)","v":0}]
[null,3700,{"$f":"Anlægskartotek!C3711","v":0},{"$f":"+IF((Basisoplysninger!$D$60=\"Ja\")*(Anlægskartotek!C3711<>0)=1,Anlægskartotek!$L$14,Anlægskartotek!I3711)","v":0}]
[null,3701,{"$f":"Anlægskartotek!C3712","v":0},{"$f":"+IF((Basisoplysninger!$D$60=\"Ja\")*(Anlægskartotek!C3712<>0)=1,Anlægskartotek!$L$14,Anlægskartotek!I3712)","v":0}]
[null,3702,{"$f":"Anlægskartotek!C3713","v":0},{"$f":"+IF((Basisoplysninger!$D$60=\"Ja\")*(Anlægskartotek!C3713<>0)=1,Anlægskartotek!$L$14,Anlægskartotek!I3713)","v":0}]
[null,3703,{"$f":"Anlægskartotek!C3714","v":0},{"$f":"+IF((Basisoplysninger!$D$60=\"Ja\")*(Anlægskartotek!C3714<>0)=1,Anlægskartotek!$L$14,Anlægskartotek!I3714)","v":0}]
[null,3704,{"$f":"Anlægskartotek!C3715","v":0},{"$f":"+IF((Basisoplysninger!$D$60=\"Ja\")*(Anlægskartotek!C3715<>0)=1,Anlægskartotek!$L$14,Anlægskartotek!I3715)","v":0}]
[null,3705,{"$f":"Anlægskartotek!C3716","v":0},{"$f":"+IF((Basisoplysninger!$D$60=\"Ja\")*(Anlægskartotek!C3716<>0)=1,Anlægskartotek!$L$14,Anlægskartotek!I3716)","v":0}]
[null,3706,{"$f":"Anlægskartotek!C3717","v":0},{"$f":"+IF((Basisoplysninger!$D$60=\"Ja\")*(Anlægskartotek!C3717<>0)=1,Anlægskartotek!$L$14,Anlægskartotek!I3717)","v":0}]
[null,3707,{"$f":"Anlægskartotek!C3718","v":0},{"$f":"+IF((Basisoplysninger!$D$60=\"Ja\")*(Anlægskartotek!C3718<>0)=1,Anlægskartotek!$L$14,Anlægskartotek!I3718)","v":0}]
[null,3708,{"$f":"Anlægskartotek!C3719","v":0},{"$f":"+IF((Basisoplysninger!$D$60=\"Ja\")*(Anlægskartotek!C3719<>0)=1,Anlægskartotek!$L$14,Anlægskartotek!I3719)","v":0}]
[null,3709,{"$f":"Anlægskartotek!C3720","v":0},{"$f":"+IF((Basisoplysninger!$D$60=\"Ja\")*(Anlægskartotek!C3720<>0)=1,Anlægskartotek!$L$14,Anlægskartotek!I3720)","v":0}]
[null,3710,{"$f":"Anlægskartotek!C3721","v":0},{"$f":"+IF((Basisoplysninger!$D$60=\"Ja\")*(Anlægskartotek!C3721<>0)=1,Anlægskartotek!$L$14,Anlægskartotek!I3721)","v":0}]
[null,3711,{"$f":"Anlægskartotek!C3722","v":0},{"$f":"+IF((Basisoplysninger!$D$60=\"Ja\")*(Anlægskartotek!C3722<>0)=1,Anlægskartotek!$L$14,Anlægskartotek!I3722)","v":0}]
[null,3712,{"$f":"Anlægskartotek!C3723","v":0},{"$f":"+IF((Basisoplysninger!$D$60=\"Ja\")*(Anlægskartotek!C3723<>0)=1,Anlægskartotek!$L$14,Anlægskartotek!I3723)","v":0}]
[null,3713,{"$f":"Anlægskartotek!C3724","v":0},{"$f":"+IF((Basisoplysninger!$D$60=\"Ja\")*(Anlægskartotek!C3724<>0)=1,Anlægskartotek!$L$14,Anlægskartotek!I3724)","v":0}]
[null,3714,{"$f":"Anlægskartotek!C3725","v":0},{"$f":"+IF((Basisoplysninger!$D$60=\"Ja\")*(Anlægskartotek!C3725<>0)=1,Anlægskartotek!$L$14,Anlægskartotek!I3725)","v":0}]
[null,{"$f":"B3823+1","v":3715},{"$f":"Anlægskartotek!C3726","v":0},{"$f":"+IF((Basisoplysninger!$D$60=\"Ja\")*(Anlægskartotek!C3726<>0)=1,Anlægskartotek!$L$14,Anlægskartotek!I3726)","v":0}]
[null,3716,{"$f":"Anlægskartotek!C3727","v":0},{"$f":"+IF((Basisoplysninger!$D$60=\"Ja\")*(Anlægskartotek!C3727<>0)=1,Anlægskartotek!$L$14,Anlægskartotek!I3727)","v":0}]
[null,3717,{"$f":"Anlægskartotek!C3728","v":0},{"$f":"+IF((Basisoplysninger!$D$60=\"Ja\")*(Anlægskartotek!C3728<>0)=1,Anlægskartotek!$L$14,Anlægskartotek!I3728)","v":0}]
[null,3718,{"$f":"Anlægskartotek!C3729","v":0},{"$f":"+IF((Basisoplysninger!$D$60=\"Ja\")*(Anlægskartotek!C3729<>0)=1,Anlægskartotek!$L$14,Anlægskartotek!I3729)","v":0}]
[null,3719,{"$f":"Anlægskartotek!C3730","v":0},{"$f":"+IF((Basisoplysninger!$D$60=\"Ja\")*(Anlægskartotek!C3730<>0)=1,Anlægskartotek!$L$14,Anlægskartotek!I3730)","v":0}]
[null,3720,{"$f":"Anlægskartotek!C3731","v":0},{"$f":"+IF((Basisoplysninger!$D$60=\"Ja\")*(Anlægskartotek!C3731<>0)=1,Anlægskartotek!$L$14,Anlægskartotek!I3731)","v":0}]
[null,3721,{"$f":"Anlægskartotek!C3732","v":0},{"$f":"+IF((Basisoplysninger!$D$60=\"Ja\")*(Anlægskartotek!C3732<>0)=1,Anlægskartotek!$L$14,Anlægskartotek!I3732)","v":0}]
[null,3722,{"$f":"Anlægskartotek!C3733","v":0},{"$f":"+IF((Basisoplysninger!$D$60=\"Ja\")*(Anlægskartotek!C3733<>0)=1,Anlægskartotek!$L$14,Anlægskartotek!I3733)","v":0}]
[null,3723,{"$f":"Anlægskartotek!C3734","v":0},{"$f":"+IF((Basisoplysninger!$D$60=\"Ja\")*(Anlægskartotek!C3734<>0)=1,Anlægskartotek!$L$14,Anlægskartotek!I3734)","v":0}]
[null,3724,{"$f":"Anlægskartotek!C3735","v":0},{"$f":"+IF((Basisoplysninger!$D$60=\"Ja\")*(Anlægskartotek!C3735<>0)=1,Anlægskartotek!$L$14,Anlægskartotek!I3735)","v":0}]
[null,3725,{"$f":"Anlægskartotek!C3736","v":0},{"$f":"+IF((Basisoplysninger!$D$60=\"Ja\")*(Anlægskartotek!C3736<>0)=1,Anlægskartotek!$L$14,Anlægskartotek!I3736)","v":0}]
[null,3726,{"$f":"Anlægskartotek!C3737","v":0},{"$f":"+IF((Basisoplysninger!$D$60=\"Ja\")*(Anlægskartotek!C3737<>0)=1,Anlægskartotek!$L$14,Anlægskartotek!I3737)","v":0}]
[null,3727,{"$f":"Anlægskartotek!C3738","v":0},{"$f":"+IF((Basisoplysninger!$D$60=\"Ja\")*(Anlægskartotek!C3738<>0)=1,Anlægskartotek!$L$14,Anlægskartotek!I3738)","v":0}]
[null,3728,{"$f":"Anlægskartotek!C3739","v":0},{"$f":"+IF((Basisoplysninger!$D$60=\"Ja\")*(Anlægskartotek!C3739<>0)=1,Anlægskartotek!$L$14,Anlægskartotek!I3739)","v":0}]
[null,3729,{"$f":"Anlægskartotek!C3740","v":0},{"$f":"+IF((Basisoplysninger!$D$60=\"Ja\")*(Anlægskartotek!C3740<>0)=1,Anlægskartotek!$L$14,Anlægskartotek!I3740)","v":0}]
[null,3730,{"$f":"Anlægskartotek!C3741","v":0},{"$f":"+IF((Basisoplysninger!$D$60=\"Ja\")*(Anlægskartotek!C3741<>0)=1,Anlægskartotek!$L$14,Anlægskartotek!I3741)","v":0}]
[null,3731,{"$f":"Anlægskartotek!C3742","v":0},{"$f":"+IF((Basisoplysninger!$D$60=\"Ja\")*(Anlægskartotek!C3742<>0)=1,Anlægskartotek!$L$14,Anlægskartotek!I3742)","v":0}]
[null,3732,{"$f":"Anlægskartotek!C3743","v":0},{"$f":"+IF((Basisoplysninger!$D$60=\"Ja\")*(Anlægskartotek!C3743<>0)=1,Anlægskartotek!$L$14,Anlægskartotek!I3743)","v":0}]
[null,3733,{"$f":"Anlægskartotek!C3744","v":0},{"$f":"+IF((Basisoplysninger!$D$60=\"Ja\")*(Anlægskartotek!C3744<>0)=1,Anlægskartotek!$L$14,Anlægskartotek!I3744)","v":0}]
[null,3734,{"$f":"Anlægskartotek!C3745","v":0},{"$f":"+IF((Basisoplysninger!$D$60=\"Ja\")*(Anlægskartotek!C3745<>0)=1,Anlægskartotek!$L$14,Anlægskartotek!I3745)","v":0}]
[null,3735,{"$f":"Anlægskartotek!C3746","v":0},{"$f":"+IF((Basisoplysninger!$D$60=\"Ja\")*(Anlægskartotek!C3746<>0)=1,Anlægskartotek!$L$14,Anlægskartotek!I3746)","v":0}]
[null,3736,{"$f":"Anlægskartotek!C3747","v":0},{"$f":"+IF((Basisoplysninger!$D$60=\"Ja\")*(Anlægskartotek!C3747<>0)=1,Anlægskartotek!$L$14,Anlægskartotek!I3747)","v":0}]
[null,3737,{"$f":"Anlægskartotek!C3748","v":0},{"$f":"+IF((Basisoplysninger!$D$60=\"Ja\")*(Anlægskartotek!C3748<>0)=1,Anlægskartotek!$L$14,Anlægskartotek!I3748)","v":0}]
[null,3738,{"$f":"Anlægskartotek!C3749","v":0},{"$f":"+IF((Basisoplysninger!$D$60=\"Ja\")*(Anlægskartotek!C3749<>0)=1,Anlægskartotek!$L$14,Anlægskartotek!I3749)","v":0}]
[null,3739,{"$f":"Anlægskartotek!C3750","v":0},{"$f":"+IF((Basisoplysninger!$D$60=\"Ja\")*(Anlægskartotek!C3750<>0)=1,Anlægskartotek!$L$14,Anlægskartotek!I3750)","v":0}]
[null,3740,{"$f":"Anlægskartotek!C3751","v":0},{"$f":"+IF((Basisoplysninger!$D$60=\"Ja\")*(Anlægskartotek!C3751<>0)=1,Anlægskartotek!$L$14,Anlægskartotek!I3751)","v":0}]
[null,3741,{"$f":"Anlægskartotek!C3752","v":0},{"$f":"+IF((Basisoplysninger!$D$60=\"Ja\")*(Anlægskartotek!C3752<>0)=1,Anlægskartotek!$L$14,Anlægskartotek!I3752)","v":0}]
[null,3742,{"$f":"Anlægskartotek!C3753","v":0},{"$f":"+IF((Basisoplysninger!$D$60=\"Ja\")*(Anlægskartotek!C3753<>0)=1,Anlægskartotek!$L$14,Anlægskartotek!I3753)","v":0}]
[null,3743,{"$f":"Anlægskartotek!C3754","v":0},{"$f":"+IF((Basisoplysninger!$D$60=\"Ja\")*(Anlægskartotek!C3754<>0)=1,Anlægskartotek!$L$14,Anlægskartotek!I3754)","v":0}]
[null,3744,{"$f":"Anlægskartotek!C3755","v":0},{"$f":"+IF((Basisoplysninger!$D$60=\"Ja\")*(Anlægskartotek!C3755<>0)=1,Anlægskartotek!$L$14,Anlægskartotek!I3755)","v":0}]
[null,3745,{"$f":"Anlægskartotek!C3756","v":0},{"$f":"+IF((Basisoplysninger!$D$60=\"Ja\")*(Anlægskartotek!C3756<>0)=1,Anlægskartotek!$L$14,Anlægskartotek!I3756)","v":0}]
[null,3746,{"$f":"Anlægskartotek!C3757","v":0},{"$f":"+IF((Basisoplysninger!$D$60=\"Ja\")*(Anlægskartotek!C3757<>0)=1,Anlægskartotek!$L$14,Anlægskartotek!I3757)","v":0}]
[null,3747,{"$f":"Anlægskartotek!C3758","v":0},{"$f":"+IF((Basisoplysninger!$D$60=\"Ja\")*(Anlægskartotek!C3758<>0)=1,Anlægskartotek!$L$14,Anlægskartotek!I3758)","v":0}]
[null,3748,{"$f":"Anlægskartotek!C3759","v":0},{"$f":"+IF((Basisoplysninger!$D$60=\"Ja\")*(Anlægskartotek!C3759<>0)=1,Anlægskartotek!$L$14,Anlægskartotek!I3759)","v":0}]
[null,3749,{"$f":"Anlægskartotek!C3760","v":0},{"$f":"+IF((Basisoplysninger!$D$60=\"Ja\")*(Anlægskartotek!C3760<>0)=1,Anlægskartotek!$L$14,Anlægskartotek!I3760)","v":0}]
[null,3750,{"$f":"Anlægskartotek!C3761","v":0},{"$f":"+IF((Basisoplysninger!$D$60=\"Ja\")*(Anlægskartotek!C3761<>0)=1,Anlægskartotek!$L$14,Anlægskartotek!I3761)","v":0}]
[null,3751,{"$f":"Anlægskartotek!C3762","v":0},{"$f":"+IF((Basisoplysninger!$D$60=\"Ja\")*(Anlægskartotek!C3762<>0)=1,Anlægskartotek!$L$14,Anlægskartotek!I3762)","v":0}]
[null,3752,{"$f":"Anlægskartotek!C3763","v":0},{"$f":"+IF((Basisoplysninger!$D$60=\"Ja\")*(Anlægskartotek!C3763<>0)=1,Anlægskartotek!$L$14,Anlægskartotek!I3763)","v":0}]
[null,3753,{"$f":"Anlægskartotek!C3764","v":0},{"$f":"+IF((Basisoplysninger!$D$60=\"Ja\")*(Anlægskartotek!C3764<>0)=1,Anlægskartotek!$L$14,Anlægskartotek!I3764)","v":0}]
[null,3754,{"$f":"Anlægskartotek!C3765","v":0},{"$f":"+IF((Basisoplysninger!$D$60=\"Ja\")*(Anlægskartotek!C3765<>0)=1,Anlægskartotek!$L$14,Anlægskartotek!I3765)","v":0}]
[null,3755,{"$f":"Anlægskartotek!C3766","v":0},{"$f":"+IF((Basisoplysninger!$D$60=\"Ja\")*(Anlægskartotek!C3766<>0)=1,Anlægskartotek!$L$14,Anlægskartotek!I3766)","v":0}]
[null,3756,{"$f":"Anlægskartotek!C3767","v":0},{"$f":"+IF((Basisoplysninger!$D$60=\"Ja\")*(Anlægskartotek!C3767<>0)=1,Anlægskartotek!$L$14,Anlægskartotek!I3767)","v":0}]
[null,3757,{"$f":"Anlægskartotek!C3768","v":0},{"$f":"+IF((Basisoplysninger!$D$60=\"Ja\")*(Anlægskartotek!C3768<>0)=1,Anlægskartotek!$L$14,Anlægskartotek!I3768)","v":0}]
[null,3758,{"$f":"Anlægskartotek!C3769","v":0},{"$f":"+IF((Basisoplysninger!$D$60=\"Ja\")*(Anlægskartotek!C3769<>0)=1,Anlægskartotek!$L$14,Anlægskartotek!I3769)","v":0}]
[null,3759,{"$f":"Anlægskartotek!C3770","v":0},{"$f":"+IF((Basisoplysninger!$D$60=\"Ja\")*(Anlægskartotek!C3770<>0)=1,Anlægskartotek!$L$14,Anlægskartotek!I3770)","v":0}]
[null,3760,{"$f":"Anlægskartotek!C3771","v":0},{"$f":"+IF((Basisoplysninger!$D$60=\"Ja\")*(Anlægskartotek!C3771<>0)=1,Anlægskartotek!$L$14,Anlægskartotek!I3771)","v":0}]
[null,3761,{"$f":"Anlægskartotek!C3772","v":0},{"$f":"+IF((Basisoplysninger!$D$60=\"Ja\")*(Anlægskartotek!C3772<>0)=1,Anlægskartotek!$L$14,Anlægskartotek!I3772)","v":0}]
[null,3762,{"$f":"Anlægskartotek!C3773","v":0},{"$f":"+IF((Basisoplysninger!$D$60=\"Ja\")*(Anlægskartotek!C3773<>0)=1,Anlægskartotek!$L$14,Anlægskartotek!I3773)","v":0}]
[null,3763,{"$f":"Anlægskartotek!C3774","v":0},{"$f":"+IF((Basisoplysninger!$D$60=\"Ja\")*(Anlægskartotek!C3774<>0)=1,Anlægskartotek!$L$14,Anlægskartotek!I3774)","v":0}]
[null,3764,{"$f":"Anlægskartotek!C3775","v":0},{"$f":"+IF((Basisoplysninger!$D$60=\"Ja\")*(Anlægskartotek!C3775<>0)=1,Anlægskartotek!$L$14,Anlægskartotek!I3775)","v":0}]
[null,3765,{"$f":"Anlægskartotek!C3776","v":0},{"$f":"+IF((Basisoplysninger!$D$60=\"Ja\")*(Anlægskartotek!C3776<>0)=1,Anlægskartotek!$L$14,Anlægskartotek!I3776)","v":0}]
[null,3766,{"$f":"Anlægskartotek!C3777","v":0},{"$f":"+IF((Basisoplysninger!$D$60=\"Ja\")*(Anlægskartotek!C3777<>0)=1,Anlægskartotek!$L$14,Anlægskartotek!I3777)","v":0}]
[null,3767,{"$f":"Anlægskartotek!C3778","v":0},{"$f":"+IF((Basisoplysninger!$D$60=\"Ja\")*(Anlægskartotek!C3778<>0)=1,Anlægskartotek!$L$14,Anlægskartotek!I3778)","v":0}]
[null,3768,{"$f":"Anlægskartotek!C3779","v":0},{"$f":"+IF((Basisoplysninger!$D$60=\"Ja\")*(Anlægskartotek!C3779<>0)=1,Anlægskartotek!$L$14,Anlægskartotek!I3779)","v":0}]
[null,3769,{"$f":"Anlægskartotek!C3780","v":0},{"$f":"+IF((Basisoplysninger!$D$60=\"Ja\")*(Anlægskartotek!C3780<>0)=1,Anlægskartotek!$L$14,Anlægskartotek!I3780)","v":0}]
[null,3770,{"$f":"Anlægskartotek!C3781","v":0},{"$f":"+IF((Basisoplysninger!$D$60=\"Ja\")*(Anlægskartotek!C3781<>0)=1,Anlægskartotek!$L$14,Anlægskartotek!I3781)","v":0}]
[null,3771,{"$f":"Anlægskartotek!C3782","v":0},{"$f":"+IF((Basisoplysninger!$D$60=\"Ja\")*(Anlægskartotek!C3782<>0)=1,Anlægskartotek!$L$14,Anlægskartotek!I3782)","v":0}]
[null,3772,{"$f":"Anlægskartotek!C3783","v":0},{"$f":"+IF((Basisoplysninger!$D$60=\"Ja\")*(Anlægskartotek!C3783<>0)=1,Anlægskartotek!$L$14,Anlægskartotek!I3783)","v":0}]
[null,3773,{"$f":"Anlægskartotek!C3784","v":0},{"$f":"+IF((Basisoplysninger!$D$60=\"Ja\")*(Anlægskartotek!C3784<>0)=1,Anlægskartotek!$L$14,Anlægskartotek!I3784)","v":0}]
[null,3774,{"$f":"Anlægskartotek!C3785","v":0},{"$f":"+IF((Basisoplysninger!$D$60=\"Ja\")*(Anlægskartotek!C3785<>0)=1,Anlægskartotek!$L$14,Anlægskartotek!I3785)","v":0}]
[null,3775,{"$f":"Anlægskartotek!C3786","v":0},{"$f":"+IF((Basisoplysninger!$D$60=\"Ja\")*(Anlægskartotek!C3786<>0)=1,Anlægskartotek!$L$14,Anlægskartotek!I3786)","v":0}]
[null,3776,{"$f":"Anlægskartotek!C3787","v":0},{"$f":"+IF((Basisoplysninger!$D$60=\"Ja\")*(Anlægskartotek!C3787<>0)=1,Anlægskartotek!$L$14,Anlægskartotek!I3787)","v":0}]
[null,3777,{"$f":"Anlægskartotek!C3788","v":0},{"$f":"+IF((Basisoplysninger!$D$60=\"Ja\")*(Anlægskartotek!C3788<>0)=1,Anlægskartotek!$L$14,Anlægskartotek!I3788)","v":0}]
[null,3778,{"$f":"Anlægskartotek!C3789","v":0},{"$f":"+IF((Basisoplysninger!$D$60=\"Ja\")*(Anlægskartotek!C3789<>0)=1,Anlægskartotek!$L$14,Anlægskartotek!I3789)","v":0}]
[null,{"$f":"B3887+1","v":3779},{"$f":"Anlægskartotek!C3790","v":0},{"$f":"+IF((Basisoplysninger!$D$60=\"Ja\")*(Anlægskartotek!C3790<>0)=1,Anlægskartotek!$L$14,Anlægskartotek!I3790)","v":0}]
[null,3780,{"$f":"Anlægskartotek!C3791","v":0},{"$f":"+IF((Basisoplysninger!$D$60=\"Ja\")*(Anlægskartotek!C3791<>0)=1,Anlægskartotek!$L$14,Anlægskartotek!I3791)","v":0}]
[null,3781,{"$f":"Anlægskartotek!C3792","v":0},{"$f":"+IF((Basisoplysninger!$D$60=\"Ja\")*(Anlægskartotek!C3792<>0)=1,Anlægskartotek!$L$14,Anlægskartotek!I3792)","v":0}]
[null,3782,{"$f":"Anlægskartotek!C3793","v":0},{"$f":"+IF((Basisoplysninger!$D$60=\"Ja\")*(Anlægskartotek!C3793<>0)=1,Anlægskartotek!$L$14,Anlægskartotek!I3793)","v":0}]
[null,3783,{"$f":"Anlægskartotek!C3794","v":0},{"$f":"+IF((Basisoplysninger!$D$60=\"Ja\")*(Anlægskartotek!C3794<>0)=1,Anlægskartotek!$L$14,Anlægskartotek!I3794)","v":0}]
[null,3784,{"$f":"Anlægskartotek!C3795","v":0},{"$f":"+IF((Basisoplysninger!$D$60=\"Ja\")*(Anlægskartotek!C3795<>0)=1,Anlægskartotek!$L$14,Anlægskartotek!I3795)","v":0}]
[null,3785,{"$f":"Anlægskartotek!C3796","v":0},{"$f":"+IF((Basisoplysninger!$D$60=\"Ja\")*(Anlægskartotek!C3796<>0)=1,Anlægskartotek!$L$14,Anlægskartotek!I3796)","v":0}]
[null,3786,{"$f":"Anlægskartotek!C3797","v":0},{"$f":"+IF((Basisoplysninger!$D$60=\"Ja\")*(Anlægskartotek!C3797<>0)=1,Anlægskartotek!$L$14,Anlægskartotek!I3797)","v":0}]
[null,3787,{"$f":"Anlægskartotek!C3798","v":0},{"$f":"+IF((Basisoplysninger!$D$60=\"Ja\")*(Anlægskartotek!C3798<>0)=1,Anlægskartotek!$L$14,Anlægskartotek!I3798)","v":0}]
[null,3788,{"$f":"Anlægskartotek!C3799","v":0},{"$f":"+IF((Basisoplysninger!$D$60=\"Ja\")*(Anlægskartotek!C3799<>0)=1,Anlægskartotek!$L$14,Anlægskartotek!I3799)","v":0}]
[null,3789,{"$f":"Anlægskartotek!C3800","v":0},{"$f":"+IF((Basisoplysninger!$D$60=\"Ja\")*(Anlægskartotek!C3800<>0)=1,Anlægskartotek!$L$14,Anlægskartotek!I3800)","v":0}]
[null,3790,{"$f":"Anlægskartotek!C3801","v":0},{"$f":"+IF((Basisoplysninger!$D$60=\"Ja\")*(Anlægskartotek!C3801<>0)=1,Anlægskartotek!$L$14,Anlægskartotek!I3801)","v":0}]
[null,3791,{"$f":"Anlægskartotek!C3802","v":0},{"$f":"+IF((Basisoplysninger!$D$60=\"Ja\")*(Anlægskartotek!C3802<>0)=1,Anlægskartotek!$L$14,Anlægskartotek!I3802)","v":0}]
[null,3792,{"$f":"Anlægskartotek!C3803","v":0},{"$f":"+IF((Basisoplysninger!$D$60=\"Ja\")*(Anlægskartotek!C3803<>0)=1,Anlægskartotek!$L$14,Anlægskartotek!I3803)","v":0}]
[null,3793,{"$f":"Anlægskartotek!C3804","v":0},{"$f":"+IF((Basisoplysninger!$D$60=\"Ja\")*(Anlægskartotek!C3804<>0)=1,Anlægskartotek!$L$14,Anlægskartotek!I3804)","v":0}]
[null,3794,{"$f":"Anlægskartotek!C3805","v":0},{"$f":"+IF((Basisoplysninger!$D$60=\"Ja\")*(Anlægskartotek!C3805<>0)=1,Anlægskartotek!$L$14,Anlægskartotek!I3805)","v":0}]
[null,3795,{"$f":"Anlægskartotek!C3806","v":0},{"$f":"+IF((Basisoplysninger!$D$60=\"Ja\")*(Anlægskartotek!C3806<>0)=1,Anlægskartotek!$L$14,Anlægskartotek!I3806)","v":0}]
[null,3796,{"$f":"Anlægskartotek!C3807","v":0},{"$f":"+IF((Basisoplysninger!$D$60=\"Ja\")*(Anlægskartotek!C3807<>0)=1,Anlægskartotek!$L$14,Anlægskartotek!I3807)","v":0}]
[null,3797,{"$f":"Anlægskartotek!C3808","v":0},{"$f":"+IF((Basisoplysninger!$D$60=\"Ja\")*(Anlægskartotek!C3808<>0)=1,Anlægskartotek!$L$14,Anlægskartotek!I3808)","v":0}]
[null,3798,{"$f":"Anlægskartotek!C3809","v":0},{"$f":"+IF((Basisoplysninger!$D$60=\"Ja\")*(Anlægskartotek!C3809<>0)=1,Anlægskartotek!$L$14,Anlægskartotek!I3809)","v":0}]
[null,3799,{"$f":"Anlægskartotek!C3810","v":0},{"$f":"+IF((Basisoplysninger!$D$60=\"Ja\")*(Anlægskartotek!C3810<>0)=1,Anlægskartotek!$L$14,Anlægskartotek!I3810)","v":0}]
[null,3800,{"$f":"Anlægskartotek!C3811","v":0},{"$f":"+IF((Basisoplysninger!$D$60=\"Ja\")*(Anlægskartotek!C3811<>0)=1,Anlægskartotek!$L$14,Anlægskartotek!I3811)","v":0}]
[null,3801,{"$f":"Anlægskartotek!C3812","v":0},{"$f":"+IF((Basisoplysninger!$D$60=\"Ja\")*(Anlægskartotek!C3812<>0)=1,Anlægskartotek!$L$14,Anlægskartotek!I3812)","v":0}]
[null,3802,{"$f":"Anlægskartotek!C3813","v":0},{"$f":"+IF((Basisoplysninger!$D$60=\"Ja\")*(Anlægskartotek!C3813<>0)=1,Anlægskartotek!$L$14,Anlægskartotek!I3813)","v":0}]
[null,3803,{"$f":"Anlægskartotek!C3814","v":0},{"$f":"+IF((Basisoplysninger!$D$60=\"Ja\")*(Anlægskartotek!C3814<>0)=1,Anlægskartotek!$L$14,Anlægskartotek!I3814)","v":0}]
[null,3804,{"$f":"Anlægskartotek!C3815","v":0},{"$f":"+IF((Basisoplysninger!$D$60=\"Ja\")*(Anlægskartotek!C3815<>0)=1,Anlægskartotek!$L$14,Anlægskartotek!I3815)","v":0}]
[null,3805,{"$f":"Anlægskartotek!C3816","v":0},{"$f":"+IF((Basisoplysninger!$D$60=\"Ja\")*(Anlægskartotek!C3816<>0)=1,Anlægskartotek!$L$14,Anlægskartotek!I3816)","v":0}]
[null,3806,{"$f":"Anlægskartotek!C3817","v":0},{"$f":"+IF((Basisoplysninger!$D$60=\"Ja\")*(Anlægskartotek!C3817<>0)=1,Anlægskartotek!$L$14,Anlægskartotek!I3817)","v":0}]
[null,3807,{"$f":"Anlægskartotek!C3818","v":0},{"$f":"+IF((Basisoplysninger!$D$60=\"Ja\")*(Anlægskartotek!C3818<>0)=1,Anlægskartotek!$L$14,Anlægskartotek!I3818)","v":0}]
[null,3808,{"$f":"Anlægskartotek!C3819","v":0},{"$f":"+IF((Basisoplysninger!$D$60=\"Ja\")*(Anlægskartotek!C3819<>0)=1,Anlægskartotek!$L$14,Anlægskartotek!I3819)","v":0}]
[null,3809,{"$f":"Anlægskartotek!C3820","v":0},{"$f":"+IF((Basisoplysninger!$D$60=\"Ja\")*(Anlægskartotek!C3820<>0)=1,Anlægskartotek!$L$14,Anlægskartotek!I3820)","v":0}]
[null,3810,{"$f":"Anlægskartotek!C3821","v":0},{"$f":"+IF((Basisoplysninger!$D$60=\"Ja\")*(Anlægskartotek!C3821<>0)=1,Anlægskartotek!$L$14,Anlægskartotek!I3821)","v":0}]
[null,3811,{"$f":"Anlægskartotek!C3822","v":0},{"$f":"+IF((Basisoplysninger!$D$60=\"Ja\")*(Anlægskartotek!C3822<>0)=1,Anlægskartotek!$L$14,Anlægskartotek!I3822)","v":0}]
[null,3812,{"$f":"Anlægskartotek!C3823","v":0},{"$f":"+IF((Basisoplysninger!$D$60=\"Ja\")*(Anlægskartotek!C3823<>0)=1,Anlægskartotek!$L$14,Anlægskartotek!I3823)","v":0}]
[null,3813,{"$f":"Anlægskartotek!C3824","v":0},{"$f":"+IF((Basisoplysninger!$D$60=\"Ja\")*(Anlægskartotek!C3824<>0)=1,Anlægskartotek!$L$14,Anlægskartotek!I3824)","v":0}]
[null,3814,{"$f":"Anlægskartotek!C3825","v":0},{"$f":"+IF((Basisoplysninger!$D$60=\"Ja\")*(Anlægskartotek!C3825<>0)=1,Anlægskartotek!$L$14,Anlægskartotek!I3825)","v":0}]
[null,3815,{"$f":"Anlægskartotek!C3826","v":0},{"$f":"+IF((Basisoplysninger!$D$60=\"Ja\")*(Anlægskartotek!C3826<>0)=1,Anlægskartotek!$L$14,Anlægskartotek!I3826)","v":0}]
[null,3816,{"$f":"Anlægskartotek!C3827","v":0},{"$f":"+IF((Basisoplysninger!$D$60=\"Ja\")*(Anlægskartotek!C3827<>0)=1,Anlægskartotek!$L$14,Anlægskartotek!I3827)","v":0}]
[null,3817,{"$f":"Anlægskartotek!C3828","v":0},{"$f":"+IF((Basisoplysninger!$D$60=\"Ja\")*(Anlægskartotek!C3828<>0)=1,Anlægskartotek!$L$14,Anlægskartotek!I3828)","v":0}]
[null,3818,{"$f":"Anlægskartotek!C3829","v":0},{"$f":"+IF((Basisoplysninger!$D$60=\"Ja\")*(Anlægskartotek!C3829<>0)=1,Anlægskartotek!$L$14,Anlægskartotek!I3829)","v":0}]
[null,3819,{"$f":"Anlægskartotek!C3830","v":0},{"$f":"+IF((Basisoplysninger!$D$60=\"Ja\")*(Anlægskartotek!C3830<>0)=1,Anlægskartotek!$L$14,Anlægskartotek!I3830)","v":0}]
[null,3820,{"$f":"Anlægskartotek!C3831","v":0},{"$f":"+IF((Basisoplysninger!$D$60=\"Ja\")*(Anlægskartotek!C3831<>0)=1,Anlægskartotek!$L$14,Anlægskartotek!I3831)","v":0}]
[null,3821,{"$f":"Anlægskartotek!C3832","v":0},{"$f":"+IF((Basisoplysninger!$D$60=\"Ja\")*(Anlægskartotek!C3832<>0)=1,Anlægskartotek!$L$14,Anlægskartotek!I3832)","v":0}]
[null,3822,{"$f":"Anlægskartotek!C3833","v":0},{"$f":"+IF((Basisoplysninger!$D$60=\"Ja\")*(Anlægskartotek!C3833<>0)=1,Anlægskartotek!$L$14,Anlægskartotek!I3833)","v":0}]
[null,3823,{"$f":"Anlægskartotek!C3834","v":0},{"$f":"+IF((Basisoplysninger!$D$60=\"Ja\")*(Anlægskartotek!C3834<>0)=1,Anlægskartotek!$L$14,Anlægskartotek!I3834)","v":0}]
[null,3824,{"$f":"Anlægskartotek!C3835","v":0},{"$f":"+IF((Basisoplysninger!$D$60=\"Ja\")*(Anlægskartotek!C3835<>0)=1,Anlægskartotek!$L$14,Anlægskartotek!I3835)","v":0}]
[null,3825,{"$f":"Anlægskartotek!C3836","v":0},{"$f":"+IF((Basisoplysninger!$D$60=\"Ja\")*(Anlægskartotek!C3836<>0)=1,Anlægskartotek!$L$14,Anlægskartotek!I3836)","v":0}]
[null,3826,{"$f":"Anlægskartotek!C3837","v":0},{"$f":"+IF((Basisoplysninger!$D$60=\"Ja\")*(Anlægskartotek!C3837<>0)=1,Anlægskartotek!$L$14,Anlægskartotek!I3837)","v":0}]
[null,3827,{"$f":"Anlægskartotek!C3838","v":0},{"$f":"+IF((Basisoplysninger!$D$60=\"Ja\")*(Anlægskartotek!C3838<>0)=1,Anlægskartotek!$L$14,Anlægskartotek!I3838)","v":0}]
[null,3828,{"$f":"Anlægskartotek!C3839","v":0},{"$f":"+IF((Basisoplysninger!$D$60=\"Ja\")*(Anlægskartotek!C3839<>0)=1,Anlægskartotek!$L$14,Anlægskartotek!I3839)","v":0}]
[null,3829,{"$f":"Anlægskartotek!C3840","v":0},{"$f":"+IF((Basisoplysninger!$D$60=\"Ja\")*(Anlægskartotek!C3840<>0)=1,Anlægskartotek!$L$14,Anlægskartotek!I3840)","v":0}]
[null,3830,{"$f":"Anlægskartotek!C3841","v":0},{"$f":"+IF((Basisoplysninger!$D$60=\"Ja\")*(Anlægskartotek!C3841<>0)=1,Anlægskartotek!$L$14,Anlægskartotek!I3841)","v":0}]
[null,3831,{"$f":"Anlægskartotek!C3842","v":0},{"$f":"+IF((Basisoplysninger!$D$60=\"Ja\")*(Anlægskartotek!C3842<>0)=1,Anlægskartotek!$L$14,Anlægskartotek!I3842)","v":0}]
[null,3832,{"$f":"Anlægskartotek!C3843","v":0},{"$f":"+IF((Basisoplysninger!$D$60=\"Ja\")*(Anlægskartotek!C3843<>0)=1,Anlægskartotek!$L$14,Anlægskartotek!I3843)","v":0}]
[null,3833,{"$f":"Anlægskartotek!C3844","v":0},{"$f":"+IF((Basisoplysninger!$D$60=\"Ja\")*(Anlægskartotek!C3844<>0)=1,Anlægskartotek!$L$14,Anlægskartotek!I3844)","v":0}]
[null,3834,{"$f":"Anlægskartotek!C3845","v":0},{"$f":"+IF((Basisoplysninger!$D$60=\"Ja\")*(Anlægskartotek!C3845<>0)=1,Anlægskartotek!$L$14,Anlægskartotek!I3845)","v":0}]
[null,3835,{"$f":"Anlægskartotek!C3846","v":0},{"$f":"+IF((Basisoplysninger!$D$60=\"Ja\")*(Anlægskartotek!C3846<>0)=1,Anlægskartotek!$L$14,Anlægskartotek!I3846)","v":0}]
[null,3836,{"$f":"Anlægskartotek!C3847","v":0},{"$f":"+IF((Basisoplysninger!$D$60=\"Ja\")*(Anlægskartotek!C3847<>0)=1,Anlægskartotek!$L$14,Anlægskartotek!I3847)","v":0}]
[null,3837,{"$f":"Anlægskartotek!C3848","v":0},{"$f":"+IF((Basisoplysninger!$D$60=\"Ja\")*(Anlægskartotek!C3848<>0)=1,Anlægskartotek!$L$14,Anlægskartotek!I3848)","v":0}]
[null,3838,{"$f":"Anlægskartotek!C3849","v":0},{"$f":"+IF((Basisoplysninger!$D$60=\"Ja\")*(Anlægskartotek!C3849<>0)=1,Anlægskartotek!$L$14,Anlægskartotek!I3849)","v":0}]
[null,3839,{"$f":"Anlægskartotek!C3850","v":0},{"$f":"+IF((Basisoplysninger!$D$60=\"Ja\")*(Anlægskartotek!C3850<>0)=1,Anlægskartotek!$L$14,Anlægskartotek!I3850)","v":0}]
[null,3840,{"$f":"Anlægskartotek!C3851","v":0},{"$f":"+IF((Basisoplysninger!$D$60=\"Ja\")*(Anlægskartotek!C3851<>0)=1,Anlægskartotek!$L$14,Anlægskartotek!I3851)","v":0}]
[null,3841,{"$f":"Anlægskartotek!C3852","v":0},{"$f":"+IF((Basisoplysninger!$D$60=\"Ja\")*(Anlægskartotek!C3852<>0)=1,Anlægskartotek!$L$14,Anlægskartotek!I3852)","v":0}]
[null,3842,{"$f":"Anlægskartotek!C3853","v":0},{"$f":"+IF((Basisoplysninger!$D$60=\"Ja\")*(Anlægskartotek!C3853<>0)=1,Anlægskartotek!$L$14,Anlægskartotek!I3853)","v":0}]
[null,{"$f":"B3951+1","v":3843},{"$f":"Anlægskartotek!C3854","v":0},{"$f":"+IF((Basisoplysninger!$D$60=\"Ja\")*(Anlægskartotek!C3854<>0)=1,Anlægskartotek!$L$14,Anlægskartotek!I3854)","v":0}]
[null,3844,{"$f":"Anlægskartotek!C3855","v":0},{"$f":"+IF((Basisoplysninger!$D$60=\"Ja\")*(Anlægskartotek!C3855<>0)=1,Anlægskartotek!$L$14,Anlægskartotek!I3855)","v":0}]
[null,3845,{"$f":"Anlægskartotek!C3856","v":0},{"$f":"+IF((Basisoplysninger!$D$60=\"Ja\")*(Anlægskartotek!C3856<>0)=1,Anlægskartotek!$L$14,Anlægskartotek!I3856)","v":0}]
[null,3846,{"$f":"Anlægskartotek!C3857","v":0},{"$f":"+IF((Basisoplysninger!$D$60=\"Ja\")*(Anlægskartotek!C3857<>0)=1,Anlægskartotek!$L$14,Anlægskartotek!I3857)","v":0}]
[null,3847,{"$f":"Anlægskartotek!C3858","v":0},{"$f":"+IF((Basisoplysninger!$D$60=\"Ja\")*(Anlægskartotek!C3858<>0)=1,Anlægskartotek!$L$14,Anlægskartotek!I3858)","v":0}]
[null,3848,{"$f":"Anlægskartotek!C3859","v":0},{"$f":"+IF((Basisoplysninger!$D$60=\"Ja\")*(Anlægskartotek!C3859<>0)=1,Anlægskartotek!$L$14,Anlægskartotek!I3859)","v":0}]
[null,3849,{"$f":"Anlægskartotek!C3860","v":0},{"$f":"+IF((Basisoplysninger!$D$60=\"Ja\")*(Anlægskartotek!C3860<>0)=1,Anlægskartotek!$L$14,Anlægskartotek!I3860)","v":0}]
[null,3850,{"$f":"Anlægskartotek!C3861","v":0},{"$f":"+IF((Basisoplysninger!$D$60=\"Ja\")*(Anlægskartotek!C3861<>0)=1,Anlægskartotek!$L$14,Anlægskartotek!I3861)","v":0}]
[null,3851,{"$f":"Anlægskartotek!C3862","v":0},{"$f":"+IF((Basisoplysninger!$D$60=\"Ja\")*(Anlægskartotek!C3862<>0)=1,Anlægskartotek!$L$14,Anlægskartotek!I3862)","v":0}]
[null,3852,{"$f":"Anlægskartotek!C3863","v":0},{"$f":"+IF((Basisoplysninger!$D$60=\"Ja\")*(Anlægskartotek!C3863<>0)=1,Anlægskartotek!$L$14,Anlægskartotek!I3863)","v":0}]
[null,3853,{"$f":"Anlægskartotek!C3864","v":0},{"$f":"+IF((Basisoplysninger!$D$60=\"Ja\")*(Anlægskartotek!C3864<>0)=1,Anlægskartotek!$L$14,Anlægskartotek!I3864)","v":0}]
[null,3854,{"$f":"Anlægskartotek!C3865","v":0},{"$f":"+IF((Basisoplysninger!$D$60=\"Ja\")*(Anlægskartotek!C3865<>0)=1,Anlægskartotek!$L$14,Anlægskartotek!I3865)","v":0}]
[null,3855,{"$f":"Anlægskartotek!C3866","v":0},{"$f":"+IF((Basisoplysninger!$D$60=\"Ja\")*(Anlægskartotek!C3866<>0)=1,Anlægskartotek!$L$14,Anlægskartotek!I3866)","v":0}]
[null,3856,{"$f":"Anlægskartotek!C3867","v":0},{"$f":"+IF((Basisoplysninger!$D$60=\"Ja\")*(Anlægskartotek!C3867<>0)=1,Anlægskartotek!$L$14,Anlægskartotek!I3867)","v":0}]
[null,3857,{"$f":"Anlægskartotek!C3868","v":0},{"$f":"+IF((Basisoplysninger!$D$60=\"Ja\")*(Anlægskartotek!C3868<>0)=1,Anlægskartotek!$L$14,Anlægskartotek!I3868)","v":0}]
[null,3858,{"$f":"Anlægskartotek!C3869","v":0},{"$f":"+IF((Basisoplysninger!$D$60=\"Ja\")*(Anlægskartotek!C3869<>0)=1,Anlægskartotek!$L$14,Anlægskartotek!I3869)","v":0}]
[null,3859,{"$f":"Anlægskartotek!C3870","v":0},{"$f":"+IF((Basisoplysninger!$D$60=\"Ja\")*(Anlægskartotek!C3870<>0)=1,Anlægskartotek!$L$14,Anlægskartotek!I3870)","v":0}]
[null,3860,{"$f":"Anlægskartotek!C3871","v":0},{"$f":"+IF((Basisoplysninger!$D$60=\"Ja\")*(Anlægskartotek!C3871<>0)=1,Anlægskartotek!$L$14,Anlægskartotek!I3871)","v":0}]
[null,3861,{"$f":"Anlægskartotek!C3872","v":0},{"$f":"+IF((Basisoplysninger!$D$60=\"Ja\")*(Anlægskartotek!C3872<>0)=1,Anlægskartotek!$L$14,Anlægskartotek!I3872)","v":0}]
[null,3862,{"$f":"Anlægskartotek!C3873","v":0},{"$f":"+IF((Basisoplysninger!$D$60=\"Ja\")*(Anlægskartotek!C3873<>0)=1,Anlægskartotek!$L$14,Anlægskartotek!I3873)","v":0}]
[null,3863,{"$f":"Anlægskartotek!C3874","v":0},{"$f":"+IF((Basisoplysninger!$D$60=\"Ja\")*(Anlægskartotek!C3874<>0)=1,Anlægskartotek!$L$14,Anlægskartotek!I3874)","v":0}]
[null,3864,{"$f":"Anlægskartotek!C3875","v":0},{"$f":"+IF((Basisoplysninger!$D$60=\"Ja\")*(Anlægskartotek!C3875<>0)=1,Anlægskartotek!$L$14,Anlægskartotek!I3875)","v":0}]
[null,3865,{"$f":"Anlægskartotek!C3876","v":0},{"$f":"+IF((Basisoplysninger!$D$60=\"Ja\")*(Anlægskartotek!C3876<>0)=1,Anlægskartotek!$L$14,Anlægskartotek!I3876)","v":0}]
[null,3866,{"$f":"Anlægskartotek!C3877","v":0},{"$f":"+IF((Basisoplysninger!$D$60=\"Ja\")*(Anlægskartotek!C3877<>0)=1,Anlægskartotek!$L$14,Anlægskartotek!I3877)","v":0}]
[null,3867,{"$f":"Anlægskartotek!C3878","v":0},{"$f":"+IF((Basisoplysninger!$D$60=\"Ja\")*(Anlægskartotek!C3878<>0)=1,Anlægskartotek!$L$14,Anlægskartotek!I3878)","v":0}]
[null,3868,{"$f":"Anlægskartotek!C3879","v":0},{"$f":"+IF((Basisoplysninger!$D$60=\"Ja\")*(Anlægskartotek!C3879<>0)=1,Anlægskartotek!$L$14,Anlægskartotek!I3879)","v":0}]
[null,3869,{"$f":"Anlægskartotek!C3880","v":0},{"$f":"+IF((Basisoplysninger!$D$60=\"Ja\")*(Anlægskartotek!C3880<>0)=1,Anlægskartotek!$L$14,Anlægskartotek!I3880)","v":0}]
[null,3870,{"$f":"Anlægskartotek!C3881","v":0},{"$f":"+IF((Basisoplysninger!$D$60=\"Ja\")*(Anlægskartotek!C3881<>0)=1,Anlægskartotek!$L$14,Anlægskartotek!I3881)","v":0}]
[null,3871,{"$f":"Anlægskartotek!C3882","v":0},{"$f":"+IF((Basisoplysninger!$D$60=\"Ja\")*(Anlægskartotek!C3882<>0)=1,Anlægskartotek!$L$14,Anlægskartotek!I3882)","v":0}]
[null,3872,{"$f":"Anlægskartotek!C3883","v":0},{"$f":"+IF((Basisoplysninger!$D$60=\"Ja\")*(Anlægskartotek!C3883<>0)=1,Anlægskartotek!$L$14,Anlægskartotek!I3883)","v":0}]
[null,3873,{"$f":"Anlægskartotek!C3884","v":0},{"$f":"+IF((Basisoplysninger!$D$60=\"Ja\")*(Anlægskartotek!C3884<>0)=1,Anlægskartotek!$L$14,Anlægskartotek!I3884)","v":0}]
[null,3874,{"$f":"Anlægskartotek!C3885","v":0},{"$f":"+IF((Basisoplysninger!$D$60=\"Ja\")*(Anlægskartotek!C3885<>0)=1,Anlægskartotek!$L$14,Anlægskartotek!I3885)","v":0}]
[null,3875,{"$f":"Anlægskartotek!C3886","v":0},{"$f":"+IF((Basisoplysninger!$D$60=\"Ja\")*(Anlægskartotek!C3886<>0)=1,Anlægskartotek!$L$14,Anlægskartotek!I3886)","v":0}]
[null,3876,{"$f":"Anlægskartotek!C3887","v":0},{"$f":"+IF((Basisoplysninger!$D$60=\"Ja\")*(Anlægskartotek!C3887<>0)=1,Anlægskartotek!$L$14,Anlægskartotek!I3887)","v":0}]
[null,3877,{"$f":"Anlægskartotek!C3888","v":0},{"$f":"+IF((Basisoplysninger!$D$60=\"Ja\")*(Anlægskartotek!C3888<>0)=1,Anlægskartotek!$L$14,Anlægskartotek!I3888)","v":0}]
[null,3878,{"$f":"Anlægskartotek!C3889","v":0},{"$f":"+IF((Basisoplysninger!$D$60=\"Ja\")*(Anlægskartotek!C3889<>0)=1,Anlægskartotek!$L$14,Anlægskartotek!I3889)","v":0}]
[null,3879,{"$f":"Anlægskartotek!C3890","v":0},{"$f":"+IF((Basisoplysninger!$D$60=\"Ja\")*(Anlægskartotek!C3890<>0)=1,Anlægskartotek!$L$14,Anlægskartotek!I3890)","v":0}]
[null,3880,{"$f":"Anlægskartotek!C3891","v":0},{"$f":"+IF((Basisoplysninger!$D$60=\"Ja\")*(Anlægskartotek!C3891<>0)=1,Anlægskartotek!$L$14,Anlægskartotek!I3891)","v":0}]
[null,3881,{"$f":"Anlægskartotek!C3892","v":0},{"$f":"+IF((Basisoplysninger!$D$60=\"Ja\")*(Anlægskartotek!C3892<>0)=1,Anlægskartotek!$L$14,Anlægskartotek!I3892)","v":0}]
[null,3882,{"$f":"Anlægskartotek!C3893","v":0},{"$f":"+IF((Basisoplysninger!$D$60=\"Ja\")*(Anlægskartotek!C3893<>0)=1,Anlægskartotek!$L$14,Anlægskartotek!I3893)","v":0}]
[null,3883,{"$f":"Anlægskartotek!C3894","v":0},{"$f":"+IF((Basisoplysninger!$D$60=\"Ja\")*(Anlægskartotek!C3894<>0)=1,Anlægskartotek!$L$14,Anlægskartotek!I3894)","v":0}]
[null,3884,{"$f":"Anlægskartotek!C3895","v":0},{"$f":"+IF((Basisoplysninger!$D$60=\"Ja\")*(Anlægskartotek!C3895<>0)=1,Anlægskartotek!$L$14,Anlægskartotek!I3895)","v":0}]
[null,3885,{"$f":"Anlægskartotek!C3896","v":0},{"$f":"+IF((Basisoplysninger!$D$60=\"Ja\")*(Anlægskartotek!C3896<>0)=1,Anlægskartotek!$L$14,Anlægskartotek!I3896)","v":0}]
[null,3886,{"$f":"Anlægskartotek!C3897","v":0},{"$f":"+IF((Basisoplysninger!$D$60=\"Ja\")*(Anlægskartotek!C3897<>0)=1,Anlægskartotek!$L$14,Anlægskartotek!I3897)","v":0}]
[null,3887,{"$f":"Anlægskartotek!C3898","v":0},{"$f":"+IF((Basisoplysninger!$D$60=\"Ja\")*(Anlægskartotek!C3898<>0)=1,Anlægskartotek!$L$14,Anlægskartotek!I3898)","v":0}]
[null,3888,{"$f":"Anlægskartotek!C3899","v":0},{"$f":"+IF((Basisoplysninger!$D$60=\"Ja\")*(Anlægskartotek!C3899<>0)=1,Anlægskartotek!$L$14,Anlægskartotek!I3899)","v":0}]
[null,3889,{"$f":"Anlægskartotek!C3900","v":0},{"$f":"+IF((Basisoplysninger!$D$60=\"Ja\")*(Anlægskartotek!C3900<>0)=1,Anlægskartotek!$L$14,Anlægskartotek!I3900)","v":0}]
[null,3890,{"$f":"Anlægskartotek!C3901","v":0},{"$f":"+IF((Basisoplysninger!$D$60=\"Ja\")*(Anlægskartotek!C3901<>0)=1,Anlægskartotek!$L$14,Anlægskartotek!I3901)","v":0}]
[null,3891,{"$f":"Anlægskartotek!C3902","v":0},{"$f":"+IF((Basisoplysninger!$D$60=\"Ja\")*(Anlægskartotek!C3902<>0)=1,Anlægskartotek!$L$14,Anlægskartotek!I3902)","v":0}]
[null,3892,{"$f":"Anlægskartotek!C3903","v":0},{"$f":"+IF((Basisoplysninger!$D$60=\"Ja\")*(Anlægskartotek!C3903<>0)=1,Anlægskartotek!$L$14,Anlægskartotek!I3903)","v":0}]
[null,3893,{"$f":"Anlægskartotek!C3904","v":0},{"$f":"+IF((Basisoplysninger!$D$60=\"Ja\")*(Anlægskartotek!C3904<>0)=1,Anlægskartotek!$L$14,Anlægskartotek!I3904)","v":0}]
[null,3894,{"$f":"Anlægskartotek!C3905","v":0},{"$f":"+IF((Basisoplysninger!$D$60=\"Ja\")*(Anlægskartotek!C3905<>0)=1,Anlægskartotek!$L$14,Anlægskartotek!I3905)","v":0}]
[null,3895,{"$f":"Anlægskartotek!C3906","v":0},{"$f":"+IF((Basisoplysninger!$D$60=\"Ja\")*(Anlægskartotek!C3906<>0)=1,Anlægskartotek!$L$14,Anlægskartotek!I3906)","v":0}]
[null,3896,{"$f":"Anlægskartotek!C3907","v":0},{"$f":"+IF((Basisoplysninger!$D$60=\"Ja\")*(Anlægskartotek!C3907<>0)=1,Anlægskartotek!$L$14,Anlægskartotek!I3907)","v":0}]
[null,3897,{"$f":"Anlægskartotek!C3908","v":0},{"$f":"+IF((Basisoplysninger!$D$60=\"Ja\")*(Anlægskartotek!C3908<>0)=1,Anlægskartotek!$L$14,Anlægskartotek!I3908)","v":0}]
[null,3898,{"$f":"Anlægskartotek!C3909","v":0},{"$f":"+IF((Basisoplysninger!$D$60=\"Ja\")*(Anlægskartotek!C3909<>0)=1,Anlægskartotek!$L$14,Anlægskartotek!I3909)","v":0}]
[null,3899,{"$f":"Anlægskartotek!C3910","v":0},{"$f":"+IF((Basisoplysninger!$D$60=\"Ja\")*(Anlægskartotek!C3910<>0)=1,Anlægskartotek!$L$14,Anlægskartotek!I3910)","v":0}]
[null,3900,{"$f":"Anlægskartotek!C3911","v":0},{"$f":"+IF((Basisoplysninger!$D$60=\"Ja\")*(Anlægskartotek!C3911<>0)=1,Anlægskartotek!$L$14,Anlægskartotek!I3911)","v":0}]
[null,3901,{"$f":"Anlægskartotek!C3912","v":0},{"$f":"+IF((Basisoplysninger!$D$60=\"Ja\")*(Anlægskartotek!C3912<>0)=1,Anlægskartotek!$L$14,Anlægskartotek!I3912)","v":0}]
[null,3902,{"$f":"Anlægskartotek!C3913","v":0},{"$f":"+IF((Basisoplysninger!$D$60=\"Ja\")*(Anlægskartotek!C3913<>0)=1,Anlægskartotek!$L$14,Anlægskartotek!I3913)","v":0}]
[null,3903,{"$f":"Anlægskartotek!C3914","v":0},{"$f":"+IF((Basisoplysninger!$D$60=\"Ja\")*(Anlægskartotek!C3914<>0)=1,Anlægskartotek!$L$14,Anlægskartotek!I3914)","v":0}]
[null,3904,{"$f":"Anlægskartotek!C3915","v":0},{"$f":"+IF((Basisoplysninger!$D$60=\"Ja\")*(Anlægskartotek!C3915<>0)=1,Anlægskartotek!$L$14,Anlægskartotek!I3915)","v":0}]
[null,3905,{"$f":"Anlægskartotek!C3916","v":0},{"$f":"+IF((Basisoplysninger!$D$60=\"Ja\")*(Anlægskartotek!C3916<>0)=1,Anlægskartotek!$L$14,Anlægskartotek!I3916)","v":0}]
[null,3906,{"$f":"Anlægskartotek!C3917","v":0},{"$f":"+IF((Basisoplysninger!$D$60=\"Ja\")*(Anlægskartotek!C3917<>0)=1,Anlægskartotek!$L$14,Anlægskartotek!I3917)","v":0}]
[null,{"$f":"B4015+1","v":3907},{"$f":"Anlægskartotek!C3918","v":0},{"$f":"+IF((Basisoplysninger!$D$60=\"Ja\")*(Anlægskartotek!C3918<>0)=1,Anlægskartotek!$L$14,Anlægskartotek!I3918)","v":0}]
[null,3908,{"$f":"Anlægskartotek!C3919","v":0},{"$f":"+IF((Basisoplysninger!$D$60=\"Ja\")*(Anlægskartotek!C3919<>0)=1,Anlægskartotek!$L$14,Anlægskartotek!I3919)","v":0}]
[null,3909,{"$f":"Anlægskartotek!C3920","v":0},{"$f":"+IF((Basisoplysninger!$D$60=\"Ja\")*(Anlægskartotek!C3920<>0)=1,Anlægskartotek!$L$14,Anlægskartotek!I3920)","v":0}]
[null,3910,{"$f":"Anlægskartotek!C3921","v":0},{"$f":"+IF((Basisoplysninger!$D$60=\"Ja\")*(Anlægskartotek!C3921<>0)=1,Anlægskartotek!$L$14,Anlægskartotek!I3921)","v":0}]
[null,3911,{"$f":"Anlægskartotek!C3922","v":0},{"$f":"+IF((Basisoplysninger!$D$60=\"Ja\")*(Anlægskartotek!C3922<>0)=1,Anlægskartotek!$L$14,Anlægskartotek!I3922)","v":0}]
[null,3912,{"$f":"Anlægskartotek!C3923","v":0},{"$f":"+IF((Basisoplysninger!$D$60=\"Ja\")*(Anlægskartotek!C3923<>0)=1,Anlægskartotek!$L$14,Anlægskartotek!I3923)","v":0}]
[null,3913,{"$f":"Anlægskartotek!C3924","v":0},{"$f":"+IF((Basisoplysninger!$D$60=\"Ja\")*(Anlægskartotek!C3924<>0)=1,Anlægskartotek!$L$14,Anlægskartotek!I3924)","v":0}]
[null,3914,{"$f":"Anlægskartotek!C3925","v":0},{"$f":"+IF((Basisoplysninger!$D$60=\"Ja\")*(Anlægskartotek!C3925<>0)=1,Anlægskartotek!$L$14,Anlægskartotek!I3925)","v":0}]
[null,3915,{"$f":"Anlægskartotek!C3926","v":0},{"$f":"+IF((Basisoplysninger!$D$60=\"Ja\")*(Anlægskartotek!C3926<>0)=1,Anlægskartotek!$L$14,Anlægskartotek!I3926)","v":0}]
[null,3916,{"$f":"Anlægskartotek!C3927","v":0},{"$f":"+IF((Basisoplysninger!$D$60=\"Ja\")*(Anlægskartotek!C3927<>0)=1,Anlægskartotek!$L$14,Anlægskartotek!I3927)","v":0}]
[null,3917,{"$f":"Anlægskartotek!C3928","v":0},{"$f":"+IF((Basisoplysninger!$D$60=\"Ja\")*(Anlægskartotek!C3928<>0)=1,Anlægskartotek!$L$14,Anlægskartotek!I3928)","v":0}]
[null,3918,{"$f":"Anlægskartotek!C3929","v":0},{"$f":"+IF((Basisoplysninger!$D$60=\"Ja\")*(Anlægskartotek!C3929<>0)=1,Anlægskartotek!$L$14,Anlægskartotek!I3929)","v":0}]
[null,3919,{"$f":"Anlægskartotek!C3930","v":0},{"$f":"+IF((Basisoplysninger!$D$60=\"Ja\")*(Anlægskartotek!C3930<>0)=1,Anlægskartotek!$L$14,Anlægskartotek!I3930)","v":0}]
[null,3920,{"$f":"Anlægskartotek!C3931","v":0},{"$f":"+IF((Basisoplysninger!$D$60=\"Ja\")*(Anlægskartotek!C3931<>0)=1,Anlægskartotek!$L$14,Anlægskartotek!I3931)","v":0}]
[null,3921,{"$f":"Anlægskartotek!C3932","v":0},{"$f":"+IF((Basisoplysninger!$D$60=\"Ja\")*(Anlægskartotek!C3932<>0)=1,Anlægskartotek!$L$14,Anlægskartotek!I3932)","v":0}]
[null,3922,{"$f":"Anlægskartotek!C3933","v":0},{"$f":"+IF((Basisoplysninger!$D$60=\"Ja\")*(Anlægskartotek!C3933<>0)=1,Anlægskartotek!$L$14,Anlægskartotek!I3933)","v":0}]
[null,3923,{"$f":"Anlægskartotek!C3934","v":0},{"$f":"+IF((Basisoplysninger!$D$60=\"Ja\")*(Anlægskartotek!C3934<>0)=1,Anlægskartotek!$L$14,Anlægskartotek!I3934)","v":0}]
[null,3924,{"$f":"Anlægskartotek!C3935","v":0},{"$f":"+IF((Basisoplysninger!$D$60=\"Ja\")*(Anlægskartotek!C3935<>0)=1,Anlægskartotek!$L$14,Anlægskartotek!I3935)","v":0}]
[null,3925,{"$f":"Anlægskartotek!C3936","v":0},{"$f":"+IF((Basisoplysninger!$D$60=\"Ja\")*(Anlægskartotek!C3936<>0)=1,Anlægskartotek!$L$14,Anlægskartotek!I3936)","v":0}]
[null,3926,{"$f":"Anlægskartotek!C3937","v":0},{"$f":"+IF((Basisoplysninger!$D$60=\"Ja\")*(Anlægskartotek!C3937<>0)=1,Anlægskartotek!$L$14,Anlægskartotek!I3937)","v":0}]
[null,3927,{"$f":"Anlægskartotek!C3938","v":0},{"$f":"+IF((Basisoplysninger!$D$60=\"Ja\")*(Anlægskartotek!C3938<>0)=1,Anlægskartotek!$L$14,Anlægskartotek!I3938)","v":0}]
[null,3928,{"$f":"Anlægskartotek!C3939","v":0},{"$f":"+IF((Basisoplysninger!$D$60=\"Ja\")*(Anlægskartotek!C3939<>0)=1,Anlægskartotek!$L$14,Anlægskartotek!I3939)","v":0}]
[null,3929,{"$f":"Anlægskartotek!C3940","v":0},{"$f":"+IF((Basisoplysninger!$D$60=\"Ja\")*(Anlægskartotek!C3940<>0)=1,Anlægskartotek!$L$14,Anlægskartotek!I3940)","v":0}]
[null,3930,{"$f":"Anlægskartotek!C3941","v":0},{"$f":"+IF((Basisoplysninger!$D$60=\"Ja\")*(Anlægskartotek!C3941<>0)=1,Anlægskartotek!$L$14,Anlægskartotek!I3941)","v":0}]
[null,3931,{"$f":"Anlægskartotek!C3942","v":0},{"$f":"+IF((Basisoplysninger!$D$60=\"Ja\")*(Anlægskartotek!C3942<>0)=1,Anlægskartotek!$L$14,Anlægskartotek!I3942)","v":0}]
[null,3932,{"$f":"Anlægskartotek!C3943","v":0},{"$f":"+IF((Basisoplysninger!$D$60=\"Ja\")*(Anlægskartotek!C3943<>0)=1,Anlægskartotek!$L$14,Anlægskartotek!I3943)","v":0}]
[null,3933,{"$f":"Anlægskartotek!C3944","v":0},{"$f":"+IF((Basisoplysninger!$D$60=\"Ja\")*(Anlægskartotek!C3944<>0)=1,Anlægskartotek!$L$14,Anlægskartotek!I3944)","v":0}]
[null,3934,{"$f":"Anlægskartotek!C3945","v":0},{"$f":"+IF((Basisoplysninger!$D$60=\"Ja\")*(Anlægskartotek!C3945<>0)=1,Anlægskartotek!$L$14,Anlægskartotek!I3945)","v":0}]
[null,3935,{"$f":"Anlægskartotek!C3946","v":0},{"$f":"+IF((Basisoplysninger!$D$60=\"Ja\")*(Anlægskartotek!C3946<>0)=1,Anlægskartotek!$L$14,Anlægskartotek!I3946)","v":0}]
[null,3936,{"$f":"Anlægskartotek!C3947","v":0},{"$f":"+IF((Basisoplysninger!$D$60=\"Ja\")*(Anlægskartotek!C3947<>0)=1,Anlægskartotek!$L$14,Anlægskartotek!I3947)","v":0}]
[null,3937,{"$f":"Anlægskartotek!C3948","v":0},{"$f":"+IF((Basisoplysninger!$D$60=\"Ja\")*(Anlægskartotek!C3948<>0)=1,Anlægskartotek!$L$14,Anlægskartotek!I3948)","v":0}]
[null,3938,{"$f":"Anlægskartotek!C3949","v":0},{"$f":"+IF((Basisoplysninger!$D$60=\"Ja\")*(Anlægskartotek!C3949<>0)=1,Anlægskartotek!$L$14,Anlægskartotek!I3949)","v":0}]
[null,3939,{"$f":"Anlægskartotek!C3950","v":0},{"$f":"+IF((Basisoplysninger!$D$60=\"Ja\")*(Anlægskartotek!C3950<>0)=1,Anlægskartotek!$L$14,Anlægskartotek!I3950)","v":0}]
[null,3940,{"$f":"Anlægskartotek!C3951","v":0},{"$f":"+IF((Basisoplysninger!$D$60=\"Ja\")*(Anlægskartotek!C3951<>0)=1,Anlægskartotek!$L$14,Anlægskartotek!I3951)","v":0}]
[null,3941,{"$f":"Anlægskartotek!C3952","v":0},{"$f":"+IF((Basisoplysninger!$D$60=\"Ja\")*(Anlægskartotek!C3952<>0)=1,Anlægskartotek!$L$14,Anlægskartotek!I3952)","v":0}]
[null,3942,{"$f":"Anlægskartotek!C3953","v":0},{"$f":"+IF((Basisoplysninger!$D$60=\"Ja\")*(Anlægskartotek!C3953<>0)=1,Anlægskartotek!$L$14,Anlægskartotek!I3953)","v":0}]
[null,3943,{"$f":"Anlægskartotek!C3954","v":0},{"$f":"+IF((Basisoplysninger!$D$60=\"Ja\")*(Anlægskartotek!C3954<>0)=1,Anlægskartotek!$L$14,Anlægskartotek!I3954)","v":0}]
[null,3944,{"$f":"Anlægskartotek!C3955","v":0},{"$f":"+IF((Basisoplysninger!$D$60=\"Ja\")*(Anlægskartotek!C3955<>0)=1,Anlægskartotek!$L$14,Anlægskartotek!I3955)","v":0}]
[null,3945,{"$f":"Anlægskartotek!C3956","v":0},{"$f":"+IF((Basisoplysninger!$D$60=\"Ja\")*(Anlægskartotek!C3956<>0)=1,Anlægskartotek!$L$14,Anlægskartotek!I3956)","v":0}]
[null,3946,{"$f":"Anlægskartotek!C3957","v":0},{"$f":"+IF((Basisoplysninger!$D$60=\"Ja\")*(Anlægskartotek!C3957<>0)=1,Anlægskartotek!$L$14,Anlægskartotek!I3957)","v":0}]
[null,3947,{"$f":"Anlægskartotek!C3958","v":0},{"$f":"+IF((Basisoplysninger!$D$60=\"Ja\")*(Anlægskartotek!C3958<>0)=1,Anlægskartotek!$L$14,Anlægskartotek!I3958)","v":0}]
[null,3948,{"$f":"Anlægskartotek!C3959","v":0},{"$f":"+IF((Basisoplysninger!$D$60=\"Ja\")*(Anlægskartotek!C3959<>0)=1,Anlægskartotek!$L$14,Anlægskartotek!I3959)","v":0}]
[null,3949,{"$f":"Anlægskartotek!C3960","v":0},{"$f":"+IF((Basisoplysninger!$D$60=\"Ja\")*(Anlægskartotek!C3960<>0)=1,Anlægskartotek!$L$14,Anlægskartotek!I3960)","v":0}]
[null,3950,{"$f":"Anlægskartotek!C3961","v":0},{"$f":"+IF((Basisoplysninger!$D$60=\"Ja\")*(Anlægskartotek!C3961<>0)=1,Anlægskartotek!$L$14,Anlægskartotek!I3961)","v":0}]
[null,3951,{"$f":"Anlægskartotek!C3962","v":0},{"$f":"+IF((Basisoplysninger!$D$60=\"Ja\")*(Anlægskartotek!C3962<>0)=1,Anlægskartotek!$L$14,Anlægskartotek!I3962)","v":0}]
[null,3952,{"$f":"Anlægskartotek!C3963","v":0},{"$f":"+IF((Basisoplysninger!$D$60=\"Ja\")*(Anlægskartotek!C3963<>0)=1,Anlægskartotek!$L$14,Anlægskartotek!I3963)","v":0}]
[null,3953,{"$f":"Anlægskartotek!C3964","v":0},{"$f":"+IF((Basisoplysninger!$D$60=\"Ja\")*(Anlægskartotek!C3964<>0)=1,Anlægskartotek!$L$14,Anlægskartotek!I3964)","v":0}]
[null,3954,{"$f":"Anlægskartotek!C3965","v":0},{"$f":"+IF((Basisoplysninger!$D$60=\"Ja\")*(Anlægskartotek!C3965<>0)=1,Anlægskartotek!$L$14,Anlægskartotek!I3965)","v":0}]
[null,3955,{"$f":"Anlægskartotek!C3966","v":0},{"$f":"+IF((Basisoplysninger!$D$60=\"Ja\")*(Anlægskartotek!C3966<>0)=1,Anlægskartotek!$L$14,Anlægskartotek!I3966)","v":0}]
[null,3956,{"$f":"Anlægskartotek!C3967","v":0},{"$f":"+IF((Basisoplysninger!$D$60=\"Ja\")*(Anlægskartotek!C3967<>0)=1,Anlægskartotek!$L$14,Anlægskartotek!I3967)","v":0}]
[null,3957,{"$f":"Anlægskartotek!C3968","v":0},{"$f":"+IF((Basisoplysninger!$D$60=\"Ja\")*(Anlægskartotek!C3968<>0)=1,Anlægskartotek!$L$14,Anlægskartotek!I3968)","v":0}]
[null,3958,{"$f":"Anlægskartotek!C3969","v":0},{"$f":"+IF((Basisoplysninger!$D$60=\"Ja\")*(Anlægskartotek!C3969<>0)=1,Anlægskartotek!$L$14,Anlægskartotek!I3969)","v":0}]
[null,3959,{"$f":"Anlægskartotek!C3970","v":0},{"$f":"+IF((Basisoplysninger!$D$60=\"Ja\")*(Anlægskartotek!C3970<>0)=1,Anlægskartotek!$L$14,Anlægskartotek!I3970)","v":0}]
[null,3960,{"$f":"Anlægskartotek!C3971","v":0},{"$f":"+IF((Basisoplysninger!$D$60=\"Ja\")*(Anlægskartotek!C3971<>0)=1,Anlægskartotek!$L$14,Anlægskartotek!I3971)","v":0}]
[null,3961,{"$f":"Anlægskartotek!C3972","v":0},{"$f":"+IF((Basisoplysninger!$D$60=\"Ja\")*(Anlægskartotek!C3972<>0)=1,Anlægskartotek!$L$14,Anlægskartotek!I3972)","v":0}]
[null,3962,{"$f":"Anlægskartotek!C3973","v":0},{"$f":"+IF((Basisoplysninger!$D$60=\"Ja\")*(Anlægskartotek!C3973<>0)=1,Anlægskartotek!$L$14,Anlægskartotek!I3973)","v":0}]
[null,3963,{"$f":"Anlægskartotek!C3974","v":0},{"$f":"+IF((Basisoplysninger!$D$60=\"Ja\")*(Anlægskartotek!C3974<>0)=1,Anlægskartotek!$L$14,Anlægskartotek!I3974)","v":0}]
[null,3964,{"$f":"Anlægskartotek!C3975","v":0},{"$f":"+IF((Basisoplysninger!$D$60=\"Ja\")*(Anlægskartotek!C3975<>0)=1,Anlægskartotek!$L$14,Anlægskartotek!I3975)","v":0}]
[null,3965,{"$f":"Anlægskartotek!C3976","v":0},{"$f":"+IF((Basisoplysninger!$D$60=\"Ja\")*(Anlægskartotek!C3976<>0)=1,Anlægskartotek!$L$14,Anlægskartotek!I3976)","v":0}]
[null,3966,{"$f":"Anlægskartotek!C3977","v":0},{"$f":"+IF((Basisoplysninger!$D$60=\"Ja\")*(Anlægskartotek!C3977<>0)=1,Anlægskartotek!$L$14,Anlægskartotek!I3977)","v":0}]
[null,3967,{"$f":"Anlægskartotek!C3978","v":0},{"$f":"+IF((Basisoplysninger!$D$60=\"Ja\")*(Anlægskartotek!C3978<>0)=1,Anlægskartotek!$L$14,Anlægskartotek!I3978)","v":0}]
[null,3968,{"$f":"Anlægskartotek!C3979","v":0},{"$f":"+IF((Basisoplysninger!$D$60=\"Ja\")*(Anlægskartotek!C3979<>0)=1,Anlægskartotek!$L$14,Anlægskartotek!I3979)","v":0}]
[null,3969,{"$f":"Anlægskartotek!C3980","v":0},{"$f":"+IF((Basisoplysninger!$D$60=\"Ja\")*(Anlægskartotek!C3980<>0)=1,Anlægskartotek!$L$14,Anlægskartotek!I3980)","v":0}]
[null,3970,{"$f":"Anlægskartotek!C3981","v":0},{"$f":"+IF((Basisoplysninger!$D$60=\"Ja\")*(Anlægskartotek!C3981<>0)=1,Anlægskartotek!$L$14,Anlægskartotek!I3981)","v":0}]
[null,{"$f":"B4079+1","v":3971},{"$f":"Anlægskartotek!C3982","v":0},{"$f":"+IF((Basisoplysninger!$D$60=\"Ja\")*(Anlægskartotek!C3982<>0)=1,Anlægskartotek!$L$14,Anlægskartotek!I3982)","v":0}]
[null,3972,{"$f":"Anlægskartotek!C3983","v":0},{"$f":"+IF((Basisoplysninger!$D$60=\"Ja\")*(Anlægskartotek!C3983<>0)=1,Anlægskartotek!$L$14,Anlægskartotek!I3983)","v":0}]
[null,3973,{"$f":"Anlægskartotek!C3984","v":0},{"$f":"+IF((Basisoplysninger!$D$60=\"Ja\")*(Anlægskartotek!C3984<>0)=1,Anlægskartotek!$L$14,Anlægskartotek!I3984)","v":0}]
[null,3974,{"$f":"Anlægskartotek!C3985","v":0},{"$f":"+IF((Basisoplysninger!$D$60=\"Ja\")*(Anlægskartotek!C3985<>0)=1,Anlægskartotek!$L$14,Anlægskartotek!I3985)","v":0}]
[null,3975,{"$f":"Anlægskartotek!C3986","v":0},{"$f":"+IF((Basisoplysninger!$D$60=\"Ja\")*(Anlægskartotek!C3986<>0)=1,Anlægskartotek!$L$14,Anlægskartotek!I3986)","v":0}]
[null,3976,{"$f":"Anlægskartotek!C3987","v":0},{"$f":"+IF((Basisoplysninger!$D$60=\"Ja\")*(Anlægskartotek!C3987<>0)=1,Anlægskartotek!$L$14,Anlægskartotek!I3987)","v":0}]
[null,3977,{"$f":"Anlægskartotek!C3988","v":0},{"$f":"+IF((Basisoplysninger!$D$60=\"Ja\")*(Anlægskartotek!C3988<>0)=1,Anlægskartotek!$L$14,Anlægskartotek!I3988)","v":0}]
[null,3978,{"$f":"Anlægskartotek!C3989","v":0},{"$f":"+IF((Basisoplysninger!$D$60=\"Ja\")*(Anlægskartotek!C3989<>0)=1,Anlægskartotek!$L$14,Anlægskartotek!I3989)","v":0}]
[null,3979,{"$f":"Anlægskartotek!C3990","v":0},{"$f":"+IF((Basisoplysninger!$D$60=\"Ja\")*(Anlægskartotek!C3990<>0)=1,Anlægskartotek!$L$14,Anlægskartotek!I3990)","v":0}]
[null,3980,{"$f":"Anlægskartotek!C3991","v":0},{"$f":"+IF((Basisoplysninger!$D$60=\"Ja\")*(Anlægskartotek!C3991<>0)=1,Anlægskartotek!$L$14,Anlægskartotek!I3991)","v":0}]
[null,3981,{"$f":"Anlægskartotek!C3992","v":0},{"$f":"+IF((Basisoplysninger!$D$60=\"Ja\")*(Anlægskartotek!C3992<>0)=1,Anlægskartotek!$L$14,Anlægskartotek!I3992)","v":0}]
[null,3982,{"$f":"Anlægskartotek!C3993","v":0},{"$f":"+IF((Basisoplysninger!$D$60=\"Ja\")*(Anlægskartotek!C3993<>0)=1,Anlægskartotek!$L$14,Anlægskartotek!I3993)","v":0}]
[null,3983,{"$f":"Anlægskartotek!C3994","v":0},{"$f":"+IF((Basisoplysninger!$D$60=\"Ja\")*(Anlægskartotek!C3994<>0)=1,Anlægskartotek!$L$14,Anlægskartotek!I3994)","v":0}]
[null,3984,{"$f":"Anlægskartotek!C3995","v":0},{"$f":"+IF((Basisoplysninger!$D$60=\"Ja\")*(Anlægskartotek!C3995<>0)=1,Anlægskartotek!$L$14,Anlægskartotek!I3995)","v":0}]
[null,3985,{"$f":"Anlægskartotek!C3996","v":0},{"$f":"+IF((Basisoplysninger!$D$60=\"Ja\")*(Anlægskartotek!C3996<>0)=1,Anlægskartotek!$L$14,Anlægskartotek!I3996)","v":0}]
[null,3986,{"$f":"Anlægskartotek!C3997","v":0},{"$f":"+IF((Basisoplysninger!$D$60=\"Ja\")*(Anlægskartotek!C3997<>0)=1,Anlægskartotek!$L$14,Anlægskartotek!I3997)","v":0}]
[null,3987,{"$f":"Anlægskartotek!C3998","v":0},{"$f":"+IF((Basisoplysninger!$D$60=\"Ja\")*(Anlægskartotek!C3998<>0)=1,Anlægskartotek!$L$14,Anlægskartotek!I3998)","v":0}]
[null,3988,{"$f":"Anlægskartotek!C3999","v":0},{"$f":"+IF((Basisoplysninger!$D$60=\"Ja\")*(Anlægskartotek!C3999<>0)=1,Anlægskartotek!$L$14,Anlægskartotek!I3999)","v":0}]
[null,3989,{"$f":"Anlægskartotek!C4000","v":0},{"$f":"+IF((Basisoplysninger!$D$60=\"Ja\")*(Anlægskartotek!C4000<>0)=1,Anlægskartotek!$L$14,Anlægskartotek!I4000)","v":0}]
[null,3990,{"$f":"Anlægskartotek!C4001","v":0},{"$f":"+IF((Basisoplysninger!$D$60=\"Ja\")*(Anlægskartotek!C4001<>0)=1,Anlægskartotek!$L$14,Anlægskartotek!I4001)","v":0}]
[null,3991,{"$f":"Anlægskartotek!C4002","v":0},{"$f":"+IF((Basisoplysninger!$D$60=\"Ja\")*(Anlægskartotek!C4002<>0)=1,Anlægskartotek!$L$14,Anlægskartotek!I4002)","v":0}]
[null,3992,{"$f":"Anlægskartotek!C4003","v":0},{"$f":"+IF((Basisoplysninger!$D$60=\"Ja\")*(Anlægskartotek!C4003<>0)=1,Anlægskartotek!$L$14,Anlægskartotek!I4003)","v":0}]
[null,3993,{"$f":"Anlægskartotek!C4004","v":0},{"$f":"+IF((Basisoplysninger!$D$60=\"Ja\")*(Anlægskartotek!C4004<>0)=1,Anlægskartotek!$L$14,Anlægskartotek!I4004)","v":0}]
[null,3994,{"$f":"Anlægskartotek!C4005","v":0},{"$f":"+IF((Basisoplysninger!$D$60=\"Ja\")*(Anlægskartotek!C4005<>0)=1,Anlægskartotek!$L$14,Anlægskartotek!I4005)","v":0}]
[null,3995,{"$f":"Anlægskartotek!C4006","v":0},{"$f":"+IF((Basisoplysninger!$D$60=\"Ja\")*(Anlægskartotek!C4006<>0)=1,Anlægskartotek!$L$14,Anlægskartotek!I4006)","v":0}]
[null,3996,{"$f":"Anlægskartotek!C4007","v":0},{"$f":"+IF((Basisoplysninger!$D$60=\"Ja\")*(Anlægskartotek!C4007<>0)=1,Anlægskartotek!$L$14,Anlægskartotek!I4007)","v":0}]
[null,3997,{"$f":"Anlægskartotek!C4008","v":0},{"$f":"+IF((Basisoplysninger!$D$60=\"Ja\")*(Anlægskartotek!C4008<>0)=1,Anlægskartotek!$L$14,Anlægskartotek!I4008)","v":0}]
[null,3998,{"$f":"Anlægskartotek!C4009","v":0},{"$f":"+IF((Basisoplysninger!$D$60=\"Ja\")*(Anlægskartotek!C4009<>0)=1,Anlægskartotek!$L$14,Anlægskartotek!I4009)","v":0}]
[null,3999,{"$f":"Anlægskartotek!C4010","v":0},{"$f":"+IF((Basisoplysninger!$D$60=\"Ja\")*(Anlægskartotek!C4010<>0)=1,Anlægskartotek!$L$14,Anlægskartotek!I4010)","v":0}]
[null,4000,{"$f":"Anlægskartotek!C4011","v":0},{"$f":"+IF((Basisoplysninger!$D$60=\"Ja\")*(Anlægskartotek!C4011<>0)=1,Anlægskartotek!$L$14,Anlægskartotek!I4011)","v":0}]
[null,4001,{"$f":"Anlægskartotek!C4012","v":0},{"$f":"+IF((Basisoplysninger!$D$60=\"Ja\")*(Anlægskartotek!C4012<>0)=1,Anlægskartotek!$L$14,Anlægskartotek!I4012)","v":0}]
[null,4002,{"$f":"Anlægskartotek!C4013","v":0},{"$f":"+IF((Basisoplysninger!$D$60=\"Ja\")*(Anlægskartotek!C4013<>0)=1,Anlægskartotek!$L$14,Anlægskartotek!I4013)","v":0}]
[null,4003,{"$f":"Anlægskartotek!C4014","v":0},{"$f":"+IF((Basisoplysninger!$D$60=\"Ja\")*(Anlægskartotek!C4014<>0)=1,Anlægskartotek!$L$14,Anlægskartotek!I4014)","v":0}]
[null,4004,{"$f":"Anlægskartotek!C4015","v":0},{"$f":"+IF((Basisoplysninger!$D$60=\"Ja\")*(Anlægskartotek!C4015<>0)=1,Anlægskartotek!$L$14,Anlægskartotek!I4015)","v":0}]
[null,4005,{"$f":"Anlægskartotek!C4016","v":0},{"$f":"+IF((Basisoplysninger!$D$60=\"Ja\")*(Anlægskartotek!C4016<>0)=1,Anlægskartotek!$L$14,Anlægskartotek!I4016)","v":0}]
[null,4006,{"$f":"Anlægskartotek!C4017","v":0},{"$f":"+IF((Basisoplysninger!$D$60=\"Ja\")*(Anlægskartotek!C4017<>0)=1,Anlægskartotek!$L$14,Anlægskartotek!I4017)","v":0}]
[null,4007,{"$f":"Anlægskartotek!C4018","v":0},{"$f":"+IF((Basisoplysninger!$D$60=\"Ja\")*(Anlægskartotek!C4018<>0)=1,Anlægskartotek!$L$14,Anlægskartotek!I4018)","v":0}]
[null,4008,{"$f":"Anlægskartotek!C4019","v":0},{"$f":"+IF((Basisoplysninger!$D$60=\"Ja\")*(Anlægskartotek!C4019<>0)=1,Anlægskartotek!$L$14,Anlægskartotek!I4019)","v":0}]
[null,4009,{"$f":"Anlægskartotek!C4020","v":0},{"$f":"+IF((Basisoplysninger!$D$60=\"Ja\")*(Anlægskartotek!C4020<>0)=1,Anlægskartotek!$L$14,Anlægskartotek!I4020)","v":0}]
[null,4010,{"$f":"Anlægskartotek!C4021","v":0},{"$f":"+IF((Basisoplysninger!$D$60=\"Ja\")*(Anlægskartotek!C4021<>0)=1,Anlægskartotek!$L$14,Anlægskartotek!I4021)","v":0}]
[null,4011,{"$f":"Anlægskartotek!C4022","v":0},{"$f":"+IF((Basisoplysninger!$D$60=\"Ja\")*(Anlægskartotek!C4022<>0)=1,Anlægskartotek!$L$14,Anlægskartotek!I4022)","v":0}]
[null,4012,{"$f":"Anlægskartotek!C4023","v":0},{"$f":"+IF((Basisoplysninger!$D$60=\"Ja\")*(Anlægskartotek!C4023<>0)=1,Anlægskartotek!$L$14,Anlægskartotek!I4023)","v":0}]
[null,4013,{"$f":"Anlægskartotek!C4024","v":0},{"$f":"+IF((Basisoplysninger!$D$60=\"Ja\")*(Anlægskartotek!C4024<>0)=1,Anlægskartotek!$L$14,Anlægskartotek!I4024)","v":0}]
[null,4014,{"$f":"Anlægskartotek!C4025","v":0},{"$f":"+IF((Basisoplysninger!$D$60=\"Ja\")*(Anlægskartotek!C4025<>0)=1,Anlægskartotek!$L$14,Anlægskartotek!I4025)","v":0}]
[null,4015,{"$f":"Anlægskartotek!C4026","v":0},{"$f":"+IF((Basisoplysninger!$D$60=\"Ja\")*(Anlægskartotek!C4026<>0)=1,Anlægskartotek!$L$14,Anlægskartotek!I4026)","v":0}]
[null,4016,{"$f":"Anlægskartotek!C4027","v":0},{"$f":"+IF((Basisoplysninger!$D$60=\"Ja\")*(Anlægskartotek!C4027<>0)=1,Anlægskartotek!$L$14,Anlægskartotek!I4027)","v":0}]
[null,4017,{"$f":"Anlægskartotek!C4028","v":0},{"$f":"+IF((Basisoplysninger!$D$60=\"Ja\")*(Anlægskartotek!C4028<>0)=1,Anlægskartotek!$L$14,Anlægskartotek!I4028)","v":0}]
[null,4018,{"$f":"Anlægskartotek!C4029","v":0},{"$f":"+IF((Basisoplysninger!$D$60=\"Ja\")*(Anlægskartotek!C4029<>0)=1,Anlægskartotek!$L$14,Anlægskartotek!I4029)","v":0}]
[null,4019,{"$f":"Anlægskartotek!C4030","v":0},{"$f":"+IF((Basisoplysninger!$D$60=\"Ja\")*(Anlægskartotek!C4030<>0)=1,Anlægskartotek!$L$14,Anlægskartotek!I4030)","v":0}]
[null,4020,{"$f":"Anlægskartotek!C4031","v":0},{"$f":"+IF((Basisoplysninger!$D$60=\"Ja\")*(Anlægskartotek!C4031<>0)=1,Anlægskartotek!$L$14,Anlægskartotek!I4031)","v":0}]
[null,4021,{"$f":"Anlægskartotek!C4032","v":0},{"$f":"+IF((Basisoplysninger!$D$60=\"Ja\")*(Anlægskartotek!C4032<>0)=1,Anlægskartotek!$L$14,Anlægskartotek!I4032)","v":0}]
[null,4022,{"$f":"Anlægskartotek!C4033","v":0},{"$f":"+IF((Basisoplysninger!$D$60=\"Ja\")*(Anlægskartotek!C4033<>0)=1,Anlægskartotek!$L$14,Anlægskartotek!I4033)","v":0}]
[null,4023,{"$f":"Anlægskartotek!C4034","v":0},{"$f":"+IF((Basisoplysninger!$D$60=\"Ja\")*(Anlægskartotek!C4034<>0)=1,Anlægskartotek!$L$14,Anlægskartotek!I4034)","v":0}]
[null,4024,{"$f":"Anlægskartotek!C4035","v":0},{"$f":"+IF((Basisoplysninger!$D$60=\"Ja\")*(Anlægskartotek!C4035<>0)=1,Anlægskartotek!$L$14,Anlægskartotek!I4035)","v":0}]
[null,4025,{"$f":"Anlægskartotek!C4036","v":0},{"$f":"+IF((Basisoplysninger!$D$60=\"Ja\")*(Anlægskartotek!C4036<>0)=1,Anlægskartotek!$L$14,Anlægskartotek!I4036)","v":0}]
[null,4026,{"$f":"Anlægskartotek!C4037","v":0},{"$f":"+IF((Basisoplysninger!$D$60=\"Ja\")*(Anlægskartotek!C4037<>0)=1,Anlægskartotek!$L$14,Anlægskartotek!I4037)","v":0}]
[null,4027,{"$f":"Anlægskartotek!C4038","v":0},{"$f":"+IF((Basisoplysninger!$D$60=\"Ja\")*(Anlægskartotek!C4038<>0)=1,Anlægskartotek!$L$14,Anlægskartotek!I4038)","v":0}]
[null,4028,{"$f":"Anlægskartotek!C4039","v":0},{"$f":"+IF((Basisoplysninger!$D$60=\"Ja\")*(Anlægskartotek!C4039<>0)=1,Anlægskartotek!$L$14,Anlægskartotek!I4039)","v":0}]
[null,4029,{"$f":"Anlægskartotek!C4040","v":0},{"$f":"+IF((Basisoplysninger!$D$60=\"Ja\")*(Anlægskartotek!C4040<>0)=1,Anlægskartotek!$L$14,Anlægskartotek!I4040)","v":0}]
[null,4030,{"$f":"Anlægskartotek!C4041","v":0},{"$f":"+IF((Basisoplysninger!$D$60=\"Ja\")*(Anlægskartotek!C4041<>0)=1,Anlægskartotek!$L$14,Anlægskartotek!I4041)","v":0}]
[null,4031,{"$f":"Anlægskartotek!C4042","v":0},{"$f":"+IF((Basisoplysninger!$D$60=\"Ja\")*(Anlægskartotek!C4042<>0)=1,Anlægskartotek!$L$14,Anlægskartotek!I4042)","v":0}]
[null,4032,{"$f":"Anlægskartotek!C4043","v":0},{"$f":"+IF((Basisoplysninger!$D$60=\"Ja\")*(Anlægskartotek!C4043<>0)=1,Anlægskartotek!$L$14,Anlægskartotek!I4043)","v":0}]
[null,4033,{"$f":"Anlægskartotek!C4044","v":0},{"$f":"+IF((Basisoplysninger!$D$60=\"Ja\")*(Anlægskartotek!C4044<>0)=1,Anlægskartotek!$L$14,Anlægskartotek!I4044)","v":0}]
[null,4034,{"$f":"Anlægskartotek!C4045","v":0},{"$f":"+IF((Basisoplysninger!$D$60=\"Ja\")*(Anlægskartotek!C4045<>0)=1,Anlægskartotek!$L$14,Anlægskartotek!I4045)","v":0}]
[null,{"$f":"B4143+1","v":4035},{"$f":"Anlægskartotek!C4046","v":0},{"$f":"+IF((Basisoplysninger!$D$60=\"Ja\")*(Anlægskartotek!C4046<>0)=1,Anlægskartotek!$L$14,Anlægskartotek!I4046)","v":0}]
[null,4036,{"$f":"Anlægskartotek!C4047","v":0},{"$f":"+IF((Basisoplysninger!$D$60=\"Ja\")*(Anlægskartotek!C4047<>0)=1,Anlægskartotek!$L$14,Anlægskartotek!I4047)","v":0}]
[null,4037,{"$f":"Anlægskartotek!C4048","v":0},{"$f":"+IF((Basisoplysninger!$D$60=\"Ja\")*(Anlægskartotek!C4048<>0)=1,Anlægskartotek!$L$14,Anlægskartotek!I4048)","v":0}]
[null,4038,{"$f":"Anlægskartotek!C4049","v":0},{"$f":"+IF((Basisoplysninger!$D$60=\"Ja\")*(Anlægskartotek!C4049<>0)=1,Anlægskartotek!$L$14,Anlægskartotek!I4049)","v":0}]
[null,4039,{"$f":"Anlægskartotek!C4050","v":0},{"$f":"+IF((Basisoplysninger!$D$60=\"Ja\")*(Anlægskartotek!C4050<>0)=1,Anlægskartotek!$L$14,Anlægskartotek!I4050)","v":0}]
[null,4040,{"$f":"Anlægskartotek!C4051","v":0},{"$f":"+IF((Basisoplysninger!$D$60=\"Ja\")*(Anlægskartotek!C4051<>0)=1,Anlægskartotek!$L$14,Anlægskartotek!I4051)","v":0}]
[null,4041,{"$f":"Anlægskartotek!C4052","v":0},{"$f":"+IF((Basisoplysninger!$D$60=\"Ja\")*(Anlægskartotek!C4052<>0)=1,Anlægskartotek!$L$14,Anlægskartotek!I4052)","v":0}]
[null,4042,{"$f":"Anlægskartotek!C4053","v":0},{"$f":"+IF((Basisoplysninger!$D$60=\"Ja\")*(Anlægskartotek!C4053<>0)=1,Anlægskartotek!$L$14,Anlægskartotek!I4053)","v":0}]
[null,4043,{"$f":"Anlægskartotek!C4054","v":0},{"$f":"+IF((Basisoplysninger!$D$60=\"Ja\")*(Anlægskartotek!C4054<>0)=1,Anlægskartotek!$L$14,Anlægskartotek!I4054)","v":0}]
[null,4044,{"$f":"Anlægskartotek!C4055","v":0},{"$f":"+IF((Basisoplysninger!$D$60=\"Ja\")*(Anlægskartotek!C4055<>0)=1,Anlægskartotek!$L$14,Anlægskartotek!I4055)","v":0}]
[null,4045,{"$f":"Anlægskartotek!C4056","v":0},{"$f":"+IF((Basisoplysninger!$D$60=\"Ja\")*(Anlægskartotek!C4056<>0)=1,Anlægskartotek!$L$14,Anlægskartotek!I4056)","v":0}]
[null,4046,{"$f":"Anlægskartotek!C4057","v":0},{"$f":"+IF((Basisoplysninger!$D$60=\"Ja\")*(Anlægskartotek!C4057<>0)=1,Anlægskartotek!$L$14,Anlægskartotek!I4057)","v":0}]
[null,4047,{"$f":"Anlægskartotek!C4058","v":0},{"$f":"+IF((Basisoplysninger!$D$60=\"Ja\")*(Anlægskartotek!C4058<>0)=1,Anlægskartotek!$L$14,Anlægskartotek!I4058)","v":0}]
[null,4048,{"$f":"Anlægskartotek!C4059","v":0},{"$f":"+IF((Basisoplysninger!$D$60=\"Ja\")*(Anlægskartotek!C4059<>0)=1,Anlægskartotek!$L$14,Anlægskartotek!I4059)","v":0}]
[null,4049,{"$f":"Anlægskartotek!C4060","v":0},{"$f":"+IF((Basisoplysninger!$D$60=\"Ja\")*(Anlægskartotek!C4060<>0)=1,Anlægskartotek!$L$14,Anlægskartotek!I4060)","v":0}]
[null,4050,{"$f":"Anlægskartotek!C4061","v":0},{"$f":"+IF((Basisoplysninger!$D$60=\"Ja\")*(Anlægskartotek!C4061<>0)=1,Anlægskartotek!$L$14,Anlægskartotek!I4061)","v":0}]
[null,4051,{"$f":"Anlægskartotek!C4062","v":0},{"$f":"+IF((Basisoplysninger!$D$60=\"Ja\")*(Anlægskartotek!C4062<>0)=1,Anlægskartotek!$L$14,Anlægskartotek!I4062)","v":0}]
[null,4052,{"$f":"Anlægskartotek!C4063","v":0},{"$f":"+IF((Basisoplysninger!$D$60=\"Ja\")*(Anlægskartotek!C4063<>0)=1,Anlægskartotek!$L$14,Anlægskartotek!I4063)","v":0}]
[null,4053,{"$f":"Anlægskartotek!C4064","v":0},{"$f":"+IF((Basisoplysninger!$D$60=\"Ja\")*(Anlægskartotek!C4064<>0)=1,Anlægskartotek!$L$14,Anlægskartotek!I4064)","v":0}]
[null,4054,{"$f":"Anlægskartotek!C4065","v":0},{"$f":"+IF((Basisoplysninger!$D$60=\"Ja\")*(Anlægskartotek!C4065<>0)=1,Anlægskartotek!$L$14,Anlægskartotek!I4065)","v":0}]
[null,4055,{"$f":"Anlægskartotek!C4066","v":0},{"$f":"+IF((Basisoplysninger!$D$60=\"Ja\")*(Anlægskartotek!C4066<>0)=1,Anlægskartotek!$L$14,Anlægskartotek!I4066)","v":0}]
[null,4056,{"$f":"Anlægskartotek!C4067","v":0},{"$f":"+IF((Basisoplysninger!$D$60=\"Ja\")*(Anlægskartotek!C4067<>0)=1,Anlægskartotek!$L$14,Anlægskartotek!I4067)","v":0}]
[null,4057,{"$f":"Anlægskartotek!C4068","v":0},{"$f":"+IF((Basisoplysninger!$D$60=\"Ja\")*(Anlægskartotek!C4068<>0)=1,Anlægskartotek!$L$14,Anlægskartotek!I4068)","v":0}]
[null,4058,{"$f":"Anlægskartotek!C4069","v":0},{"$f":"+IF((Basisoplysninger!$D$60=\"Ja\")*(Anlægskartotek!C4069<>0)=1,Anlægskartotek!$L$14,Anlægskartotek!I4069)","v":0}]
[null,4059,{"$f":"Anlægskartotek!C4070","v":0},{"$f":"+IF((Basisoplysninger!$D$60=\"Ja\")*(Anlægskartotek!C4070<>0)=1,Anlægskartotek!$L$14,Anlægskartotek!I4070)","v":0}]
[null,4060,{"$f":"Anlægskartotek!C4071","v":0},{"$f":"+IF((Basisoplysninger!$D$60=\"Ja\")*(Anlægskartotek!C4071<>0)=1,Anlægskartotek!$L$14,Anlægskartotek!I4071)","v":0}]
[null,4061,{"$f":"Anlægskartotek!C4072","v":0},{"$f":"+IF((Basisoplysninger!$D$60=\"Ja\")*(Anlægskartotek!C4072<>0)=1,Anlægskartotek!$L$14,Anlægskartotek!I4072)","v":0}]
[null,4062,{"$f":"Anlægskartotek!C4073","v":0},{"$f":"+IF((Basisoplysninger!$D$60=\"Ja\")*(Anlægskartotek!C4073<>0)=1,Anlægskartotek!$L$14,Anlægskartotek!I4073)","v":0}]
[null,4063,{"$f":"Anlægskartotek!C4074","v":0},{"$f":"+IF((Basisoplysninger!$D$60=\"Ja\")*(Anlægskartotek!C4074<>0)=1,Anlægskartotek!$L$14,Anlægskartotek!I4074)","v":0}]
[null,4064,{"$f":"Anlægskartotek!C4075","v":0},{"$f":"+IF((Basisoplysninger!$D$60=\"Ja\")*(Anlægskartotek!C4075<>0)=1,Anlægskartotek!$L$14,Anlægskartotek!I4075)","v":0}]
[null,4065,{"$f":"Anlægskartotek!C4076","v":0},{"$f":"+IF((Basisoplysninger!$D$60=\"Ja\")*(Anlægskartotek!C4076<>0)=1,Anlægskartotek!$L$14,Anlægskartotek!I4076)","v":0}]
[null,4066,{"$f":"Anlægskartotek!C4077","v":0},{"$f":"+IF((Basisoplysninger!$D$60=\"Ja\")*(Anlægskartotek!C4077<>0)=1,Anlægskartotek!$L$14,Anlægskartotek!I4077)","v":0}]
[null,4067,{"$f":"Anlægskartotek!C4078","v":0},{"$f":"+IF((Basisoplysninger!$D$60=\"Ja\")*(Anlægskartotek!C4078<>0)=1,Anlægskartotek!$L$14,Anlægskartotek!I4078)","v":0}]
[null,4068,{"$f":"Anlægskartotek!C4079","v":0},{"$f":"+IF((Basisoplysninger!$D$60=\"Ja\")*(Anlægskartotek!C4079<>0)=1,Anlægskartotek!$L$14,Anlægskartotek!I4079)","v":0}]
[null,4069,{"$f":"Anlægskartotek!C4080","v":0},{"$f":"+IF((Basisoplysninger!$D$60=\"Ja\")*(Anlægskartotek!C4080<>0)=1,Anlægskartotek!$L$14,Anlægskartotek!I4080)","v":0}]
[null,4070,{"$f":"Anlægskartotek!C4081","v":0},{"$f":"+IF((Basisoplysninger!$D$60=\"Ja\")*(Anlægskartotek!C4081<>0)=1,Anlægskartotek!$L$14,Anlægskartotek!I4081)","v":0}]
[null,4071,{"$f":"Anlægskartotek!C4082","v":0},{"$f":"+IF((Basisoplysninger!$D$60=\"Ja\")*(Anlægskartotek!C4082<>0)=1,Anlægskartotek!$L$14,Anlægskartotek!I4082)","v":0}]
[null,4072,{"$f":"Anlægskartotek!C4083","v":0},{"$f":"+IF((Basisoplysninger!$D$60=\"Ja\")*(Anlægskartotek!C4083<>0)=1,Anlægskartotek!$L$14,Anlægskartotek!I4083)","v":0}]
[null,4073,{"$f":"Anlægskartotek!C4084","v":0},{"$f":"+IF((Basisoplysninger!$D$60=\"Ja\")*(Anlægskartotek!C4084<>0)=1,Anlægskartotek!$L$14,Anlægskartotek!I4084)","v":0}]
[null,4074,{"$f":"Anlægskartotek!C4085","v":0},{"$f":"+IF((Basisoplysninger!$D$60=\"Ja\")*(Anlægskartotek!C4085<>0)=1,Anlægskartotek!$L$14,Anlægskartotek!I4085)","v":0}]
[null,4075,{"$f":"Anlægskartotek!C4086","v":0},{"$f":"+IF((Basisoplysninger!$D$60=\"Ja\")*(Anlægskartotek!C4086<>0)=1,Anlægskartotek!$L$14,Anlægskartotek!I4086)","v":0}]
[null,4076,{"$f":"Anlægskartotek!C4087","v":0},{"$f":"+IF((Basisoplysninger!$D$60=\"Ja\")*(Anlægskartotek!C4087<>0)=1,Anlægskartotek!$L$14,Anlægskartotek!I4087)","v":0}]
[null,4077,{"$f":"Anlægskartotek!C4088","v":0},{"$f":"+IF((Basisoplysninger!$D$60=\"Ja\")*(Anlægskartotek!C4088<>0)=1,Anlægskartotek!$L$14,Anlægskartotek!I4088)","v":0}]
[null,4078,{"$f":"Anlægskartotek!C4089","v":0},{"$f":"+IF((Basisoplysninger!$D$60=\"Ja\")*(Anlægskartotek!C4089<>0)=1,Anlægskartotek!$L$14,Anlægskartotek!I4089)","v":0}]
[null,4079,{"$f":"Anlægskartotek!C4090","v":0},{"$f":"+IF((Basisoplysninger!$D$60=\"Ja\")*(Anlægskartotek!C4090<>0)=1,Anlægskartotek!$L$14,Anlægskartotek!I4090)","v":0}]
[null,4080,{"$f":"Anlægskartotek!C4091","v":0},{"$f":"+IF((Basisoplysninger!$D$60=\"Ja\")*(Anlægskartotek!C4091<>0)=1,Anlægskartotek!$L$14,Anlægskartotek!I4091)","v":0}]
[null,4081,{"$f":"Anlægskartotek!C4092","v":0},{"$f":"+IF((Basisoplysninger!$D$60=\"Ja\")*(Anlægskartotek!C4092<>0)=1,Anlægskartotek!$L$14,Anlægskartotek!I4092)","v":0}]
[null,4082,{"$f":"Anlægskartotek!C4093","v":0},{"$f":"+IF((Basisoplysninger!$D$60=\"Ja\")*(Anlægskartotek!C4093<>0)=1,Anlægskartotek!$L$14,Anlægskartotek!I4093)","v":0}]
[null,4083,{"$f":"Anlægskartotek!C4094","v":0},{"$f":"+IF((Basisoplysninger!$D$60=\"Ja\")*(Anlægskartotek!C4094<>0)=1,Anlægskartotek!$L$14,Anlægskartotek!I4094)","v":0}]
[null,4084,{"$f":"Anlægskartotek!C4095","v":0},{"$f":"+IF((Basisoplysninger!$D$60=\"Ja\")*(Anlægskartotek!C4095<>0)=1,Anlægskartotek!$L$14,Anlægskartotek!I4095)","v":0}]
[null,4085,{"$f":"Anlægskartotek!C4096","v":0},{"$f":"+IF((Basisoplysninger!$D$60=\"Ja\")*(Anlægskartotek!C4096<>0)=1,Anlægskartotek!$L$14,Anlægskartotek!I4096)","v":0}]
[null,4086,{"$f":"Anlægskartotek!C4097","v":0},{"$f":"+IF((Basisoplysninger!$D$60=\"Ja\")*(Anlægskartotek!C4097<>0)=1,Anlægskartotek!$L$14,Anlægskartotek!I4097)","v":0}]
[null,4087,{"$f":"Anlægskartotek!C4098","v":0},{"$f":"+IF((Basisoplysninger!$D$60=\"Ja\")*(Anlægskartotek!C4098<>0)=1,Anlægskartotek!$L$14,Anlægskartotek!I4098)","v":0}]
[null,4088,{"$f":"Anlægskartotek!C4099","v":0},{"$f":"+IF((Basisoplysninger!$D$60=\"Ja\")*(Anlægskartotek!C4099<>0)=1,Anlægskartotek!$L$14,Anlægskartotek!I4099)","v":0}]
[null,4089,{"$f":"Anlægskartotek!C4100","v":0},{"$f":"+IF((Basisoplysninger!$D$60=\"Ja\")*(Anlægskartotek!C4100<>0)=1,Anlægskartotek!$L$14,Anlægskartotek!I4100)","v":0}]
[null,4090,{"$f":"Anlægskartotek!C4101","v":0},{"$f":"+IF((Basisoplysninger!$D$60=\"Ja\")*(Anlægskartotek!C4101<>0)=1,Anlægskartotek!$L$14,Anlægskartotek!I4101)","v":0}]
[null,4091,{"$f":"Anlægskartotek!C4102","v":0},{"$f":"+IF((Basisoplysninger!$D$60=\"Ja\")*(Anlægskartotek!C4102<>0)=1,Anlægskartotek!$L$14,Anlægskartotek!I4102)","v":0}]
[null,4092,{"$f":"Anlægskartotek!C4103","v":0},{"$f":"+IF((Basisoplysninger!$D$60=\"Ja\")*(Anlægskartotek!C4103<>0)=1,Anlægskartotek!$L$14,Anlægskartotek!I4103)","v":0}]
[null,4093,{"$f":"Anlægskartotek!C4104","v":0},{"$f":"+IF((Basisoplysninger!$D$60=\"Ja\")*(Anlægskartotek!C4104<>0)=1,Anlægskartotek!$L$14,Anlægskartotek!I4104)","v":0}]
[null,4094,{"$f":"Anlægskartotek!C4105","v":0},{"$f":"+IF((Basisoplysninger!$D$60=\"Ja\")*(Anlægskartotek!C4105<>0)=1,Anlægskartotek!$L$14,Anlægskartotek!I4105)","v":0}]
[null,4095,{"$f":"Anlægskartotek!C4106","v":0},{"$f":"+IF((Basisoplysninger!$D$60=\"Ja\")*(Anlægskartotek!C4106<>0)=1,Anlægskartotek!$L$14,Anlægskartotek!I4106)","v":0}]
[null,4096,{"$f":"Anlægskartotek!C4107","v":0},{"$f":"+IF((Basisoplysninger!$D$60=\"Ja\")*(Anlægskartotek!C4107<>0)=1,Anlægskartotek!$L$14,Anlægskartotek!I4107)","v":0}]
[null,4097,{"$f":"Anlægskartotek!C4108","v":0},{"$f":"+IF((Basisoplysninger!$D$60=\"Ja\")*(Anlægskartotek!C4108<>0)=1,Anlægskartotek!$L$14,Anlægskartotek!I4108)","v":0}]
[null,4098,{"$f":"Anlægskartotek!C4109","v":0},{"$f":"+IF((Basisoplysninger!$D$60=\"Ja\")*(Anlægskartotek!C4109<>0)=1,Anlægskartotek!$L$14,Anlægskartotek!I4109)","v":0}]
[null,{"$f":"B4207+1","v":4099},{"$f":"Anlægskartotek!C4110","v":0},{"$f":"+IF((Basisoplysninger!$D$60=\"Ja\")*(Anlægskartotek!C4110<>0)=1,Anlægskartotek!$L$14,Anlægskartotek!I4110)","v":0}]
[null,4100,{"$f":"Anlægskartotek!C4111","v":0},{"$f":"+IF((Basisoplysninger!$D$60=\"Ja\")*(Anlægskartotek!C4111<>0)=1,Anlægskartotek!$L$14,Anlægskartotek!I4111)","v":0}]
[null,4101,{"$f":"Anlægskartotek!C4112","v":0},{"$f":"+IF((Basisoplysninger!$D$60=\"Ja\")*(Anlægskartotek!C4112<>0)=1,Anlægskartotek!$L$14,Anlægskartotek!I4112)","v":0}]
[null,4102,{"$f":"Anlægskartotek!C4113","v":0},{"$f":"+IF((Basisoplysninger!$D$60=\"Ja\")*(Anlægskartotek!C4113<>0)=1,Anlægskartotek!$L$14,Anlægskartotek!I4113)","v":0}]
[null,4103,{"$f":"Anlægskartotek!C4114","v":0},{"$f":"+IF((Basisoplysninger!$D$60=\"Ja\")*(Anlægskartotek!C4114<>0)=1,Anlægskartotek!$L$14,Anlægskartotek!I4114)","v":0}]
[null,4104,{"$f":"Anlægskartotek!C4115","v":0},{"$f":"+IF((Basisoplysninger!$D$60=\"Ja\")*(Anlægskartotek!C4115<>0)=1,Anlægskartotek!$L$14,Anlægskartotek!I4115)","v":0}]
[null,4105,{"$f":"Anlægskartotek!C4116","v":0},{"$f":"+IF((Basisoplysninger!$D$60=\"Ja\")*(Anlægskartotek!C4116<>0)=1,Anlægskartotek!$L$14,Anlægskartotek!I4116)","v":0}]
[null,4106,{"$f":"Anlægskartotek!C4117","v":0},{"$f":"+IF((Basisoplysninger!$D$60=\"Ja\")*(Anlægskartotek!C4117<>0)=1,Anlægskartotek!$L$14,Anlægskartotek!I4117)","v":0}]
[null,4107,{"$f":"Anlægskartotek!C4118","v":0},{"$f":"+IF((Basisoplysninger!$D$60=\"Ja\")*(Anlægskartotek!C4118<>0)=1,Anlægskartotek!$L$14,Anlægskartotek!I4118)","v":0}]
[null,4108,{"$f":"Anlægskartotek!C4119","v":0},{"$f":"+IF((Basisoplysninger!$D$60=\"Ja\")*(Anlægskartotek!C4119<>0)=1,Anlægskartotek!$L$14,Anlægskartotek!I4119)","v":0}]
[null,4109,{"$f":"Anlægskartotek!C4120","v":0},{"$f":"+IF((Basisoplysninger!$D$60=\"Ja\")*(Anlægskartotek!C4120<>0)=1,Anlægskartotek!$L$14,Anlægskartotek!I4120)","v":0}]
[null,4110,{"$f":"Anlægskartotek!C4121","v":0},{"$f":"+IF((Basisoplysninger!$D$60=\"Ja\")*(Anlægskartotek!C4121<>0)=1,Anlægskartotek!$L$14,Anlægskartotek!I4121)","v":0}]
[null,4111,{"$f":"Anlægskartotek!C4122","v":0},{"$f":"+IF((Basisoplysninger!$D$60=\"Ja\")*(Anlægskartotek!C4122<>0)=1,Anlægskartotek!$L$14,Anlægskartotek!I4122)","v":0}]
[null,4112,{"$f":"Anlægskartotek!C4123","v":0},{"$f":"+IF((Basisoplysninger!$D$60=\"Ja\")*(Anlægskartotek!C4123<>0)=1,Anlægskartotek!$L$14,Anlægskartotek!I4123)","v":0}]
[null,4113,{"$f":"Anlægskartotek!C4124","v":0},{"$f":"+IF((Basisoplysninger!$D$60=\"Ja\")*(Anlægskartotek!C4124<>0)=1,Anlægskartotek!$L$14,Anlægskartotek!I4124)","v":0}]
[null,4114,{"$f":"Anlægskartotek!C4125","v":0},{"$f":"+IF((Basisoplysninger!$D$60=\"Ja\")*(Anlægskartotek!C4125<>0)=1,Anlægskartotek!$L$14,Anlægskartotek!I4125)","v":0}]
[null,4115,{"$f":"Anlægskartotek!C4126","v":0},{"$f":"+IF((Basisoplysninger!$D$60=\"Ja\")*(Anlægskartotek!C4126<>0)=1,Anlægskartotek!$L$14,Anlægskartotek!I4126)","v":0}]
[null,4116,{"$f":"Anlægskartotek!C4127","v":0},{"$f":"+IF((Basisoplysninger!$D$60=\"Ja\")*(Anlægskartotek!C4127<>0)=1,Anlægskartotek!$L$14,Anlægskartotek!I4127)","v":0}]
[null,4117,{"$f":"Anlægskartotek!C4128","v":0},{"$f":"+IF((Basisoplysninger!$D$60=\"Ja\")*(Anlægskartotek!C4128<>0)=1,Anlægskartotek!$L$14,Anlægskartotek!I4128)","v":0}]
[null,4118,{"$f":"Anlægskartotek!C4129","v":0},{"$f":"+IF((Basisoplysninger!$D$60=\"Ja\")*(Anlægskartotek!C4129<>0)=1,Anlægskartotek!$L$14,Anlægskartotek!I4129)","v":0}]
[null,4119,{"$f":"Anlægskartotek!C4130","v":0},{"$f":"+IF((Basisoplysninger!$D$60=\"Ja\")*(Anlægskartotek!C4130<>0)=1,Anlægskartotek!$L$14,Anlægskartotek!I4130)","v":0}]
[null,4120,{"$f":"Anlægskartotek!C4131","v":0},{"$f":"+IF((Basisoplysninger!$D$60=\"Ja\")*(Anlægskartotek!C4131<>0)=1,Anlægskartotek!$L$14,Anlægskartotek!I4131)","v":0}]
[null,4121,{"$f":"Anlægskartotek!C4132","v":0},{"$f":"+IF((Basisoplysninger!$D$60=\"Ja\")*(Anlægskartotek!C4132<>0)=1,Anlægskartotek!$L$14,Anlægskartotek!I4132)","v":0}]
[null,4122,{"$f":"Anlægskartotek!C4133","v":0},{"$f":"+IF((Basisoplysninger!$D$60=\"Ja\")*(Anlægskartotek!C4133<>0)=1,Anlægskartotek!$L$14,Anlægskartotek!I4133)","v":0}]
[null,4123,{"$f":"Anlægskartotek!C4134","v":0},{"$f":"+IF((Basisoplysninger!$D$60=\"Ja\")*(Anlægskartotek!C4134<>0)=1,Anlægskartotek!$L$14,Anlægskartotek!I4134)","v":0}]
[null,4124,{"$f":"Anlægskartotek!C4135","v":0},{"$f":"+IF((Basisoplysninger!$D$60=\"Ja\")*(Anlægskartotek!C4135<>0)=1,Anlægskartotek!$L$14,Anlægskartotek!I4135)","v":0}]
[null,4125,{"$f":"Anlægskartotek!C4136","v":0},{"$f":"+IF((Basisoplysninger!$D$60=\"Ja\")*(Anlægskartotek!C4136<>0)=1,Anlægskartotek!$L$14,Anlægskartotek!I4136)","v":0}]
[null,4126,{"$f":"Anlægskartotek!C4137","v":0},{"$f":"+IF((Basisoplysninger!$D$60=\"Ja\")*(Anlægskartotek!C4137<>0)=1,Anlægskartotek!$L$14,Anlægskartotek!I4137)","v":0}]
[null,4127,{"$f":"Anlægskartotek!C4138","v":0},{"$f":"+IF((Basisoplysninger!$D$60=\"Ja\")*(Anlægskartotek!C4138<>0)=1,Anlægskartotek!$L$14,Anlægskartotek!I4138)","v":0}]
[null,4128,{"$f":"Anlægskartotek!C4139","v":0},{"$f":"+IF((Basisoplysninger!$D$60=\"Ja\")*(Anlægskartotek!C4139<>0)=1,Anlægskartotek!$L$14,Anlægskartotek!I4139)","v":0}]
[null,4129,{"$f":"Anlægskartotek!C4140","v":0},{"$f":"+IF((Basisoplysninger!$D$60=\"Ja\")*(Anlægskartotek!C4140<>0)=1,Anlægskartotek!$L$14,Anlægskartotek!I4140)","v":0}]
[null,4130,{"$f":"Anlægskartotek!C4141","v":0},{"$f":"+IF((Basisoplysninger!$D$60=\"Ja\")*(Anlægskartotek!C4141<>0)=1,Anlægskartotek!$L$14,Anlægskartotek!I4141)","v":0}]
[null,4131,{"$f":"Anlægskartotek!C4142","v":0},{"$f":"+IF((Basisoplysninger!$D$60=\"Ja\")*(Anlægskartotek!C4142<>0)=1,Anlægskartotek!$L$14,Anlægskartotek!I4142)","v":0}]
[null,4132,{"$f":"Anlægskartotek!C4143","v":0},{"$f":"+IF((Basisoplysninger!$D$60=\"Ja\")*(Anlægskartotek!C4143<>0)=1,Anlægskartotek!$L$14,Anlægskartotek!I4143)","v":0}]
[null,4133,{"$f":"Anlægskartotek!C4144","v":0},{"$f":"+IF((Basisoplysninger!$D$60=\"Ja\")*(Anlægskartotek!C4144<>0)=1,Anlægskartotek!$L$14,Anlægskartotek!I4144)","v":0}]
[null,4134,{"$f":"Anlægskartotek!C4145","v":0},{"$f":"+IF((Basisoplysninger!$D$60=\"Ja\")*(Anlægskartotek!C4145<>0)=1,Anlægskartotek!$L$14,Anlægskartotek!I4145)","v":0}]
[null,4135,{"$f":"Anlægskartotek!C4146","v":0},{"$f":"+IF((Basisoplysninger!$D$60=\"Ja\")*(Anlægskartotek!C4146<>0)=1,Anlægskartotek!$L$14,Anlægskartotek!I4146)","v":0}]
[null,4136,{"$f":"Anlægskartotek!C4147","v":0},{"$f":"+IF((Basisoplysninger!$D$60=\"Ja\")*(Anlægskartotek!C4147<>0)=1,Anlægskartotek!$L$14,Anlægskartotek!I4147)","v":0}]
[null,4137,{"$f":"Anlægskartotek!C4148","v":0},{"$f":"+IF((Basisoplysninger!$D$60=\"Ja\")*(Anlægskartotek!C4148<>0)=1,Anlægskartotek!$L$14,Anlægskartotek!I4148)","v":0}]
[null,4138,{"$f":"Anlægskartotek!C4149","v":0},{"$f":"+IF((Basisoplysninger!$D$60=\"Ja\")*(Anlægskartotek!C4149<>0)=1,Anlægskartotek!$L$14,Anlægskartotek!I4149)","v":0}]
[null,4139,{"$f":"Anlægskartotek!C4150","v":0},{"$f":"+IF((Basisoplysninger!$D$60=\"Ja\")*(Anlægskartotek!C4150<>0)=1,Anlægskartotek!$L$14,Anlægskartotek!I4150)","v":0}]
[null,4140,{"$f":"Anlægskartotek!C4151","v":0},{"$f":"+IF((Basisoplysninger!$D$60=\"Ja\")*(Anlægskartotek!C4151<>0)=1,Anlægskartotek!$L$14,Anlægskartotek!I4151)","v":0}]
[null,4141,{"$f":"Anlægskartotek!C4152","v":0},{"$f":"+IF((Basisoplysninger!$D$60=\"Ja\")*(Anlægskartotek!C4152<>0)=1,Anlægskartotek!$L$14,Anlægskartotek!I4152)","v":0}]
[null,4142,{"$f":"Anlægskartotek!C4153","v":0},{"$f":"+IF((Basisoplysninger!$D$60=\"Ja\")*(Anlægskartotek!C4153<>0)=1,Anlægskartotek!$L$14,Anlægskartotek!I4153)","v":0}]
[null,4143,{"$f":"Anlægskartotek!C4154","v":0},{"$f":"+IF((Basisoplysninger!$D$60=\"Ja\")*(Anlægskartotek!C4154<>0)=1,Anlægskartotek!$L$14,Anlægskartotek!I4154)","v":0}]
[null,4144,{"$f":"Anlægskartotek!C4155","v":0},{"$f":"+IF((Basisoplysninger!$D$60=\"Ja\")*(Anlægskartotek!C4155<>0)=1,Anlægskartotek!$L$14,Anlægskartotek!I4155)","v":0}]
[null,4145,{"$f":"Anlægskartotek!C4156","v":0},{"$f":"+IF((Basisoplysninger!$D$60=\"Ja\")*(Anlægskartotek!C4156<>0)=1,Anlægskartotek!$L$14,Anlægskartotek!I4156)","v":0}]
[null,4146,{"$f":"Anlægskartotek!C4157","v":0},{"$f":"+IF((Basisoplysninger!$D$60=\"Ja\")*(Anlægskartotek!C4157<>0)=1,Anlægskartotek!$L$14,Anlægskartotek!I4157)","v":0}]
[null,4147,{"$f":"Anlægskartotek!C4158","v":0},{"$f":"+IF((Basisoplysninger!$D$60=\"Ja\")*(Anlægskartotek!C4158<>0)=1,Anlægskartotek!$L$14,Anlægskartotek!I4158)","v":0}]
[null,4148,{"$f":"Anlægskartotek!C4159","v":0},{"$f":"+IF((Basisoplysninger!$D$60=\"Ja\")*(Anlægskartotek!C4159<>0)=1,Anlægskartotek!$L$14,Anlægskartotek!I4159)","v":0}]
[null,4149,{"$f":"Anlægskartotek!C4160","v":0},{"$f":"+IF((Basisoplysninger!$D$60=\"Ja\")*(Anlægskartotek!C4160<>0)=1,Anlægskartotek!$L$14,Anlægskartotek!I4160)","v":0}]
[null,4150,{"$f":"Anlægskartotek!C4161","v":0},{"$f":"+IF((Basisoplysninger!$D$60=\"Ja\")*(Anlægskartotek!C4161<>0)=1,Anlægskartotek!$L$14,Anlægskartotek!I4161)","v":0}]
[null,4151,{"$f":"Anlægskartotek!C4162","v":0},{"$f":"+IF((Basisoplysninger!$D$60=\"Ja\")*(Anlægskartotek!C4162<>0)=1,Anlægskartotek!$L$14,Anlægskartotek!I4162)","v":0}]
[null,4152,{"$f":"Anlægskartotek!C4163","v":0},{"$f":"+IF((Basisoplysninger!$D$60=\"Ja\")*(Anlægskartotek!C4163<>0)=1,Anlægskartotek!$L$14,Anlægskartotek!I4163)","v":0}]
[null,4153,{"$f":"Anlægskartotek!C4164","v":0},{"$f":"+IF((Basisoplysninger!$D$60=\"Ja\")*(Anlægskartotek!C4164<>0)=1,Anlægskartotek!$L$14,Anlægskartotek!I4164)","v":0}]
[null,4154,{"$f":"Anlægskartotek!C4165","v":0},{"$f":"+IF((Basisoplysninger!$D$60=\"Ja\")*(Anlægskartotek!C4165<>0)=1,Anlægskartotek!$L$14,Anlægskartotek!I4165)","v":0}]
[null,4155,{"$f":"Anlægskartotek!C4166","v":0},{"$f":"+IF((Basisoplysninger!$D$60=\"Ja\")*(Anlægskartotek!C4166<>0)=1,Anlægskartotek!$L$14,Anlægskartotek!I4166)","v":0}]
[null,4156,{"$f":"Anlægskartotek!C4167","v":0},{"$f":"+IF((Basisoplysninger!$D$60=\"Ja\")*(Anlægskartotek!C4167<>0)=1,Anlægskartotek!$L$14,Anlægskartotek!I4167)","v":0}]
[null,4157,{"$f":"Anlægskartotek!C4168","v":0},{"$f":"+IF((Basisoplysninger!$D$60=\"Ja\")*(Anlægskartotek!C4168<>0)=1,Anlægskartotek!$L$14,Anlægskartotek!I4168)","v":0}]
[null,4158,{"$f":"Anlægskartotek!C4169","v":0},{"$f":"+IF((Basisoplysninger!$D$60=\"Ja\")*(Anlægskartotek!C4169<>0)=1,Anlægskartotek!$L$14,Anlægskartotek!I4169)","v":0}]
[null,4159,{"$f":"Anlægskartotek!C4170","v":0},{"$f":"+IF((Basisoplysninger!$D$60=\"Ja\")*(Anlægskartotek!C4170<>0)=1,Anlægskartotek!$L$14,Anlægskartotek!I4170)","v":0}]
[null,4160,{"$f":"Anlægskartotek!C4171","v":0},{"$f":"+IF((Basisoplysninger!$D$60=\"Ja\")*(Anlægskartotek!C4171<>0)=1,Anlægskartotek!$L$14,Anlægskartotek!I4171)","v":0}]
[null,4161,{"$f":"Anlægskartotek!C4172","v":0},{"$f":"+IF((Basisoplysninger!$D$60=\"Ja\")*(Anlægskartotek!C4172<>0)=1,Anlægskartotek!$L$14,Anlægskartotek!I4172)","v":0}]
[null,4162,{"$f":"Anlægskartotek!C4173","v":0},{"$f":"+IF((Basisoplysninger!$D$60=\"Ja\")*(Anlægskartotek!C4173<>0)=1,Anlægskartotek!$L$14,Anlægskartotek!I4173)","v":0}]
[null,{"$f":"B4271+1","v":4163},{"$f":"Anlægskartotek!C4174","v":0},{"$f":"+IF((Basisoplysninger!$D$60=\"Ja\")*(Anlægskartotek!C4174<>0)=1,Anlægskartotek!$L$14,Anlægskartotek!I4174)","v":0}]
[null,4164,{"$f":"Anlægskartotek!C4175","v":0},{"$f":"+IF((Basisoplysninger!$D$60=\"Ja\")*(Anlægskartotek!C4175<>0)=1,Anlægskartotek!$L$14,Anlægskartotek!I4175)","v":0}]
[null,4165,{"$f":"Anlægskartotek!C4176","v":0},{"$f":"+IF((Basisoplysninger!$D$60=\"Ja\")*(Anlægskartotek!C4176<>0)=1,Anlægskartotek!$L$14,Anlægskartotek!I4176)","v":0}]
[null,4166,{"$f":"Anlægskartotek!C4177","v":0},{"$f":"+IF((Basisoplysninger!$D$60=\"Ja\")*(Anlægskartotek!C4177<>0)=1,Anlægskartotek!$L$14,Anlægskartotek!I4177)","v":0}]
[null,4167,{"$f":"Anlægskartotek!C4178","v":0},{"$f":"+IF((Basisoplysninger!$D$60=\"Ja\")*(Anlægskartotek!C4178<>0)=1,Anlægskartotek!$L$14,Anlægskartotek!I4178)","v":0}]
[null,4168,{"$f":"Anlægskartotek!C4179","v":0},{"$f":"+IF((Basisoplysninger!$D$60=\"Ja\")*(Anlægskartotek!C4179<>0)=1,Anlægskartotek!$L$14,Anlægskartotek!I4179)","v":0}]
[null,4169,{"$f":"Anlægskartotek!C4180","v":0},{"$f":"+IF((Basisoplysninger!$D$60=\"Ja\")*(Anlægskartotek!C4180<>0)=1,Anlægskartotek!$L$14,Anlægskartotek!I4180)","v":0}]
[null,4170,{"$f":"Anlægskartotek!C4181","v":0},{"$f":"+IF((Basisoplysninger!$D$60=\"Ja\")*(Anlægskartotek!C4181<>0)=1,Anlægskartotek!$L$14,Anlægskartotek!I4181)","v":0}]
[null,4171,{"$f":"Anlægskartotek!C4182","v":0},{"$f":"+IF((Basisoplysninger!$D$60=\"Ja\")*(Anlægskartotek!C4182<>0)=1,Anlægskartotek!$L$14,Anlægskartotek!I4182)","v":0}]
[null,4172,{"$f":"Anlægskartotek!C4183","v":0},{"$f":"+IF((Basisoplysninger!$D$60=\"Ja\")*(Anlægskartotek!C4183<>0)=1,Anlægskartotek!$L$14,Anlægskartotek!I4183)","v":0}]
[null,4173,{"$f":"Anlægskartotek!C4184","v":0},{"$f":"+IF((Basisoplysninger!$D$60=\"Ja\")*(Anlægskartotek!C4184<>0)=1,Anlægskartotek!$L$14,Anlægskartotek!I4184)","v":0}]
[null,4174,{"$f":"Anlægskartotek!C4185","v":0},{"$f":"+IF((Basisoplysninger!$D$60=\"Ja\")*(Anlægskartotek!C4185<>0)=1,Anlægskartotek!$L$14,Anlægskartotek!I4185)","v":0}]
[null,4175,{"$f":"Anlægskartotek!C4186","v":0},{"$f":"+IF((Basisoplysninger!$D$60=\"Ja\")*(Anlægskartotek!C4186<>0)=1,Anlægskartotek!$L$14,Anlægskartotek!I4186)","v":0}]
[null,4176,{"$f":"Anlægskartotek!C4187","v":0},{"$f":"+IF((Basisoplysninger!$D$60=\"Ja\")*(Anlægskartotek!C4187<>0)=1,Anlægskartotek!$L$14,Anlægskartotek!I4187)","v":0}]
[null,4177,{"$f":"Anlægskartotek!C4188","v":0},{"$f":"+IF((Basisoplysninger!$D$60=\"Ja\")*(Anlægskartotek!C4188<>0)=1,Anlægskartotek!$L$14,Anlægskartotek!I4188)","v":0}]
[null,4178,{"$f":"Anlægskartotek!C4189","v":0},{"$f":"+IF((Basisoplysninger!$D$60=\"Ja\")*(Anlægskartotek!C4189<>0)=1,Anlægskartotek!$L$14,Anlægskartotek!I4189)","v":0}]
[null,4179,{"$f":"Anlægskartotek!C4190","v":0},{"$f":"+IF((Basisoplysninger!$D$60=\"Ja\")*(Anlægskartotek!C4190<>0)=1,Anlægskartotek!$L$14,Anlægskartotek!I4190)","v":0}]
[null,4180,{"$f":"Anlægskartotek!C4191","v":0},{"$f":"+IF((Basisoplysninger!$D$60=\"Ja\")*(Anlægskartotek!C4191<>0)=1,Anlægskartotek!$L$14,Anlægskartotek!I4191)","v":0}]
[null,4181,{"$f":"Anlægskartotek!C4192","v":0},{"$f":"+IF((Basisoplysninger!$D$60=\"Ja\")*(Anlægskartotek!C4192<>0)=1,Anlægskartotek!$L$14,Anlægskartotek!I4192)","v":0}]
[null,4182,{"$f":"Anlægskartotek!C4193","v":0},{"$f":"+IF((Basisoplysninger!$D$60=\"Ja\")*(Anlægskartotek!C4193<>0)=1,Anlægskartotek!$L$14,Anlægskartotek!I4193)","v":0}]
[null,4183,{"$f":"Anlægskartotek!C4194","v":0},{"$f":"+IF((Basisoplysninger!$D$60=\"Ja\")*(Anlægskartotek!C4194<>0)=1,Anlægskartotek!$L$14,Anlægskartotek!I4194)","v":0}]
[null,4184,{"$f":"Anlægskartotek!C4195","v":0},{"$f":"+IF((Basisoplysninger!$D$60=\"Ja\")*(Anlægskartotek!C4195<>0)=1,Anlægskartotek!$L$14,Anlægskartotek!I4195)","v":0}]
[null,4185,{"$f":"Anlægskartotek!C4196","v":0},{"$f":"+IF((Basisoplysninger!$D$60=\"Ja\")*(Anlægskartotek!C4196<>0)=1,Anlægskartotek!$L$14,Anlægskartotek!I4196)","v":0}]
[null,4186,{"$f":"Anlægskartotek!C4197","v":0},{"$f":"+IF((Basisoplysninger!$D$60=\"Ja\")*(Anlægskartotek!C4197<>0)=1,Anlægskartotek!$L$14,Anlægskartotek!I4197)","v":0}]
[null,4187,{"$f":"Anlægskartotek!C4198","v":0},{"$f":"+IF((Basisoplysninger!$D$60=\"Ja\")*(Anlægskartotek!C4198<>0)=1,Anlægskartotek!$L$14,Anlægskartotek!I4198)","v":0}]
[null,4188,{"$f":"Anlægskartotek!C4199","v":0},{"$f":"+IF((Basisoplysninger!$D$60=\"Ja\")*(Anlægskartotek!C4199<>0)=1,Anlægskartotek!$L$14,Anlægskartotek!I4199)","v":0}]
[null,4189,{"$f":"Anlægskartotek!C4200","v":0},{"$f":"+IF((Basisoplysninger!$D$60=\"Ja\")*(Anlægskartotek!C4200<>0)=1,Anlægskartotek!$L$14,Anlægskartotek!I4200)","v":0}]
[null,4190,{"$f":"Anlægskartotek!C4201","v":0},{"$f":"+IF((Basisoplysninger!$D$60=\"Ja\")*(Anlægskartotek!C4201<>0)=1,Anlægskartotek!$L$14,Anlægskartotek!I4201)","v":0}]
[null,4191,{"$f":"Anlægskartotek!C4202","v":0},{"$f":"+IF((Basisoplysninger!$D$60=\"Ja\")*(Anlægskartotek!C4202<>0)=1,Anlægskartotek!$L$14,Anlægskartotek!I4202)","v":0}]
[null,4192,{"$f":"Anlægskartotek!C4203","v":0},{"$f":"+IF((Basisoplysninger!$D$60=\"Ja\")*(Anlægskartotek!C4203<>0)=1,Anlægskartotek!$L$14,Anlægskartotek!I4203)","v":0}]
[null,4193,{"$f":"Anlægskartotek!C4204","v":0},{"$f":"+IF((Basisoplysninger!$D$60=\"Ja\")*(Anlægskartotek!C4204<>0)=1,Anlægskartotek!$L$14,Anlægskartotek!I4204)","v":0}]
[null,4194,{"$f":"Anlægskartotek!C4205","v":0},{"$f":"+IF((Basisoplysninger!$D$60=\"Ja\")*(Anlægskartotek!C4205<>0)=1,Anlægskartotek!$L$14,Anlægskartotek!I4205)","v":0}]
[null,4195,{"$f":"Anlægskartotek!C4206","v":0},{"$f":"+IF((Basisoplysninger!$D$60=\"Ja\")*(Anlægskartotek!C4206<>0)=1,Anlægskartotek!$L$14,Anlægskartotek!I4206)","v":0}]
[null,4196,{"$f":"Anlægskartotek!C4207","v":0},{"$f":"+IF((Basisoplysninger!$D$60=\"Ja\")*(Anlægskartotek!C4207<>0)=1,Anlægskartotek!$L$14,Anlægskartotek!I4207)","v":0}]
[null,4197,{"$f":"Anlægskartotek!C4208","v":0},{"$f":"+IF((Basisoplysninger!$D$60=\"Ja\")*(Anlægskartotek!C4208<>0)=1,Anlægskartotek!$L$14,Anlægskartotek!I4208)","v":0}]
[null,4198,{"$f":"Anlægskartotek!C4209","v":0},{"$f":"+IF((Basisoplysninger!$D$60=\"Ja\")*(Anlægskartotek!C4209<>0)=1,Anlægskartotek!$L$14,Anlægskartotek!I4209)","v":0}]
[null,4199,{"$f":"Anlægskartotek!C4210","v":0},{"$f":"+IF((Basisoplysninger!$D$60=\"Ja\")*(Anlægskartotek!C4210<>0)=1,Anlægskartotek!$L$14,Anlægskartotek!I4210)","v":0}]
[null,4200,{"$f":"Anlægskartotek!C4211","v":0},{"$f":"+IF((Basisoplysninger!$D$60=\"Ja\")*(Anlægskartotek!C4211<>0)=1,Anlægskartotek!$L$14,Anlægskartotek!I4211)","v":0}]
[null,4201,{"$f":"Anlægskartotek!C4212","v":0},{"$f":"+IF((Basisoplysninger!$D$60=\"Ja\")*(Anlægskartotek!C4212<>0)=1,Anlægskartotek!$L$14,Anlægskartotek!I4212)","v":0}]
[null,4202,{"$f":"Anlægskartotek!C4213","v":0},{"$f":"+IF((Basisoplysninger!$D$60=\"Ja\")*(Anlægskartotek!C4213<>0)=1,Anlægskartotek!$L$14,Anlægskartotek!I4213)","v":0}]
[null,4203,{"$f":"Anlægskartotek!C4214","v":0},{"$f":"+IF((Basisoplysninger!$D$60=\"Ja\")*(Anlægskartotek!C4214<>0)=1,Anlægskartotek!$L$14,Anlægskartotek!I4214)","v":0}]
[null,4204,{"$f":"Anlægskartotek!C4215","v":0},{"$f":"+IF((Basisoplysninger!$D$60=\"Ja\")*(Anlægskartotek!C4215<>0)=1,Anlægskartotek!$L$14,Anlægskartotek!I4215)","v":0}]
[null,4205,{"$f":"Anlægskartotek!C4216","v":0},{"$f":"+IF((Basisoplysninger!$D$60=\"Ja\")*(Anlægskartotek!C4216<>0)=1,Anlægskartotek!$L$14,Anlægskartotek!I4216)","v":0}]
[null,4206,{"$f":"Anlægskartotek!C4217","v":0},{"$f":"+IF((Basisoplysninger!$D$60=\"Ja\")*(Anlægskartotek!C4217<>0)=1,Anlægskartotek!$L$14,Anlægskartotek!I4217)","v":0}]
[null,4207,{"$f":"Anlægskartotek!C4218","v":0},{"$f":"+IF((Basisoplysninger!$D$60=\"Ja\")*(Anlægskartotek!C4218<>0)=1,Anlægskartotek!$L$14,Anlægskartotek!I4218)","v":0}]
[null,4208,{"$f":"Anlægskartotek!C4219","v":0},{"$f":"+IF((Basisoplysninger!$D$60=\"Ja\")*(Anlægskartotek!C4219<>0)=1,Anlægskartotek!$L$14,Anlægskartotek!I4219)","v":0}]
[null,4209,{"$f":"Anlægskartotek!C4220","v":0},{"$f":"+IF((Basisoplysninger!$D$60=\"Ja\")*(Anlægskartotek!C4220<>0)=1,Anlægskartotek!$L$14,Anlægskartotek!I4220)","v":0}]
[null,4210,{"$f":"Anlægskartotek!C4221","v":0},{"$f":"+IF((Basisoplysninger!$D$60=\"Ja\")*(Anlægskartotek!C4221<>0)=1,Anlægskartotek!$L$14,Anlægskartotek!I4221)","v":0}]
[null,4211,{"$f":"Anlægskartotek!C4222","v":0},{"$f":"+IF((Basisoplysninger!$D$60=\"Ja\")*(Anlægskartotek!C4222<>0)=1,Anlægskartotek!$L$14,Anlægskartotek!I4222)","v":0}]
[null,4212,{"$f":"Anlægskartotek!C4223","v":0},{"$f":"+IF((Basisoplysninger!$D$60=\"Ja\")*(Anlægskartotek!C4223<>0)=1,Anlægskartotek!$L$14,Anlægskartotek!I4223)","v":0}]
[null,4213,{"$f":"Anlægskartotek!C4224","v":0},{"$f":"+IF((Basisoplysninger!$D$60=\"Ja\")*(Anlægskartotek!C4224<>0)=1,Anlægskartotek!$L$14,Anlægskartotek!I4224)","v":0}]
[null,4214,{"$f":"Anlægskartotek!C4225","v":0},{"$f":"+IF((Basisoplysninger!$D$60=\"Ja\")*(Anlægskartotek!C4225<>0)=1,Anlægskartotek!$L$14,Anlægskartotek!I4225)","v":0}]
[null,4215,{"$f":"Anlægskartotek!C4226","v":0},{"$f":"+IF((Basisoplysninger!$D$60=\"Ja\")*(Anlægskartotek!C4226<>0)=1,Anlægskartotek!$L$14,Anlægskartotek!I4226)","v":0}]
[null,4216,{"$f":"Anlægskartotek!C4227","v":0},{"$f":"+IF((Basisoplysninger!$D$60=\"Ja\")*(Anlægskartotek!C4227<>0)=1,Anlægskartotek!$L$14,Anlægskartotek!I4227)","v":0}]
[null,4217,{"$f":"Anlægskartotek!C4228","v":0},{"$f":"+IF((Basisoplysninger!$D$60=\"Ja\")*(Anlægskartotek!C4228<>0)=1,Anlægskartotek!$L$14,Anlægskartotek!I4228)","v":0}]
[null,4218,{"$f":"Anlægskartotek!C4229","v":0},{"$f":"+IF((Basisoplysninger!$D$60=\"Ja\")*(Anlægskartotek!C4229<>0)=1,Anlægskartotek!$L$14,Anlægskartotek!I4229)","v":0}]
[null,4219,{"$f":"Anlægskartotek!C4230","v":0},{"$f":"+IF((Basisoplysninger!$D$60=\"Ja\")*(Anlægskartotek!C4230<>0)=1,Anlægskartotek!$L$14,Anlægskartotek!I4230)","v":0}]
[null,4220,{"$f":"Anlægskartotek!C4231","v":0},{"$f":"+IF((Basisoplysninger!$D$60=\"Ja\")*(Anlægskartotek!C4231<>0)=1,Anlægskartotek!$L$14,Anlægskartotek!I4231)","v":0}]
[null,4221,{"$f":"Anlægskartotek!C4232","v":0},{"$f":"+IF((Basisoplysninger!$D$60=\"Ja\")*(Anlægskartotek!C4232<>0)=1,Anlægskartotek!$L$14,Anlægskartotek!I4232)","v":0}]
[null,4222,{"$f":"Anlægskartotek!C4233","v":0},{"$f":"+IF((Basisoplysninger!$D$60=\"Ja\")*(Anlægskartotek!C4233<>0)=1,Anlægskartotek!$L$14,Anlægskartotek!I4233)","v":0}]
[null,4223,{"$f":"Anlægskartotek!C4234","v":0},{"$f":"+IF((Basisoplysninger!$D$60=\"Ja\")*(Anlægskartotek!C4234<>0)=1,Anlægskartotek!$L$14,Anlægskartotek!I4234)","v":0}]
[null,4224,{"$f":"Anlægskartotek!C4235","v":0},{"$f":"+IF((Basisoplysninger!$D$60=\"Ja\")*(Anlægskartotek!C4235<>0)=1,Anlægskartotek!$L$14,Anlægskartotek!I4235)","v":0}]
[null,4225,{"$f":"Anlægskartotek!C4236","v":0},{"$f":"+IF((Basisoplysninger!$D$60=\"Ja\")*(Anlægskartotek!C4236<>0)=1,Anlægskartotek!$L$14,Anlægskartotek!I4236)","v":0}]
[null,4226,{"$f":"Anlægskartotek!C4237","v":0},{"$f":"+IF((Basisoplysninger!$D$60=\"Ja\")*(Anlægskartotek!C4237<>0)=1,Anlægskartotek!$L$14,Anlægskartotek!I4237)","v":0}]
[null,{"$f":"B4335+1","v":4227},{"$f":"Anlægskartotek!C4238","v":0},{"$f":"+IF((Basisoplysninger!$D$60=\"Ja\")*(Anlægskartotek!C4238<>0)=1,Anlægskartotek!$L$14,Anlægskartotek!I4238)","v":0}]
[null,4228,{"$f":"Anlægskartotek!C4239","v":0},{"$f":"+IF((Basisoplysninger!$D$60=\"Ja\")*(Anlægskartotek!C4239<>0)=1,Anlægskartotek!$L$14,Anlægskartotek!I4239)","v":0}]
[null,4229,{"$f":"Anlægskartotek!C4240","v":0},{"$f":"+IF((Basisoplysninger!$D$60=\"Ja\")*(Anlægskartotek!C4240<>0)=1,Anlægskartotek!$L$14,Anlægskartotek!I4240)","v":0}]
[null,4230,{"$f":"Anlægskartotek!C4241","v":0},{"$f":"+IF((Basisoplysninger!$D$60=\"Ja\")*(Anlægskartotek!C4241<>0)=1,Anlægskartotek!$L$14,Anlægskartotek!I4241)","v":0}]
[null,4231,{"$f":"Anlægskartotek!C4242","v":0},{"$f":"+IF((Basisoplysninger!$D$60=\"Ja\")*(Anlægskartotek!C4242<>0)=1,Anlægskartotek!$L$14,Anlægskartotek!I4242)","v":0}]
[null,4232,{"$f":"Anlægskartotek!C4243","v":0},{"$f":"+IF((Basisoplysninger!$D$60=\"Ja\")*(Anlægskartotek!C4243<>0)=1,Anlægskartotek!$L$14,Anlægskartotek!I4243)","v":0}]
[null,4233,{"$f":"Anlægskartotek!C4244","v":0},{"$f":"+IF((Basisoplysninger!$D$60=\"Ja\")*(Anlægskartotek!C4244<>0)=1,Anlægskartotek!$L$14,Anlægskartotek!I4244)","v":0}]
[null,4234,{"$f":"Anlægskartotek!C4245","v":0},{"$f":"+IF((Basisoplysninger!$D$60=\"Ja\")*(Anlægskartotek!C4245<>0)=1,Anlægskartotek!$L$14,Anlægskartotek!I4245)","v":0}]
[null,4235,{"$f":"Anlægskartotek!C4246","v":0},{"$f":"+IF((Basisoplysninger!$D$60=\"Ja\")*(Anlægskartotek!C4246<>0)=1,Anlægskartotek!$L$14,Anlægskartotek!I4246)","v":0}]
[null,4236,{"$f":"Anlægskartotek!C4247","v":0},{"$f":"+IF((Basisoplysninger!$D$60=\"Ja\")*(Anlægskartotek!C4247<>0)=1,Anlægskartotek!$L$14,Anlægskartotek!I4247)","v":0}]
[null,4237,{"$f":"Anlægskartotek!C4248","v":0},{"$f":"+IF((Basisoplysninger!$D$60=\"Ja\")*(Anlægskartotek!C4248<>0)=1,Anlægskartotek!$L$14,Anlægskartotek!I4248)","v":0}]
[null,4238,{"$f":"Anlægskartotek!C4249","v":0},{"$f":"+IF((Basisoplysninger!$D$60=\"Ja\")*(Anlægskartotek!C4249<>0)=1,Anlægskartotek!$L$14,Anlægskartotek!I4249)","v":0}]
[null,4239,{"$f":"Anlægskartotek!C4250","v":0},{"$f":"+IF((Basisoplysninger!$D$60=\"Ja\")*(Anlægskartotek!C4250<>0)=1,Anlægskartotek!$L$14,Anlægskartotek!I4250)","v":0}]
[null,4240,{"$f":"Anlægskartotek!C4251","v":0},{"$f":"+IF((Basisoplysninger!$D$60=\"Ja\")*(Anlægskartotek!C4251<>0)=1,Anlægskartotek!$L$14,Anlægskartotek!I4251)","v":0}]
[null,4241,{"$f":"Anlægskartotek!C4252","v":0},{"$f":"+IF((Basisoplysninger!$D$60=\"Ja\")*(Anlægskartotek!C4252<>0)=1,Anlægskartotek!$L$14,Anlægskartotek!I4252)","v":0}]
[null,4242,{"$f":"Anlægskartotek!C4253","v":0},{"$f":"+IF((Basisoplysninger!$D$60=\"Ja\")*(Anlægskartotek!C4253<>0)=1,Anlægskartotek!$L$14,Anlægskartotek!I4253)","v":0}]
[null,4243,{"$f":"Anlægskartotek!C4254","v":0},{"$f":"+IF((Basisoplysninger!$D$60=\"Ja\")*(Anlægskartotek!C4254<>0)=1,Anlægskartotek!$L$14,Anlægskartotek!I4254)","v":0}]
[null,4244,{"$f":"Anlægskartotek!C4255","v":0},{"$f":"+IF((Basisoplysninger!$D$60=\"Ja\")*(Anlægskartotek!C4255<>0)=1,Anlægskartotek!$L$14,Anlægskartotek!I4255)","v":0}]
[null,4245,{"$f":"Anlægskartotek!C4256","v":0},{"$f":"+IF((Basisoplysninger!$D$60=\"Ja\")*(Anlægskartotek!C4256<>0)=1,Anlægskartotek!$L$14,Anlægskartotek!I4256)","v":0}]
[null,4246,{"$f":"Anlægskartotek!C4257","v":0},{"$f":"+IF((Basisoplysninger!$D$60=\"Ja\")*(Anlægskartotek!C4257<>0)=1,Anlægskartotek!$L$14,Anlægskartotek!I4257)","v":0}]
[null,4247,{"$f":"Anlægskartotek!C4258","v":0},{"$f":"+IF((Basisoplysninger!$D$60=\"Ja\")*(Anlægskartotek!C4258<>0)=1,Anlægskartotek!$L$14,Anlægskartotek!I4258)","v":0}]
[null,4248,{"$f":"Anlægskartotek!C4259","v":0},{"$f":"+IF((Basisoplysninger!$D$60=\"Ja\")*(Anlægskartotek!C4259<>0)=1,Anlægskartotek!$L$14,Anlægskartotek!I4259)","v":0}]
[null,4249,{"$f":"Anlægskartotek!C4260","v":0},{"$f":"+IF((Basisoplysninger!$D$60=\"Ja\")*(Anlægskartotek!C4260<>0)=1,Anlægskartotek!$L$14,Anlægskartotek!I4260)","v":0}]
[null,4250,{"$f":"Anlægskartotek!C4261","v":0},{"$f":"+IF((Basisoplysninger!$D$60=\"Ja\")*(Anlægskartotek!C4261<>0)=1,Anlægskartotek!$L$14,Anlægskartotek!I4261)","v":0}]
[null,4251,{"$f":"Anlægskartotek!C4262","v":0},{"$f":"+IF((Basisoplysninger!$D$60=\"Ja\")*(Anlægskartotek!C4262<>0)=1,Anlægskartotek!$L$14,Anlægskartotek!I4262)","v":0}]
[null,4252,{"$f":"Anlægskartotek!C4263","v":0},{"$f":"+IF((Basisoplysninger!$D$60=\"Ja\")*(Anlægskartotek!C4263<>0)=1,Anlægskartotek!$L$14,Anlægskartotek!I4263)","v":0}]
[null,4253,{"$f":"Anlægskartotek!C4264","v":0},{"$f":"+IF((Basisoplysninger!$D$60=\"Ja\")*(Anlægskartotek!C4264<>0)=1,Anlægskartotek!$L$14,Anlægskartotek!I4264)","v":0}]
[null,4254,{"$f":"Anlægskartotek!C4265","v":0},{"$f":"+IF((Basisoplysninger!$D$60=\"Ja\")*(Anlægskartotek!C4265<>0)=1,Anlægskartotek!$L$14,Anlægskartotek!I4265)","v":0}]
[null,4255,{"$f":"Anlægskartotek!C4266","v":0},{"$f":"+IF((Basisoplysninger!$D$60=\"Ja\")*(Anlægskartotek!C4266<>0)=1,Anlægskartotek!$L$14,Anlægskartotek!I4266)","v":0}]
[null,4256,{"$f":"Anlægskartotek!C4267","v":0},{"$f":"+IF((Basisoplysninger!$D$60=\"Ja\")*(Anlægskartotek!C4267<>0)=1,Anlægskartotek!$L$14,Anlægskartotek!I4267)","v":0}]
[null,4257,{"$f":"Anlægskartotek!C4268","v":0},{"$f":"+IF((Basisoplysninger!$D$60=\"Ja\")*(Anlægskartotek!C4268<>0)=1,Anlægskartotek!$L$14,Anlægskartotek!I4268)","v":0}]
[null,4258,{"$f":"Anlægskartotek!C4269","v":0},{"$f":"+IF((Basisoplysninger!$D$60=\"Ja\")*(Anlægskartotek!C4269<>0)=1,Anlægskartotek!$L$14,Anlægskartotek!I4269)","v":0}]
[null,4259,{"$f":"Anlægskartotek!C4270","v":0},{"$f":"+IF((Basisoplysninger!$D$60=\"Ja\")*(Anlægskartotek!C4270<>0)=1,Anlægskartotek!$L$14,Anlægskartotek!I4270)","v":0}]
[null,4260,{"$f":"Anlægskartotek!C4271","v":0},{"$f":"+IF((Basisoplysninger!$D$60=\"Ja\")*(Anlægskartotek!C4271<>0)=1,Anlægskartotek!$L$14,Anlægskartotek!I4271)","v":0}]
[null,4261,{"$f":"Anlægskartotek!C4272","v":0},{"$f":"+IF((Basisoplysninger!$D$60=\"Ja\")*(Anlægskartotek!C4272<>0)=1,Anlægskartotek!$L$14,Anlægskartotek!I4272)","v":0}]
[null,4262,{"$f":"Anlægskartotek!C4273","v":0},{"$f":"+IF((Basisoplysninger!$D$60=\"Ja\")*(Anlægskartotek!C4273<>0)=1,Anlægskartotek!$L$14,Anlægskartotek!I4273)","v":0}]
[null,4263,{"$f":"Anlægskartotek!C4274","v":0},{"$f":"+IF((Basisoplysninger!$D$60=\"Ja\")*(Anlægskartotek!C4274<>0)=1,Anlægskartotek!$L$14,Anlægskartotek!I4274)","v":0}]
[null,4264,{"$f":"Anlægskartotek!C4275","v":0},{"$f":"+IF((Basisoplysninger!$D$60=\"Ja\")*(Anlægskartotek!C4275<>0)=1,Anlægskartotek!$L$14,Anlægskartotek!I4275)","v":0}]
[null,4265,{"$f":"Anlægskartotek!C4276","v":0},{"$f":"+IF((Basisoplysninger!$D$60=\"Ja\")*(Anlægskartotek!C4276<>0)=1,Anlægskartotek!$L$14,Anlægskartotek!I4276)","v":0}]
[null,4266,{"$f":"Anlægskartotek!C4277","v":0},{"$f":"+IF((Basisoplysninger!$D$60=\"Ja\")*(Anlægskartotek!C4277<>0)=1,Anlægskartotek!$L$14,Anlægskartotek!I4277)","v":0}]
[null,4267,{"$f":"Anlægskartotek!C4278","v":0},{"$f":"+IF((Basisoplysninger!$D$60=\"Ja\")*(Anlægskartotek!C4278<>0)=1,Anlægskartotek!$L$14,Anlægskartotek!I4278)","v":0}]
[null,4268,{"$f":"Anlægskartotek!C4279","v":0},{"$f":"+IF((Basisoplysninger!$D$60=\"Ja\")*(Anlægskartotek!C4279<>0)=1,Anlægskartotek!$L$14,Anlægskartotek!I4279)","v":0}]
[null,4269,{"$f":"Anlægskartotek!C4280","v":0},{"$f":"+IF((Basisoplysninger!$D$60=\"Ja\")*(Anlægskartotek!C4280<>0)=1,Anlægskartotek!$L$14,Anlægskartotek!I4280)","v":0}]
[null,4270,{"$f":"Anlægskartotek!C4281","v":0},{"$f":"+IF((Basisoplysninger!$D$60=\"Ja\")*(Anlægskartotek!C4281<>0)=1,Anlægskartotek!$L$14,Anlægskartotek!I4281)","v":0}]
[null,4271,{"$f":"Anlægskartotek!C4282","v":0},{"$f":"+IF((Basisoplysninger!$D$60=\"Ja\")*(Anlægskartotek!C4282<>0)=1,Anlægskartotek!$L$14,Anlægskartotek!I4282)","v":0}]
[null,4272,{"$f":"Anlægskartotek!C4283","v":0},{"$f":"+IF((Basisoplysninger!$D$60=\"Ja\")*(Anlægskartotek!C4283<>0)=1,Anlægskartotek!$L$14,Anlægskartotek!I4283)","v":0}]
[null,4273,{"$f":"Anlægskartotek!C4284","v":0},{"$f":"+IF((Basisoplysninger!$D$60=\"Ja\")*(Anlægskartotek!C4284<>0)=1,Anlægskartotek!$L$14,Anlægskartotek!I4284)","v":0}]
[null,4274,{"$f":"Anlægskartotek!C4285","v":0},{"$f":"+IF((Basisoplysninger!$D$60=\"Ja\")*(Anlægskartotek!C4285<>0)=1,Anlægskartotek!$L$14,Anlægskartotek!I4285)","v":0}]
[null,4275,{"$f":"Anlægskartotek!C4286","v":0},{"$f":"+IF((Basisoplysninger!$D$60=\"Ja\")*(Anlægskartotek!C4286<>0)=1,Anlægskartotek!$L$14,Anlægskartotek!I4286)","v":0}]
[null,4276,{"$f":"Anlægskartotek!C4287","v":0},{"$f":"+IF((Basisoplysninger!$D$60=\"Ja\")*(Anlægskartotek!C4287<>0)=1,Anlægskartotek!$L$14,Anlægskartotek!I4287)","v":0}]
[null,4277,{"$f":"Anlægskartotek!C4288","v":0},{"$f":"+IF((Basisoplysninger!$D$60=\"Ja\")*(Anlægskartotek!C4288<>0)=1,Anlægskartotek!$L$14,Anlægskartotek!I4288)","v":0}]
[null,4278,{"$f":"Anlægskartotek!C4289","v":0},{"$f":"+IF((Basisoplysninger!$D$60=\"Ja\")*(Anlægskartotek!C4289<>0)=1,Anlægskartotek!$L$14,Anlægskartotek!I4289)","v":0}]
[null,4279,{"$f":"Anlægskartotek!C4290","v":0},{"$f":"+IF((Basisoplysninger!$D$60=\"Ja\")*(Anlægskartotek!C4290<>0)=1,Anlægskartotek!$L$14,Anlægskartotek!I4290)","v":0}]
[null,4280,{"$f":"Anlægskartotek!C4291","v":0},{"$f":"+IF((Basisoplysninger!$D$60=\"Ja\")*(Anlægskartotek!C4291<>0)=1,Anlægskartotek!$L$14,Anlægskartotek!I4291)","v":0}]
[null,4281,{"$f":"Anlægskartotek!C4292","v":0},{"$f":"+IF((Basisoplysninger!$D$60=\"Ja\")*(Anlægskartotek!C4292<>0)=1,Anlægskartotek!$L$14,Anlægskartotek!I4292)","v":0}]
[null,4282,{"$f":"Anlægskartotek!C4293","v":0},{"$f":"+IF((Basisoplysninger!$D$60=\"Ja\")*(Anlægskartotek!C4293<>0)=1,Anlægskartotek!$L$14,Anlægskartotek!I4293)","v":0}]
[null,4283,{"$f":"Anlægskartotek!C4294","v":0},{"$f":"+IF((Basisoplysninger!$D$60=\"Ja\")*(Anlægskartotek!C4294<>0)=1,Anlægskartotek!$L$14,Anlægskartotek!I4294)","v":0}]
[null,4284,{"$f":"Anlægskartotek!C4295","v":0},{"$f":"+IF((Basisoplysninger!$D$60=\"Ja\")*(Anlægskartotek!C4295<>0)=1,Anlægskartotek!$L$14,Anlægskartotek!I4295)","v":0}]
[null,4285,{"$f":"Anlægskartotek!C4296","v":0},{"$f":"+IF((Basisoplysninger!$D$60=\"Ja\")*(Anlægskartotek!C4296<>0)=1,Anlægskartotek!$L$14,Anlægskartotek!I4296)","v":0}]
[null,4286,{"$f":"Anlægskartotek!C4297","v":0},{"$f":"+IF((Basisoplysninger!$D$60=\"Ja\")*(Anlægskartotek!C4297<>0)=1,Anlægskartotek!$L$14,Anlægskartotek!I4297)","v":0}]
[null,4287,{"$f":"Anlægskartotek!C4298","v":0},{"$f":"+IF((Basisoplysninger!$D$60=\"Ja\")*(Anlægskartotek!C4298<>0)=1,Anlægskartotek!$L$14,Anlægskartotek!I4298)","v":0}]
[null,4288,{"$f":"Anlægskartotek!C4299","v":0},{"$f":"+IF((Basisoplysninger!$D$60=\"Ja\")*(Anlægskartotek!C4299<>0)=1,Anlægskartotek!$L$14,Anlægskartotek!I4299)","v":0}]
[null,4289,{"$f":"Anlægskartotek!C4300","v":0},{"$f":"+IF((Basisoplysninger!$D$60=\"Ja\")*(Anlægskartotek!C4300<>0)=1,Anlægskartotek!$L$14,Anlægskartotek!I4300)","v":0}]
[null,4290,{"$f":"Anlægskartotek!C4301","v":0},{"$f":"+IF((Basisoplysninger!$D$60=\"Ja\")*(Anlægskartotek!C4301<>0)=1,Anlægskartotek!$L$14,Anlægskartotek!I4301)","v":0}]
[null,{"$f":"B4399+1","v":4291},{"$f":"Anlægskartotek!C4302","v":0},{"$f":"+IF((Basisoplysninger!$D$60=\"Ja\")*(Anlægskartotek!C4302<>0)=1,Anlægskartotek!$L$14,Anlægskartotek!I4302)","v":0}]
[null,4292,{"$f":"Anlægskartotek!C4303","v":0},{"$f":"+IF((Basisoplysninger!$D$60=\"Ja\")*(Anlægskartotek!C4303<>0)=1,Anlægskartotek!$L$14,Anlægskartotek!I4303)","v":0}]
[null,4293,{"$f":"Anlægskartotek!C4304","v":0},{"$f":"+IF((Basisoplysninger!$D$60=\"Ja\")*(Anlægskartotek!C4304<>0)=1,Anlægskartotek!$L$14,Anlægskartotek!I4304)","v":0}]
[null,4294,{"$f":"Anlægskartotek!C4305","v":0},{"$f":"+IF((Basisoplysninger!$D$60=\"Ja\")*(Anlægskartotek!C4305<>0)=1,Anlægskartotek!$L$14,Anlægskartotek!I4305)","v":0}]
[null,4295,{"$f":"Anlægskartotek!C4306","v":0},{"$f":"+IF((Basisoplysninger!$D$60=\"Ja\")*(Anlægskartotek!C4306<>0)=1,Anlægskartotek!$L$14,Anlægskartotek!I4306)","v":0}]
[null,4296,{"$f":"Anlægskartotek!C4307","v":0},{"$f":"+IF((Basisoplysninger!$D$60=\"Ja\")*(Anlægskartotek!C4307<>0)=1,Anlægskartotek!$L$14,Anlægskartotek!I4307)","v":0}]
[null,4297,{"$f":"Anlægskartotek!C4308","v":0},{"$f":"+IF((Basisoplysninger!$D$60=\"Ja\")*(Anlægskartotek!C4308<>0)=1,Anlægskartotek!$L$14,Anlægskartotek!I4308)","v":0}]
[null,4298,{"$f":"Anlægskartotek!C4309","v":0},{"$f":"+IF((Basisoplysninger!$D$60=\"Ja\")*(Anlægskartotek!C4309<>0)=1,Anlægskartotek!$L$14,Anlægskartotek!I4309)","v":0}]
[null,4299,{"$f":"Anlægskartotek!C4310","v":0},{"$f":"+IF((Basisoplysninger!$D$60=\"Ja\")*(Anlægskartotek!C4310<>0)=1,Anlægskartotek!$L$14,Anlægskartotek!I4310)","v":0}]
[null,4300,{"$f":"Anlægskartotek!C4311","v":0},{"$f":"+IF((Basisoplysninger!$D$60=\"Ja\")*(Anlægskartotek!C4311<>0)=1,Anlægskartotek!$L$14,Anlægskartotek!I4311)","v":0}]
[null,4301,{"$f":"Anlægskartotek!C4312","v":0},{"$f":"+IF((Basisoplysninger!$D$60=\"Ja\")*(Anlægskartotek!C4312<>0)=1,Anlægskartotek!$L$14,Anlægskartotek!I4312)","v":0}]
[null,4302,{"$f":"Anlægskartotek!C4313","v":0},{"$f":"+IF((Basisoplysninger!$D$60=\"Ja\")*(Anlægskartotek!C4313<>0)=1,Anlægskartotek!$L$14,Anlægskartotek!I4313)","v":0}]
[null,4303,{"$f":"Anlægskartotek!C4314","v":0},{"$f":"+IF((Basisoplysninger!$D$60=\"Ja\")*(Anlægskartotek!C4314<>0)=1,Anlægskartotek!$L$14,Anlægskartotek!I4314)","v":0}]
[null,4304,{"$f":"Anlægskartotek!C4315","v":0},{"$f":"+IF((Basisoplysninger!$D$60=\"Ja\")*(Anlægskartotek!C4315<>0)=1,Anlægskartotek!$L$14,Anlægskartotek!I4315)","v":0}]
[null,4305,{"$f":"Anlægskartotek!C4316","v":0},{"$f":"+IF((Basisoplysninger!$D$60=\"Ja\")*(Anlægskartotek!C4316<>0)=1,Anlægskartotek!$L$14,Anlægskartotek!I4316)","v":0}]
[null,4306,{"$f":"Anlægskartotek!C4317","v":0},{"$f":"+IF((Basisoplysninger!$D$60=\"Ja\")*(Anlægskartotek!C4317<>0)=1,Anlægskartotek!$L$14,Anlægskartotek!I4317)","v":0}]
[null,4307,{"$f":"Anlægskartotek!C4318","v":0},{"$f":"+IF((Basisoplysninger!$D$60=\"Ja\")*(Anlægskartotek!C4318<>0)=1,Anlægskartotek!$L$14,Anlægskartotek!I4318)","v":0}]
[null,4308,{"$f":"Anlægskartotek!C4319","v":0},{"$f":"+IF((Basisoplysninger!$D$60=\"Ja\")*(Anlægskartotek!C4319<>0)=1,Anlægskartotek!$L$14,Anlægskartotek!I4319)","v":0}]
[null,4309,{"$f":"Anlægskartotek!C4320","v":0},{"$f":"+IF((Basisoplysninger!$D$60=\"Ja\")*(Anlægskartotek!C4320<>0)=1,Anlægskartotek!$L$14,Anlægskartotek!I4320)","v":0}]
[null,4310,{"$f":"Anlægskartotek!C4321","v":0},{"$f":"+IF((Basisoplysninger!$D$60=\"Ja\")*(Anlægskartotek!C4321<>0)=1,Anlægskartotek!$L$14,Anlægskartotek!I4321)","v":0}]
[null,4311,{"$f":"Anlægskartotek!C4322","v":0},{"$f":"+IF((Basisoplysninger!$D$60=\"Ja\")*(Anlægskartotek!C4322<>0)=1,Anlægskartotek!$L$14,Anlægskartotek!I4322)","v":0}]
[null,4312,{"$f":"Anlægskartotek!C4323","v":0},{"$f":"+IF((Basisoplysninger!$D$60=\"Ja\")*(Anlægskartotek!C4323<>0)=1,Anlægskartotek!$L$14,Anlægskartotek!I4323)","v":0}]
[null,4313,{"$f":"Anlægskartotek!C4324","v":0},{"$f":"+IF((Basisoplysninger!$D$60=\"Ja\")*(Anlægskartotek!C4324<>0)=1,Anlægskartotek!$L$14,Anlægskartotek!I4324)","v":0}]
[null,4314,{"$f":"Anlægskartotek!C4325","v":0},{"$f":"+IF((Basisoplysninger!$D$60=\"Ja\")*(Anlægskartotek!C4325<>0)=1,Anlægskartotek!$L$14,Anlægskartotek!I4325)","v":0}]
[null,4315,{"$f":"Anlægskartotek!C4326","v":0},{"$f":"+IF((Basisoplysninger!$D$60=\"Ja\")*(Anlægskartotek!C4326<>0)=1,Anlægskartotek!$L$14,Anlægskartotek!I4326)","v":0}]
[null,4316,{"$f":"Anlægskartotek!C4327","v":0},{"$f":"+IF((Basisoplysninger!$D$60=\"Ja\")*(Anlægskartotek!C4327<>0)=1,Anlægskartotek!$L$14,Anlægskartotek!I4327)","v":0}]
[null,4317,{"$f":"Anlægskartotek!C4328","v":0},{"$f":"+IF((Basisoplysninger!$D$60=\"Ja\")*(Anlægskartotek!C4328<>0)=1,Anlægskartotek!$L$14,Anlægskartotek!I4328)","v":0}]
[null,4318,{"$f":"Anlægskartotek!C4329","v":0},{"$f":"+IF((Basisoplysninger!$D$60=\"Ja\")*(Anlægskartotek!C4329<>0)=1,Anlægskartotek!$L$14,Anlægskartotek!I4329)","v":0}]
[null,4319,{"$f":"Anlægskartotek!C4330","v":0},{"$f":"+IF((Basisoplysninger!$D$60=\"Ja\")*(Anlægskartotek!C4330<>0)=1,Anlægskartotek!$L$14,Anlægskartotek!I4330)","v":0}]
[null,4320,{"$f":"Anlægskartotek!C4331","v":0},{"$f":"+IF((Basisoplysninger!$D$60=\"Ja\")*(Anlægskartotek!C4331<>0)=1,Anlægskartotek!$L$14,Anlægskartotek!I4331)","v":0}]
[null,4321,{"$f":"Anlægskartotek!C4332","v":0},{"$f":"+IF((Basisoplysninger!$D$60=\"Ja\")*(Anlægskartotek!C4332<>0)=1,Anlægskartotek!$L$14,Anlægskartotek!I4332)","v":0}]
[null,4322,{"$f":"Anlægskartotek!C4333","v":0},{"$f":"+IF((Basisoplysninger!$D$60=\"Ja\")*(Anlægskartotek!C4333<>0)=1,Anlægskartotek!$L$14,Anlægskartotek!I4333)","v":0}]
[null,4323,{"$f":"Anlægskartotek!C4334","v":0},{"$f":"+IF((Basisoplysninger!$D$60=\"Ja\")*(Anlægskartotek!C4334<>0)=1,Anlægskartotek!$L$14,Anlægskartotek!I4334)","v":0}]
[null,4324,{"$f":"Anlægskartotek!C4335","v":0},{"$f":"+IF((Basisoplysninger!$D$60=\"Ja\")*(Anlægskartotek!C4335<>0)=1,Anlægskartotek!$L$14,Anlægskartotek!I4335)","v":0}]
[null,4325,{"$f":"Anlægskartotek!C4336","v":0},{"$f":"+IF((Basisoplysninger!$D$60=\"Ja\")*(Anlægskartotek!C4336<>0)=1,Anlægskartotek!$L$14,Anlægskartotek!I4336)","v":0}]
[null,4326,{"$f":"Anlægskartotek!C4337","v":0},{"$f":"+IF((Basisoplysninger!$D$60=\"Ja\")*(Anlægskartotek!C4337<>0)=1,Anlægskartotek!$L$14,Anlægskartotek!I4337)","v":0}]
[null,4327,{"$f":"Anlægskartotek!C4338","v":0},{"$f":"+IF((Basisoplysninger!$D$60=\"Ja\")*(Anlægskartotek!C4338<>0)=1,Anlægskartotek!$L$14,Anlægskartotek!I4338)","v":0}]
[null,4328,{"$f":"Anlægskartotek!C4339","v":0},{"$f":"+IF((Basisoplysninger!$D$60=\"Ja\")*(Anlægskartotek!C4339<>0)=1,Anlægskartotek!$L$14,Anlægskartotek!I4339)","v":0}]
[null,4329,{"$f":"Anlægskartotek!C4340","v":0},{"$f":"+IF((Basisoplysninger!$D$60=\"Ja\")*(Anlægskartotek!C4340<>0)=1,Anlægskartotek!$L$14,Anlægskartotek!I4340)","v":0}]
[null,4330,{"$f":"Anlægskartotek!C4341","v":0},{"$f":"+IF((Basisoplysninger!$D$60=\"Ja\")*(Anlægskartotek!C4341<>0)=1,Anlægskartotek!$L$14,Anlægskartotek!I4341)","v":0}]
[null,4331,{"$f":"Anlægskartotek!C4342","v":0},{"$f":"+IF((Basisoplysninger!$D$60=\"Ja\")*(Anlægskartotek!C4342<>0)=1,Anlægskartotek!$L$14,Anlægskartotek!I4342)","v":0}]
[null,4332,{"$f":"Anlægskartotek!C4343","v":0},{"$f":"+IF((Basisoplysninger!$D$60=\"Ja\")*(Anlægskartotek!C4343<>0)=1,Anlægskartotek!$L$14,Anlægskartotek!I4343)","v":0}]
[null,4333,{"$f":"Anlægskartotek!C4344","v":0},{"$f":"+IF((Basisoplysninger!$D$60=\"Ja\")*(Anlægskartotek!C4344<>0)=1,Anlægskartotek!$L$14,Anlægskartotek!I4344)","v":0}]
[null,4334,{"$f":"Anlægskartotek!C4345","v":0},{"$f":"+IF((Basisoplysninger!$D$60=\"Ja\")*(Anlægskartotek!C4345<>0)=1,Anlægskartotek!$L$14,Anlægskartotek!I4345)","v":0}]
[null,4335,{"$f":"Anlægskartotek!C4346","v":0},{"$f":"+IF((Basisoplysninger!$D$60=\"Ja\")*(Anlægskartotek!C4346<>0)=1,Anlægskartotek!$L$14,Anlægskartotek!I4346)","v":0}]
[null,4336,{"$f":"Anlægskartotek!C4347","v":0},{"$f":"+IF((Basisoplysninger!$D$60=\"Ja\")*(Anlægskartotek!C4347<>0)=1,Anlægskartotek!$L$14,Anlægskartotek!I4347)","v":0}]
[null,4337,{"$f":"Anlægskartotek!C4348","v":0},{"$f":"+IF((Basisoplysninger!$D$60=\"Ja\")*(Anlægskartotek!C4348<>0)=1,Anlægskartotek!$L$14,Anlægskartotek!I4348)","v":0}]
[null,4338,{"$f":"Anlægskartotek!C4349","v":0},{"$f":"+IF((Basisoplysninger!$D$60=\"Ja\")*(Anlægskartotek!C4349<>0)=1,Anlægskartotek!$L$14,Anlægskartotek!I4349)","v":0}]
[null,4339,{"$f":"Anlægskartotek!C4350","v":0},{"$f":"+IF((Basisoplysninger!$D$60=\"Ja\")*(Anlægskartotek!C4350<>0)=1,Anlægskartotek!$L$14,Anlægskartotek!I4350)","v":0}]
[null,4340,{"$f":"Anlægskartotek!C4351","v":0},{"$f":"+IF((Basisoplysninger!$D$60=\"Ja\")*(Anlægskartotek!C4351<>0)=1,Anlægskartotek!$L$14,Anlægskartotek!I4351)","v":0}]
[null,4341,{"$f":"Anlægskartotek!C4352","v":0},{"$f":"+IF((Basisoplysninger!$D$60=\"Ja\")*(Anlægskartotek!C4352<>0)=1,Anlægskartotek!$L$14,Anlægskartotek!I4352)","v":0}]
[null,4342,{"$f":"Anlægskartotek!C4353","v":0},{"$f":"+IF((Basisoplysninger!$D$60=\"Ja\")*(Anlægskartotek!C4353<>0)=1,Anlægskartotek!$L$14,Anlægskartotek!I4353)","v":0}]
[null,4343,{"$f":"Anlægskartotek!C4354","v":0},{"$f":"+IF((Basisoplysninger!$D$60=\"Ja\")*(Anlægskartotek!C4354<>0)=1,Anlægskartotek!$L$14,Anlægskartotek!I4354)","v":0}]
[null,4344,{"$f":"Anlægskartotek!C4355","v":0},{"$f":"+IF((Basisoplysninger!$D$60=\"Ja\")*(Anlægskartotek!C4355<>0)=1,Anlægskartotek!$L$14,Anlægskartotek!I4355)","v":0}]
[null,4345,{"$f":"Anlægskartotek!C4356","v":0},{"$f":"+IF((Basisoplysninger!$D$60=\"Ja\")*(Anlægskartotek!C4356<>0)=1,Anlægskartotek!$L$14,Anlægskartotek!I4356)","v":0}]
[null,4346,{"$f":"Anlægskartotek!C4357","v":0},{"$f":"+IF((Basisoplysninger!$D$60=\"Ja\")*(Anlægskartotek!C4357<>0)=1,Anlægskartotek!$L$14,Anlægskartotek!I4357)","v":0}]
[null,4347,{"$f":"Anlægskartotek!C4358","v":0},{"$f":"+IF((Basisoplysninger!$D$60=\"Ja\")*(Anlægskartotek!C4358<>0)=1,Anlægskartotek!$L$14,Anlægskartotek!I4358)","v":0}]
[null,4348,{"$f":"Anlægskartotek!C4359","v":0},{"$f":"+IF((Basisoplysninger!$D$60=\"Ja\")*(Anlægskartotek!C4359<>0)=1,Anlægskartotek!$L$14,Anlægskartotek!I4359)","v":0}]
[null,4349,{"$f":"Anlægskartotek!C4360","v":0},{"$f":"+IF((Basisoplysninger!$D$60=\"Ja\")*(Anlægskartotek!C4360<>0)=1,Anlægskartotek!$L$14,Anlægskartotek!I4360)","v":0}]
[null,4350,{"$f":"Anlægskartotek!C4361","v":0},{"$f":"+IF((Basisoplysninger!$D$60=\"Ja\")*(Anlægskartotek!C4361<>0)=1,Anlægskartotek!$L$14,Anlægskartotek!I4361)","v":0}]
[null,4351,{"$f":"Anlægskartotek!C4362","v":0},{"$f":"+IF((Basisoplysninger!$D$60=\"Ja\")*(Anlægskartotek!C4362<>0)=1,Anlægskartotek!$L$14,Anlægskartotek!I4362)","v":0}]
[null,4352,{"$f":"Anlægskartotek!C4363","v":0},{"$f":"+IF((Basisoplysninger!$D$60=\"Ja\")*(Anlægskartotek!C4363<>0)=1,Anlægskartotek!$L$14,Anlægskartotek!I4363)","v":0}]
[null,4353,{"$f":"Anlægskartotek!C4364","v":0},{"$f":"+IF((Basisoplysninger!$D$60=\"Ja\")*(Anlægskartotek!C4364<>0)=1,Anlægskartotek!$L$14,Anlægskartotek!I4364)","v":0}]
[null,4354,{"$f":"Anlægskartotek!C4365","v":0},{"$f":"+IF((Basisoplysninger!$D$60=\"Ja\")*(Anlægskartotek!C4365<>0)=1,Anlægskartotek!$L$14,Anlægskartotek!I4365)","v":0}]
[null,{"$f":"B4463+1","v":4355},{"$f":"Anlægskartotek!C4366","v":0},{"$f":"+IF((Basisoplysninger!$D$60=\"Ja\")*(Anlægskartotek!C4366<>0)=1,Anlægskartotek!$L$14,Anlægskartotek!I4366)","v":0}]
[null,4356,{"$f":"Anlægskartotek!C4367","v":0},{"$f":"+IF((Basisoplysninger!$D$60=\"Ja\")*(Anlægskartotek!C4367<>0)=1,Anlægskartotek!$L$14,Anlægskartotek!I4367)","v":0}]
[null,4357,{"$f":"Anlægskartotek!C4368","v":0},{"$f":"+IF((Basisoplysninger!$D$60=\"Ja\")*(Anlægskartotek!C4368<>0)=1,Anlægskartotek!$L$14,Anlægskartotek!I4368)","v":0}]
[null,4358,{"$f":"Anlægskartotek!C4369","v":0},{"$f":"+IF((Basisoplysninger!$D$60=\"Ja\")*(Anlægskartotek!C4369<>0)=1,Anlægskartotek!$L$14,Anlægskartotek!I4369)","v":0}]
[null,4359,{"$f":"Anlægskartotek!C4370","v":0},{"$f":"+IF((Basisoplysninger!$D$60=\"Ja\")*(Anlægskartotek!C4370<>0)=1,Anlægskartotek!$L$14,Anlægskartotek!I4370)","v":0}]
[null,4360,{"$f":"Anlægskartotek!C4371","v":0},{"$f":"+IF((Basisoplysninger!$D$60=\"Ja\")*(Anlægskartotek!C4371<>0)=1,Anlægskartotek!$L$14,Anlægskartotek!I4371)","v":0}]
[null,4361,{"$f":"Anlægskartotek!C4372","v":0},{"$f":"+IF((Basisoplysninger!$D$60=\"Ja\")*(Anlægskartotek!C4372<>0)=1,Anlægskartotek!$L$14,Anlægskartotek!I4372)","v":0}]
[null,4362,{"$f":"Anlægskartotek!C4373","v":0},{"$f":"+IF((Basisoplysninger!$D$60=\"Ja\")*(Anlægskartotek!C4373<>0)=1,Anlægskartotek!$L$14,Anlægskartotek!I4373)","v":0}]
[null,4363,{"$f":"Anlægskartotek!C4374","v":0},{"$f":"+IF((Basisoplysninger!$D$60=\"Ja\")*(Anlægskartotek!C4374<>0)=1,Anlægskartotek!$L$14,Anlægskartotek!I4374)","v":0}]
[null,4364,{"$f":"Anlægskartotek!C4375","v":0},{"$f":"+IF((Basisoplysninger!$D$60=\"Ja\")*(Anlægskartotek!C4375<>0)=1,Anlægskartotek!$L$14,Anlægskartotek!I4375)","v":0}]
[null,4365,{"$f":"Anlægskartotek!C4376","v":0},{"$f":"+IF((Basisoplysninger!$D$60=\"Ja\")*(Anlægskartotek!C4376<>0)=1,Anlægskartotek!$L$14,Anlægskartotek!I4376)","v":0}]
[null,4366,{"$f":"Anlægskartotek!C4377","v":0},{"$f":"+IF((Basisoplysninger!$D$60=\"Ja\")*(Anlægskartotek!C4377<>0)=1,Anlægskartotek!$L$14,Anlægskartotek!I4377)","v":0}]
[null,4367,{"$f":"Anlægskartotek!C4378","v":0},{"$f":"+IF((Basisoplysninger!$D$60=\"Ja\")*(Anlægskartotek!C4378<>0)=1,Anlægskartotek!$L$14,Anlægskartotek!I4378)","v":0}]
[null,4368,{"$f":"Anlægskartotek!C4379","v":0},{"$f":"+IF((Basisoplysninger!$D$60=\"Ja\")*(Anlægskartotek!C4379<>0)=1,Anlægskartotek!$L$14,Anlægskartotek!I4379)","v":0}]
[null,4369,{"$f":"Anlægskartotek!C4380","v":0},{"$f":"+IF((Basisoplysninger!$D$60=\"Ja\")*(Anlægskartotek!C4380<>0)=1,Anlægskartotek!$L$14,Anlægskartotek!I4380)","v":0}]
[null,4370,{"$f":"Anlægskartotek!C4381","v":0},{"$f":"+IF((Basisoplysninger!$D$60=\"Ja\")*(Anlægskartotek!C4381<>0)=1,Anlægskartotek!$L$14,Anlægskartotek!I4381)","v":0}]
[null,4371,{"$f":"Anlægskartotek!C4382","v":0},{"$f":"+IF((Basisoplysninger!$D$60=\"Ja\")*(Anlægskartotek!C4382<>0)=1,Anlægskartotek!$L$14,Anlægskartotek!I4382)","v":0}]
[null,4372,{"$f":"Anlægskartotek!C4383","v":0},{"$f":"+IF((Basisoplysninger!$D$60=\"Ja\")*(Anlægskartotek!C4383<>0)=1,Anlægskartotek!$L$14,Anlægskartotek!I4383)","v":0}]
[null,4373,{"$f":"Anlægskartotek!C4384","v":0},{"$f":"+IF((Basisoplysninger!$D$60=\"Ja\")*(Anlægskartotek!C4384<>0)=1,Anlægskartotek!$L$14,Anlægskartotek!I4384)","v":0}]
[null,4374,{"$f":"Anlægskartotek!C4385","v":0},{"$f":"+IF((Basisoplysninger!$D$60=\"Ja\")*(Anlægskartotek!C4385<>0)=1,Anlægskartotek!$L$14,Anlægskartotek!I4385)","v":0}]
[null,4375,{"$f":"Anlægskartotek!C4386","v":0},{"$f":"+IF((Basisoplysninger!$D$60=\"Ja\")*(Anlægskartotek!C4386<>0)=1,Anlægskartotek!$L$14,Anlægskartotek!I4386)","v":0}]
[null,4376,{"$f":"Anlægskartotek!C4387","v":0},{"$f":"+IF((Basisoplysninger!$D$60=\"Ja\")*(Anlægskartotek!C4387<>0)=1,Anlægskartotek!$L$14,Anlægskartotek!I4387)","v":0}]
[null,4377,{"$f":"Anlægskartotek!C4388","v":0},{"$f":"+IF((Basisoplysninger!$D$60=\"Ja\")*(Anlægskartotek!C4388<>0)=1,Anlægskartotek!$L$14,Anlægskartotek!I4388)","v":0}]
[null,4378,{"$f":"Anlægskartotek!C4389","v":0},{"$f":"+IF((Basisoplysninger!$D$60=\"Ja\")*(Anlægskartotek!C4389<>0)=1,Anlægskartotek!$L$14,Anlægskartotek!I4389)","v":0}]
[null,4379,{"$f":"Anlægskartotek!C4390","v":0},{"$f":"+IF((Basisoplysninger!$D$60=\"Ja\")*(Anlægskartotek!C4390<>0)=1,Anlægskartotek!$L$14,Anlægskartotek!I4390)","v":0}]
[null,4380,{"$f":"Anlægskartotek!C4391","v":0},{"$f":"+IF((Basisoplysninger!$D$60=\"Ja\")*(Anlægskartotek!C4391<>0)=1,Anlægskartotek!$L$14,Anlægskartotek!I4391)","v":0}]
[null,4381,{"$f":"Anlægskartotek!C4392","v":0},{"$f":"+IF((Basisoplysninger!$D$60=\"Ja\")*(Anlægskartotek!C4392<>0)=1,Anlægskartotek!$L$14,Anlægskartotek!I4392)","v":0}]
[null,4382,{"$f":"Anlægskartotek!C4393","v":0},{"$f":"+IF((Basisoplysninger!$D$60=\"Ja\")*(Anlægskartotek!C4393<>0)=1,Anlægskartotek!$L$14,Anlægskartotek!I4393)","v":0}]
[null,4383,{"$f":"Anlægskartotek!C4394","v":0},{"$f":"+IF((Basisoplysninger!$D$60=\"Ja\")*(Anlægskartotek!C4394<>0)=1,Anlægskartotek!$L$14,Anlægskartotek!I4394)","v":0}]
[null,4384,{"$f":"Anlægskartotek!C4395","v":0},{"$f":"+IF((Basisoplysninger!$D$60=\"Ja\")*(Anlægskartotek!C4395<>0)=1,Anlægskartotek!$L$14,Anlægskartotek!I4395)","v":0}]
[null,4385,{"$f":"Anlægskartotek!C4396","v":0},{"$f":"+IF((Basisoplysninger!$D$60=\"Ja\")*(Anlægskartotek!C4396<>0)=1,Anlægskartotek!$L$14,Anlægskartotek!I4396)","v":0}]
[null,4386,{"$f":"Anlægskartotek!C4397","v":0},{"$f":"+IF((Basisoplysninger!$D$60=\"Ja\")*(Anlægskartotek!C4397<>0)=1,Anlægskartotek!$L$14,Anlægskartotek!I4397)","v":0}]
[null,4387,{"$f":"Anlægskartotek!C4398","v":0},{"$f":"+IF((Basisoplysninger!$D$60=\"Ja\")*(Anlægskartotek!C4398<>0)=1,Anlægskartotek!$L$14,Anlægskartotek!I4398)","v":0}]
[null,4388,{"$f":"Anlægskartotek!C4399","v":0},{"$f":"+IF((Basisoplysninger!$D$60=\"Ja\")*(Anlægskartotek!C4399<>0)=1,Anlægskartotek!$L$14,Anlægskartotek!I4399)","v":0}]
[null,4389,{"$f":"Anlægskartotek!C4400","v":0},{"$f":"+IF((Basisoplysninger!$D$60=\"Ja\")*(Anlægskartotek!C4400<>0)=1,Anlægskartotek!$L$14,Anlægskartotek!I4400)","v":0}]
[null,4390,{"$f":"Anlægskartotek!C4401","v":0},{"$f":"+IF((Basisoplysninger!$D$60=\"Ja\")*(Anlægskartotek!C4401<>0)=1,Anlægskartotek!$L$14,Anlægskartotek!I4401)","v":0}]
[null,4391,{"$f":"Anlægskartotek!C4402","v":0},{"$f":"+IF((Basisoplysninger!$D$60=\"Ja\")*(Anlægskartotek!C4402<>0)=1,Anlægskartotek!$L$14,Anlægskartotek!I4402)","v":0}]
[null,4392,{"$f":"Anlægskartotek!C4403","v":0},{"$f":"+IF((Basisoplysninger!$D$60=\"Ja\")*(Anlægskartotek!C4403<>0)=1,Anlægskartotek!$L$14,Anlægskartotek!I4403)","v":0}]
[null,4393,{"$f":"Anlægskartotek!C4404","v":0},{"$f":"+IF((Basisoplysninger!$D$60=\"Ja\")*(Anlægskartotek!C4404<>0)=1,Anlægskartotek!$L$14,Anlægskartotek!I4404)","v":0}]
[null,4394,{"$f":"Anlægskartotek!C4405","v":0},{"$f":"+IF((Basisoplysninger!$D$60=\"Ja\")*(Anlægskartotek!C4405<>0)=1,Anlægskartotek!$L$14,Anlægskartotek!I4405)","v":0}]
[null,4395,{"$f":"Anlægskartotek!C4406","v":0},{"$f":"+IF((Basisoplysninger!$D$60=\"Ja\")*(Anlægskartotek!C4406<>0)=1,Anlægskartotek!$L$14,Anlægskartotek!I4406)","v":0}]
[null,4396,{"$f":"Anlægskartotek!C4407","v":0},{"$f":"+IF((Basisoplysninger!$D$60=\"Ja\")*(Anlægskartotek!C4407<>0)=1,Anlægskartotek!$L$14,Anlægskartotek!I4407)","v":0}]
[null,4397,{"$f":"Anlægskartotek!C4408","v":0},{"$f":"+IF((Basisoplysninger!$D$60=\"Ja\")*(Anlægskartotek!C4408<>0)=1,Anlægskartotek!$L$14,Anlægskartotek!I4408)","v":0}]
[null,4398,{"$f":"Anlægskartotek!C4409","v":0},{"$f":"+IF((Basisoplysninger!$D$60=\"Ja\")*(Anlægskartotek!C4409<>0)=1,Anlægskartotek!$L$14,Anlægskartotek!I4409)","v":0}]
[null,4399,{"$f":"Anlægskartotek!C4410","v":0},{"$f":"+IF((Basisoplysninger!$D$60=\"Ja\")*(Anlægskartotek!C4410<>0)=1,Anlægskartotek!$L$14,Anlægskartotek!I4410)","v":0}]
[null,4400,{"$f":"Anlægskartotek!C4411","v":0},{"$f":"+IF((Basisoplysninger!$D$60=\"Ja\")*(Anlægskartotek!C4411<>0)=1,Anlægskartotek!$L$14,Anlægskartotek!I4411)","v":0}]
[null,4401,{"$f":"Anlægskartotek!C4412","v":0},{"$f":"+IF((Basisoplysninger!$D$60=\"Ja\")*(Anlægskartotek!C4412<>0)=1,Anlægskartotek!$L$14,Anlægskartotek!I4412)","v":0}]
[null,4402,{"$f":"Anlægskartotek!C4413","v":0},{"$f":"+IF((Basisoplysninger!$D$60=\"Ja\")*(Anlægskartotek!C4413<>0)=1,Anlægskartotek!$L$14,Anlægskartotek!I4413)","v":0}]
[null,4403,{"$f":"Anlægskartotek!C4414","v":0},{"$f":"+IF((Basisoplysninger!$D$60=\"Ja\")*(Anlægskartotek!C4414<>0)=1,Anlægskartotek!$L$14,Anlægskartotek!I4414)","v":0}]
[null,4404,{"$f":"Anlægskartotek!C4415","v":0},{"$f":"+IF((Basisoplysninger!$D$60=\"Ja\")*(Anlægskartotek!C4415<>0)=1,Anlægskartotek!$L$14,Anlægskartotek!I4415)","v":0}]
[null,4405,{"$f":"Anlægskartotek!C4416","v":0},{"$f":"+IF((Basisoplysninger!$D$60=\"Ja\")*(Anlægskartotek!C4416<>0)=1,Anlægskartotek!$L$14,Anlægskartotek!I4416)","v":0}]
[null,4406,{"$f":"Anlægskartotek!C4417","v":0},{"$f":"+IF((Basisoplysninger!$D$60=\"Ja\")*(Anlægskartotek!C4417<>0)=1,Anlægskartotek!$L$14,Anlægskartotek!I4417)","v":0}]
[null,4407,{"$f":"Anlægskartotek!C4418","v":0},{"$f":"+IF((Basisoplysninger!$D$60=\"Ja\")*(Anlægskartotek!C4418<>0)=1,Anlægskartotek!$L$14,Anlægskartotek!I4418)","v":0}]
[null,4408,{"$f":"Anlægskartotek!C4419","v":0},{"$f":"+IF((Basisoplysninger!$D$60=\"Ja\")*(Anlægskartotek!C4419<>0)=1,Anlægskartotek!$L$14,Anlægskartotek!I4419)","v":0}]
[null,4409,{"$f":"Anlægskartotek!C4420","v":0},{"$f":"+IF((Basisoplysninger!$D$60=\"Ja\")*(Anlægskartotek!C4420<>0)=1,Anlægskartotek!$L$14,Anlægskartotek!I4420)","v":0}]
[null,4410,{"$f":"Anlægskartotek!C4421","v":0},{"$f":"+IF((Basisoplysninger!$D$60=\"Ja\")*(Anlægskartotek!C4421<>0)=1,Anlægskartotek!$L$14,Anlægskartotek!I4421)","v":0}]
[null,4411,{"$f":"Anlægskartotek!C4422","v":0},{"$f":"+IF((Basisoplysninger!$D$60=\"Ja\")*(Anlægskartotek!C4422<>0)=1,Anlægskartotek!$L$14,Anlægskartotek!I4422)","v":0}]
[null,4412,{"$f":"Anlægskartotek!C4423","v":0},{"$f":"+IF((Basisoplysninger!$D$60=\"Ja\")*(Anlægskartotek!C4423<>0)=1,Anlægskartotek!$L$14,Anlægskartotek!I4423)","v":0}]
[null,4413,{"$f":"Anlægskartotek!C4424","v":0},{"$f":"+IF((Basisoplysninger!$D$60=\"Ja\")*(Anlægskartotek!C4424<>0)=1,Anlægskartotek!$L$14,Anlægskartotek!I4424)","v":0}]
[null,4414,{"$f":"Anlægskartotek!C4425","v":0},{"$f":"+IF((Basisoplysninger!$D$60=\"Ja\")*(Anlægskartotek!C4425<>0)=1,Anlægskartotek!$L$14,Anlægskartotek!I4425)","v":0}]
[null,4415,{"$f":"Anlægskartotek!C4426","v":0},{"$f":"+IF((Basisoplysninger!$D$60=\"Ja\")*(Anlægskartotek!C4426<>0)=1,Anlægskartotek!$L$14,Anlægskartotek!I4426)","v":0}]
[null,4416,{"$f":"Anlægskartotek!C4427","v":0},{"$f":"+IF((Basisoplysninger!$D$60=\"Ja\")*(Anlægskartotek!C4427<>0)=1,Anlægskartotek!$L$14,Anlægskartotek!I4427)","v":0}]
[null,4417,{"$f":"Anlægskartotek!C4428","v":0},{"$f":"+IF((Basisoplysninger!$D$60=\"Ja\")*(Anlægskartotek!C4428<>0)=1,Anlægskartotek!$L$14,Anlægskartotek!I4428)","v":0}]
[null,4418,{"$f":"Anlægskartotek!C4429","v":0},{"$f":"+IF((Basisoplysninger!$D$60=\"Ja\")*(Anlægskartotek!C4429<>0)=1,Anlægskartotek!$L$14,Anlægskartotek!I4429)","v":0}]
[null,{"$f":"B4527+1","v":4419},{"$f":"Anlægskartotek!C4430","v":0},{"$f":"+IF((Basisoplysninger!$D$60=\"Ja\")*(Anlægskartotek!C4430<>0)=1,Anlægskartotek!$L$14,Anlægskartotek!I4430)","v":0}]
[null,4420,{"$f":"Anlægskartotek!C4431","v":0},{"$f":"+IF((Basisoplysninger!$D$60=\"Ja\")*(Anlægskartotek!C4431<>0)=1,Anlægskartotek!$L$14,Anlægskartotek!I4431)","v":0}]
[null,4421,{"$f":"Anlægskartotek!C4432","v":0},{"$f":"+IF((Basisoplysninger!$D$60=\"Ja\")*(Anlægskartotek!C4432<>0)=1,Anlægskartotek!$L$14,Anlægskartotek!I4432)","v":0}]
[null,4422,{"$f":"Anlægskartotek!C4433","v":0},{"$f":"+IF((Basisoplysninger!$D$60=\"Ja\")*(Anlægskartotek!C4433<>0)=1,Anlægskartotek!$L$14,Anlægskartotek!I4433)","v":0}]
[null,4423,{"$f":"Anlægskartotek!C4434","v":0},{"$f":"+IF((Basisoplysninger!$D$60=\"Ja\")*(Anlægskartotek!C4434<>0)=1,Anlægskartotek!$L$14,Anlægskartotek!I4434)","v":0}]
[null,4424,{"$f":"Anlægskartotek!C4435","v":0},{"$f":"+IF((Basisoplysninger!$D$60=\"Ja\")*(Anlægskartotek!C4435<>0)=1,Anlægskartotek!$L$14,Anlægskartotek!I4435)","v":0}]
[null,4425,{"$f":"Anlægskartotek!C4436","v":0},{"$f":"+IF((Basisoplysninger!$D$60=\"Ja\")*(Anlægskartotek!C4436<>0)=1,Anlægskartotek!$L$14,Anlægskartotek!I4436)","v":0}]
[null,4426,{"$f":"Anlægskartotek!C4437","v":0},{"$f":"+IF((Basisoplysninger!$D$60=\"Ja\")*(Anlægskartotek!C4437<>0)=1,Anlægskartotek!$L$14,Anlægskartotek!I4437)","v":0}]
[null,4427,{"$f":"Anlægskartotek!C4438","v":0},{"$f":"+IF((Basisoplysninger!$D$60=\"Ja\")*(Anlægskartotek!C4438<>0)=1,Anlægskartotek!$L$14,Anlægskartotek!I4438)","v":0}]
[null,4428,{"$f":"Anlægskartotek!C4439","v":0},{"$f":"+IF((Basisoplysninger!$D$60=\"Ja\")*(Anlægskartotek!C4439<>0)=1,Anlægskartotek!$L$14,Anlægskartotek!I4439)","v":0}]
[null,4429,{"$f":"Anlægskartotek!C4440","v":0},{"$f":"+IF((Basisoplysninger!$D$60=\"Ja\")*(Anlægskartotek!C4440<>0)=1,Anlægskartotek!$L$14,Anlægskartotek!I4440)","v":0}]
[null,4430,{"$f":"Anlægskartotek!C4441","v":0},{"$f":"+IF((Basisoplysninger!$D$60=\"Ja\")*(Anlægskartotek!C4441<>0)=1,Anlægskartotek!$L$14,Anlægskartotek!I4441)","v":0}]
[null,4431,{"$f":"Anlægskartotek!C4442","v":0},{"$f":"+IF((Basisoplysninger!$D$60=\"Ja\")*(Anlægskartotek!C4442<>0)=1,Anlægskartotek!$L$14,Anlægskartotek!I4442)","v":0}]
[null,4432,{"$f":"Anlægskartotek!C4443","v":0},{"$f":"+IF((Basisoplysninger!$D$60=\"Ja\")*(Anlægskartotek!C4443<>0)=1,Anlægskartotek!$L$14,Anlægskartotek!I4443)","v":0}]
[null,4433,{"$f":"Anlægskartotek!C4444","v":0},{"$f":"+IF((Basisoplysninger!$D$60=\"Ja\")*(Anlægskartotek!C4444<>0)=1,Anlægskartotek!$L$14,Anlægskartotek!I4444)","v":0}]
[null,4434,{"$f":"Anlægskartotek!C4445","v":0},{"$f":"+IF((Basisoplysninger!$D$60=\"Ja\")*(Anlægskartotek!C4445<>0)=1,Anlægskartotek!$L$14,Anlægskartotek!I4445)","v":0}]
[null,4435,{"$f":"Anlægskartotek!C4446","v":0},{"$f":"+IF((Basisoplysninger!$D$60=\"Ja\")*(Anlægskartotek!C4446<>0)=1,Anlægskartotek!$L$14,Anlægskartotek!I4446)","v":0}]
[null,4436,{"$f":"Anlægskartotek!C4447","v":0},{"$f":"+IF((Basisoplysninger!$D$60=\"Ja\")*(Anlægskartotek!C4447<>0)=1,Anlægskartotek!$L$14,Anlægskartotek!I4447)","v":0}]
[null,4437,{"$f":"Anlægskartotek!C4448","v":0},{"$f":"+IF((Basisoplysninger!$D$60=\"Ja\")*(Anlægskartotek!C4448<>0)=1,Anlægskartotek!$L$14,Anlægskartotek!I4448)","v":0}]
[null,4438,{"$f":"Anlægskartotek!C4449","v":0},{"$f":"+IF((Basisoplysninger!$D$60=\"Ja\")*(Anlægskartotek!C4449<>0)=1,Anlægskartotek!$L$14,Anlægskartotek!I4449)","v":0}]
[null,4439,{"$f":"Anlægskartotek!C4450","v":0},{"$f":"+IF((Basisoplysninger!$D$60=\"Ja\")*(Anlægskartotek!C4450<>0)=1,Anlægskartotek!$L$14,Anlægskartotek!I4450)","v":0}]
[null,4440,{"$f":"Anlægskartotek!C4451","v":0},{"$f":"+IF((Basisoplysninger!$D$60=\"Ja\")*(Anlægskartotek!C4451<>0)=1,Anlægskartotek!$L$14,Anlægskartotek!I4451)","v":0}]
[null,4441,{"$f":"Anlægskartotek!C4452","v":0},{"$f":"+IF((Basisoplysninger!$D$60=\"Ja\")*(Anlægskartotek!C4452<>0)=1,Anlægskartotek!$L$14,Anlægskartotek!I4452)","v":0}]
[null,4442,{"$f":"Anlægskartotek!C4453","v":0},{"$f":"+IF((Basisoplysninger!$D$60=\"Ja\")*(Anlægskartotek!C4453<>0)=1,Anlægskartotek!$L$14,Anlægskartotek!I4453)","v":0}]
[null,4443,{"$f":"Anlægskartotek!C4454","v":0},{"$f":"+IF((Basisoplysninger!$D$60=\"Ja\")*(Anlægskartotek!C4454<>0)=1,Anlægskartotek!$L$14,Anlægskartotek!I4454)","v":0}]
[null,4444,{"$f":"Anlægskartotek!C4455","v":0},{"$f":"+IF((Basisoplysninger!$D$60=\"Ja\")*(Anlægskartotek!C4455<>0)=1,Anlægskartotek!$L$14,Anlægskartotek!I4455)","v":0}]
[null,4445,{"$f":"Anlægskartotek!C4456","v":0},{"$f":"+IF((Basisoplysninger!$D$60=\"Ja\")*(Anlægskartotek!C4456<>0)=1,Anlægskartotek!$L$14,Anlægskartotek!I4456)","v":0}]
[null,4446,{"$f":"Anlægskartotek!C4457","v":0},{"$f":"+IF((Basisoplysninger!$D$60=\"Ja\")*(Anlægskartotek!C4457<>0)=1,Anlægskartotek!$L$14,Anlægskartotek!I4457)","v":0}]
[null,4447,{"$f":"Anlægskartotek!C4458","v":0},{"$f":"+IF((Basisoplysninger!$D$60=\"Ja\")*(Anlægskartotek!C4458<>0)=1,Anlægskartotek!$L$14,Anlægskartotek!I4458)","v":0}]
[null,4448,{"$f":"Anlægskartotek!C4459","v":0},{"$f":"+IF((Basisoplysninger!$D$60=\"Ja\")*(Anlægskartotek!C4459<>0)=1,Anlægskartotek!$L$14,Anlægskartotek!I4459)","v":0}]
[null,4449,{"$f":"Anlægskartotek!C4460","v":0},{"$f":"+IF((Basisoplysninger!$D$60=\"Ja\")*(Anlægskartotek!C4460<>0)=1,Anlægskartotek!$L$14,Anlægskartotek!I4460)","v":0}]
[null,4450,{"$f":"Anlægskartotek!C4461","v":0},{"$f":"+IF((Basisoplysninger!$D$60=\"Ja\")*(Anlægskartotek!C4461<>0)=1,Anlægskartotek!$L$14,Anlægskartotek!I4461)","v":0}]
[null,4451,{"$f":"Anlægskartotek!C4462","v":0},{"$f":"+IF((Basisoplysninger!$D$60=\"Ja\")*(Anlægskartotek!C4462<>0)=1,Anlægskartotek!$L$14,Anlægskartotek!I4462)","v":0}]
[null,4452,{"$f":"Anlægskartotek!C4463","v":0},{"$f":"+IF((Basisoplysninger!$D$60=\"Ja\")*(Anlægskartotek!C4463<>0)=1,Anlægskartotek!$L$14,Anlægskartotek!I4463)","v":0}]
[null,4453,{"$f":"Anlægskartotek!C4464","v":0},{"$f":"+IF((Basisoplysninger!$D$60=\"Ja\")*(Anlægskartotek!C4464<>0)=1,Anlægskartotek!$L$14,Anlægskartotek!I4464)","v":0}]
[null,4454,{"$f":"Anlægskartotek!C4465","v":0},{"$f":"+IF((Basisoplysninger!$D$60=\"Ja\")*(Anlægskartotek!C4465<>0)=1,Anlægskartotek!$L$14,Anlægskartotek!I4465)","v":0}]
[null,4455,{"$f":"Anlægskartotek!C4466","v":0},{"$f":"+IF((Basisoplysninger!$D$60=\"Ja\")*(Anlægskartotek!C4466<>0)=1,Anlægskartotek!$L$14,Anlægskartotek!I4466)","v":0}]
[null,4456,{"$f":"Anlægskartotek!C4467","v":0},{"$f":"+IF((Basisoplysninger!$D$60=\"Ja\")*(Anlægskartotek!C4467<>0)=1,Anlægskartotek!$L$14,Anlægskartotek!I4467)","v":0}]
[null,4457,{"$f":"Anlægskartotek!C4468","v":0},{"$f":"+IF((Basisoplysninger!$D$60=\"Ja\")*(Anlægskartotek!C4468<>0)=1,Anlægskartotek!$L$14,Anlægskartotek!I4468)","v":0}]
[null,4458,{"$f":"Anlægskartotek!C4469","v":0},{"$f":"+IF((Basisoplysninger!$D$60=\"Ja\")*(Anlægskartotek!C4469<>0)=1,Anlægskartotek!$L$14,Anlægskartotek!I4469)","v":0}]
[null,4459,{"$f":"Anlægskartotek!C4470","v":0},{"$f":"+IF((Basisoplysninger!$D$60=\"Ja\")*(Anlægskartotek!C4470<>0)=1,Anlægskartotek!$L$14,Anlægskartotek!I4470)","v":0}]
[null,4460,{"$f":"Anlægskartotek!C4471","v":0},{"$f":"+IF((Basisoplysninger!$D$60=\"Ja\")*(Anlægskartotek!C4471<>0)=1,Anlægskartotek!$L$14,Anlægskartotek!I4471)","v":0}]
[null,4461,{"$f":"Anlægskartotek!C4472","v":0},{"$f":"+IF((Basisoplysninger!$D$60=\"Ja\")*(Anlægskartotek!C4472<>0)=1,Anlægskartotek!$L$14,Anlægskartotek!I4472)","v":0}]
[null,4462,{"$f":"Anlægskartotek!C4473","v":0},{"$f":"+IF((Basisoplysninger!$D$60=\"Ja\")*(Anlægskartotek!C4473<>0)=1,Anlægskartotek!$L$14,Anlægskartotek!I4473)","v":0}]
[null,4463,{"$f":"Anlægskartotek!C4474","v":0},{"$f":"+IF((Basisoplysninger!$D$60=\"Ja\")*(Anlægskartotek!C4474<>0)=1,Anlægskartotek!$L$14,Anlægskartotek!I4474)","v":0}]
[null,4464,{"$f":"Anlægskartotek!C4475","v":0},{"$f":"+IF((Basisoplysninger!$D$60=\"Ja\")*(Anlægskartotek!C4475<>0)=1,Anlægskartotek!$L$14,Anlægskartotek!I4475)","v":0}]
[null,4465,{"$f":"Anlægskartotek!C4476","v":0},{"$f":"+IF((Basisoplysninger!$D$60=\"Ja\")*(Anlægskartotek!C4476<>0)=1,Anlægskartotek!$L$14,Anlægskartotek!I4476)","v":0}]
[null,4466,{"$f":"Anlægskartotek!C4477","v":0},{"$f":"+IF((Basisoplysninger!$D$60=\"Ja\")*(Anlægskartotek!C4477<>0)=1,Anlægskartotek!$L$14,Anlægskartotek!I4477)","v":0}]
[null,4467,{"$f":"Anlægskartotek!C4478","v":0},{"$f":"+IF((Basisoplysninger!$D$60=\"Ja\")*(Anlægskartotek!C4478<>0)=1,Anlægskartotek!$L$14,Anlægskartotek!I4478)","v":0}]
[null,4468,{"$f":"Anlægskartotek!C4479","v":0},{"$f":"+IF((Basisoplysninger!$D$60=\"Ja\")*(Anlægskartotek!C4479<>0)=1,Anlægskartotek!$L$14,Anlægskartotek!I4479)","v":0}]
[null,4469,{"$f":"Anlægskartotek!C4480","v":0},{"$f":"+IF((Basisoplysninger!$D$60=\"Ja\")*(Anlægskartotek!C4480<>0)=1,Anlægskartotek!$L$14,Anlægskartotek!I4480)","v":0}]
[null,4470,{"$f":"Anlægskartotek!C4481","v":0},{"$f":"+IF((Basisoplysninger!$D$60=\"Ja\")*(Anlægskartotek!C4481<>0)=1,Anlægskartotek!$L$14,Anlægskartotek!I4481)","v":0}]
[null,4471,{"$f":"Anlægskartotek!C4482","v":0},{"$f":"+IF((Basisoplysninger!$D$60=\"Ja\")*(Anlægskartotek!C4482<>0)=1,Anlægskartotek!$L$14,Anlægskartotek!I4482)","v":0}]
[null,4472,{"$f":"Anlægskartotek!C4483","v":0},{"$f":"+IF((Basisoplysninger!$D$60=\"Ja\")*(Anlægskartotek!C4483<>0)=1,Anlægskartotek!$L$14,Anlægskartotek!I4483)","v":0}]
[null,4473,{"$f":"Anlægskartotek!C4484","v":0},{"$f":"+IF((Basisoplysninger!$D$60=\"Ja\")*(Anlægskartotek!C4484<>0)=1,Anlægskartotek!$L$14,Anlægskartotek!I4484)","v":0}]
[null,4474,{"$f":"Anlægskartotek!C4485","v":0},{"$f":"+IF((Basisoplysninger!$D$60=\"Ja\")*(Anlægskartotek!C4485<>0)=1,Anlægskartotek!$L$14,Anlægskartotek!I4485)","v":0}]
[null,4475,{"$f":"Anlægskartotek!C4486","v":0},{"$f":"+IF((Basisoplysninger!$D$60=\"Ja\")*(Anlægskartotek!C4486<>0)=1,Anlægskartotek!$L$14,Anlægskartotek!I4486)","v":0}]
[null,4476,{"$f":"Anlægskartotek!C4487","v":0},{"$f":"+IF((Basisoplysninger!$D$60=\"Ja\")*(Anlægskartotek!C4487<>0)=1,Anlægskartotek!$L$14,Anlægskartotek!I4487)","v":0}]
[null,4477,{"$f":"Anlægskartotek!C4488","v":0},{"$f":"+IF((Basisoplysninger!$D$60=\"Ja\")*(Anlægskartotek!C4488<>0)=1,Anlægskartotek!$L$14,Anlægskartotek!I4488)","v":0}]
[null,4478,{"$f":"Anlægskartotek!C4489","v":0},{"$f":"+IF((Basisoplysninger!$D$60=\"Ja\")*(Anlægskartotek!C4489<>0)=1,Anlægskartotek!$L$14,Anlægskartotek!I4489)","v":0}]
[null,4479,{"$f":"Anlægskartotek!C4490","v":0},{"$f":"+IF((Basisoplysninger!$D$60=\"Ja\")*(Anlægskartotek!C4490<>0)=1,Anlægskartotek!$L$14,Anlægskartotek!I4490)","v":0}]
[null,4480,{"$f":"Anlægskartotek!C4491","v":0},{"$f":"+IF((Basisoplysninger!$D$60=\"Ja\")*(Anlægskartotek!C4491<>0)=1,Anlægskartotek!$L$14,Anlægskartotek!I4491)","v":0}]
[null,4481,{"$f":"Anlægskartotek!C4492","v":0},{"$f":"+IF((Basisoplysninger!$D$60=\"Ja\")*(Anlægskartotek!C4492<>0)=1,Anlægskartotek!$L$14,Anlægskartotek!I4492)","v":0}]
[null,4482,{"$f":"Anlægskartotek!C4493","v":0},{"$f":"+IF((Basisoplysninger!$D$60=\"Ja\")*(Anlægskartotek!C4493<>0)=1,Anlægskartotek!$L$14,Anlægskartotek!I4493)","v":0}]
[null,{"$f":"B4591+1","v":4483},{"$f":"Anlægskartotek!C4494","v":0},{"$f":"+IF((Basisoplysninger!$D$60=\"Ja\")*(Anlægskartotek!C4494<>0)=1,Anlægskartotek!$L$14,Anlægskartotek!I4494)","v":0}]
[null,4484,{"$f":"Anlægskartotek!C4495","v":0},{"$f":"+IF((Basisoplysninger!$D$60=\"Ja\")*(Anlægskartotek!C4495<>0)=1,Anlægskartotek!$L$14,Anlægskartotek!I4495)","v":0}]
[null,4485,{"$f":"Anlægskartotek!C4496","v":0},{"$f":"+IF((Basisoplysninger!$D$60=\"Ja\")*(Anlægskartotek!C4496<>0)=1,Anlægskartotek!$L$14,Anlægskartotek!I4496)","v":0}]
[null,4486,{"$f":"Anlægskartotek!C4497","v":0},{"$f":"+IF((Basisoplysninger!$D$60=\"Ja\")*(Anlægskartotek!C4497<>0)=1,Anlægskartotek!$L$14,Anlægskartotek!I4497)","v":0}]
[null,4487,{"$f":"Anlægskartotek!C4498","v":0},{"$f":"+IF((Basisoplysninger!$D$60=\"Ja\")*(Anlægskartotek!C4498<>0)=1,Anlægskartotek!$L$14,Anlægskartotek!I4498)","v":0}]
[null,4488,{"$f":"Anlægskartotek!C4499","v":0},{"$f":"+IF((Basisoplysninger!$D$60=\"Ja\")*(Anlægskartotek!C4499<>0)=1,Anlægskartotek!$L$14,Anlægskartotek!I4499)","v":0}]
[null,4489,{"$f":"Anlægskartotek!C4500","v":0},{"$f":"+IF((Basisoplysninger!$D$60=\"Ja\")*(Anlægskartotek!C4500<>0)=1,Anlægskartotek!$L$14,Anlægskartotek!I4500)","v":0}]
[null,4490,{"$f":"Anlægskartotek!C4501","v":0},{"$f":"+IF((Basisoplysninger!$D$60=\"Ja\")*(Anlægskartotek!C4501<>0)=1,Anlægskartotek!$L$14,Anlægskartotek!I4501)","v":0}]
[null,4491,{"$f":"Anlægskartotek!C4502","v":0},{"$f":"+IF((Basisoplysninger!$D$60=\"Ja\")*(Anlægskartotek!C4502<>0)=1,Anlægskartotek!$L$14,Anlægskartotek!I4502)","v":0}]
[null,4492,{"$f":"Anlægskartotek!C4503","v":0},{"$f":"+IF((Basisoplysninger!$D$60=\"Ja\")*(Anlægskartotek!C4503<>0)=1,Anlægskartotek!$L$14,Anlægskartotek!I4503)","v":0}]
[null,4493,{"$f":"Anlægskartotek!C4504","v":0},{"$f":"+IF((Basisoplysninger!$D$60=\"Ja\")*(Anlægskartotek!C4504<>0)=1,Anlægskartotek!$L$14,Anlægskartotek!I4504)","v":0}]
[null,4494,{"$f":"Anlægskartotek!C4505","v":0},{"$f":"+IF((Basisoplysninger!$D$60=\"Ja\")*(Anlægskartotek!C4505<>0)=1,Anlægskartotek!$L$14,Anlægskartotek!I4505)","v":0}]
[null,4495,{"$f":"Anlægskartotek!C4506","v":0},{"$f":"+IF((Basisoplysninger!$D$60=\"Ja\")*(Anlægskartotek!C4506<>0)=1,Anlægskartotek!$L$14,Anlægskartotek!I4506)","v":0}]
[null,4496,{"$f":"Anlægskartotek!C4507","v":0},{"$f":"+IF((Basisoplysninger!$D$60=\"Ja\")*(Anlægskartotek!C4507<>0)=1,Anlægskartotek!$L$14,Anlægskartotek!I4507)","v":0}]
[null,4497,{"$f":"Anlægskartotek!C4508","v":0},{"$f":"+IF((Basisoplysninger!$D$60=\"Ja\")*(Anlægskartotek!C4508<>0)=1,Anlægskartotek!$L$14,Anlægskartotek!I4508)","v":0}]
[null,4498,{"$f":"Anlægskartotek!C4509","v":0},{"$f":"+IF((Basisoplysninger!$D$60=\"Ja\")*(Anlægskartotek!C4509<>0)=1,Anlægskartotek!$L$14,Anlægskartotek!I4509)","v":0}]
[null,4499,{"$f":"Anlægskartotek!C4510","v":0},{"$f":"+IF((Basisoplysninger!$D$60=\"Ja\")*(Anlægskartotek!C4510<>0)=1,Anlægskartotek!$L$14,Anlægskartotek!I4510)","v":0}]
[null,4500,{"$f":"Anlægskartotek!C4511","v":0},{"$f":"+IF((Basisoplysninger!$D$60=\"Ja\")*(Anlægskartotek!C4511<>0)=1,Anlægskartotek!$L$14,Anlægskartotek!I4511)","v":0}]
[null,4501,{"$f":"Anlægskartotek!C4512","v":0},{"$f":"+IF((Basisoplysninger!$D$60=\"Ja\")*(Anlægskartotek!C4512<>0)=1,Anlægskartotek!$L$14,Anlægskartotek!I4512)","v":0}]
[null,4502,{"$f":"Anlægskartotek!C4513","v":0},{"$f":"+IF((Basisoplysninger!$D$60=\"Ja\")*(Anlægskartotek!C4513<>0)=1,Anlægskartotek!$L$14,Anlægskartotek!I4513)","v":0}]
[null,4503,{"$f":"Anlægskartotek!C4514","v":0},{"$f":"+IF((Basisoplysninger!$D$60=\"Ja\")*(Anlægskartotek!C4514<>0)=1,Anlægskartotek!$L$14,Anlægskartotek!I4514)","v":0}]
[null,4504,{"$f":"Anlægskartotek!C4515","v":0},{"$f":"+IF((Basisoplysninger!$D$60=\"Ja\")*(Anlægskartotek!C4515<>0)=1,Anlægskartotek!$L$14,Anlægskartotek!I4515)","v":0}]
[null,4505,{"$f":"Anlægskartotek!C4516","v":0},{"$f":"+IF((Basisoplysninger!$D$60=\"Ja\")*(Anlægskartotek!C4516<>0)=1,Anlægskartotek!$L$14,Anlægskartotek!I4516)","v":0}]
[null,4506,{"$f":"Anlægskartotek!C4517","v":0},{"$f":"+IF((Basisoplysninger!$D$60=\"Ja\")*(Anlægskartotek!C4517<>0)=1,Anlægskartotek!$L$14,Anlægskartotek!I4517)","v":0}]
[null,4507,{"$f":"Anlægskartotek!C4518","v":0},{"$f":"+IF((Basisoplysninger!$D$60=\"Ja\")*(Anlægskartotek!C4518<>0)=1,Anlægskartotek!$L$14,Anlægskartotek!I4518)","v":0}]
[null,4508,{"$f":"Anlægskartotek!C4519","v":0},{"$f":"+IF((Basisoplysninger!$D$60=\"Ja\")*(Anlægskartotek!C4519<>0)=1,Anlægskartotek!$L$14,Anlægskartotek!I4519)","v":0}]
[null,4509,{"$f":"Anlægskartotek!C4520","v":0},{"$f":"+IF((Basisoplysninger!$D$60=\"Ja\")*(Anlægskartotek!C4520<>0)=1,Anlægskartotek!$L$14,Anlægskartotek!I4520)","v":0}]
[null,4510,{"$f":"Anlægskartotek!C4521","v":0},{"$f":"+IF((Basisoplysninger!$D$60=\"Ja\")*(Anlægskartotek!C4521<>0)=1,Anlægskartotek!$L$14,Anlægskartotek!I4521)","v":0}]
[null,4511,{"$f":"Anlægskartotek!C4522","v":0},{"$f":"+IF((Basisoplysninger!$D$60=\"Ja\")*(Anlægskartotek!C4522<>0)=1,Anlægskartotek!$L$14,Anlægskartotek!I4522)","v":0}]
[null,4512,{"$f":"Anlægskartotek!C4523","v":0},{"$f":"+IF((Basisoplysninger!$D$60=\"Ja\")*(Anlægskartotek!C4523<>0)=1,Anlægskartotek!$L$14,Anlægskartotek!I4523)","v":0}]
[null,4513,{"$f":"Anlægskartotek!C4524","v":0},{"$f":"+IF((Basisoplysninger!$D$60=\"Ja\")*(Anlægskartotek!C4524<>0)=1,Anlægskartotek!$L$14,Anlægskartotek!I4524)","v":0}]
[null,4514,{"$f":"Anlægskartotek!C4525","v":0},{"$f":"+IF((Basisoplysninger!$D$60=\"Ja\")*(Anlægskartotek!C4525<>0)=1,Anlægskartotek!$L$14,Anlægskartotek!I4525)","v":0}]
[null,4515,{"$f":"Anlægskartotek!C4526","v":0},{"$f":"+IF((Basisoplysninger!$D$60=\"Ja\")*(Anlægskartotek!C4526<>0)=1,Anlægskartotek!$L$14,Anlægskartotek!I4526)","v":0}]
[null,4516,{"$f":"Anlægskartotek!C4527","v":0},{"$f":"+IF((Basisoplysninger!$D$60=\"Ja\")*(Anlægskartotek!C4527<>0)=1,Anlægskartotek!$L$14,Anlægskartotek!I4527)","v":0}]
[null,4517,{"$f":"Anlægskartotek!C4528","v":0},{"$f":"+IF((Basisoplysninger!$D$60=\"Ja\")*(Anlægskartotek!C4528<>0)=1,Anlægskartotek!$L$14,Anlægskartotek!I4528)","v":0}]
[null,4518,{"$f":"Anlægskartotek!C4529","v":0},{"$f":"+IF((Basisoplysninger!$D$60=\"Ja\")*(Anlægskartotek!C4529<>0)=1,Anlægskartotek!$L$14,Anlægskartotek!I4529)","v":0}]
[null,4519,{"$f":"Anlægskartotek!C4530","v":0},{"$f":"+IF((Basisoplysninger!$D$60=\"Ja\")*(Anlægskartotek!C4530<>0)=1,Anlægskartotek!$L$14,Anlægskartotek!I4530)","v":0}]
[null,4520,{"$f":"Anlægskartotek!C4531","v":0},{"$f":"+IF((Basisoplysninger!$D$60=\"Ja\")*(Anlægskartotek!C4531<>0)=1,Anlægskartotek!$L$14,Anlægskartotek!I4531)","v":0}]
[null,4521,{"$f":"Anlægskartotek!C4532","v":0},{"$f":"+IF((Basisoplysninger!$D$60=\"Ja\")*(Anlægskartotek!C4532<>0)=1,Anlægskartotek!$L$14,Anlægskartotek!I4532)","v":0}]
[null,4522,{"$f":"Anlægskartotek!C4533","v":0},{"$f":"+IF((Basisoplysninger!$D$60=\"Ja\")*(Anlægskartotek!C4533<>0)=1,Anlægskartotek!$L$14,Anlægskartotek!I4533)","v":0}]
[null,4523,{"$f":"Anlægskartotek!C4534","v":0},{"$f":"+IF((Basisoplysninger!$D$60=\"Ja\")*(Anlægskartotek!C4534<>0)=1,Anlægskartotek!$L$14,Anlægskartotek!I4534)","v":0}]
[null,4524,{"$f":"Anlægskartotek!C4535","v":0},{"$f":"+IF((Basisoplysninger!$D$60=\"Ja\")*(Anlægskartotek!C4535<>0)=1,Anlægskartotek!$L$14,Anlægskartotek!I4535)","v":0}]
[null,4525,{"$f":"Anlægskartotek!C4536","v":0},{"$f":"+IF((Basisoplysninger!$D$60=\"Ja\")*(Anlægskartotek!C4536<>0)=1,Anlægskartotek!$L$14,Anlægskartotek!I4536)","v":0}]
[null,4526,{"$f":"Anlægskartotek!C4537","v":0},{"$f":"+IF((Basisoplysninger!$D$60=\"Ja\")*(Anlægskartotek!C4537<>0)=1,Anlægskartotek!$L$14,Anlægskartotek!I4537)","v":0}]
[null,4527,{"$f":"Anlægskartotek!C4538","v":0},{"$f":"+IF((Basisoplysninger!$D$60=\"Ja\")*(Anlægskartotek!C4538<>0)=1,Anlægskartotek!$L$14,Anlægskartotek!I4538)","v":0}]
[null,4528,{"$f":"Anlægskartotek!C4539","v":0},{"$f":"+IF((Basisoplysninger!$D$60=\"Ja\")*(Anlægskartotek!C4539<>0)=1,Anlægskartotek!$L$14,Anlægskartotek!I4539)","v":0}]
[null,4529,{"$f":"Anlægskartotek!C4540","v":0},{"$f":"+IF((Basisoplysninger!$D$60=\"Ja\")*(Anlægskartotek!C4540<>0)=1,Anlægskartotek!$L$14,Anlægskartotek!I4540)","v":0}]
[null,4530,{"$f":"Anlægskartotek!C4541","v":0},{"$f":"+IF((Basisoplysninger!$D$60=\"Ja\")*(Anlægskartotek!C4541<>0)=1,Anlægskartotek!$L$14,Anlægskartotek!I4541)","v":0}]
[null,4531,{"$f":"Anlægskartotek!C4542","v":0},{"$f":"+IF((Basisoplysninger!$D$60=\"Ja\")*(Anlægskartotek!C4542<>0)=1,Anlægskartotek!$L$14,Anlægskartotek!I4542)","v":0}]
[null,4532,{"$f":"Anlægskartotek!C4543","v":0},{"$f":"+IF((Basisoplysninger!$D$60=\"Ja\")*(Anlægskartotek!C4543<>0)=1,Anlægskartotek!$L$14,Anlægskartotek!I4543)","v":0}]
[null,4533,{"$f":"Anlægskartotek!C4544","v":0},{"$f":"+IF((Basisoplysninger!$D$60=\"Ja\")*(Anlægskartotek!C4544<>0)=1,Anlægskartotek!$L$14,Anlægskartotek!I4544)","v":0}]
[null,4534,{"$f":"Anlægskartotek!C4545","v":0},{"$f":"+IF((Basisoplysninger!$D$60=\"Ja\")*(Anlægskartotek!C4545<>0)=1,Anlægskartotek!$L$14,Anlægskartotek!I4545)","v":0}]
[null,4535,{"$f":"Anlægskartotek!C4546","v":0},{"$f":"+IF((Basisoplysninger!$D$60=\"Ja\")*(Anlægskartotek!C4546<>0)=1,Anlægskartotek!$L$14,Anlægskartotek!I4546)","v":0}]
[null,4536,{"$f":"Anlægskartotek!C4547","v":0},{"$f":"+IF((Basisoplysninger!$D$60=\"Ja\")*(Anlægskartotek!C4547<>0)=1,Anlægskartotek!$L$14,Anlægskartotek!I4547)","v":0}]
[null,4537,{"$f":"Anlægskartotek!C4548","v":0},{"$f":"+IF((Basisoplysninger!$D$60=\"Ja\")*(Anlægskartotek!C4548<>0)=1,Anlægskartotek!$L$14,Anlægskartotek!I4548)","v":0}]
[null,4538,{"$f":"Anlægskartotek!C4549","v":0},{"$f":"+IF((Basisoplysninger!$D$60=\"Ja\")*(Anlægskartotek!C4549<>0)=1,Anlægskartotek!$L$14,Anlægskartotek!I4549)","v":0}]
[null,4539,{"$f":"Anlægskartotek!C4550","v":0},{"$f":"+IF((Basisoplysninger!$D$60=\"Ja\")*(Anlægskartotek!C4550<>0)=1,Anlægskartotek!$L$14,Anlægskartotek!I4550)","v":0}]
[null,4540,{"$f":"Anlægskartotek!C4551","v":0},{"$f":"+IF((Basisoplysninger!$D$60=\"Ja\")*(Anlægskartotek!C4551<>0)=1,Anlægskartotek!$L$14,Anlægskartotek!I4551)","v":0}]
[null,4541,{"$f":"Anlægskartotek!C4552","v":0},{"$f":"+IF((Basisoplysninger!$D$60=\"Ja\")*(Anlægskartotek!C4552<>0)=1,Anlægskartotek!$L$14,Anlægskartotek!I4552)","v":0}]
[null,4542,{"$f":"Anlægskartotek!C4553","v":0},{"$f":"+IF((Basisoplysninger!$D$60=\"Ja\")*(Anlægskartotek!C4553<>0)=1,Anlægskartotek!$L$14,Anlægskartotek!I4553)","v":0}]
[null,4543,{"$f":"Anlægskartotek!C4554","v":0},{"$f":"+IF((Basisoplysninger!$D$60=\"Ja\")*(Anlægskartotek!C4554<>0)=1,Anlægskartotek!$L$14,Anlægskartotek!I4554)","v":0}]
[null,4544,{"$f":"Anlægskartotek!C4555","v":0},{"$f":"+IF((Basisoplysninger!$D$60=\"Ja\")*(Anlægskartotek!C4555<>0)=1,Anlægskartotek!$L$14,Anlægskartotek!I4555)","v":0}]
[null,4545,{"$f":"Anlægskartotek!C4556","v":0},{"$f":"+IF((Basisoplysninger!$D$60=\"Ja\")*(Anlægskartotek!C4556<>0)=1,Anlægskartotek!$L$14,Anlægskartotek!I4556)","v":0}]
[null,4546,{"$f":"Anlægskartotek!C4557","v":0},{"$f":"+IF((Basisoplysninger!$D$60=\"Ja\")*(Anlægskartotek!C4557<>0)=1,Anlægskartotek!$L$14,Anlægskartotek!I4557)","v":0}]
[null,{"$f":"B4655+1","v":4547},{"$f":"Anlægskartotek!C4558","v":0},{"$f":"+IF((Basisoplysninger!$D$60=\"Ja\")*(Anlægskartotek!C4558<>0)=1,Anlægskartotek!$L$14,Anlægskartotek!I4558)","v":0}]
[null,4548,{"$f":"Anlægskartotek!C4559","v":0},{"$f":"+IF((Basisoplysninger!$D$60=\"Ja\")*(Anlægskartotek!C4559<>0)=1,Anlægskartotek!$L$14,Anlægskartotek!I4559)","v":0}]
[null,4549,{"$f":"Anlægskartotek!C4560","v":0},{"$f":"+IF((Basisoplysninger!$D$60=\"Ja\")*(Anlægskartotek!C4560<>0)=1,Anlægskartotek!$L$14,Anlægskartotek!I4560)","v":0}]
[null,4550,{"$f":"Anlægskartotek!C4561","v":0},{"$f":"+IF((Basisoplysninger!$D$60=\"Ja\")*(Anlægskartotek!C4561<>0)=1,Anlægskartotek!$L$14,Anlægskartotek!I4561)","v":0}]
[null,4551,{"$f":"Anlægskartotek!C4562","v":0},{"$f":"+IF((Basisoplysninger!$D$60=\"Ja\")*(Anlægskartotek!C4562<>0)=1,Anlægskartotek!$L$14,Anlægskartotek!I4562)","v":0}]
[null,4552,{"$f":"Anlægskartotek!C4563","v":0},{"$f":"+IF((Basisoplysninger!$D$60=\"Ja\")*(Anlægskartotek!C4563<>0)=1,Anlægskartotek!$L$14,Anlægskartotek!I4563)","v":0}]
[null,4553,{"$f":"Anlægskartotek!C4564","v":0},{"$f":"+IF((Basisoplysninger!$D$60=\"Ja\")*(Anlægskartotek!C4564<>0)=1,Anlægskartotek!$L$14,Anlægskartotek!I4564)","v":0}]
[null,4554,{"$f":"Anlægskartotek!C4565","v":0},{"$f":"+IF((Basisoplysninger!$D$60=\"Ja\")*(Anlægskartotek!C4565<>0)=1,Anlægskartotek!$L$14,Anlægskartotek!I4565)","v":0}]
[null,4555,{"$f":"Anlægskartotek!C4566","v":0},{"$f":"+IF((Basisoplysninger!$D$60=\"Ja\")*(Anlægskartotek!C4566<>0)=1,Anlægskartotek!$L$14,Anlægskartotek!I4566)","v":0}]
[null,4556,{"$f":"Anlægskartotek!C4567","v":0},{"$f":"+IF((Basisoplysninger!$D$60=\"Ja\")*(Anlægskartotek!C4567<>0)=1,Anlægskartotek!$L$14,Anlægskartotek!I4567)","v":0}]
[null,4557,{"$f":"Anlægskartotek!C4568","v":0},{"$f":"+IF((Basisoplysninger!$D$60=\"Ja\")*(Anlægskartotek!C4568<>0)=1,Anlægskartotek!$L$14,Anlægskartotek!I4568)","v":0}]
[null,4558,{"$f":"Anlægskartotek!C4569","v":0},{"$f":"+IF((Basisoplysninger!$D$60=\"Ja\")*(Anlægskartotek!C4569<>0)=1,Anlægskartotek!$L$14,Anlægskartotek!I4569)","v":0}]
[null,4559,{"$f":"Anlægskartotek!C4570","v":0},{"$f":"+IF((Basisoplysninger!$D$60=\"Ja\")*(Anlægskartotek!C4570<>0)=1,Anlægskartotek!$L$14,Anlægskartotek!I4570)","v":0}]
[null,4560,{"$f":"Anlægskartotek!C4571","v":0},{"$f":"+IF((Basisoplysninger!$D$60=\"Ja\")*(Anlægskartotek!C4571<>0)=1,Anlægskartotek!$L$14,Anlægskartotek!I4571)","v":0}]
[null,4561,{"$f":"Anlægskartotek!C4572","v":0},{"$f":"+IF((Basisoplysninger!$D$60=\"Ja\")*(Anlægskartotek!C4572<>0)=1,Anlægskartotek!$L$14,Anlægskartotek!I4572)","v":0}]
[null,4562,{"$f":"Anlægskartotek!C4573","v":0},{"$f":"+IF((Basisoplysninger!$D$60=\"Ja\")*(Anlægskartotek!C4573<>0)=1,Anlægskartotek!$L$14,Anlægskartotek!I4573)","v":0}]
[null,4563,{"$f":"Anlægskartotek!C4574","v":0},{"$f":"+IF((Basisoplysninger!$D$60=\"Ja\")*(Anlægskartotek!C4574<>0)=1,Anlægskartotek!$L$14,Anlægskartotek!I4574)","v":0}]
[null,4564,{"$f":"Anlægskartotek!C4575","v":0},{"$f":"+IF((Basisoplysninger!$D$60=\"Ja\")*(Anlægskartotek!C4575<>0)=1,Anlægskartotek!$L$14,Anlægskartotek!I4575)","v":0}]
[null,4565,{"$f":"Anlægskartotek!C4576","v":0},{"$f":"+IF((Basisoplysninger!$D$60=\"Ja\")*(Anlægskartotek!C4576<>0)=1,Anlægskartotek!$L$14,Anlægskartotek!I4576)","v":0}]
[null,4566,{"$f":"Anlægskartotek!C4577","v":0},{"$f":"+IF((Basisoplysninger!$D$60=\"Ja\")*(Anlægskartotek!C4577<>0)=1,Anlægskartotek!$L$14,Anlægskartotek!I4577)","v":0}]
[null,4567,{"$f":"Anlægskartotek!C4578","v":0},{"$f":"+IF((Basisoplysninger!$D$60=\"Ja\")*(Anlægskartotek!C4578<>0)=1,Anlægskartotek!$L$14,Anlægskartotek!I4578)","v":0}]
[null,4568,{"$f":"Anlægskartotek!C4579","v":0},{"$f":"+IF((Basisoplysninger!$D$60=\"Ja\")*(Anlægskartotek!C4579<>0)=1,Anlægskartotek!$L$14,Anlægskartotek!I4579)","v":0}]
[null,4569,{"$f":"Anlægskartotek!C4580","v":0},{"$f":"+IF((Basisoplysninger!$D$60=\"Ja\")*(Anlægskartotek!C4580<>0)=1,Anlægskartotek!$L$14,Anlægskartotek!I4580)","v":0}]
[null,4570,{"$f":"Anlægskartotek!C4581","v":0},{"$f":"+IF((Basisoplysninger!$D$60=\"Ja\")*(Anlægskartotek!C4581<>0)=1,Anlægskartotek!$L$14,Anlægskartotek!I4581)","v":0}]
[null,4571,{"$f":"Anlægskartotek!C4582","v":0},{"$f":"+IF((Basisoplysninger!$D$60=\"Ja\")*(Anlægskartotek!C4582<>0)=1,Anlægskartotek!$L$14,Anlægskartotek!I4582)","v":0}]
[null,4572,{"$f":"Anlægskartotek!C4583","v":0},{"$f":"+IF((Basisoplysninger!$D$60=\"Ja\")*(Anlægskartotek!C4583<>0)=1,Anlægskartotek!$L$14,Anlægskartotek!I4583)","v":0}]
[null,4573,{"$f":"Anlægskartotek!C4584","v":0},{"$f":"+IF((Basisoplysninger!$D$60=\"Ja\")*(Anlægskartotek!C4584<>0)=1,Anlægskartotek!$L$14,Anlægskartotek!I4584)","v":0}]
[null,4574,{"$f":"Anlægskartotek!C4585","v":0},{"$f":"+IF((Basisoplysninger!$D$60=\"Ja\")*(Anlægskartotek!C4585<>0)=1,Anlægskartotek!$L$14,Anlægskartotek!I4585)","v":0}]
[null,4575,{"$f":"Anlægskartotek!C4586","v":0},{"$f":"+IF((Basisoplysninger!$D$60=\"Ja\")*(Anlægskartotek!C4586<>0)=1,Anlægskartotek!$L$14,Anlægskartotek!I4586)","v":0}]
[null,4576,{"$f":"Anlægskartotek!C4587","v":0},{"$f":"+IF((Basisoplysninger!$D$60=\"Ja\")*(Anlægskartotek!C4587<>0)=1,Anlægskartotek!$L$14,Anlægskartotek!I4587)","v":0}]
[null,4577,{"$f":"Anlægskartotek!C4588","v":0},{"$f":"+IF((Basisoplysninger!$D$60=\"Ja\")*(Anlægskartotek!C4588<>0)=1,Anlægskartotek!$L$14,Anlægskartotek!I4588)","v":0}]
[null,4578,{"$f":"Anlægskartotek!C4589","v":0},{"$f":"+IF((Basisoplysninger!$D$60=\"Ja\")*(Anlægskartotek!C4589<>0)=1,Anlægskartotek!$L$14,Anlægskartotek!I4589)","v":0}]
[null,4579,{"$f":"Anlægskartotek!C4590","v":0},{"$f":"+IF((Basisoplysninger!$D$60=\"Ja\")*(Anlægskartotek!C4590<>0)=1,Anlægskartotek!$L$14,Anlægskartotek!I4590)","v":0}]
[null,4580,{"$f":"Anlægskartotek!C4591","v":0},{"$f":"+IF((Basisoplysninger!$D$60=\"Ja\")*(Anlægskartotek!C4591<>0)=1,Anlægskartotek!$L$14,Anlægskartotek!I4591)","v":0}]
[null,4581,{"$f":"Anlægskartotek!C4592","v":0},{"$f":"+IF((Basisoplysninger!$D$60=\"Ja\")*(Anlægskartotek!C4592<>0)=1,Anlægskartotek!$L$14,Anlægskartotek!I4592)","v":0}]
[null,4582,{"$f":"Anlægskartotek!C4593","v":0},{"$f":"+IF((Basisoplysninger!$D$60=\"Ja\")*(Anlægskartotek!C4593<>0)=1,Anlægskartotek!$L$14,Anlægskartotek!I4593)","v":0}]
[null,4583,{"$f":"Anlægskartotek!C4594","v":0},{"$f":"+IF((Basisoplysninger!$D$60=\"Ja\")*(Anlægskartotek!C4594<>0)=1,Anlægskartotek!$L$14,Anlægskartotek!I4594)","v":0}]
[null,4584,{"$f":"Anlægskartotek!C4595","v":0},{"$f":"+IF((Basisoplysninger!$D$60=\"Ja\")*(Anlægskartotek!C4595<>0)=1,Anlægskartotek!$L$14,Anlægskartotek!I4595)","v":0}]
[null,4585,{"$f":"Anlægskartotek!C4596","v":0},{"$f":"+IF((Basisoplysninger!$D$60=\"Ja\")*(Anlægskartotek!C4596<>0)=1,Anlægskartotek!$L$14,Anlægskartotek!I4596)","v":0}]
[null,4586,{"$f":"Anlægskartotek!C4597","v":0},{"$f":"+IF((Basisoplysninger!$D$60=\"Ja\")*(Anlægskartotek!C4597<>0)=1,Anlægskartotek!$L$14,Anlægskartotek!I4597)","v":0}]
[null,4587,{"$f":"Anlægskartotek!C4598","v":0},{"$f":"+IF((Basisoplysninger!$D$60=\"Ja\")*(Anlægskartotek!C4598<>0)=1,Anlægskartotek!$L$14,Anlægskartotek!I4598)","v":0}]
[null,4588,{"$f":"Anlægskartotek!C4599","v":0},{"$f":"+IF((Basisoplysninger!$D$60=\"Ja\")*(Anlægskartotek!C4599<>0)=1,Anlægskartotek!$L$14,Anlægskartotek!I4599)","v":0}]
[null,4589,{"$f":"Anlægskartotek!C4600","v":0},{"$f":"+IF((Basisoplysninger!$D$60=\"Ja\")*(Anlægskartotek!C4600<>0)=1,Anlægskartotek!$L$14,Anlægskartotek!I4600)","v":0}]
[null,4590,{"$f":"Anlægskartotek!C4601","v":0},{"$f":"+IF((Basisoplysninger!$D$60=\"Ja\")*(Anlægskartotek!C4601<>0)=1,Anlægskartotek!$L$14,Anlægskartotek!I4601)","v":0}]
[null,4591,{"$f":"Anlægskartotek!C4602","v":0},{"$f":"+IF((Basisoplysninger!$D$60=\"Ja\")*(Anlægskartotek!C4602<>0)=1,Anlægskartotek!$L$14,Anlægskartotek!I4602)","v":0}]
[null,4592,{"$f":"Anlægskartotek!C4603","v":0},{"$f":"+IF((Basisoplysninger!$D$60=\"Ja\")*(Anlægskartotek!C4603<>0)=1,Anlægskartotek!$L$14,Anlægskartotek!I4603)","v":0}]
[null,4593,{"$f":"Anlægskartotek!C4604","v":0},{"$f":"+IF((Basisoplysninger!$D$60=\"Ja\")*(Anlægskartotek!C4604<>0)=1,Anlægskartotek!$L$14,Anlægskartotek!I4604)","v":0}]
[null,4594,{"$f":"Anlægskartotek!C4605","v":0},{"$f":"+IF((Basisoplysninger!$D$60=\"Ja\")*(Anlægskartotek!C4605<>0)=1,Anlægskartotek!$L$14,Anlægskartotek!I4605)","v":0}]
[null,4595,{"$f":"Anlægskartotek!C4606","v":0},{"$f":"+IF((Basisoplysninger!$D$60=\"Ja\")*(Anlægskartotek!C4606<>0)=1,Anlægskartotek!$L$14,Anlægskartotek!I4606)","v":0}]
[null,4596,{"$f":"Anlægskartotek!C4607","v":0},{"$f":"+IF((Basisoplysninger!$D$60=\"Ja\")*(Anlægskartotek!C4607<>0)=1,Anlægskartotek!$L$14,Anlægskartotek!I4607)","v":0}]
[null,4597,{"$f":"Anlægskartotek!C4608","v":0},{"$f":"+IF((Basisoplysninger!$D$60=\"Ja\")*(Anlægskartotek!C4608<>0)=1,Anlægskartotek!$L$14,Anlægskartotek!I4608)","v":0}]
[null,4598,{"$f":"Anlægskartotek!C4609","v":0},{"$f":"+IF((Basisoplysninger!$D$60=\"Ja\")*(Anlægskartotek!C4609<>0)=1,Anlægskartotek!$L$14,Anlægskartotek!I4609)","v":0}]
[null,4599,{"$f":"Anlægskartotek!C4610","v":0},{"$f":"+IF((Basisoplysninger!$D$60=\"Ja\")*(Anlægskartotek!C4610<>0)=1,Anlægskartotek!$L$14,Anlægskartotek!I4610)","v":0}]
[null,4600,{"$f":"Anlægskartotek!C4611","v":0},{"$f":"+IF((Basisoplysninger!$D$60=\"Ja\")*(Anlægskartotek!C4611<>0)=1,Anlægskartotek!$L$14,Anlægskartotek!I4611)","v":0}]
[null,4601,{"$f":"Anlægskartotek!C4612","v":0},{"$f":"+IF((Basisoplysninger!$D$60=\"Ja\")*(Anlægskartotek!C4612<>0)=1,Anlægskartotek!$L$14,Anlægskartotek!I4612)","v":0}]
[null,4602,{"$f":"Anlægskartotek!C4613","v":0},{"$f":"+IF((Basisoplysninger!$D$60=\"Ja\")*(Anlægskartotek!C4613<>0)=1,Anlægskartotek!$L$14,Anlægskartotek!I4613)","v":0}]
[null,4603,{"$f":"Anlægskartotek!C4614","v":0},{"$f":"+IF((Basisoplysninger!$D$60=\"Ja\")*(Anlægskartotek!C4614<>0)=1,Anlægskartotek!$L$14,Anlægskartotek!I4614)","v":0}]
[null,4604,{"$f":"Anlægskartotek!C4615","v":0},{"$f":"+IF((Basisoplysninger!$D$60=\"Ja\")*(Anlægskartotek!C4615<>0)=1,Anlægskartotek!$L$14,Anlægskartotek!I4615)","v":0}]
[null,4605,{"$f":"Anlægskartotek!C4616","v":0},{"$f":"+IF((Basisoplysninger!$D$60=\"Ja\")*(Anlægskartotek!C4616<>0)=1,Anlægskartotek!$L$14,Anlægskartotek!I4616)","v":0}]
[null,4606,{"$f":"Anlægskartotek!C4617","v":0},{"$f":"+IF((Basisoplysninger!$D$60=\"Ja\")*(Anlægskartotek!C4617<>0)=1,Anlægskartotek!$L$14,Anlægskartotek!I4617)","v":0}]
[null,4607,{"$f":"Anlægskartotek!C4618","v":0},{"$f":"+IF((Basisoplysninger!$D$60=\"Ja\")*(Anlægskartotek!C4618<>0)=1,Anlægskartotek!$L$14,Anlægskartotek!I4618)","v":0}]
[null,4608,{"$f":"Anlægskartotek!C4619","v":0},{"$f":"+IF((Basisoplysninger!$D$60=\"Ja\")*(Anlægskartotek!C4619<>0)=1,Anlægskartotek!$L$14,Anlægskartotek!I4619)","v":0}]
[null,4609,{"$f":"Anlægskartotek!C4620","v":0},{"$f":"+IF((Basisoplysninger!$D$60=\"Ja\")*(Anlægskartotek!C4620<>0)=1,Anlægskartotek!$L$14,Anlægskartotek!I4620)","v":0}]
[null,4610,{"$f":"Anlægskartotek!C4621","v":0},{"$f":"+IF((Basisoplysninger!$D$60=\"Ja\")*(Anlægskartotek!C4621<>0)=1,Anlægskartotek!$L$14,Anlægskartotek!I4621)","v":0}]
[null,{"$f":"B4719+1","v":4611},{"$f":"Anlægskartotek!C4622","v":0},{"$f":"+IF((Basisoplysninger!$D$60=\"Ja\")*(Anlægskartotek!C4622<>0)=1,Anlægskartotek!$L$14,Anlægskartotek!I4622)","v":0}]
[null,4612,{"$f":"Anlægskartotek!C4623","v":0},{"$f":"+IF((Basisoplysninger!$D$60=\"Ja\")*(Anlægskartotek!C4623<>0)=1,Anlægskartotek!$L$14,Anlægskartotek!I4623)","v":0}]
[null,4613,{"$f":"Anlægskartotek!C4624","v":0},{"$f":"+IF((Basisoplysninger!$D$60=\"Ja\")*(Anlægskartotek!C4624<>0)=1,Anlægskartotek!$L$14,Anlægskartotek!I4624)","v":0}]
[null,4614,{"$f":"Anlægskartotek!C4625","v":0},{"$f":"+IF((Basisoplysninger!$D$60=\"Ja\")*(Anlægskartotek!C4625<>0)=1,Anlægskartotek!$L$14,Anlægskartotek!I4625)","v":0}]
[null,4615,{"$f":"Anlægskartotek!C4626","v":0},{"$f":"+IF((Basisoplysninger!$D$60=\"Ja\")*(Anlægskartotek!C4626<>0)=1,Anlægskartotek!$L$14,Anlægskartotek!I4626)","v":0}]
[null,4616,{"$f":"Anlægskartotek!C4627","v":0},{"$f":"+IF((Basisoplysninger!$D$60=\"Ja\")*(Anlægskartotek!C4627<>0)=1,Anlægskartotek!$L$14,Anlægskartotek!I4627)","v":0}]
[null,4617,{"$f":"Anlægskartotek!C4628","v":0},{"$f":"+IF((Basisoplysninger!$D$60=\"Ja\")*(Anlægskartotek!C4628<>0)=1,Anlægskartotek!$L$14,Anlægskartotek!I4628)","v":0}]
[null,4618,{"$f":"Anlægskartotek!C4629","v":0},{"$f":"+IF((Basisoplysninger!$D$60=\"Ja\")*(Anlægskartotek!C4629<>0)=1,Anlægskartotek!$L$14,Anlægskartotek!I4629)","v":0}]
[null,4619,{"$f":"Anlægskartotek!C4630","v":0},{"$f":"+IF((Basisoplysninger!$D$60=\"Ja\")*(Anlægskartotek!C4630<>0)=1,Anlægskartotek!$L$14,Anlægskartotek!I4630)","v":0}]
[null,4620,{"$f":"Anlægskartotek!C4631","v":0},{"$f":"+IF((Basisoplysninger!$D$60=\"Ja\")*(Anlægskartotek!C4631<>0)=1,Anlægskartotek!$L$14,Anlægskartotek!I4631)","v":0}]
[null,4621,{"$f":"Anlægskartotek!C4632","v":0},{"$f":"+IF((Basisoplysninger!$D$60=\"Ja\")*(Anlægskartotek!C4632<>0)=1,Anlægskartotek!$L$14,Anlægskartotek!I4632)","v":0}]
[null,4622,{"$f":"Anlægskartotek!C4633","v":0},{"$f":"+IF((Basisoplysninger!$D$60=\"Ja\")*(Anlægskartotek!C4633<>0)=1,Anlægskartotek!$L$14,Anlægskartotek!I4633)","v":0}]
[null,4623,{"$f":"Anlægskartotek!C4634","v":0},{"$f":"+IF((Basisoplysninger!$D$60=\"Ja\")*(Anlægskartotek!C4634<>0)=1,Anlægskartotek!$L$14,Anlægskartotek!I4634)","v":0}]
[null,4624,{"$f":"Anlægskartotek!C4635","v":0},{"$f":"+IF((Basisoplysninger!$D$60=\"Ja\")*(Anlægskartotek!C4635<>0)=1,Anlægskartotek!$L$14,Anlægskartotek!I4635)","v":0}]
[null,4625,{"$f":"Anlægskartotek!C4636","v":0},{"$f":"+IF((Basisoplysninger!$D$60=\"Ja\")*(Anlægskartotek!C4636<>0)=1,Anlægskartotek!$L$14,Anlægskartotek!I4636)","v":0}]
[null,4626,{"$f":"Anlægskartotek!C4637","v":0},{"$f":"+IF((Basisoplysninger!$D$60=\"Ja\")*(Anlægskartotek!C4637<>0)=1,Anlægskartotek!$L$14,Anlægskartotek!I4637)","v":0}]
[null,4627,{"$f":"Anlægskartotek!C4638","v":0},{"$f":"+IF((Basisoplysninger!$D$60=\"Ja\")*(Anlægskartotek!C4638<>0)=1,Anlægskartotek!$L$14,Anlægskartotek!I4638)","v":0}]
[null,4628,{"$f":"Anlægskartotek!C4639","v":0},{"$f":"+IF((Basisoplysninger!$D$60=\"Ja\")*(Anlægskartotek!C4639<>0)=1,Anlægskartotek!$L$14,Anlægskartotek!I4639)","v":0}]
[null,4629,{"$f":"Anlægskartotek!C4640","v":0},{"$f":"+IF((Basisoplysninger!$D$60=\"Ja\")*(Anlægskartotek!C4640<>0)=1,Anlægskartotek!$L$14,Anlægskartotek!I4640)","v":0}]
[null,4630,{"$f":"Anlægskartotek!C4641","v":0},{"$f":"+IF((Basisoplysninger!$D$60=\"Ja\")*(Anlægskartotek!C4641<>0)=1,Anlægskartotek!$L$14,Anlægskartotek!I4641)","v":0}]
[null,4631,{"$f":"Anlægskartotek!C4642","v":0},{"$f":"+IF((Basisoplysninger!$D$60=\"Ja\")*(Anlægskartotek!C4642<>0)=1,Anlægskartotek!$L$14,Anlægskartotek!I4642)","v":0}]
[null,4632,{"$f":"Anlægskartotek!C4643","v":0},{"$f":"+IF((Basisoplysninger!$D$60=\"Ja\")*(Anlægskartotek!C4643<>0)=1,Anlægskartotek!$L$14,Anlægskartotek!I4643)","v":0}]
[null,4633,{"$f":"Anlægskartotek!C4644","v":0},{"$f":"+IF((Basisoplysninger!$D$60=\"Ja\")*(Anlægskartotek!C4644<>0)=1,Anlægskartotek!$L$14,Anlægskartotek!I4644)","v":0}]
[null,4634,{"$f":"Anlægskartotek!C4645","v":0},{"$f":"+IF((Basisoplysninger!$D$60=\"Ja\")*(Anlægskartotek!C4645<>0)=1,Anlægskartotek!$L$14,Anlægskartotek!I4645)","v":0}]
[null,4635,{"$f":"Anlægskartotek!C4646","v":0},{"$f":"+IF((Basisoplysninger!$D$60=\"Ja\")*(Anlægskartotek!C4646<>0)=1,Anlægskartotek!$L$14,Anlægskartotek!I4646)","v":0}]
[null,4636,{"$f":"Anlægskartotek!C4647","v":0},{"$f":"+IF((Basisoplysninger!$D$60=\"Ja\")*(Anlægskartotek!C4647<>0)=1,Anlægskartotek!$L$14,Anlægskartotek!I4647)","v":0}]
[null,4637,{"$f":"Anlægskartotek!C4648","v":0},{"$f":"+IF((Basisoplysninger!$D$60=\"Ja\")*(Anlægskartotek!C4648<>0)=1,Anlægskartotek!$L$14,Anlægskartotek!I4648)","v":0}]
[null,4638,{"$f":"Anlægskartotek!C4649","v":0},{"$f":"+IF((Basisoplysninger!$D$60=\"Ja\")*(Anlægskartotek!C4649<>0)=1,Anlægskartotek!$L$14,Anlægskartotek!I4649)","v":0}]
[null,4639,{"$f":"Anlægskartotek!C4650","v":0},{"$f":"+IF((Basisoplysninger!$D$60=\"Ja\")*(Anlægskartotek!C4650<>0)=1,Anlægskartotek!$L$14,Anlægskartotek!I4650)","v":0}]
[null,4640,{"$f":"Anlægskartotek!C4651","v":0},{"$f":"+IF((Basisoplysninger!$D$60=\"Ja\")*(Anlægskartotek!C4651<>0)=1,Anlægskartotek!$L$14,Anlægskartotek!I4651)","v":0}]
[null,4641,{"$f":"Anlægskartotek!C4652","v":0},{"$f":"+IF((Basisoplysninger!$D$60=\"Ja\")*(Anlægskartotek!C4652<>0)=1,Anlægskartotek!$L$14,Anlægskartotek!I4652)","v":0}]
[null,4642,{"$f":"Anlægskartotek!C4653","v":0},{"$f":"+IF((Basisoplysninger!$D$60=\"Ja\")*(Anlægskartotek!C4653<>0)=1,Anlægskartotek!$L$14,Anlægskartotek!I4653)","v":0}]
[null,4643,{"$f":"Anlægskartotek!C4654","v":0},{"$f":"+IF((Basisoplysninger!$D$60=\"Ja\")*(Anlægskartotek!C4654<>0)=1,Anlægskartotek!$L$14,Anlægskartotek!I4654)","v":0}]
[null,4644,{"$f":"Anlægskartotek!C4655","v":0},{"$f":"+IF((Basisoplysninger!$D$60=\"Ja\")*(Anlægskartotek!C4655<>0)=1,Anlægskartotek!$L$14,Anlægskartotek!I4655)","v":0}]
[null,4645,{"$f":"Anlægskartotek!C4656","v":0},{"$f":"+IF((Basisoplysninger!$D$60=\"Ja\")*(Anlægskartotek!C4656<>0)=1,Anlægskartotek!$L$14,Anlægskartotek!I4656)","v":0}]
[null,4646,{"$f":"Anlægskartotek!C4657","v":0},{"$f":"+IF((Basisoplysninger!$D$60=\"Ja\")*(Anlægskartotek!C4657<>0)=1,Anlægskartotek!$L$14,Anlægskartotek!I4657)","v":0}]
[null,4647,{"$f":"Anlægskartotek!C4658","v":0},{"$f":"+IF((Basisoplysninger!$D$60=\"Ja\")*(Anlægskartotek!C4658<>0)=1,Anlægskartotek!$L$14,Anlægskartotek!I4658)","v":0}]
[null,4648,{"$f":"Anlægskartotek!C4659","v":0},{"$f":"+IF((Basisoplysninger!$D$60=\"Ja\")*(Anlægskartotek!C4659<>0)=1,Anlægskartotek!$L$14,Anlægskartotek!I4659)","v":0}]
[null,4649,{"$f":"Anlægskartotek!C4660","v":0},{"$f":"+IF((Basisoplysninger!$D$60=\"Ja\")*(Anlægskartotek!C4660<>0)=1,Anlægskartotek!$L$14,Anlægskartotek!I4660)","v":0}]
[null,4650,{"$f":"Anlægskartotek!C4661","v":0},{"$f":"+IF((Basisoplysninger!$D$60=\"Ja\")*(Anlægskartotek!C4661<>0)=1,Anlægskartotek!$L$14,Anlægskartotek!I4661)","v":0}]
[null,4651,{"$f":"Anlægskartotek!C4662","v":0},{"$f":"+IF((Basisoplysninger!$D$60=\"Ja\")*(Anlægskartotek!C4662<>0)=1,Anlægskartotek!$L$14,Anlægskartotek!I4662)","v":0}]
[null,4652,{"$f":"Anlægskartotek!C4663","v":0},{"$f":"+IF((Basisoplysninger!$D$60=\"Ja\")*(Anlægskartotek!C4663<>0)=1,Anlægskartotek!$L$14,Anlægskartotek!I4663)","v":0}]
[null,4653,{"$f":"Anlægskartotek!C4664","v":0},{"$f":"+IF((Basisoplysninger!$D$60=\"Ja\")*(Anlægskartotek!C4664<>0)=1,Anlægskartotek!$L$14,Anlægskartotek!I4664)","v":0}]
[null,4654,{"$f":"Anlægskartotek!C4665","v":0},{"$f":"+IF((Basisoplysninger!$D$60=\"Ja\")*(Anlægskartotek!C4665<>0)=1,Anlægskartotek!$L$14,Anlægskartotek!I4665)","v":0}]
[null,4655,{"$f":"Anlægskartotek!C4666","v":0},{"$f":"+IF((Basisoplysninger!$D$60=\"Ja\")*(Anlægskartotek!C4666<>0)=1,Anlægskartotek!$L$14,Anlægskartotek!I4666)","v":0}]
[null,4656,{"$f":"Anlægskartotek!C4667","v":0},{"$f":"+IF((Basisoplysninger!$D$60=\"Ja\")*(Anlægskartotek!C4667<>0)=1,Anlægskartotek!$L$14,Anlægskartotek!I4667)","v":0}]
[null,4657,{"$f":"Anlægskartotek!C4668","v":0},{"$f":"+IF((Basisoplysninger!$D$60=\"Ja\")*(Anlægskartotek!C4668<>0)=1,Anlægskartotek!$L$14,Anlægskartotek!I4668)","v":0}]
[null,4658,{"$f":"Anlægskartotek!C4669","v":0},{"$f":"+IF((Basisoplysninger!$D$60=\"Ja\")*(Anlægskartotek!C4669<>0)=1,Anlægskartotek!$L$14,Anlægskartotek!I4669)","v":0}]
[null,4659,{"$f":"Anlægskartotek!C4670","v":0},{"$f":"+IF((Basisoplysninger!$D$60=\"Ja\")*(Anlægskartotek!C4670<>0)=1,Anlægskartotek!$L$14,Anlægskartotek!I4670)","v":0}]
[null,4660,{"$f":"Anlægskartotek!C4671","v":0},{"$f":"+IF((Basisoplysninger!$D$60=\"Ja\")*(Anlægskartotek!C4671<>0)=1,Anlægskartotek!$L$14,Anlægskartotek!I4671)","v":0}]
[null,4661,{"$f":"Anlægskartotek!C4672","v":0},{"$f":"+IF((Basisoplysninger!$D$60=\"Ja\")*(Anlægskartotek!C4672<>0)=1,Anlægskartotek!$L$14,Anlægskartotek!I4672)","v":0}]
[null,4662,{"$f":"Anlægskartotek!C4673","v":0},{"$f":"+IF((Basisoplysninger!$D$60=\"Ja\")*(Anlægskartotek!C4673<>0)=1,Anlægskartotek!$L$14,Anlægskartotek!I4673)","v":0}]
[null,4663,{"$f":"Anlægskartotek!C4674","v":0},{"$f":"+IF((Basisoplysninger!$D$60=\"Ja\")*(Anlægskartotek!C4674<>0)=1,Anlægskartotek!$L$14,Anlægskartotek!I4674)","v":0}]
[null,4664,{"$f":"Anlægskartotek!C4675","v":0},{"$f":"+IF((Basisoplysninger!$D$60=\"Ja\")*(Anlægskartotek!C4675<>0)=1,Anlægskartotek!$L$14,Anlægskartotek!I4675)","v":0}]
[null,4665,{"$f":"Anlægskartotek!C4676","v":0},{"$f":"+IF((Basisoplysninger!$D$60=\"Ja\")*(Anlægskartotek!C4676<>0)=1,Anlægskartotek!$L$14,Anlægskartotek!I4676)","v":0}]
[null,4666,{"$f":"Anlægskartotek!C4677","v":0},{"$f":"+IF((Basisoplysninger!$D$60=\"Ja\")*(Anlægskartotek!C4677<>0)=1,Anlægskartotek!$L$14,Anlægskartotek!I4677)","v":0}]
[null,4667,{"$f":"Anlægskartotek!C4678","v":0},{"$f":"+IF((Basisoplysninger!$D$60=\"Ja\")*(Anlægskartotek!C4678<>0)=1,Anlægskartotek!$L$14,Anlægskartotek!I4678)","v":0}]
[null,4668,{"$f":"Anlægskartotek!C4679","v":0},{"$f":"+IF((Basisoplysninger!$D$60=\"Ja\")*(Anlægskartotek!C4679<>0)=1,Anlægskartotek!$L$14,Anlægskartotek!I4679)","v":0}]
[null,4669,{"$f":"Anlægskartotek!C4680","v":0},{"$f":"+IF((Basisoplysninger!$D$60=\"Ja\")*(Anlægskartotek!C4680<>0)=1,Anlægskartotek!$L$14,Anlægskartotek!I4680)","v":0}]
[null,4670,{"$f":"Anlægskartotek!C4681","v":0},{"$f":"+IF((Basisoplysninger!$D$60=\"Ja\")*(Anlægskartotek!C4681<>0)=1,Anlægskartotek!$L$14,Anlægskartotek!I4681)","v":0}]
[null,4671,{"$f":"Anlægskartotek!C4682","v":0},{"$f":"+IF((Basisoplysninger!$D$60=\"Ja\")*(Anlægskartotek!C4682<>0)=1,Anlægskartotek!$L$14,Anlægskartotek!I4682)","v":0}]
[null,4672,{"$f":"Anlægskartotek!C4683","v":0},{"$f":"+IF((Basisoplysninger!$D$60=\"Ja\")*(Anlægskartotek!C4683<>0)=1,Anlægskartotek!$L$14,Anlægskartotek!I4683)","v":0}]
[null,4673,{"$f":"Anlægskartotek!C4684","v":0},{"$f":"+IF((Basisoplysninger!$D$60=\"Ja\")*(Anlægskartotek!C4684<>0)=1,Anlægskartotek!$L$14,Anlægskartotek!I4684)","v":0}]
[null,4674,{"$f":"Anlægskartotek!C4685","v":0},{"$f":"+IF((Basisoplysninger!$D$60=\"Ja\")*(Anlægskartotek!C4685<>0)=1,Anlægskartotek!$L$14,Anlægskartotek!I4685)","v":0}]
[null,{"$f":"B4783+1","v":4675},{"$f":"Anlægskartotek!C4686","v":0},{"$f":"+IF((Basisoplysninger!$D$60=\"Ja\")*(Anlægskartotek!C4686<>0)=1,Anlægskartotek!$L$14,Anlægskartotek!I4686)","v":0}]
[null,4676,{"$f":"Anlægskartotek!C4687","v":0},{"$f":"+IF((Basisoplysninger!$D$60=\"Ja\")*(Anlægskartotek!C4687<>0)=1,Anlægskartotek!$L$14,Anlægskartotek!I4687)","v":0}]
[null,4677,{"$f":"Anlægskartotek!C4688","v":0},{"$f":"+IF((Basisoplysninger!$D$60=\"Ja\")*(Anlægskartotek!C4688<>0)=1,Anlægskartotek!$L$14,Anlægskartotek!I4688)","v":0}]
[null,4678,{"$f":"Anlægskartotek!C4689","v":0},{"$f":"+IF((Basisoplysninger!$D$60=\"Ja\")*(Anlægskartotek!C4689<>0)=1,Anlægskartotek!$L$14,Anlægskartotek!I4689)","v":0}]
[null,4679,{"$f":"Anlægskartotek!C4690","v":0},{"$f":"+IF((Basisoplysninger!$D$60=\"Ja\")*(Anlægskartotek!C4690<>0)=1,Anlægskartotek!$L$14,Anlægskartotek!I4690)","v":0}]
[null,4680,{"$f":"Anlægskartotek!C4691","v":0},{"$f":"+IF((Basisoplysninger!$D$60=\"Ja\")*(Anlægskartotek!C4691<>0)=1,Anlægskartotek!$L$14,Anlægskartotek!I4691)","v":0}]
[null,4681,{"$f":"Anlægskartotek!C4692","v":0},{"$f":"+IF((Basisoplysninger!$D$60=\"Ja\")*(Anlægskartotek!C4692<>0)=1,Anlægskartotek!$L$14,Anlægskartotek!I4692)","v":0}]
[null,4682,{"$f":"Anlægskartotek!C4693","v":0},{"$f":"+IF((Basisoplysninger!$D$60=\"Ja\")*(Anlægskartotek!C4693<>0)=1,Anlægskartotek!$L$14,Anlægskartotek!I4693)","v":0}]
[null,4683,{"$f":"Anlægskartotek!C4694","v":0},{"$f":"+IF((Basisoplysninger!$D$60=\"Ja\")*(Anlægskartotek!C4694<>0)=1,Anlægskartotek!$L$14,Anlægskartotek!I4694)","v":0}]
[null,4684,{"$f":"Anlægskartotek!C4695","v":0},{"$f":"+IF((Basisoplysninger!$D$60=\"Ja\")*(Anlægskartotek!C4695<>0)=1,Anlægskartotek!$L$14,Anlægskartotek!I4695)","v":0}]
[null,4685,{"$f":"Anlægskartotek!C4696","v":0},{"$f":"+IF((Basisoplysninger!$D$60=\"Ja\")*(Anlægskartotek!C4696<>0)=1,Anlægskartotek!$L$14,Anlægskartotek!I4696)","v":0}]
[null,4686,{"$f":"Anlægskartotek!C4697","v":0},{"$f":"+IF((Basisoplysninger!$D$60=\"Ja\")*(Anlægskartotek!C4697<>0)=1,Anlægskartotek!$L$14,Anlægskartotek!I4697)","v":0}]
[null,4687,{"$f":"Anlægskartotek!C4698","v":0},{"$f":"+IF((Basisoplysninger!$D$60=\"Ja\")*(Anlægskartotek!C4698<>0)=1,Anlægskartotek!$L$14,Anlægskartotek!I4698)","v":0}]
[null,4688,{"$f":"Anlægskartotek!C4699","v":0},{"$f":"+IF((Basisoplysninger!$D$60=\"Ja\")*(Anlægskartotek!C4699<>0)=1,Anlægskartotek!$L$14,Anlægskartotek!I4699)","v":0}]
[null,4689,{"$f":"Anlægskartotek!C4700","v":0},{"$f":"+IF((Basisoplysninger!$D$60=\"Ja\")*(Anlægskartotek!C4700<>0)=1,Anlægskartotek!$L$14,Anlægskartotek!I4700)","v":0}]
[null,4690,{"$f":"Anlægskartotek!C4701","v":0},{"$f":"+IF((Basisoplysninger!$D$60=\"Ja\")*(Anlægskartotek!C4701<>0)=1,Anlægskartotek!$L$14,Anlægskartotek!I4701)","v":0}]
[null,4691,{"$f":"Anlægskartotek!C4702","v":0},{"$f":"+IF((Basisoplysninger!$D$60=\"Ja\")*(Anlægskartotek!C4702<>0)=1,Anlægskartotek!$L$14,Anlægskartotek!I4702)","v":0}]
[null,4692,{"$f":"Anlægskartotek!C4703","v":0},{"$f":"+IF((Basisoplysninger!$D$60=\"Ja\")*(Anlægskartotek!C4703<>0)=1,Anlægskartotek!$L$14,Anlægskartotek!I4703)","v":0}]
[null,4693,{"$f":"Anlægskartotek!C4704","v":0},{"$f":"+IF((Basisoplysninger!$D$60=\"Ja\")*(Anlægskartotek!C4704<>0)=1,Anlægskartotek!$L$14,Anlægskartotek!I4704)","v":0}]
[null,4694,{"$f":"Anlægskartotek!C4705","v":0},{"$f":"+IF((Basisoplysninger!$D$60=\"Ja\")*(Anlægskartotek!C4705<>0)=1,Anlægskartotek!$L$14,Anlægskartotek!I4705)","v":0}]
[null,4695,{"$f":"Anlægskartotek!C4706","v":0},{"$f":"+IF((Basisoplysninger!$D$60=\"Ja\")*(Anlægskartotek!C4706<>0)=1,Anlægskartotek!$L$14,Anlægskartotek!I4706)","v":0}]
[null,4696,{"$f":"Anlægskartotek!C4707","v":0},{"$f":"+IF((Basisoplysninger!$D$60=\"Ja\")*(Anlægskartotek!C4707<>0)=1,Anlægskartotek!$L$14,Anlægskartotek!I4707)","v":0}]
[null,4697,{"$f":"Anlægskartotek!C4708","v":0},{"$f":"+IF((Basisoplysninger!$D$60=\"Ja\")*(Anlægskartotek!C4708<>0)=1,Anlægskartotek!$L$14,Anlægskartotek!I4708)","v":0}]
[null,4698,{"$f":"Anlægskartotek!C4709","v":0},{"$f":"+IF((Basisoplysninger!$D$60=\"Ja\")*(Anlægskartotek!C4709<>0)=1,Anlægskartotek!$L$14,Anlægskartotek!I4709)","v":0}]
[null,4699,{"$f":"Anlægskartotek!C4710","v":0},{"$f":"+IF((Basisoplysninger!$D$60=\"Ja\")*(Anlægskartotek!C4710<>0)=1,Anlægskartotek!$L$14,Anlægskartotek!I4710)","v":0}]
[null,4700,{"$f":"Anlægskartotek!C4711","v":0},{"$f":"+IF((Basisoplysninger!$D$60=\"Ja\")*(Anlægskartotek!C4711<>0)=1,Anlægskartotek!$L$14,Anlægskartotek!I4711)","v":0}]
[null,4701,{"$f":"Anlægskartotek!C4712","v":0},{"$f":"+IF((Basisoplysninger!$D$60=\"Ja\")*(Anlægskartotek!C4712<>0)=1,Anlægskartotek!$L$14,Anlægskartotek!I4712)","v":0}]
[null,4702,{"$f":"Anlægskartotek!C4713","v":0},{"$f":"+IF((Basisoplysninger!$D$60=\"Ja\")*(Anlægskartotek!C4713<>0)=1,Anlægskartotek!$L$14,Anlægskartotek!I4713)","v":0}]
[null,4703,{"$f":"Anlægskartotek!C4714","v":0},{"$f":"+IF((Basisoplysninger!$D$60=\"Ja\")*(Anlægskartotek!C4714<>0)=1,Anlægskartotek!$L$14,Anlægskartotek!I4714)","v":0}]
[null,4704,{"$f":"Anlægskartotek!C4715","v":0},{"$f":"+IF((Basisoplysninger!$D$60=\"Ja\")*(Anlægskartotek!C4715<>0)=1,Anlægskartotek!$L$14,Anlægskartotek!I4715)","v":0}]
[null,4705,{"$f":"Anlægskartotek!C4716","v":0},{"$f":"+IF((Basisoplysninger!$D$60=\"Ja\")*(Anlægskartotek!C4716<>0)=1,Anlægskartotek!$L$14,Anlægskartotek!I4716)","v":0}]
[null,4706,{"$f":"Anlægskartotek!C4717","v":0},{"$f":"+IF((Basisoplysninger!$D$60=\"Ja\")*(Anlægskartotek!C4717<>0)=1,Anlægskartotek!$L$14,Anlægskartotek!I4717)","v":0}]
[null,4707,{"$f":"Anlægskartotek!C4718","v":0},{"$f":"+IF((Basisoplysninger!$D$60=\"Ja\")*(Anlægskartotek!C4718<>0)=1,Anlægskartotek!$L$14,Anlægskartotek!I4718)","v":0}]
[null,4708,{"$f":"Anlægskartotek!C4719","v":0},{"$f":"+IF((Basisoplysninger!$D$60=\"Ja\")*(Anlægskartotek!C4719<>0)=1,Anlægskartotek!$L$14,Anlægskartotek!I4719)","v":0}]
[null,4709,{"$f":"Anlægskartotek!C4720","v":0},{"$f":"+IF((Basisoplysninger!$D$60=\"Ja\")*(Anlægskartotek!C4720<>0)=1,Anlægskartotek!$L$14,Anlægskartotek!I4720)","v":0}]
[null,4710,{"$f":"Anlægskartotek!C4721","v":0},{"$f":"+IF((Basisoplysninger!$D$60=\"Ja\")*(Anlægskartotek!C4721<>0)=1,Anlægskartotek!$L$14,Anlægskartotek!I4721)","v":0}]
[null,4711,{"$f":"Anlægskartotek!C4722","v":0},{"$f":"+IF((Basisoplysninger!$D$60=\"Ja\")*(Anlægskartotek!C4722<>0)=1,Anlægskartotek!$L$14,Anlægskartotek!I4722)","v":0}]
[null,4712,{"$f":"Anlægskartotek!C4723","v":0},{"$f":"+IF((Basisoplysninger!$D$60=\"Ja\")*(Anlægskartotek!C4723<>0)=1,Anlægskartotek!$L$14,Anlægskartotek!I4723)","v":0}]
[null,4713,{"$f":"Anlægskartotek!C4724","v":0},{"$f":"+IF((Basisoplysninger!$D$60=\"Ja\")*(Anlægskartotek!C4724<>0)=1,Anlægskartotek!$L$14,Anlægskartotek!I4724)","v":0}]
[null,4714,{"$f":"Anlægskartotek!C4725","v":0},{"$f":"+IF((Basisoplysninger!$D$60=\"Ja\")*(Anlægskartotek!C4725<>0)=1,Anlægskartotek!$L$14,Anlægskartotek!I4725)","v":0}]
[null,4715,{"$f":"Anlægskartotek!C4726","v":0},{"$f":"+IF((Basisoplysninger!$D$60=\"Ja\")*(Anlægskartotek!C4726<>0)=1,Anlægskartotek!$L$14,Anlægskartotek!I4726)","v":0}]
[null,4716,{"$f":"Anlægskartotek!C4727","v":0},{"$f":"+IF((Basisoplysninger!$D$60=\"Ja\")*(Anlægskartotek!C4727<>0)=1,Anlægskartotek!$L$14,Anlægskartotek!I4727)","v":0}]
[null,4717,{"$f":"Anlægskartotek!C4728","v":0},{"$f":"+IF((Basisoplysninger!$D$60=\"Ja\")*(Anlægskartotek!C4728<>0)=1,Anlægskartotek!$L$14,Anlægskartotek!I4728)","v":0}]
[null,4718,{"$f":"Anlægskartotek!C4729","v":0},{"$f":"+IF((Basisoplysninger!$D$60=\"Ja\")*(Anlægskartotek!C4729<>0)=1,Anlægskartotek!$L$14,Anlægskartotek!I4729)","v":0}]
[null,4719,{"$f":"Anlægskartotek!C4730","v":0},{"$f":"+IF((Basisoplysninger!$D$60=\"Ja\")*(Anlægskartotek!C4730<>0)=1,Anlægskartotek!$L$14,Anlægskartotek!I4730)","v":0}]
[null,4720,{"$f":"Anlægskartotek!C4731","v":0},{"$f":"+IF((Basisoplysninger!$D$60=\"Ja\")*(Anlægskartotek!C4731<>0)=1,Anlægskartotek!$L$14,Anlægskartotek!I4731)","v":0}]
[null,4721,{"$f":"Anlægskartotek!C4732","v":0},{"$f":"+IF((Basisoplysninger!$D$60=\"Ja\")*(Anlægskartotek!C4732<>0)=1,Anlægskartotek!$L$14,Anlægskartotek!I4732)","v":0}]
[null,4722,{"$f":"Anlægskartotek!C4733","v":0},{"$f":"+IF((Basisoplysninger!$D$60=\"Ja\")*(Anlægskartotek!C4733<>0)=1,Anlægskartotek!$L$14,Anlægskartotek!I4733)","v":0}]
[null,4723,{"$f":"Anlægskartotek!C4734","v":0},{"$f":"+IF((Basisoplysninger!$D$60=\"Ja\")*(Anlægskartotek!C4734<>0)=1,Anlægskartotek!$L$14,Anlægskartotek!I4734)","v":0}]
[null,4724,{"$f":"Anlægskartotek!C4735","v":0},{"$f":"+IF((Basisoplysninger!$D$60=\"Ja\")*(Anlægskartotek!C4735<>0)=1,Anlægskartotek!$L$14,Anlægskartotek!I4735)","v":0}]
[null,4725,{"$f":"Anlægskartotek!C4736","v":0},{"$f":"+IF((Basisoplysninger!$D$60=\"Ja\")*(Anlægskartotek!C4736<>0)=1,Anlægskartotek!$L$14,Anlægskartotek!I4736)","v":0}]
[null,4726,{"$f":"Anlægskartotek!C4737","v":0},{"$f":"+IF((Basisoplysninger!$D$60=\"Ja\")*(Anlægskartotek!C4737<>0)=1,Anlægskartotek!$L$14,Anlægskartotek!I4737)","v":0}]
[null,4727,{"$f":"Anlægskartotek!C4738","v":0},{"$f":"+IF((Basisoplysninger!$D$60=\"Ja\")*(Anlægskartotek!C4738<>0)=1,Anlægskartotek!$L$14,Anlægskartotek!I4738)","v":0}]
[null,4728,{"$f":"Anlægskartotek!C4739","v":0},{"$f":"+IF((Basisoplysninger!$D$60=\"Ja\")*(Anlægskartotek!C4739<>0)=1,Anlægskartotek!$L$14,Anlægskartotek!I4739)","v":0}]
[null,4729,{"$f":"Anlægskartotek!C4740","v":0},{"$f":"+IF((Basisoplysninger!$D$60=\"Ja\")*(Anlægskartotek!C4740<>0)=1,Anlægskartotek!$L$14,Anlægskartotek!I4740)","v":0}]
[null,4730,{"$f":"Anlægskartotek!C4741","v":0},{"$f":"+IF((Basisoplysninger!$D$60=\"Ja\")*(Anlægskartotek!C4741<>0)=1,Anlægskartotek!$L$14,Anlægskartotek!I4741)","v":0}]
[null,4731,{"$f":"Anlægskartotek!C4742","v":0},{"$f":"+IF((Basisoplysninger!$D$60=\"Ja\")*(Anlægskartotek!C4742<>0)=1,Anlægskartotek!$L$14,Anlægskartotek!I4742)","v":0}]
[null,4732,{"$f":"Anlægskartotek!C4743","v":0},{"$f":"+IF((Basisoplysninger!$D$60=\"Ja\")*(Anlægskartotek!C4743<>0)=1,Anlægskartotek!$L$14,Anlægskartotek!I4743)","v":0}]
[null,4733,{"$f":"Anlægskartotek!C4744","v":0},{"$f":"+IF((Basisoplysninger!$D$60=\"Ja\")*(Anlægskartotek!C4744<>0)=1,Anlægskartotek!$L$14,Anlægskartotek!I4744)","v":0}]
[null,4734,{"$f":"Anlægskartotek!C4745","v":0},{"$f":"+IF((Basisoplysninger!$D$60=\"Ja\")*(Anlægskartotek!C4745<>0)=1,Anlægskartotek!$L$14,Anlægskartotek!I4745)","v":0}]
[null,4735,{"$f":"Anlægskartotek!C4746","v":0},{"$f":"+IF((Basisoplysninger!$D$60=\"Ja\")*(Anlægskartotek!C4746<>0)=1,Anlægskartotek!$L$14,Anlægskartotek!I4746)","v":0}]
[null,4736,{"$f":"Anlægskartotek!C4747","v":0},{"$f":"+IF((Basisoplysninger!$D$60=\"Ja\")*(Anlægskartotek!C4747<>0)=1,Anlægskartotek!$L$14,Anlægskartotek!I4747)","v":0}]
[null,4737,{"$f":"Anlægskartotek!C4748","v":0},{"$f":"+IF((Basisoplysninger!$D$60=\"Ja\")*(Anlægskartotek!C4748<>0)=1,Anlægskartotek!$L$14,Anlægskartotek!I4748)","v":0}]
[null,4738,{"$f":"Anlægskartotek!C4749","v":0},{"$f":"+IF((Basisoplysninger!$D$60=\"Ja\")*(Anlægskartotek!C4749<>0)=1,Anlægskartotek!$L$14,Anlægskartotek!I4749)","v":0}]
[null,{"$f":"B4847+1","v":4739},{"$f":"Anlægskartotek!C4750","v":0},{"$f":"+IF((Basisoplysninger!$D$60=\"Ja\")*(Anlægskartotek!C4750<>0)=1,Anlægskartotek!$L$14,Anlægskartotek!I4750)","v":0}]
[null,4740,{"$f":"Anlægskartotek!C4751","v":0},{"$f":"+IF((Basisoplysninger!$D$60=\"Ja\")*(Anlægskartotek!C4751<>0)=1,Anlægskartotek!$L$14,Anlægskartotek!I4751)","v":0}]
[null,4741,{"$f":"Anlægskartotek!C4752","v":0},{"$f":"+IF((Basisoplysninger!$D$60=\"Ja\")*(Anlægskartotek!C4752<>0)=1,Anlægskartotek!$L$14,Anlægskartotek!I4752)","v":0}]
[null,4742,{"$f":"Anlægskartotek!C4753","v":0},{"$f":"+IF((Basisoplysninger!$D$60=\"Ja\")*(Anlægskartotek!C4753<>0)=1,Anlægskartotek!$L$14,Anlægskartotek!I4753)","v":0}]
[null,4743,{"$f":"Anlægskartotek!C4754","v":0},{"$f":"+IF((Basisoplysninger!$D$60=\"Ja\")*(Anlægskartotek!C4754<>0)=1,Anlægskartotek!$L$14,Anlægskartotek!I4754)","v":0}]
[null,4744,{"$f":"Anlægskartotek!C4755","v":0},{"$f":"+IF((Basisoplysninger!$D$60=\"Ja\")*(Anlægskartotek!C4755<>0)=1,Anlægskartotek!$L$14,Anlægskartotek!I4755)","v":0}]
[null,4745,{"$f":"Anlægskartotek!C4756","v":0},{"$f":"+IF((Basisoplysninger!$D$60=\"Ja\")*(Anlægskartotek!C4756<>0)=1,Anlægskartotek!$L$14,Anlægskartotek!I4756)","v":0}]
[null,4746,{"$f":"Anlægskartotek!C4757","v":0},{"$f":"+IF((Basisoplysninger!$D$60=\"Ja\")*(Anlægskartotek!C4757<>0)=1,Anlægskartotek!$L$14,Anlægskartotek!I4757)","v":0}]
[null,4747,{"$f":"Anlægskartotek!C4758","v":0},{"$f":"+IF((Basisoplysninger!$D$60=\"Ja\")*(Anlægskartotek!C4758<>0)=1,Anlægskartotek!$L$14,Anlægskartotek!I4758)","v":0}]
[null,4748,{"$f":"Anlægskartotek!C4759","v":0},{"$f":"+IF((Basisoplysninger!$D$60=\"Ja\")*(Anlægskartotek!C4759<>0)=1,Anlægskartotek!$L$14,Anlægskartotek!I4759)","v":0}]
[null,4749,{"$f":"Anlægskartotek!C4760","v":0},{"$f":"+IF((Basisoplysninger!$D$60=\"Ja\")*(Anlægskartotek!C4760<>0)=1,Anlægskartotek!$L$14,Anlægskartotek!I4760)","v":0}]
[null,4750,{"$f":"Anlægskartotek!C4761","v":0},{"$f":"+IF((Basisoplysninger!$D$60=\"Ja\")*(Anlægskartotek!C4761<>0)=1,Anlægskartotek!$L$14,Anlægskartotek!I4761)","v":0}]
[null,4751,{"$f":"Anlægskartotek!C4762","v":0},{"$f":"+IF((Basisoplysninger!$D$60=\"Ja\")*(Anlægskartotek!C4762<>0)=1,Anlægskartotek!$L$14,Anlægskartotek!I4762)","v":0}]
[null,4752,{"$f":"Anlægskartotek!C4763","v":0},{"$f":"+IF((Basisoplysninger!$D$60=\"Ja\")*(Anlægskartotek!C4763<>0)=1,Anlægskartotek!$L$14,Anlægskartotek!I4763)","v":0}]
[null,4753,{"$f":"Anlægskartotek!C4764","v":0},{"$f":"+IF((Basisoplysninger!$D$60=\"Ja\")*(Anlægskartotek!C4764<>0)=1,Anlægskartotek!$L$14,Anlægskartotek!I4764)","v":0}]
[null,4754,{"$f":"Anlægskartotek!C4765","v":0},{"$f":"+IF((Basisoplysninger!$D$60=\"Ja\")*(Anlægskartotek!C4765<>0)=1,Anlægskartotek!$L$14,Anlægskartotek!I4765)","v":0}]
[null,4755,{"$f":"Anlægskartotek!C4766","v":0},{"$f":"+IF((Basisoplysninger!$D$60=\"Ja\")*(Anlægskartotek!C4766<>0)=1,Anlægskartotek!$L$14,Anlægskartotek!I4766)","v":0}]
[null,4756,{"$f":"Anlægskartotek!C4767","v":0},{"$f":"+IF((Basisoplysninger!$D$60=\"Ja\")*(Anlægskartotek!C4767<>0)=1,Anlægskartotek!$L$14,Anlægskartotek!I4767)","v":0}]
[null,4757,{"$f":"Anlægskartotek!C4768","v":0},{"$f":"+IF((Basisoplysninger!$D$60=\"Ja\")*(Anlægskartotek!C4768<>0)=1,Anlægskartotek!$L$14,Anlægskartotek!I4768)","v":0}]
[null,4758,{"$f":"Anlægskartotek!C4769","v":0},{"$f":"+IF((Basisoplysninger!$D$60=\"Ja\")*(Anlægskartotek!C4769<>0)=1,Anlægskartotek!$L$14,Anlægskartotek!I4769)","v":0}]
[null,4759,{"$f":"Anlægskartotek!C4770","v":0},{"$f":"+IF((Basisoplysninger!$D$60=\"Ja\")*(Anlægskartotek!C4770<>0)=1,Anlægskartotek!$L$14,Anlægskartotek!I4770)","v":0}]
[null,4760,{"$f":"Anlægskartotek!C4771","v":0},{"$f":"+IF((Basisoplysninger!$D$60=\"Ja\")*(Anlægskartotek!C4771<>0)=1,Anlægskartotek!$L$14,Anlægskartotek!I4771)","v":0}]
[null,4761,{"$f":"Anlægskartotek!C4772","v":0},{"$f":"+IF((Basisoplysninger!$D$60=\"Ja\")*(Anlægskartotek!C4772<>0)=1,Anlægskartotek!$L$14,Anlægskartotek!I4772)","v":0}]
[null,4762,{"$f":"Anlægskartotek!C4773","v":0},{"$f":"+IF((Basisoplysninger!$D$60=\"Ja\")*(Anlægskartotek!C4773<>0)=1,Anlægskartotek!$L$14,Anlægskartotek!I4773)","v":0}]
[null,4763,{"$f":"Anlægskartotek!C4774","v":0},{"$f":"+IF((Basisoplysninger!$D$60=\"Ja\")*(Anlægskartotek!C4774<>0)=1,Anlægskartotek!$L$14,Anlægskartotek!I4774)","v":0}]
[null,4764,{"$f":"Anlægskartotek!C4775","v":0},{"$f":"+IF((Basisoplysninger!$D$60=\"Ja\")*(Anlægskartotek!C4775<>0)=1,Anlægskartotek!$L$14,Anlægskartotek!I4775)","v":0}]
[null,4765,{"$f":"Anlægskartotek!C4776","v":0},{"$f":"+IF((Basisoplysninger!$D$60=\"Ja\")*(Anlægskartotek!C4776<>0)=1,Anlægskartotek!$L$14,Anlægskartotek!I4776)","v":0}]
[null,4766,{"$f":"Anlægskartotek!C4777","v":0},{"$f":"+IF((Basisoplysninger!$D$60=\"Ja\")*(Anlægskartotek!C4777<>0)=1,Anlægskartotek!$L$14,Anlægskartotek!I4777)","v":0}]
[null,4767,{"$f":"Anlægskartotek!C4778","v":0},{"$f":"+IF((Basisoplysninger!$D$60=\"Ja\")*(Anlægskartotek!C4778<>0)=1,Anlægskartotek!$L$14,Anlægskartotek!I4778)","v":0}]
[null,4768,{"$f":"Anlægskartotek!C4779","v":0},{"$f":"+IF((Basisoplysninger!$D$60=\"Ja\")*(Anlægskartotek!C4779<>0)=1,Anlægskartotek!$L$14,Anlægskartotek!I4779)","v":0}]
[null,4769,{"$f":"Anlægskartotek!C4780","v":0},{"$f":"+IF((Basisoplysninger!$D$60=\"Ja\")*(Anlægskartotek!C4780<>0)=1,Anlægskartotek!$L$14,Anlægskartotek!I4780)","v":0}]
[null,4770,{"$f":"Anlægskartotek!C4781","v":0},{"$f":"+IF((Basisoplysninger!$D$60=\"Ja\")*(Anlægskartotek!C4781<>0)=1,Anlægskartotek!$L$14,Anlægskartotek!I4781)","v":0}]
[null,4771,{"$f":"Anlægskartotek!C4782","v":0},{"$f":"+IF((Basisoplysninger!$D$60=\"Ja\")*(Anlægskartotek!C4782<>0)=1,Anlægskartotek!$L$14,Anlægskartotek!I4782)","v":0}]
[null,4772,{"$f":"Anlægskartotek!C4783","v":0},{"$f":"+IF((Basisoplysninger!$D$60=\"Ja\")*(Anlægskartotek!C4783<>0)=1,Anlægskartotek!$L$14,Anlægskartotek!I4783)","v":0}]
[null,4773,{"$f":"Anlægskartotek!C4784","v":0},{"$f":"+IF((Basisoplysninger!$D$60=\"Ja\")*(Anlægskartotek!C4784<>0)=1,Anlægskartotek!$L$14,Anlægskartotek!I4784)","v":0}]
[null,4774,{"$f":"Anlægskartotek!C4785","v":0},{"$f":"+IF((Basisoplysninger!$D$60=\"Ja\")*(Anlægskartotek!C4785<>0)=1,Anlægskartotek!$L$14,Anlægskartotek!I4785)","v":0}]
[null,4775,{"$f":"Anlægskartotek!C4786","v":0},{"$f":"+IF((Basisoplysninger!$D$60=\"Ja\")*(Anlægskartotek!C4786<>0)=1,Anlægskartotek!$L$14,Anlægskartotek!I4786)","v":0}]
[null,4776,{"$f":"Anlægskartotek!C4787","v":0},{"$f":"+IF((Basisoplysninger!$D$60=\"Ja\")*(Anlægskartotek!C4787<>0)=1,Anlægskartotek!$L$14,Anlægskartotek!I4787)","v":0}]
[null,4777,{"$f":"Anlægskartotek!C4788","v":0},{"$f":"+IF((Basisoplysninger!$D$60=\"Ja\")*(Anlægskartotek!C4788<>0)=1,Anlægskartotek!$L$14,Anlægskartotek!I4788)","v":0}]
[null,4778,{"$f":"Anlægskartotek!C4789","v":0},{"$f":"+IF((Basisoplysninger!$D$60=\"Ja\")*(Anlægskartotek!C4789<>0)=1,Anlægskartotek!$L$14,Anlægskartotek!I4789)","v":0}]
[null,4779,{"$f":"Anlægskartotek!C4790","v":0},{"$f":"+IF((Basisoplysninger!$D$60=\"Ja\")*(Anlægskartotek!C4790<>0)=1,Anlægskartotek!$L$14,Anlægskartotek!I4790)","v":0}]
[null,4780,{"$f":"Anlægskartotek!C4791","v":0},{"$f":"+IF((Basisoplysninger!$D$60=\"Ja\")*(Anlægskartotek!C4791<>0)=1,Anlægskartotek!$L$14,Anlægskartotek!I4791)","v":0}]
[null,4781,{"$f":"Anlægskartotek!C4792","v":0},{"$f":"+IF((Basisoplysninger!$D$60=\"Ja\")*(Anlægskartotek!C4792<>0)=1,Anlægskartotek!$L$14,Anlægskartotek!I4792)","v":0}]
[null,4782,{"$f":"Anlægskartotek!C4793","v":0},{"$f":"+IF((Basisoplysninger!$D$60=\"Ja\")*(Anlægskartotek!C4793<>0)=1,Anlægskartotek!$L$14,Anlægskartotek!I4793)","v":0}]
[null,4783,{"$f":"Anlægskartotek!C4794","v":0},{"$f":"+IF((Basisoplysninger!$D$60=\"Ja\")*(Anlægskartotek!C4794<>0)=1,Anlægskartotek!$L$14,Anlægskartotek!I4794)","v":0}]
[null,4784,{"$f":"Anlægskartotek!C4795","v":0},{"$f":"+IF((Basisoplysninger!$D$60=\"Ja\")*(Anlægskartotek!C4795<>0)=1,Anlægskartotek!$L$14,Anlægskartotek!I4795)","v":0}]
[null,4785,{"$f":"Anlægskartotek!C4796","v":0},{"$f":"+IF((Basisoplysninger!$D$60=\"Ja\")*(Anlægskartotek!C4796<>0)=1,Anlægskartotek!$L$14,Anlægskartotek!I4796)","v":0}]
[null,4786,{"$f":"Anlægskartotek!C4797","v":0},{"$f":"+IF((Basisoplysninger!$D$60=\"Ja\")*(Anlægskartotek!C4797<>0)=1,Anlægskartotek!$L$14,Anlægskartotek!I4797)","v":0}]
[null,4787,{"$f":"Anlægskartotek!C4798","v":0},{"$f":"+IF((Basisoplysninger!$D$60=\"Ja\")*(Anlægskartotek!C4798<>0)=1,Anlægskartotek!$L$14,Anlægskartotek!I4798)","v":0}]
[null,4788,{"$f":"Anlægskartotek!C4799","v":0},{"$f":"+IF((Basisoplysninger!$D$60=\"Ja\")*(Anlægskartotek!C4799<>0)=1,Anlægskartotek!$L$14,Anlægskartotek!I4799)","v":0}]
[null,4789,{"$f":"Anlægskartotek!C4800","v":0},{"$f":"+IF((Basisoplysninger!$D$60=\"Ja\")*(Anlægskartotek!C4800<>0)=1,Anlægskartotek!$L$14,Anlægskartotek!I4800)","v":0}]
[null,4790,{"$f":"Anlægskartotek!C4801","v":0},{"$f":"+IF((Basisoplysninger!$D$60=\"Ja\")*(Anlægskartotek!C4801<>0)=1,Anlægskartotek!$L$14,Anlægskartotek!I4801)","v":0}]
[null,4791,{"$f":"Anlægskartotek!C4802","v":0},{"$f":"+IF((Basisoplysninger!$D$60=\"Ja\")*(Anlægskartotek!C4802<>0)=1,Anlægskartotek!$L$14,Anlægskartotek!I4802)","v":0}]
[null,4792,{"$f":"Anlægskartotek!C4803","v":0},{"$f":"+IF((Basisoplysninger!$D$60=\"Ja\")*(Anlægskartotek!C4803<>0)=1,Anlægskartotek!$L$14,Anlægskartotek!I4803)","v":0}]
[null,4793,{"$f":"Anlægskartotek!C4804","v":0},{"$f":"+IF((Basisoplysninger!$D$60=\"Ja\")*(Anlægskartotek!C4804<>0)=1,Anlægskartotek!$L$14,Anlægskartotek!I4804)","v":0}]
[null,4794,{"$f":"Anlægskartotek!C4805","v":0},{"$f":"+IF((Basisoplysninger!$D$60=\"Ja\")*(Anlægskartotek!C4805<>0)=1,Anlægskartotek!$L$14,Anlægskartotek!I4805)","v":0}]
[null,4795,{"$f":"Anlægskartotek!C4806","v":0},{"$f":"+IF((Basisoplysninger!$D$60=\"Ja\")*(Anlægskartotek!C4806<>0)=1,Anlægskartotek!$L$14,Anlægskartotek!I4806)","v":0}]
[null,4796,{"$f":"Anlægskartotek!C4807","v":0},{"$f":"+IF((Basisoplysninger!$D$60=\"Ja\")*(Anlægskartotek!C4807<>0)=1,Anlægskartotek!$L$14,Anlægskartotek!I4807)","v":0}]
[null,4797,{"$f":"Anlægskartotek!C4808","v":0},{"$f":"+IF((Basisoplysninger!$D$60=\"Ja\")*(Anlægskartotek!C4808<>0)=1,Anlægskartotek!$L$14,Anlægskartotek!I4808)","v":0}]
[null,4798,{"$f":"Anlægskartotek!C4809","v":0},{"$f":"+IF((Basisoplysninger!$D$60=\"Ja\")*(Anlægskartotek!C4809<>0)=1,Anlægskartotek!$L$14,Anlægskartotek!I4809)","v":0}]
[null,4799,{"$f":"Anlægskartotek!C4810","v":0},{"$f":"+IF((Basisoplysninger!$D$60=\"Ja\")*(Anlægskartotek!C4810<>0)=1,Anlægskartotek!$L$14,Anlægskartotek!I4810)","v":0}]
[null,4800,{"$f":"Anlægskartotek!C4811","v":0},{"$f":"+IF((Basisoplysninger!$D$60=\"Ja\")*(Anlægskartotek!C4811<>0)=1,Anlægskartotek!$L$14,Anlægskartotek!I4811)","v":0}]
[null,4801,{"$f":"Anlægskartotek!C4812","v":0},{"$f":"+IF((Basisoplysninger!$D$60=\"Ja\")*(Anlægskartotek!C4812<>0)=1,Anlægskartotek!$L$14,Anlægskartotek!I4812)","v":0}]
[null,4802,{"$f":"Anlægskartotek!C4813","v":0},{"$f":"+IF((Basisoplysninger!$D$60=\"Ja\")*(Anlægskartotek!C4813<>0)=1,Anlægskartotek!$L$14,Anlægskartotek!I4813)","v":0}]
[null,{"$f":"B4911+1","v":4803},{"$f":"Anlægskartotek!C4814","v":0},{"$f":"+IF((Basisoplysninger!$D$60=\"Ja\")*(Anlægskartotek!C4814<>0)=1,Anlægskartotek!$L$14,Anlægskartotek!I4814)","v":0}]
[null,4804,{"$f":"Anlægskartotek!C4815","v":0},{"$f":"+IF((Basisoplysninger!$D$60=\"Ja\")*(Anlægskartotek!C4815<>0)=1,Anlægskartotek!$L$14,Anlægskartotek!I4815)","v":0}]
[null,4805,{"$f":"Anlægskartotek!C4816","v":0},{"$f":"+IF((Basisoplysninger!$D$60=\"Ja\")*(Anlægskartotek!C4816<>0)=1,Anlægskartotek!$L$14,Anlægskartotek!I4816)","v":0}]
[null,4806,{"$f":"Anlægskartotek!C4817","v":0},{"$f":"+IF((Basisoplysninger!$D$60=\"Ja\")*(Anlægskartotek!C4817<>0)=1,Anlægskartotek!$L$14,Anlægskartotek!I4817)","v":0}]
[null,4807,{"$f":"Anlægskartotek!C4818","v":0},{"$f":"+IF((Basisoplysninger!$D$60=\"Ja\")*(Anlægskartotek!C4818<>0)=1,Anlægskartotek!$L$14,Anlægskartotek!I4818)","v":0}]
[null,4808,{"$f":"Anlægskartotek!C4819","v":0},{"$f":"+IF((Basisoplysninger!$D$60=\"Ja\")*(Anlægskartotek!C4819<>0)=1,Anlægskartotek!$L$14,Anlægskartotek!I4819)","v":0}]
[null,4809,{"$f":"Anlægskartotek!C4820","v":0},{"$f":"+IF((Basisoplysninger!$D$60=\"Ja\")*(Anlægskartotek!C4820<>0)=1,Anlægskartotek!$L$14,Anlægskartotek!I4820)","v":0}]
[null,4810,{"$f":"Anlægskartotek!C4821","v":0},{"$f":"+IF((Basisoplysninger!$D$60=\"Ja\")*(Anlægskartotek!C4821<>0)=1,Anlægskartotek!$L$14,Anlægskartotek!I4821)","v":0}]
[null,4811,{"$f":"Anlægskartotek!C4822","v":0},{"$f":"+IF((Basisoplysninger!$D$60=\"Ja\")*(Anlægskartotek!C4822<>0)=1,Anlægskartotek!$L$14,Anlægskartotek!I4822)","v":0}]
[null,4812,{"$f":"Anlægskartotek!C4823","v":0},{"$f":"+IF((Basisoplysninger!$D$60=\"Ja\")*(Anlægskartotek!C4823<>0)=1,Anlægskartotek!$L$14,Anlægskartotek!I4823)","v":0}]
[null,4813,{"$f":"Anlægskartotek!C4824","v":0},{"$f":"+IF((Basisoplysninger!$D$60=\"Ja\")*(Anlægskartotek!C4824<>0)=1,Anlægskartotek!$L$14,Anlægskartotek!I4824)","v":0}]
[null,4814,{"$f":"Anlægskartotek!C4825","v":0},{"$f":"+IF((Basisoplysninger!$D$60=\"Ja\")*(Anlægskartotek!C4825<>0)=1,Anlægskartotek!$L$14,Anlægskartotek!I4825)","v":0}]
[null,4815,{"$f":"Anlægskartotek!C4826","v":0},{"$f":"+IF((Basisoplysninger!$D$60=\"Ja\")*(Anlægskartotek!C4826<>0)=1,Anlægskartotek!$L$14,Anlægskartotek!I4826)","v":0}]
[null,4816,{"$f":"Anlægskartotek!C4827","v":0},{"$f":"+IF((Basisoplysninger!$D$60=\"Ja\")*(Anlægskartotek!C4827<>0)=1,Anlægskartotek!$L$14,Anlægskartotek!I4827)","v":0}]
[null,4817,{"$f":"Anlægskartotek!C4828","v":0},{"$f":"+IF((Basisoplysninger!$D$60=\"Ja\")*(Anlægskartotek!C4828<>0)=1,Anlægskartotek!$L$14,Anlægskartotek!I4828)","v":0}]
[null,4818,{"$f":"Anlægskartotek!C4829","v":0},{"$f":"+IF((Basisoplysninger!$D$60=\"Ja\")*(Anlægskartotek!C4829<>0)=1,Anlægskartotek!$L$14,Anlægskartotek!I4829)","v":0}]
[null,4819,{"$f":"Anlægskartotek!C4830","v":0},{"$f":"+IF((Basisoplysninger!$D$60=\"Ja\")*(Anlægskartotek!C4830<>0)=1,Anlægskartotek!$L$14,Anlægskartotek!I4830)","v":0}]
[null,4820,{"$f":"Anlægskartotek!C4831","v":0},{"$f":"+IF((Basisoplysninger!$D$60=\"Ja\")*(Anlægskartotek!C4831<>0)=1,Anlægskartotek!$L$14,Anlægskartotek!I4831)","v":0}]
[null,4821,{"$f":"Anlægskartotek!C4832","v":0},{"$f":"+IF((Basisoplysninger!$D$60=\"Ja\")*(Anlægskartotek!C4832<>0)=1,Anlægskartotek!$L$14,Anlægskartotek!I4832)","v":0}]
[null,4822,{"$f":"Anlægskartotek!C4833","v":0},{"$f":"+IF((Basisoplysninger!$D$60=\"Ja\")*(Anlægskartotek!C4833<>0)=1,Anlægskartotek!$L$14,Anlægskartotek!I4833)","v":0}]
[null,4823,{"$f":"Anlægskartotek!C4834","v":0},{"$f":"+IF((Basisoplysninger!$D$60=\"Ja\")*(Anlægskartotek!C4834<>0)=1,Anlægskartotek!$L$14,Anlægskartotek!I4834)","v":0}]
[null,4824,{"$f":"Anlægskartotek!C4835","v":0},{"$f":"+IF((Basisoplysninger!$D$60=\"Ja\")*(Anlægskartotek!C4835<>0)=1,Anlægskartotek!$L$14,Anlægskartotek!I4835)","v":0}]
[null,4825,{"$f":"Anlægskartotek!C4836","v":0},{"$f":"+IF((Basisoplysninger!$D$60=\"Ja\")*(Anlægskartotek!C4836<>0)=1,Anlægskartotek!$L$14,Anlægskartotek!I4836)","v":0}]
[null,4826,{"$f":"Anlægskartotek!C4837","v":0},{"$f":"+IF((Basisoplysninger!$D$60=\"Ja\")*(Anlægskartotek!C4837<>0)=1,Anlægskartotek!$L$14,Anlægskartotek!I4837)","v":0}]
[null,4827,{"$f":"Anlægskartotek!C4838","v":0},{"$f":"+IF((Basisoplysninger!$D$60=\"Ja\")*(Anlægskartotek!C4838<>0)=1,Anlægskartotek!$L$14,Anlægskartotek!I4838)","v":0}]
[null,4828,{"$f":"Anlægskartotek!C4839","v":0},{"$f":"+IF((Basisoplysninger!$D$60=\"Ja\")*(Anlægskartotek!C4839<>0)=1,Anlægskartotek!$L$14,Anlægskartotek!I4839)","v":0}]
[null,4829,{"$f":"Anlægskartotek!C4840","v":0},{"$f":"+IF((Basisoplysninger!$D$60=\"Ja\")*(Anlægskartotek!C4840<>0)=1,Anlægskartotek!$L$14,Anlægskartotek!I4840)","v":0}]
[null,4830,{"$f":"Anlægskartotek!C4841","v":0},{"$f":"+IF((Basisoplysninger!$D$60=\"Ja\")*(Anlægskartotek!C4841<>0)=1,Anlægskartotek!$L$14,Anlægskartotek!I4841)","v":0}]
[null,4831,{"$f":"Anlægskartotek!C4842","v":0},{"$f":"+IF((Basisoplysninger!$D$60=\"Ja\")*(Anlægskartotek!C4842<>0)=1,Anlægskartotek!$L$14,Anlægskartotek!I4842)","v":0}]
[null,4832,{"$f":"Anlægskartotek!C4843","v":0},{"$f":"+IF((Basisoplysninger!$D$60=\"Ja\")*(Anlægskartotek!C4843<>0)=1,Anlægskartotek!$L$14,Anlægskartotek!I4843)","v":0}]
[null,4833,{"$f":"Anlægskartotek!C4844","v":0},{"$f":"+IF((Basisoplysninger!$D$60=\"Ja\")*(Anlægskartotek!C4844<>0)=1,Anlægskartotek!$L$14,Anlægskartotek!I4844)","v":0}]
[null,4834,{"$f":"Anlægskartotek!C4845","v":0},{"$f":"+IF((Basisoplysninger!$D$60=\"Ja\")*(Anlægskartotek!C4845<>0)=1,Anlægskartotek!$L$14,Anlægskartotek!I4845)","v":0}]
[null,4835,{"$f":"Anlægskartotek!C4846","v":0},{"$f":"+IF((Basisoplysninger!$D$60=\"Ja\")*(Anlægskartotek!C4846<>0)=1,Anlægskartotek!$L$14,Anlægskartotek!I4846)","v":0}]
[null,4836,{"$f":"Anlægskartotek!C4847","v":0},{"$f":"+IF((Basisoplysninger!$D$60=\"Ja\")*(Anlægskartotek!C4847<>0)=1,Anlægskartotek!$L$14,Anlægskartotek!I4847)","v":0}]
[null,4837,{"$f":"Anlægskartotek!C4848","v":0},{"$f":"+IF((Basisoplysninger!$D$60=\"Ja\")*(Anlægskartotek!C4848<>0)=1,Anlægskartotek!$L$14,Anlægskartotek!I4848)","v":0}]
[null,4838,{"$f":"Anlægskartotek!C4849","v":0},{"$f":"+IF((Basisoplysninger!$D$60=\"Ja\")*(Anlægskartotek!C4849<>0)=1,Anlægskartotek!$L$14,Anlægskartotek!I4849)","v":0}]
[null,4839,{"$f":"Anlægskartotek!C4850","v":0},{"$f":"+IF((Basisoplysninger!$D$60=\"Ja\")*(Anlægskartotek!C4850<>0)=1,Anlægskartotek!$L$14,Anlægskartotek!I4850)","v":0}]
[null,4840,{"$f":"Anlægskartotek!C4851","v":0},{"$f":"+IF((Basisoplysninger!$D$60=\"Ja\")*(Anlægskartotek!C4851<>0)=1,Anlægskartotek!$L$14,Anlægskartotek!I4851)","v":0}]
[null,4841,{"$f":"Anlægskartotek!C4852","v":0},{"$f":"+IF((Basisoplysninger!$D$60=\"Ja\")*(Anlægskartotek!C4852<>0)=1,Anlægskartotek!$L$14,Anlægskartotek!I4852)","v":0}]
[null,4842,{"$f":"Anlægskartotek!C4853","v":0},{"$f":"+IF((Basisoplysninger!$D$60=\"Ja\")*(Anlægskartotek!C4853<>0)=1,Anlægskartotek!$L$14,Anlægskartotek!I4853)","v":0}]
[null,4843,{"$f":"Anlægskartotek!C4854","v":0},{"$f":"+IF((Basisoplysninger!$D$60=\"Ja\")*(Anlægskartotek!C4854<>0)=1,Anlægskartotek!$L$14,Anlægskartotek!I4854)","v":0}]
[null,4844,{"$f":"Anlægskartotek!C4855","v":0},{"$f":"+IF((Basisoplysninger!$D$60=\"Ja\")*(Anlægskartotek!C4855<>0)=1,Anlægskartotek!$L$14,Anlægskartotek!I4855)","v":0}]
[null,4845,{"$f":"Anlægskartotek!C4856","v":0},{"$f":"+IF((Basisoplysninger!$D$60=\"Ja\")*(Anlægskartotek!C4856<>0)=1,Anlægskartotek!$L$14,Anlægskartotek!I4856)","v":0}]
[null,4846,{"$f":"Anlægskartotek!C4857","v":0},{"$f":"+IF((Basisoplysninger!$D$60=\"Ja\")*(Anlægskartotek!C4857<>0)=1,Anlægskartotek!$L$14,Anlægskartotek!I4857)","v":0}]
[null,4847,{"$f":"Anlægskartotek!C4858","v":0},{"$f":"+IF((Basisoplysninger!$D$60=\"Ja\")*(Anlægskartotek!C4858<>0)=1,Anlægskartotek!$L$14,Anlægskartotek!I4858)","v":0}]
[null,4848,{"$f":"Anlægskartotek!C4859","v":0},{"$f":"+IF((Basisoplysninger!$D$60=\"Ja\")*(Anlægskartotek!C4859<>0)=1,Anlægskartotek!$L$14,Anlægskartotek!I4859)","v":0}]
[null,4849,{"$f":"Anlægskartotek!C4860","v":0},{"$f":"+IF((Basisoplysninger!$D$60=\"Ja\")*(Anlægskartotek!C4860<>0)=1,Anlægskartotek!$L$14,Anlægskartotek!I4860)","v":0}]
[null,4850,{"$f":"Anlægskartotek!C4861","v":0},{"$f":"+IF((Basisoplysninger!$D$60=\"Ja\")*(Anlægskartotek!C4861<>0)=1,Anlægskartotek!$L$14,Anlægskartotek!I4861)","v":0}]
[null,4851,{"$f":"Anlægskartotek!C4862","v":0},{"$f":"+IF((Basisoplysninger!$D$60=\"Ja\")*(Anlægskartotek!C4862<>0)=1,Anlægskartotek!$L$14,Anlægskartotek!I4862)","v":0}]
[null,4852,{"$f":"Anlægskartotek!C4863","v":0},{"$f":"+IF((Basisoplysninger!$D$60=\"Ja\")*(Anlægskartotek!C4863<>0)=1,Anlægskartotek!$L$14,Anlægskartotek!I4863)","v":0}]
[null,4853,{"$f":"Anlægskartotek!C4864","v":0},{"$f":"+IF((Basisoplysninger!$D$60=\"Ja\")*(Anlægskartotek!C4864<>0)=1,Anlægskartotek!$L$14,Anlægskartotek!I4864)","v":0}]
[null,4854,{"$f":"Anlægskartotek!C4865","v":0},{"$f":"+IF((Basisoplysninger!$D$60=\"Ja\")*(Anlægskartotek!C4865<>0)=1,Anlægskartotek!$L$14,Anlægskartotek!I4865)","v":0}]
[null,4855,{"$f":"Anlægskartotek!C4866","v":0},{"$f":"+IF((Basisoplysninger!$D$60=\"Ja\")*(Anlægskartotek!C4866<>0)=1,Anlægskartotek!$L$14,Anlægskartotek!I4866)","v":0}]
[null,4856,{"$f":"Anlægskartotek!C4867","v":0},{"$f":"+IF((Basisoplysninger!$D$60=\"Ja\")*(Anlægskartotek!C4867<>0)=1,Anlægskartotek!$L$14,Anlægskartotek!I4867)","v":0}]
[null,4857,{"$f":"Anlægskartotek!C4868","v":0},{"$f":"+IF((Basisoplysninger!$D$60=\"Ja\")*(Anlægskartotek!C4868<>0)=1,Anlægskartotek!$L$14,Anlægskartotek!I4868)","v":0}]
[null,4858,{"$f":"Anlægskartotek!C4869","v":0},{"$f":"+IF((Basisoplysninger!$D$60=\"Ja\")*(Anlægskartotek!C4869<>0)=1,Anlægskartotek!$L$14,Anlægskartotek!I4869)","v":0}]
[null,4859,{"$f":"Anlægskartotek!C4870","v":0},{"$f":"+IF((Basisoplysninger!$D$60=\"Ja\")*(Anlægskartotek!C4870<>0)=1,Anlægskartotek!$L$14,Anlægskartotek!I4870)","v":0}]
[null,4860,{"$f":"Anlægskartotek!C4871","v":0},{"$f":"+IF((Basisoplysninger!$D$60=\"Ja\")*(Anlægskartotek!C4871<>0)=1,Anlægskartotek!$L$14,Anlægskartotek!I4871)","v":0}]
[null,4861,{"$f":"Anlægskartotek!C4872","v":0},{"$f":"+IF((Basisoplysninger!$D$60=\"Ja\")*(Anlægskartotek!C4872<>0)=1,Anlægskartotek!$L$14,Anlægskartotek!I4872)","v":0}]
[null,4862,{"$f":"Anlægskartotek!C4873","v":0},{"$f":"+IF((Basisoplysninger!$D$60=\"Ja\")*(Anlægskartotek!C4873<>0)=1,Anlægskartotek!$L$14,Anlægskartotek!I4873)","v":0}]
[null,4863,{"$f":"Anlægskartotek!C4874","v":0},{"$f":"+IF((Basisoplysninger!$D$60=\"Ja\")*(Anlægskartotek!C4874<>0)=1,Anlægskartotek!$L$14,Anlægskartotek!I4874)","v":0}]
[null,4864,{"$f":"Anlægskartotek!C4875","v":0},{"$f":"+IF((Basisoplysninger!$D$60=\"Ja\")*(Anlægskartotek!C4875<>0)=1,Anlægskartotek!$L$14,Anlægskartotek!I4875)","v":0}]
[null,4865,{"$f":"Anlægskartotek!C4876","v":0},{"$f":"+IF((Basisoplysninger!$D$60=\"Ja\")*(Anlægskartotek!C4876<>0)=1,Anlægskartotek!$L$14,Anlægskartotek!I4876)","v":0}]
[null,4866,{"$f":"Anlægskartotek!C4877","v":0},{"$f":"+IF((Basisoplysninger!$D$60=\"Ja\")*(Anlægskartotek!C4877<>0)=1,Anlægskartotek!$L$14,Anlægskartotek!I4877)","v":0}]
[null,{"$f":"B4975+1","v":4867},{"$f":"Anlægskartotek!C4878","v":0},{"$f":"+IF((Basisoplysninger!$D$60=\"Ja\")*(Anlægskartotek!C4878<>0)=1,Anlægskartotek!$L$14,Anlægskartotek!I4878)","v":0}]
[null,4868,{"$f":"Anlægskartotek!C4879","v":0},{"$f":"+IF((Basisoplysninger!$D$60=\"Ja\")*(Anlægskartotek!C4879<>0)=1,Anlægskartotek!$L$14,Anlægskartotek!I4879)","v":0}]
[null,4869,{"$f":"Anlægskartotek!C4880","v":0},{"$f":"+IF((Basisoplysninger!$D$60=\"Ja\")*(Anlægskartotek!C4880<>0)=1,Anlægskartotek!$L$14,Anlægskartotek!I4880)","v":0}]
[null,4870,{"$f":"Anlægskartotek!C4881","v":0},{"$f":"+IF((Basisoplysninger!$D$60=\"Ja\")*(Anlægskartotek!C4881<>0)=1,Anlægskartotek!$L$14,Anlægskartotek!I4881)","v":0}]
[null,4871,{"$f":"Anlægskartotek!C4882","v":0},{"$f":"+IF((Basisoplysninger!$D$60=\"Ja\")*(Anlægskartotek!C4882<>0)=1,Anlægskartotek!$L$14,Anlægskartotek!I4882)","v":0}]
[null,4872,{"$f":"Anlægskartotek!C4883","v":0},{"$f":"+IF((Basisoplysninger!$D$60=\"Ja\")*(Anlægskartotek!C4883<>0)=1,Anlægskartotek!$L$14,Anlægskartotek!I4883)","v":0}]
[null,4873,{"$f":"Anlægskartotek!C4884","v":0},{"$f":"+IF((Basisoplysninger!$D$60=\"Ja\")*(Anlægskartotek!C4884<>0)=1,Anlægskartotek!$L$14,Anlægskartotek!I4884)","v":0}]
[null,4874,{"$f":"Anlægskartotek!C4885","v":0},{"$f":"+IF((Basisoplysninger!$D$60=\"Ja\")*(Anlægskartotek!C4885<>0)=1,Anlægskartotek!$L$14,Anlægskartotek!I4885)","v":0}]
[null,4875,{"$f":"Anlægskartotek!C4886","v":0},{"$f":"+IF((Basisoplysninger!$D$60=\"Ja\")*(Anlægskartotek!C4886<>0)=1,Anlægskartotek!$L$14,Anlægskartotek!I4886)","v":0}]
[null,4876,{"$f":"Anlægskartotek!C4887","v":0},{"$f":"+IF((Basisoplysninger!$D$60=\"Ja\")*(Anlægskartotek!C4887<>0)=1,Anlægskartotek!$L$14,Anlægskartotek!I4887)","v":0}]
[null,4877,{"$f":"Anlægskartotek!C4888","v":0},{"$f":"+IF((Basisoplysninger!$D$60=\"Ja\")*(Anlægskartotek!C4888<>0)=1,Anlægskartotek!$L$14,Anlægskartotek!I4888)","v":0}]
[null,4878,{"$f":"Anlægskartotek!C4889","v":0},{"$f":"+IF((Basisoplysninger!$D$60=\"Ja\")*(Anlægskartotek!C4889<>0)=1,Anlægskartotek!$L$14,Anlægskartotek!I4889)","v":0}]
[null,4879,{"$f":"Anlægskartotek!C4890","v":0},{"$f":"+IF((Basisoplysninger!$D$60=\"Ja\")*(Anlægskartotek!C4890<>0)=1,Anlægskartotek!$L$14,Anlægskartotek!I4890)","v":0}]
[null,4880,{"$f":"Anlægskartotek!C4891","v":0},{"$f":"+IF((Basisoplysninger!$D$60=\"Ja\")*(Anlægskartotek!C4891<>0)=1,Anlægskartotek!$L$14,Anlægskartotek!I4891)","v":0}]
[null,4881,{"$f":"Anlægskartotek!C4892","v":0},{"$f":"+IF((Basisoplysninger!$D$60=\"Ja\")*(Anlægskartotek!C4892<>0)=1,Anlægskartotek!$L$14,Anlægskartotek!I4892)","v":0}]
[null,4882,{"$f":"Anlægskartotek!C4893","v":0},{"$f":"+IF((Basisoplysninger!$D$60=\"Ja\")*(Anlægskartotek!C4893<>0)=1,Anlægskartotek!$L$14,Anlægskartotek!I4893)","v":0}]
[null,4883,{"$f":"Anlægskartotek!C4894","v":0},{"$f":"+IF((Basisoplysninger!$D$60=\"Ja\")*(Anlægskartotek!C4894<>0)=1,Anlægskartotek!$L$14,Anlægskartotek!I4894)","v":0}]
[null,4884,{"$f":"Anlægskartotek!C4895","v":0},{"$f":"+IF((Basisoplysninger!$D$60=\"Ja\")*(Anlægskartotek!C4895<>0)=1,Anlægskartotek!$L$14,Anlægskartotek!I4895)","v":0}]
[null,4885,{"$f":"Anlægskartotek!C4896","v":0},{"$f":"+IF((Basisoplysninger!$D$60=\"Ja\")*(Anlægskartotek!C4896<>0)=1,Anlægskartotek!$L$14,Anlægskartotek!I4896)","v":0}]
[null,4886,{"$f":"Anlægskartotek!C4897","v":0},{"$f":"+IF((Basisoplysninger!$D$60=\"Ja\")*(Anlægskartotek!C4897<>0)=1,Anlægskartotek!$L$14,Anlægskartotek!I4897)","v":0}]
[null,4887,{"$f":"Anlægskartotek!C4898","v":0},{"$f":"+IF((Basisoplysninger!$D$60=\"Ja\")*(Anlægskartotek!C4898<>0)=1,Anlægskartotek!$L$14,Anlægskartotek!I4898)","v":0}]
[null,4888,{"$f":"Anlægskartotek!C4899","v":0},{"$f":"+IF((Basisoplysninger!$D$60=\"Ja\")*(Anlægskartotek!C4899<>0)=1,Anlægskartotek!$L$14,Anlægskartotek!I4899)","v":0}]
[null,4889,{"$f":"Anlægskartotek!C4900","v":0},{"$f":"+IF((Basisoplysninger!$D$60=\"Ja\")*(Anlægskartotek!C4900<>0)=1,Anlægskartotek!$L$14,Anlægskartotek!I4900)","v":0}]
[null,4890,{"$f":"Anlægskartotek!C4901","v":0},{"$f":"+IF((Basisoplysninger!$D$60=\"Ja\")*(Anlægskartotek!C4901<>0)=1,Anlægskartotek!$L$14,Anlægskartotek!I4901)","v":0}]
[null,4891,{"$f":"Anlægskartotek!C4902","v":0},{"$f":"+IF((Basisoplysninger!$D$60=\"Ja\")*(Anlægskartotek!C4902<>0)=1,Anlægskartotek!$L$14,Anlægskartotek!I4902)","v":0}]
[null,4892,{"$f":"Anlægskartotek!C4903","v":0},{"$f":"+IF((Basisoplysninger!$D$60=\"Ja\")*(Anlægskartotek!C4903<>0)=1,Anlægskartotek!$L$14,Anlægskartotek!I4903)","v":0}]
[null,4893,{"$f":"Anlægskartotek!C4904","v":0},{"$f":"+IF((Basisoplysninger!$D$60=\"Ja\")*(Anlægskartotek!C4904<>0)=1,Anlægskartotek!$L$14,Anlægskartotek!I4904)","v":0}]
[null,4894,{"$f":"Anlægskartotek!C4905","v":0},{"$f":"+IF((Basisoplysninger!$D$60=\"Ja\")*(Anlægskartotek!C4905<>0)=1,Anlægskartotek!$L$14,Anlægskartotek!I4905)","v":0}]
[null,4895,{"$f":"Anlægskartotek!C4906","v":0},{"$f":"+IF((Basisoplysninger!$D$60=\"Ja\")*(Anlægskartotek!C4906<>0)=1,Anlægskartotek!$L$14,Anlægskartotek!I4906)","v":0}]
[null,4896,{"$f":"Anlægskartotek!C4907","v":0},{"$f":"+IF((Basisoplysninger!$D$60=\"Ja\")*(Anlægskartotek!C4907<>0)=1,Anlægskartotek!$L$14,Anlægskartotek!I4907)","v":0}]
[null,4897,{"$f":"Anlægskartotek!C4908","v":0},{"$f":"+IF((Basisoplysninger!$D$60=\"Ja\")*(Anlægskartotek!C4908<>0)=1,Anlægskartotek!$L$14,Anlægskartotek!I4908)","v":0}]
[null,4898,{"$f":"Anlægskartotek!C4909","v":0},{"$f":"+IF((Basisoplysninger!$D$60=\"Ja\")*(Anlægskartotek!C4909<>0)=1,Anlægskartotek!$L$14,Anlægskartotek!I4909)","v":0}]
[null,4899,{"$f":"Anlægskartotek!C4910","v":0},{"$f":"+IF((Basisoplysninger!$D$60=\"Ja\")*(Anlægskartotek!C4910<>0)=1,Anlægskartotek!$L$14,Anlægskartotek!I4910)","v":0}]
[null,4900,{"$f":"Anlægskartotek!C4911","v":0},{"$f":"+IF((Basisoplysninger!$D$60=\"Ja\")*(Anlægskartotek!C4911<>0)=1,Anlægskartotek!$L$14,Anlægskartotek!I4911)","v":0}]
[null,4901,{"$f":"Anlægskartotek!C4912","v":0},{"$f":"+IF((Basisoplysninger!$D$60=\"Ja\")*(Anlægskartotek!C4912<>0)=1,Anlægskartotek!$L$14,Anlægskartotek!I4912)","v":0}]
[null,4902,{"$f":"Anlægskartotek!C4913","v":0},{"$f":"+IF((Basisoplysninger!$D$60=\"Ja\")*(Anlægskartotek!C4913<>0)=1,Anlægskartotek!$L$14,Anlægskartotek!I4913)","v":0}]
[null,4903,{"$f":"Anlægskartotek!C4914","v":0},{"$f":"+IF((Basisoplysninger!$D$60=\"Ja\")*(Anlægskartotek!C4914<>0)=1,Anlægskartotek!$L$14,Anlægskartotek!I4914)","v":0}]
[null,4904,{"$f":"Anlægskartotek!C4915","v":0},{"$f":"+IF((Basisoplysninger!$D$60=\"Ja\")*(Anlægskartotek!C4915<>0)=1,Anlægskartotek!$L$14,Anlægskartotek!I4915)","v":0}]
[null,4905,{"$f":"Anlægskartotek!C4916","v":0},{"$f":"+IF((Basisoplysninger!$D$60=\"Ja\")*(Anlægskartotek!C4916<>0)=1,Anlægskartotek!$L$14,Anlægskartotek!I4916)","v":0}]
[null,4906,{"$f":"Anlægskartotek!C4917","v":0},{"$f":"+IF((Basisoplysninger!$D$60=\"Ja\")*(Anlægskartotek!C4917<>0)=1,Anlægskartotek!$L$14,Anlægskartotek!I4917)","v":0}]
[null,4907,{"$f":"Anlægskartotek!C4918","v":0},{"$f":"+IF((Basisoplysninger!$D$60=\"Ja\")*(Anlægskartotek!C4918<>0)=1,Anlægskartotek!$L$14,Anlægskartotek!I4918)","v":0}]
[null,4908,{"$f":"Anlægskartotek!C4919","v":0},{"$f":"+IF((Basisoplysninger!$D$60=\"Ja\")*(Anlægskartotek!C4919<>0)=1,Anlægskartotek!$L$14,Anlægskartotek!I4919)","v":0}]
[null,4909,{"$f":"Anlægskartotek!C4920","v":0},{"$f":"+IF((Basisoplysninger!$D$60=\"Ja\")*(Anlægskartotek!C4920<>0)=1,Anlægskartotek!$L$14,Anlægskartotek!I4920)","v":0}]
[null,4910,{"$f":"Anlægskartotek!C4921","v":0},{"$f":"+IF((Basisoplysninger!$D$60=\"Ja\")*(Anlægskartotek!C4921<>0)=1,Anlægskartotek!$L$14,Anlægskartotek!I4921)","v":0}]
[null,4911,{"$f":"Anlægskartotek!C4922","v":0},{"$f":"+IF((Basisoplysninger!$D$60=\"Ja\")*(Anlægskartotek!C4922<>0)=1,Anlægskartotek!$L$14,Anlægskartotek!I4922)","v":0}]
[null,4912,{"$f":"Anlægskartotek!C4923","v":0},{"$f":"+IF((Basisoplysninger!$D$60=\"Ja\")*(Anlægskartotek!C4923<>0)=1,Anlægskartotek!$L$14,Anlægskartotek!I4923)","v":0}]
[null,4913,{"$f":"Anlægskartotek!C4924","v":0},{"$f":"+IF((Basisoplysninger!$D$60=\"Ja\")*(Anlægskartotek!C4924<>0)=1,Anlægskartotek!$L$14,Anlægskartotek!I4924)","v":0}]
[null,4914,{"$f":"Anlægskartotek!C4925","v":0},{"$f":"+IF((Basisoplysninger!$D$60=\"Ja\")*(Anlægskartotek!C4925<>0)=1,Anlægskartotek!$L$14,Anlægskartotek!I4925)","v":0}]
[null,4915,{"$f":"Anlægskartotek!C4926","v":0},{"$f":"+IF((Basisoplysninger!$D$60=\"Ja\")*(Anlægskartotek!C4926<>0)=1,Anlægskartotek!$L$14,Anlægskartotek!I4926)","v":0}]
[null,4916,{"$f":"Anlægskartotek!C4927","v":0},{"$f":"+IF((Basisoplysninger!$D$60=\"Ja\")*(Anlægskartotek!C4927<>0)=1,Anlægskartotek!$L$14,Anlægskartotek!I4927)","v":0}]
[null,4917,{"$f":"Anlægskartotek!C4928","v":0},{"$f":"+IF((Basisoplysninger!$D$60=\"Ja\")*(Anlægskartotek!C4928<>0)=1,Anlægskartotek!$L$14,Anlægskartotek!I4928)","v":0}]
[null,4918,{"$f":"Anlægskartotek!C4929","v":0},{"$f":"+IF((Basisoplysninger!$D$60=\"Ja\")*(Anlægskartotek!C4929<>0)=1,Anlægskartotek!$L$14,Anlægskartotek!I4929)","v":0}]
[null,4919,{"$f":"Anlægskartotek!C4930","v":0},{"$f":"+IF((Basisoplysninger!$D$60=\"Ja\")*(Anlægskartotek!C4930<>0)=1,Anlægskartotek!$L$14,Anlægskartotek!I4930)","v":0}]
[null,4920,{"$f":"Anlægskartotek!C4931","v":0},{"$f":"+IF((Basisoplysninger!$D$60=\"Ja\")*(Anlægskartotek!C4931<>0)=1,Anlægskartotek!$L$14,Anlægskartotek!I4931)","v":0}]
[null,4921,{"$f":"Anlægskartotek!C4932","v":0},{"$f":"+IF((Basisoplysninger!$D$60=\"Ja\")*(Anlægskartotek!C4932<>0)=1,Anlægskartotek!$L$14,Anlægskartotek!I4932)","v":0}]
[null,4922,{"$f":"Anlægskartotek!C4933","v":0},{"$f":"+IF((Basisoplysninger!$D$60=\"Ja\")*(Anlægskartotek!C4933<>0)=1,Anlægskartotek!$L$14,Anlægskartotek!I4933)","v":0}]
[null,4923,{"$f":"Anlægskartotek!C4934","v":0},{"$f":"+IF((Basisoplysninger!$D$60=\"Ja\")*(Anlægskartotek!C4934<>0)=1,Anlægskartotek!$L$14,Anlægskartotek!I4934)","v":0}]
[null,4924,{"$f":"Anlægskartotek!C4935","v":0},{"$f":"+IF((Basisoplysninger!$D$60=\"Ja\")*(Anlægskartotek!C4935<>0)=1,Anlægskartotek!$L$14,Anlægskartotek!I4935)","v":0}]
[null,4925,{"$f":"Anlægskartotek!C4936","v":0},{"$f":"+IF((Basisoplysninger!$D$60=\"Ja\")*(Anlægskartotek!C4936<>0)=1,Anlægskartotek!$L$14,Anlægskartotek!I4936)","v":0}]
[null,4926,{"$f":"Anlægskartotek!C4937","v":0},{"$f":"+IF((Basisoplysninger!$D$60=\"Ja\")*(Anlægskartotek!C4937<>0)=1,Anlægskartotek!$L$14,Anlægskartotek!I4937)","v":0}]
[null,4927,{"$f":"Anlægskartotek!C4938","v":0},{"$f":"+IF((Basisoplysninger!$D$60=\"Ja\")*(Anlægskartotek!C4938<>0)=1,Anlægskartotek!$L$14,Anlægskartotek!I4938)","v":0}]
[null,4928,{"$f":"Anlægskartotek!C4939","v":0},{"$f":"+IF((Basisoplysninger!$D$60=\"Ja\")*(Anlægskartotek!C4939<>0)=1,Anlægskartotek!$L$14,Anlægskartotek!I4939)","v":0}]
[null,4929,{"$f":"Anlægskartotek!C4940","v":0},{"$f":"+IF((Basisoplysninger!$D$60=\"Ja\")*(Anlægskartotek!C4940<>0)=1,Anlægskartotek!$L$14,Anlægskartotek!I4940)","v":0}]
[null,4930,{"$f":"Anlægskartotek!C4941","v":0},{"$f":"+IF((Basisoplysninger!$D$60=\"Ja\")*(Anlægskartotek!C4941<>0)=1,Anlægskartotek!$L$14,Anlægskartotek!I4941)","v":0}]
[null,{"$f":"B5039+1","v":4931},{"$f":"Anlægskartotek!C4942","v":0},{"$f":"+IF((Basisoplysninger!$D$60=\"Ja\")*(Anlægskartotek!C4942<>0)=1,Anlægskartotek!$L$14,Anlægskartotek!I4942)","v":0}]
[null,4932,{"$f":"Anlægskartotek!C4943","v":0},{"$f":"+IF((Basisoplysninger!$D$60=\"Ja\")*(Anlægskartotek!C4943<>0)=1,Anlægskartotek!$L$14,Anlægskartotek!I4943)","v":0}]
[null,4933,{"$f":"Anlægskartotek!C4944","v":0},{"$f":"+IF((Basisoplysninger!$D$60=\"Ja\")*(Anlægskartotek!C4944<>0)=1,Anlægskartotek!$L$14,Anlægskartotek!I4944)","v":0}]
[null,4934,{"$f":"Anlægskartotek!C4945","v":0},{"$f":"+IF((Basisoplysninger!$D$60=\"Ja\")*(Anlægskartotek!C4945<>0)=1,Anlægskartotek!$L$14,Anlægskartotek!I4945)","v":0}]
[null,4935,{"$f":"Anlægskartotek!C4946","v":0},{"$f":"+IF((Basisoplysninger!$D$60=\"Ja\")*(Anlægskartotek!C4946<>0)=1,Anlægskartotek!$L$14,Anlægskartotek!I4946)","v":0}]
[null,4936,{"$f":"Anlægskartotek!C4947","v":0},{"$f":"+IF((Basisoplysninger!$D$60=\"Ja\")*(Anlægskartotek!C4947<>0)=1,Anlægskartotek!$L$14,Anlægskartotek!I4947)","v":0}]
[null,4937,{"$f":"Anlægskartotek!C4948","v":0},{"$f":"+IF((Basisoplysninger!$D$60=\"Ja\")*(Anlægskartotek!C4948<>0)=1,Anlægskartotek!$L$14,Anlægskartotek!I4948)","v":0}]
[null,4938,{"$f":"Anlægskartotek!C4949","v":0},{"$f":"+IF((Basisoplysninger!$D$60=\"Ja\")*(Anlægskartotek!C4949<>0)=1,Anlægskartotek!$L$14,Anlægskartotek!I4949)","v":0}]
[null,4939,{"$f":"Anlægskartotek!C4950","v":0},{"$f":"+IF((Basisoplysninger!$D$60=\"Ja\")*(Anlægskartotek!C4950<>0)=1,Anlægskartotek!$L$14,Anlægskartotek!I4950)","v":0}]
[null,4940,{"$f":"Anlægskartotek!C4951","v":0},{"$f":"+IF((Basisoplysninger!$D$60=\"Ja\")*(Anlægskartotek!C4951<>0)=1,Anlægskartotek!$L$14,Anlægskartotek!I4951)","v":0}]
[null,4941,{"$f":"Anlægskartotek!C4952","v":0},{"$f":"+IF((Basisoplysninger!$D$60=\"Ja\")*(Anlægskartotek!C4952<>0)=1,Anlægskartotek!$L$14,Anlægskartotek!I4952)","v":0}]
[null,4942,{"$f":"Anlægskartotek!C4953","v":0},{"$f":"+IF((Basisoplysninger!$D$60=\"Ja\")*(Anlægskartotek!C4953<>0)=1,Anlægskartotek!$L$14,Anlægskartotek!I4953)","v":0}]
[null,4943,{"$f":"Anlægskartotek!C4954","v":0},{"$f":"+IF((Basisoplysninger!$D$60=\"Ja\")*(Anlægskartotek!C4954<>0)=1,Anlægskartotek!$L$14,Anlægskartotek!I4954)","v":0}]
[null,4944,{"$f":"Anlægskartotek!C4955","v":0},{"$f":"+IF((Basisoplysninger!$D$60=\"Ja\")*(Anlægskartotek!C4955<>0)=1,Anlægskartotek!$L$14,Anlægskartotek!I4955)","v":0}]
[null,4945,{"$f":"Anlægskartotek!C4956","v":0},{"$f":"+IF((Basisoplysninger!$D$60=\"Ja\")*(Anlægskartotek!C4956<>0)=1,Anlægskartotek!$L$14,Anlægskartotek!I4956)","v":0}]
[null,4946,{"$f":"Anlægskartotek!C4957","v":0},{"$f":"+IF((Basisoplysninger!$D$60=\"Ja\")*(Anlægskartotek!C4957<>0)=1,Anlægskartotek!$L$14,Anlægskartotek!I4957)","v":0}]
[null,4947,{"$f":"Anlægskartotek!C4958","v":0},{"$f":"+IF((Basisoplysninger!$D$60=\"Ja\")*(Anlægskartotek!C4958<>0)=1,Anlægskartotek!$L$14,Anlægskartotek!I4958)","v":0}]
[null,4948,{"$f":"Anlægskartotek!C4959","v":0},{"$f":"+IF((Basisoplysninger!$D$60=\"Ja\")*(Anlægskartotek!C4959<>0)=1,Anlægskartotek!$L$14,Anlægskartotek!I4959)","v":0}]
[null,4949,{"$f":"Anlægskartotek!C4960","v":0},{"$f":"+IF((Basisoplysninger!$D$60=\"Ja\")*(Anlægskartotek!C4960<>0)=1,Anlægskartotek!$L$14,Anlægskartotek!I4960)","v":0}]
[null,4950,{"$f":"Anlægskartotek!C4961","v":0},{"$f":"+IF((Basisoplysninger!$D$60=\"Ja\")*(Anlægskartotek!C4961<>0)=1,Anlægskartotek!$L$14,Anlægskartotek!I4961)","v":0}]
[null,4951,{"$f":"Anlægskartotek!C4962","v":0},{"$f":"+IF((Basisoplysninger!$D$60=\"Ja\")*(Anlægskartotek!C4962<>0)=1,Anlægskartotek!$L$14,Anlægskartotek!I4962)","v":0}]
[null,4952,{"$f":"Anlægskartotek!C4963","v":0},{"$f":"+IF((Basisoplysninger!$D$60=\"Ja\")*(Anlægskartotek!C4963<>0)=1,Anlægskartotek!$L$14,Anlægskartotek!I4963)","v":0}]
[null,4953,{"$f":"Anlægskartotek!C4964","v":0},{"$f":"+IF((Basisoplysninger!$D$60=\"Ja\")*(Anlægskartotek!C4964<>0)=1,Anlægskartotek!$L$14,Anlægskartotek!I4964)","v":0}]
[null,4954,{"$f":"Anlægskartotek!C4965","v":0},{"$f":"+IF((Basisoplysninger!$D$60=\"Ja\")*(Anlægskartotek!C4965<>0)=1,Anlægskartotek!$L$14,Anlægskartotek!I4965)","v":0}]
[null,4955,{"$f":"Anlægskartotek!C4966","v":0},{"$f":"+IF((Basisoplysninger!$D$60=\"Ja\")*(Anlægskartotek!C4966<>0)=1,Anlægskartotek!$L$14,Anlægskartotek!I4966)","v":0}]
[null,4956,{"$f":"Anlægskartotek!C4967","v":0},{"$f":"+IF((Basisoplysninger!$D$60=\"Ja\")*(Anlægskartotek!C4967<>0)=1,Anlægskartotek!$L$14,Anlægskartotek!I4967)","v":0}]
[null,4957,{"$f":"Anlægskartotek!C4968","v":0},{"$f":"+IF((Basisoplysninger!$D$60=\"Ja\")*(Anlægskartotek!C4968<>0)=1,Anlægskartotek!$L$14,Anlægskartotek!I4968)","v":0}]
[null,4958,{"$f":"Anlægskartotek!C4969","v":0},{"$f":"+IF((Basisoplysninger!$D$60=\"Ja\")*(Anlægskartotek!C4969<>0)=1,Anlægskartotek!$L$14,Anlægskartotek!I4969)","v":0}]
[null,4959,{"$f":"Anlægskartotek!C4970","v":0},{"$f":"+IF((Basisoplysninger!$D$60=\"Ja\")*(Anlægskartotek!C4970<>0)=1,Anlægskartotek!$L$14,Anlægskartotek!I4970)","v":0}]
[null,4960,{"$f":"Anlægskartotek!C4971","v":0},{"$f":"+IF((Basisoplysninger!$D$60=\"Ja\")*(Anlægskartotek!C4971<>0)=1,Anlægskartotek!$L$14,Anlægskartotek!I4971)","v":0}]
[null,4961,{"$f":"Anlægskartotek!C4972","v":0},{"$f":"+IF((Basisoplysninger!$D$60=\"Ja\")*(Anlægskartotek!C4972<>0)=1,Anlægskartotek!$L$14,Anlægskartotek!I4972)","v":0}]
[null,4962,{"$f":"Anlægskartotek!C4973","v":0},{"$f":"+IF((Basisoplysninger!$D$60=\"Ja\")*(Anlægskartotek!C4973<>0)=1,Anlægskartotek!$L$14,Anlægskartotek!I4973)","v":0}]
[null,4963,{"$f":"Anlægskartotek!C4974","v":0},{"$f":"+IF((Basisoplysninger!$D$60=\"Ja\")*(Anlægskartotek!C4974<>0)=1,Anlægskartotek!$L$14,Anlægskartotek!I4974)","v":0}]
[null,4964,{"$f":"Anlægskartotek!C4975","v":0},{"$f":"+IF((Basisoplysninger!$D$60=\"Ja\")*(Anlægskartotek!C4975<>0)=1,Anlægskartotek!$L$14,Anlægskartotek!I4975)","v":0}]
[null,4965,{"$f":"Anlægskartotek!C4976","v":0},{"$f":"+IF((Basisoplysninger!$D$60=\"Ja\")*(Anlægskartotek!C4976<>0)=1,Anlægskartotek!$L$14,Anlægskartotek!I4976)","v":0}]
[null,4966,{"$f":"Anlægskartotek!C4977","v":0},{"$f":"+IF((Basisoplysninger!$D$60=\"Ja\")*(Anlægskartotek!C4977<>0)=1,Anlægskartotek!$L$14,Anlægskartotek!I4977)","v":0}]
[null,4967,{"$f":"Anlægskartotek!C4978","v":0},{"$f":"+IF((Basisoplysninger!$D$60=\"Ja\")*(Anlægskartotek!C4978<>0)=1,Anlægskartotek!$L$14,Anlægskartotek!I4978)","v":0}]
[null,4968,{"$f":"Anlægskartotek!C4979","v":0},{"$f":"+IF((Basisoplysninger!$D$60=\"Ja\")*(Anlægskartotek!C4979<>0)=1,Anlægskartotek!$L$14,Anlægskartotek!I4979)","v":0}]
[null,4969,{"$f":"Anlægskartotek!C4980","v":0},{"$f":"+IF((Basisoplysninger!$D$60=\"Ja\")*(Anlægskartotek!C4980<>0)=1,Anlægskartotek!$L$14,Anlægskartotek!I4980)","v":0}]
[null,4970,{"$f":"Anlægskartotek!C4981","v":0},{"$f":"+IF((Basisoplysninger!$D$60=\"Ja\")*(Anlægskartotek!C4981<>0)=1,Anlægskartotek!$L$14,Anlægskartotek!I4981)","v":0}]
[null,4971,{"$f":"Anlægskartotek!C4982","v":0},{"$f":"+IF((Basisoplysninger!$D$60=\"Ja\")*(Anlægskartotek!C4982<>0)=1,Anlægskartotek!$L$14,Anlægskartotek!I4982)","v":0}]
[null,4972,{"$f":"Anlægskartotek!C4983","v":0},{"$f":"+IF((Basisoplysninger!$D$60=\"Ja\")*(Anlægskartotek!C4983<>0)=1,Anlægskartotek!$L$14,Anlægskartotek!I4983)","v":0}]
[null,4973,{"$f":"Anlægskartotek!C4984","v":0},{"$f":"+IF((Basisoplysninger!$D$60=\"Ja\")*(Anlægskartotek!C4984<>0)=1,Anlægskartotek!$L$14,Anlægskartotek!I4984)","v":0}]
[null,4974,{"$f":"Anlægskartotek!C4985","v":0},{"$f":"+IF((Basisoplysninger!$D$60=\"Ja\")*(Anlægskartotek!C4985<>0)=1,Anlægskartotek!$L$14,Anlægskartotek!I4985)","v":0}]
[null,4975,{"$f":"Anlægskartotek!C4986","v":0},{"$f":"+IF((Basisoplysninger!$D$60=\"Ja\")*(Anlægskartotek!C4986<>0)=1,Anlægskartotek!$L$14,Anlægskartotek!I4986)","v":0}]
[null,4976,{"$f":"Anlægskartotek!C4987","v":0},{"$f":"+IF((Basisoplysninger!$D$60=\"Ja\")*(Anlægskartotek!C4987<>0)=1,Anlægskartotek!$L$14,Anlægskartotek!I4987)","v":0}]
[null,4977,{"$f":"Anlægskartotek!C4988","v":0},{"$f":"+IF((Basisoplysninger!$D$60=\"Ja\")*(Anlægskartotek!C4988<>0)=1,Anlægskartotek!$L$14,Anlægskartotek!I4988)","v":0}]
[null,4978,{"$f":"Anlægskartotek!C4989","v":0},{"$f":"+IF((Basisoplysninger!$D$60=\"Ja\")*(Anlægskartotek!C4989<>0)=1,Anlægskartotek!$L$14,Anlægskartotek!I4989)","v":0}]
[null,4979,{"$f":"Anlægskartotek!C4990","v":0},{"$f":"+IF((Basisoplysninger!$D$60=\"Ja\")*(Anlægskartotek!C4990<>0)=1,Anlægskartotek!$L$14,Anlægskartotek!I4990)","v":0}]
[null,4980,{"$f":"Anlægskartotek!C4991","v":0},{"$f":"+IF((Basisoplysninger!$D$60=\"Ja\")*(Anlægskartotek!C4991<>0)=1,Anlægskartotek!$L$14,Anlægskartotek!I4991)","v":0}]
[null,4981,{"$f":"Anlægskartotek!C4992","v":0},{"$f":"+IF((Basisoplysninger!$D$60=\"Ja\")*(Anlægskartotek!C4992<>0)=1,Anlægskartotek!$L$14,Anlægskartotek!I4992)","v":0}]
[null,4982,{"$f":"Anlægskartotek!C4993","v":0},{"$f":"+IF((Basisoplysninger!$D$60=\"Ja\")*(Anlægskartotek!C4993<>0)=1,Anlægskartotek!$L$14,Anlægskartotek!I4993)","v":0}]
[null,4983,{"$f":"Anlægskartotek!C4994","v":0},{"$f":"+IF((Basisoplysninger!$D$60=\"Ja\")*(Anlægskartotek!C4994<>0)=1,Anlægskartotek!$L$14,Anlægskartotek!I4994)","v":0}]
[null,4984,{"$f":"Anlægskartotek!C4995","v":0},{"$f":"+IF((Basisoplysninger!$D$60=\"Ja\")*(Anlægskartotek!C4995<>0)=1,Anlægskartotek!$L$14,Anlægskartotek!I4995)","v":0}]
[null,4985,{"$f":"Anlægskartotek!C4996","v":0},{"$f":"+IF((Basisoplysninger!$D$60=\"Ja\")*(Anlægskartotek!C4996<>0)=1,Anlægskartotek!$L$14,Anlægskartotek!I4996)","v":0}]
[null,4986,{"$f":"Anlægskartotek!C4997","v":0},{"$f":"+IF((Basisoplysninger!$D$60=\"Ja\")*(Anlægskartotek!C4997<>0)=1,Anlægskartotek!$L$14,Anlægskartotek!I4997)","v":0}]
[null,4987,{"$f":"Anlægskartotek!C4998","v":0},{"$f":"+IF((Basisoplysninger!$D$60=\"Ja\")*(Anlægskartotek!C4998<>0)=1,Anlægskartotek!$L$14,Anlægskartotek!I4998)","v":0}]
[null,4988,{"$f":"Anlægskartotek!C4999","v":0},{"$f":"+IF((Basisoplysninger!$D$60=\"Ja\")*(Anlægskartotek!C4999<>0)=1,Anlægskartotek!$L$14,Anlægskartotek!I4999)","v":0}]
[null,4989,{"$f":"Anlægskartotek!C5000","v":0},{"$f":"+IF((Basisoplysninger!$D$60=\"Ja\")*(Anlægskartotek!C5000<>0)=1,Anlægskartotek!$L$14,Anlægskartotek!I5000)","v":0}]
[null,4990,{"$f":"Anlægskartotek!C5001","v":0},{"$f":"+IF((Basisoplysninger!$D$60=\"Ja\")*(Anlægskartotek!C5001<>0)=1,Anlægskartotek!$L$14,Anlægskartotek!I5001)","v":0}]
[null,4991,{"$f":"Anlægskartotek!C5002","v":0},{"$f":"+IF((Basisoplysninger!$D$60=\"Ja\")*(Anlægskartotek!C5002<>0)=1,Anlægskartotek!$L$14,Anlægskartotek!I5002)","v":0}]
[null,4992,{"$f":"Anlægskartotek!C5003","v":0},{"$f":"+IF((Basisoplysninger!$D$60=\"Ja\")*(Anlægskartotek!C5003<>0)=1,Anlægskartotek!$L$14,Anlægskartotek!I5003)","v":0}]
[null,4993,{"$f":"Anlægskartotek!C5004","v":0},{"$f":"+IF((Basisoplysninger!$D$60=\"Ja\")*(Anlægskartotek!C5004<>0)=1,Anlægskartotek!$L$14,Anlægskartotek!I5004)","v":0}]
[null,4994,{"$f":"Anlægskartotek!C5005","v":0},{"$f":"+IF((Basisoplysninger!$D$60=\"Ja\")*(Anlægskartotek!C5005<>0)=1,Anlægskartotek!$L$14,Anlægskartotek!I5005)","v":0}]
[null,{"$f":"B5103+1","v":4995},{"$f":"Anlægskartotek!C5006","v":0},{"$f":"+IF((Basisoplysninger!$D$60=\"Ja\")*(Anlægskartotek!C5006<>0)=1,Anlægskartotek!$L$14,Anlægskartotek!I5006)","v":0}]
[null,4996,{"$f":"Anlægskartotek!C5007","v":0},{"$f":"+IF((Basisoplysninger!$D$60=\"Ja\")*(Anlægskartotek!C5007<>0)=1,Anlægskartotek!$L$14,Anlægskartotek!I5007)","v":0}]
[null,4997,{"$f":"Anlægskartotek!C5008","v":0},{"$f":"+IF((Basisoplysninger!$D$60=\"Ja\")*(Anlægskartotek!C5008<>0)=1,Anlægskartotek!$L$14,Anlægskartotek!I5008)","v":0}]
[null,4998,{"$f":"Anlægskartotek!C5009","v":0},{"$f":"+IF((Basisoplysninger!$D$60=\"Ja\")*(Anlægskartotek!C5009<>0)=1,Anlægskartotek!$L$14,Anlægskartotek!I5009)","v":0}]
[null,4999,{"$f":"Anlægskartotek!C5010","v":0},{"$f":"+IF((Basisoplysninger!$D$60=\"Ja\")*(Anlægskartotek!C5010<>0)=1,Anlægskartotek!$L$14,Anlægskartotek!I5010)","v":0}]
[null,5000,{"$f":"Anlægskartotek!C5011","v":0},{"$f":"+IF((Basisoplysninger!$D$60=\"Ja\")*(Anlægskartotek!C5011<>0)=1,Anlægskartotek!$L$14,Anlægskartotek!I5011)","v":0}]
[]
[null,"Ark slut"]
[]
[]
[]
[]
[]
[]
[]
[]
[]
[]
[]
[]
[]
[]
[]
[]
[]
[]
[]
[]
[]
[]
[]
[]
[]
[]
[]
[]
[]
[]
[]
[]
[]
[]
[]
[]
[]
[]
[]
[]
[]
[]
[]
[]
[]
[]
[]
[]
[]
[]
[]
[]
[]
[]
[]
[null,"Ark slut"]

{"sheet":"Varelager","index":6,"n_rows":10023,"n_cols":15,"rows_kept":4500,"cut":true,"hidden":false,"merged":[[3,1,3,10],[7,1,7,10],[10013,7,10015,10],[10016,7,10018,10],[10019,7,10021,10]],"bounds":{"rows_first":2000,"rows_last":500,"rows_between":2000,"halvings":0}}
[]
[null,"Vejledning"]
[null,"Bemærk vejledningen vises eller skjules ved at trykke på \"+\" eller \"-\" til venstre for første kolonne. "]
[null,"Kort vejledning i at udfylde nedenstående ark\nI nedenstående indtastningsfelter bedes du indtaste dit varelager pr. 31. december 2020. Det er både varenumre, som anvendes til den kompensationsberettigede og den ikke-kompensationsberettigede virksomhed, der skal indtastes.\n\nTallene skal indtastes i DKK (dvs. ikke i f.eks. TDKK) - medmindre andet er angivet.\n\nIndtastningsfelterne er gule. De øvrige felter er låste. Bemærk, at en række poster skal specificeres ved brug af fold-ud-listen, som vises/skjules ved at trykke på \"+\"/\"-\" til venstre for første kolonne. For at benytte fold-ud-listen skal der trykkes \"enable content\" (\"aktivér indhold\") og \"enable macros\" (\"aktivér makroer\"). \n\nSåfremt virksomheden har mange varenumre, kan man ved indtastningen vælge at samle disse i relevante grupper og dermed ikke foretage en indtastning pr. aktiv, men pr. gruppe. Grupperingen skal dog være tilstrækkelig granuleret til at sikre, at opgørelsen af varelager kan danne grundlag for en konkret fysisk identifikation af de aktiver, som staten skal overtage.\n\nBemærk, at ctrl x eller klip-funktionen ikke må anvendes, da de bagvedliggende beregninger afhænger af, at indtastningsceller ikke flyttes eller på andre måder ændres andet end ved indtastning af relevante værdier. "]
[]
[null,"Eventuelle kommentarer til indtastningen"]
[null,"Bemærk kommentarfeltet vises eller skjules ved at trykke på \"+\" eller \"-\" til venstre for første kolonne. "]
[]
[]
[null,"Vare ID nr.","Virksomhedens varenummer","Varenavn/\nbeskrivelse","Antal enheder","Enhedsangivelse (stk., kg. eller lign)","Bogført værdi pr. 31. december 2020","Angiv andelen af brug i %, der er relateret til kompensationsberettiget minkrelateret virksomhed","Angiv andelen af brug i %, der er relateret til kompensationsberettiget ikke-minkrelateret virksomhed","Andelen af lageret i %, der er relateret til ikke-kompensationsberettiget virksomhed","Ønskes aktiverne udtaget (kun indikativ tilkendegivelse) "]
[null,"Bemærk aktiv vises eller skjules ved at trykke på \"+\" eller \"-\" til venstre for første kolonne. "]
[null,"Vare 1",null,null,null,null,null,null,null,{"$f":"100%-(H12+I12)","v":1}]
[null,"Vare 2",null,null,null,null,null,null,null,{"$f":"100%-(H13+I13)","v":1},null,null,null,null,"Ja"]
[null,"Vare 3",null,null,null,null,null,null,null,1,null,null,null,null,"Nej"]
[null,"Vare 4",null,null,null,null,null,null,null,1,null,null,null,null,"Delvist"]
[null,"Vare 5",null,null,null,null,null,null,null,1]
[null,"Vare 6",null,null,null,null,null,null,null,1]
[null,"Vare 7",null,null,null,null,null,null,null,1]
[null,"Vare 8",null,null,null,null,null,null,null,1]
[null,"Vare 9",null,null,null,null,null,null,null,1]
[null,"Vare 10",null,null,null,null,null,null,null,1]
[null,"Vare 11",null,null,null,null,null,null,null,1]
[null,"Vare 12",null,null,null,null,null,null,null,1]
[null,"Vare 13",null,null,null,null,null,null,null,1]
[null,"Vare 14",null,null,null,null,null,null,null,1]
[null,"Vare 15",null,null,null,null,null,null,null,1]
[null,"Vare 16",null,null,null,null,null,null,null,1]
[null,"Vare 17",null,null,null,null,null,null,null,1]
[null,"Vare 18",null,null,null,null,null,null,null,1]
[null,"Vare 19",null,null,null,null,null,null,null,1]
[null,"Vare 20",null,null,null,null,null,null,null,1]
[null,"Vare 21",null,null,null,null,null,null,null,1]
[null,"Vare 22",null,null,null,null,null,null,null,1]
[null,"Vare 23",null,null,null,null,null,null,null,1]
[null,"Vare 24",null,null,null,null,null,null,null,1]
[null,"Vare 25",null,null,null,null,null,null,null,1]
[null,"Vare 26",null,null,null,null,null,null,null,1]
[null,"Vare 27",null,null,null,null,null,null,null,1]
[null,"Vare 28",null,null,null,null,null,null,null,1]
[null,"Vare 29",null,null,null,null,null,null,null,1]
[null,"Vare 30",null,null,null,null,null,null,null,1]
[null,"Vare 31",null,null,null,null,null,null,null,1]
[null,"Vare 32",null,null,null,null,null,null,null,1]
[null,"Vare 33",null,null,null,null,null,null,null,1]
[null,"Vare 34",null,null,null,null,null,null,null,1]
[null,"Vare 35",null,null,null,null,null,null,null,1]
[null,"Vare 36",null,null,null,null,null,null,null,1]
[null,"Vare 37",null,null,null,null,null,null,null,1]
[null,"Vare 38",null,null,null,null,null,null,null,1]
[null,"Vare 39",null,null,null,null,null,null,null,1]
[null,"Vare 40",null,null,null,null,null,null,null,1]
[null,"Vare 41",null,null,null,null,null,null,null,1]
[null,"Vare 42",null,null,null,null,null,null,null,1]
[null,"Vare 43",null,null,null,null,null,null,null,1]
[null,"Vare 44",null,null,null,null,null,null,null,1]
[null,"Vare 45",null,null,null,null,null,null,null,1]
[null,"Vare 46",null,null,null,null,null,null,null,1]
[null,"Vare 47",null,null,null,null,null,null,null,1]
[null,"Vare 48",null,null,null,null,null,null,null,1]
[null,"Vare 49",null,null,null,null,null,null,null,1]
[null,"Vare 50",null,null,null,null,null,null,null,1]
[null,"Vare 51",null,null,null,null,null,null,null,1]
[null,"Vare 52",null,null,null,null,null,null,null,1]
[null,"Vare 53",null,null,null,null,null,null,null,1]
[null,"Vare 54",null,null,null,null,null,null,null,1]
[null,"Vare 55",null,null,null,null,null,null,null,1]
[null,"Vare 56",null,null,null,null,null,null,null,1]
[null,"Vare 57",null,null,null,null,null,null,null,1]
[null,"Vare 58",null,null,null,null,null,null,null,1]
[null,"Vare 59",null,null,null,null,null,null,null,1]
[null,"Vare 60",null,null,null,null,null,null,null,1]
[null,"Vare 61",null,null,null,null,null,null,null,1]
[null,"Vare 62",null,null,null,null,null,null,null,1]
[null,"Vare 63",null,null,null,null,null,null,null,1]
[null,"Vare 64",null,null,null,null,null,null,null,1]
[null,"Vare 65",null,null,null,null,null,null,null,1]
[null,"Vare 66",null,null,null,null,null,null,null,{"$f":"100%-(H77+I77)","v":1}]
[null,"Vare 67",null,null,null,null,null,null,null,1]
[null,"Vare 68",null,null,null,null,null,null,null,1]
[null,"Vare 69",null,null,null,null,null,null,null,1]
[null,"Vare 70",null,null,null,null,null,null,null,1]
[null,"Vare 71",null,null,null,null,null,null,null,1]
[null,"Vare 72",null,null,null,null,null,null,null,1]
[null,"Vare 73",null,null,null,null,null,null,null,1]
[null,"Vare 74",null,null,null,null,null,null,null,1]
[null,"Vare 75",null,null,null,null,null,null,null,1]
[null,"Vare 76",null,null,null,null,null,null,null,1]
[null,"Vare 77",null,null,null,null,null,null,null,1]
[null,"Vare 78",null,null,null,null,null,null,null,1]
[null,"Vare 79",null,null,null,null,null,null,null,1]
[null,"Vare 80",null,null,null,null,null,null,null,1]
[null,"Vare 81",null,null,null,null,null,null,null,1]
[null,"Vare 82",null,null,null,null,null,null,null,1]
[null,"Vare 83",null,null,null,null,null,null,null,1]
[null,"Vare 84",null,null,null,null,null,null,null,1]
[null,"Vare 85",null,null,null,null,null,null,null,1]
[null,"Vare 86",null,null,null,null,null,null,null,1]
[null,"Vare 87",null,null,null,null,null,null,null,1]
[null,"Vare 88",null,null,null,null,null,null,null,1]
[null,"Vare 89",null,null,null,null,null,null,null,1]
[null,"Vare 90",null,null,null,null,null,null,null,1]
[null,"Vare 91",null,null,null,null,null,null,null,1]
[null,"Vare 92",null,null,null,null,null,null,null,1]
[null,"Vare 93",null,null,null,null,null,null,null,1]
[null,"Vare 94",null,null,null,null,null,null,null,1]
[null,"Vare 95",null,null,null,null,null,null,null,{"$f":"100%-(H106+I106)","v":1}]
[null,"Vare 96",null,null,null,null,null,null,null,{"$f":"100%-(H107+I107)","v":1}]
[null,"Vare 97",null,null,null,null,null,null,null,1]
[null,"Vare 98",null,null,null,null,null,null,null,1]
[null,"Vare 99",null,null,null,null,null,null,null,1]
[null,"Vare 100",null,null,null,null,null,null,null,1]
[null,"Vare 101",null,null,null,null,null,null,null,1]
[null,"Vare 102",null,null,null,null,null,null,null,1]
[null,"Vare 103",null,null,null,null,null,null,null,1]
[null,"Vare 104",null,null,null,null,null,null,null,1]
[null,"Vare 105",null,null,null,null,null,null,null,1]
[null,"Vare 106",null,null,null,null,null,null,null,1]
[null,"Vare 107",null,null,null,null,null,null,null,1]
[null,"Vare 108",null,null,null,null,null,null,null,1]
[null,"Vare 109",null,null,null,null,null,null,null,1]
[null,"Vare 110",null,null,null,null,null,null,null,1]
[null,"Vare 111",null,null,null,null,null,null,null,1]
[null,"Vare 112",null,null,null,null,null,null,null,1]
[null,"Vare 113",null,null,null,null,null,null,null,1]
[null,"Vare 114",null,null,null,null,null,null,null,1]
[null,"Vare 115",null,null,null,null,null,null,null,1]
[null,"Vare 116",null,null,null,null,null,null,null,1]
[null,"Vare 117",null,null,null,null,null,null,null,1]
[null,"Vare 118",null,null,null,null,null,null,null,1]
[null,"Vare 119",null,null,null,null,null,null,null,1]
[null,"Vare 120",null,null,null,null,null,null,null,1]
[null,"Vare 121",null,null,null,null,null,null,null,1]
[null,"Vare 122",null,null,null,null,null,null,null,1]
[null,"Vare 123",null,null,null,null,null,null,null,1]
[null,"Vare 124",null,null,null,null,null,null,null,1]
[null,"Vare 125",null,null,null,null,null,null,null,1]
[null,"Vare 126",null,null,null,null,null,null,null,1]
[null,"Vare 127",null,null,null,null,null,null,null,1]
[null,"Vare 128",null,null,null,null,null,null,null,1]
[null,"Vare 129",null,null,null,null,null,null,null,1]
[null,"Vare 130",null,null,null,null,null,null,null,{"$f":"100%-(H141+I141)","v":1}]
[null,"Vare 131",null,null,null,null,null,null,null,1]
[null,"Vare 132",null,null,null,null,null,null,null,1]
[null,"Vare 133",null,null,null,null,null,null,null,1]
[null,"Vare 134",null,null,null,null,null,null,null,1]
[null,"Vare 135",null,null,null,null,null,null,null,1]
[null,"Vare 136",null,null,null,null,null,null,null,1]
[null,"Vare 137",null,null,null,null,null,null,null,1]
[null,"Vare 138",null,null,null,null,null,null,null,1]
[null,"Vare 139",null,null,null,null,null,null,null,1]
[null,"Vare 140",null,null,null,null,null,null,null,1]
[null,"Vare 141",null,null,null,null,null,null,null,1]
[null,"Vare 142",null,null,null,null,null,null,null,1]
[null,"Vare 143",null,null,null,null,null,null,null,1]
[null,"Vare 144",null,null,null,null,null,null,null,1]
[null,"Vare 145",null,null,null,null,null,null,null,1]
[null,"Vare 146",null,null,null,null,null,null,null,1]
[null,"Vare 147",null,null,null,null,null,null,null,1]
[null,"Vare 148",null,null,null,null,null,null,null,1]
[null,"Vare 149",null,null,null,null,null,null,null,1]
[null,"Vare 150",null,null,null,null,null,null,null,1]
[null,"Vare 151",null,null,null,null,null,null,null,1]
[null,"Vare 152",null,null,null,null,null,null,null,1]
[null,"Vare 153",null,null,null,null,null,null,null,1]
[null,"Vare 154",null,null,null,null,null,null,null,1]
[null,"Vare 155",null,null,null,null,null,null,null,1]
[null,"Vare 156",null,null,null,null,null,null,null,1]
[null,"Vare 157",null,null,null,null,null,null,null,1]
[null,"Vare 158",null,null,null,null,null,null,null,1]
[null,"Vare 159",null,null,null,null,null,null,null,1]
[null,"Vare 160",null,null,null,null,null,null,null,1]
[null,"Vare 161",null,null,null,null,null,null,null,1]
[null,"Vare 162",null,null,null,null,null,null,null,1]
[null,"Vare 163",null,null,null,null,null,null,null,1]
[null,"Vare 164",null,null,null,null,null,null,null,1]
[null,"Vare 165",null,null,null,null,null,null,null,1]
[null,"Vare 166",null,null,null,null,null,null,null,1]
[null,"Vare 167",null,null,null,null,null,null,null,1]
[null,"Vare 168",null,null,null,null,null,null,null,1]
[null,"Vare 169",null,null,null,null,null,null,null,1]
[null,"Vare 170",null,null,null,null,null,null,null,1]
[null,"Vare 171",null,null,null,null,null,null,null,1]
[null,"Vare 172",null,null,null,null,null,null,null,1]
[null,"Vare 173",null,null,null,null,null,null,null,1]
[null,"Vare 174",null,null,null,null,null,null,null,1]
[null,"Vare 175",null,null,null,null,null,null,null,1]
[null,"Vare 176",null,null,null,null,null,null,null,1]
[null,"Vare 177",null,null,null,null,null,null,null,1]
[null,"Vare 178",null,null,null,null,null,null,null,1]
[null,"Vare 179",null,null,null,null,null,null,null,1]
[null,"Vare 180",null,null,null,null,null,null,null,1]
[null,"Vare 181",null,null,null,null,null,null,null,1]
[null,"Vare 182",null,null,null,null,null,null,null,1]
[null,"Vare 183",null,null,null,null,null,null,null,1]
[null,"Vare 184",null,null,null,null,null,null,null,1]
[null,"Vare 185",null,null,null,null,null,null,null,1]
[null,"Vare 186",null,null,null,null,null,null,null,1]
[null,"Vare 187",null,null,null,null,null,null,null,1]
[null,"Vare 188",null,null,null,null,null,null,null,1]
[null,"Vare 189",null,null,null,null,null,null,null,1]
[null,"Vare 190",null,null,null,null,null,null,null,1]
[null,"Vare 191",null,null,null,null,null,null,null,1]
[null,"Vare 192",null,null,null,null,null,null,null,1]
[null,"Vare 193",null,null,null,null,null,null,null,1]
[null,"Vare 194",null,null,null,null,null,null,null,{"$f":"100%-(H205+I205)","v":1}]
[null,"Vare 195",null,null,null,null,null,null,null,1]
[null,"Vare 196",null,null,null,null,null,null,null,1]
[null,"Vare 197",null,null,null,null,null,null,null,1]
[null,"Vare 198",null,null,null,null,null,null,null,1]
[null,"Vare 199",null,null,null,null,null,null,null,1]
[null,"Vare 200",null,null,null,null,null,null,null,1]
[null,"Vare 201",null,null,null,null,null,null,null,1]
[null,"Vare 202",null,null,null,null,null,null,null,1]
[null,"Vare 203",null,null,null,null,null,null,null,1]
[null,"Vare 204",null,null,null,null,null,null,null,1]
[null,"Vare 205",null,null,null,null,null,null,null,1]
[null,"Vare 206",null,null,null,null,null,null,null,1]
[null,"Vare 207",null,null,null,null,null,null,null,1]
[null,"Vare 208",null,null,null,null,null,null,null,1]
[null,"Vare 209",null,null,null,null,null,null,null,1]
[null,"Vare 210",null,null,null,null,null,null,null,1]
[null,"Vare 211",null,null,null,null,null,null,null,1]
[null,"Vare 212",null,null,null,null,null,null,null,1]
[null,"Vare 213",null,null,null,null,null,null,null,1]
[null,"Vare 214",null,null,null,null,null,null,null,1]
[null,"Vare 215",null,null,null,null,null,null,null,1]
[null,"Vare 216",null,null,null,null,null,null,null,1]
[null,"Vare 217",null,null,null,null,null,null,null,1]
[null,"Vare 218",null,null,null,null,null,null,null,1]
[null,"Vare 219",null,null,null,null,null,null,null,1]
[null,"Vare 220",null,null,null,null,null,null,null,1]
[null,"Vare 221",null,null,null,null,null,null,null,1]
[null,"Vare 222",null,null,null,null,null,null,null,1]
[null,"Vare 223",null,null,null,null,null,null,null,1]
[null,"Vare 224",null,null,null,null,null,null,null,1]
[null,"Vare 225",null,null,null,null,null,null,null,1]
[null,"Vare 226",null,null,null,null,null,null,null,1]
[null,"Vare 227",null,null,null,null,null,null,null,1]
[null,"Vare 228",null,null,null,null,null,null,null,1]
[null,"Vare 229",null,null,null,null,null,null,null,1]
[null,"Vare 230",null,null,null,null,null,null,null,1]
[null,"Vare 231",null,null,null,null,null,null,null,1]
[null,"Vare 232",null,null,null,null,null,null,null,1]
[null,"Vare 233",null,null,null,null,null,null,null,1]
[null,"Vare 234",null,null,null,null,null,null,null,1]
[null,"Vare 235",null,null,null,null,null,null,null,1]
[null,"Vare 236",null,null,null,null,null,null,null,1]
[null,"Vare 237",null,null,null,null,null,null,null,1]
[null,"Vare 238",null,null,null,null,null,null,null,1]
[null,"Vare 239",null,null,null,null,null,null,null,1]
[null,"Vare 240",null,null,null,null,null,null,null,1]
[null,"Vare 241",null,null,null,null,null,null,null,1]
[null,"Vare 242",null,null,null,null,null,null,null,1]
[null,"Vare 243",null,null,null,null,null,null,null,1]
[null,"Vare 244",null,null,null,null,null,null,null,1]
[null,"Vare 245",null,null,null,null,null,null,null,1]
[null,"Vare 246",null,null,null,null,null,null,null,1]
[null,"Vare 247",null,null,null,null,null,null,null,1]
[null,"Vare 248",null,null,null,null,null,null,null,1]
[null,"Vare 249",null,null,null,null,null,null,null,1]
[null,"Vare 250",null,null,null,null,null,null,null,1]
[null,"Vare 251",null,null,null,null,null,null,null,1]
[null,"Vare 252",null,null,null,null,null,null,null,1]
[null,"Vare 253",null,null,null,null,null,null,null,1]
[null,"Vare 254",null,null,null,null,null,null,null,1]
[null,"Vare 255",null,null,null,null,null,null,null,1]
[null,"Vare 256",null,null,null,null,null,null,null,1]
[null,"Vare 257",null,null,null,null,null,null,null,1]
[null,"Vare 258",null,null,null,null,null,null,null,{"$f":"100%-(H269+I269)","v":1}]
[null,"Vare 259",null,null,null,null,null,null,null,1]
[null,"Vare 260",null,null,null,null,null,null,null,1]
[null,"Vare 261",null,null,null,null,null,null,null,1]
[null,"Vare 262",null,null,null,null,null,null,null,1]
[null,"Vare 263",null,null,null,null,null,null,null,1]
[null,"Vare 264",null,null,null,null,null,null,null,1]
[null,"Vare 265",null,null,null,null,null,null,null,1]
[null,"Vare 266",null,null,null,null,null,null,null,1]
[null,"Vare 267",null,null,null,null,null,null,null,1]
[null,"Vare 268",null,null,null,null,null,null,null,1]
[null,"Vare 269",null,null,null,null,null,null,null,1]
[null,"Vare 270",null,null,null,null,null,null,null,1]
[null,"Vare 271",null,null,null,null,null,null,null,1]
[null,"Vare 272",null,null,null,null,null,null,null,1]
[null,"Vare 273",null,null,null,null,null,null,null,1]
[null,"Vare 274",null,null,null,null,null,null,null,1]
[null,"Vare 275",null,null,null,null,null,null,null,1]
[null,"Vare 276",null,null,null,null,null,null,null,1]
[null,"Vare 277",null,null,null,null,null,null,null,1]
[null,"Vare 278",null,null,null,null,null,null,null,1]
[null,"Vare 279",null,null,null,null,null,null,null,1]
[null,"Vare 280",null,null,null,null,null,null,null,1]
[null,"Vare 281",null,null,null,null,null,null,null,1]
[null,"Vare 282",null,null,null,null,null,null,null,1]
[null,"Vare 283",null,null,null,null,null,null,null,1]
[null,"Vare 284",null,null,null,null,null,null,null,1]
[null,"Vare 285",null,null,null,null,null,null,null,1]
[null,"Vare 286",null,null,null,null,null,null,null,1]
[null,"Vare 287",null,null,null,null,null,null,null,1]
[null,"Vare 288",null,null,null,null,null,null,null,1]
[null,"Vare 289",null,null,null,null,null,null,null,1]
[null,"Vare 290",null,null,null,null,null,null,null,1]
[null,"Vare 291",null,null,null,null,null,null,null,1]
[null,"Vare 292",null,null,null,null,null,null,null,1]
[null,"Vare 293",null,null,null,null,null,null,null,1]
[null,"Vare 294",null,null,null,null,null,null,null,1]
[null,"Vare 295",null,null,null,null,null,null,null,1]
[null,"Vare 296",null,null,null,null,null,null,null,1]
[null,"Vare 297",null,null,null,null,null,null,null,1]
[null,"Vare 298",null,null,null,null,null,null,null,1]
[null,"Vare 299",null,null,null,null,null,null,null,1]
[null,"Vare 300",null,null,null,null,null,null,null,1]
[null,"Vare 301",null,null,null,null,null,null,null,1]
[null,"Vare 302",null,null,null,null,null,null,null,1]
[null,"Vare 303",null,null,null,null,null,null,null,1]
[null,"Vare 304",null,null,null,null,null,null,null,1]
[null,"Vare 305",null,null,null,null,null,null,null,1]
[null,"Vare 306",null,null,null,null,null,null,null,1]
[null,"Vare 307",null,null,null,null,null,null,null,1]
[null,"Vare 308",null,null,null,null,null,null,null,1]
[null,"Vare 309",null,null,null,null,null,null,null,1]
[null,"Vare 310",null,null,null,null,null,null,null,1]
[null,"Vare 311",null,null,null,null,null,null,null,1]
[null,"Vare 312",null,null,null,null,null,null,null,1]
[null,"Vare 313",null,null,null,null,null,null,null,1]
[null,"Vare 314",null,null,null,null,null,null,null,1]
[null,"Vare 315",null,null,null,null,null,null,null,1]
[null,"Vare 316",null,null,null,null,null,null,null,1]
[null,"Vare 317",null,null,null,null,null,null,null,1]
[null,"Vare 318",null,null,null,null,null,null,null,1]
[null,"Vare 319",null,null,null,null,null,null,null,1]
[null,"Vare 320",null,null,null,null,null,null,null,1]
[null,"Vare 321",null,null,null,null,null,null,null,1]
[null,"Vare 322",null,null,null,null,null,null,null,{"$f":"100%-(H333+I333)","v":1}]
[null,"Vare 323",null,null,null,null,null,null,null,1]
[null,"Vare 324",null,null,null,null,null,null,null,1]
[null,"Vare 325",null,null,null,null,null,null,null,1]
[null,"Vare 326",null,null,null,null,null,null,null,1]
[null,"Vare 327",null,null,null,null,null,null,null,1]
[null,"Vare 328",null,null,null,null,null,null,null,1]
[null,"Vare 329",null,null,null,null,null,null,null,1]
[null,"Vare 330",null,null,null,null,null,null,null,1]
[null,"Vare 331",null,null,null,null,null,null,null,1]
[null,"Vare 332",null,null,null,null,null,null,null,1]
[null,"Vare 333",null,null,null,null,null,null,null,1]
[null,"Vare 334",null,null,null,null,null,null,null,1]
[null,"Vare 335",null,null,null,null,null,null,null,1]
[null,"Vare 336",null,null,null,null,null,null,null,1]
[null,"Vare 337",null,null,null,null,null,null,null,1]
[null,"Vare 338",null,null,null,null,null,null,null,1]
[null,"Vare 339",null,null,null,null,null,null,null,1]
[null,"Vare 340",null,null,null,null,null,null,null,1]
[null,"Vare 341",null,null,null,null,null,null,null,1]
[null,"Vare 342",null,null,null,null,null,null,null,1]
[null,"Vare 343",null,null,null,null,null,null,null,1]
[null,"Vare 344",null,null,null,null,null,null,null,1]
[null,"Vare 345",null,null,null,null,null,null,null,1]
[null,"Vare 346",null,null,null,null,null,null,null,1]
[null,"Vare 347",null,null,null,null,null,null,null,1]
[null,"Vare 348",null,null,null,null,null,null,null,1]
[null,"Vare 349",null,null,null,null,null,null,null,1]
[null,"Vare 350",null,null,null,null,null,null,null,1]
[null,"Vare 351",null,null,null,null,null,null,null,1]
[null,"Vare 352",null,null,null,null,null,null,null,1]
[null,"Vare 353",null,null,null,null,null,null,null,1]
[null,"Vare 354",null,null,null,null,null,null,null,1]
[null,"Vare 355",null,null,null,null,null,null,null,1]
[null,"Vare 356",null,null,null,null,null,null,null,1]
[null,"Vare 357",null,null,null,null,null,null,null,1]
[null,"Vare 358",null,null,null,null,null,null,null,1]
[null,"Vare 359",null,null,null,null,null,null,null,1]
[null,"Vare 360",null,null,null,null,null,null,null,1]
[null,"Vare 361",null,null,null,null,null,null,null,1]
[null,"Vare 362",null,null,null,null,null,null,null,1]
[null,"Vare 363",null,null,null,null,null,null,null,1]
[null,"Vare 364",null,null,null,null,null,null,null,1]
[null,"Vare 365",null,null,null,null,null,null,null,1]
[null,"Vare 366",null,null,null,null,null,null,null,1]
[null,"Vare 367",null,null,null,null,null,null,null,1]
[null,"Vare 368",null,null,null,null,null,null,null,1]
[null,"Vare 369",null,null,null,null,null,null,null,1]
[null,"Vare 370",null,null,null,null,null,null,null,1]
[null,"Vare 371",null,null,null,null,null,null,null,1]
[null,"Vare 372",null,null,null,null,null,null,null,1]
[null,"Vare 373",null,null,null,null,null,null,null,1]
[null,"Vare 374",null,null,null,null,null,null,null,1]
[null,"Vare 375",null,null,null,null,null,null,null,1]
[null,"Vare 376",null,null,null,null,null,null,null,1]
[null,"Vare 377",null,null,null,null,null,null,null,1]
[null,"Vare 378",null,null,null,null,null,null,null,1]
[null,"Vare 379",null,null,null,null,null,null,null,1]
[null,"Vare 380",null,null,null,null,null,null,null,1]
[null,"Vare 381",null,null,null,null,null,null,null,1]
[null,"Vare 382",null,null,null,null,null,null,null,1]
[null,"Vare 383",null,null,null,null,null,null,null,1]
[null,"Vare 384",null,null,null,null,null,null,null,1]
[null,"Vare 385",null,null,null,null,null,null,null,1]
[null,"Vare 386",null,null,null,null,null,null,null,{"$f":"100%-(H397+I397)","v":1}]
[null,"Vare 387",null,null,null,null,null,null,null,1]
[null,"Vare 388",null,null,null,null,null,null,null,1]
[null,"Vare 389",null,null,null,null,null,null,null,1]
[null,"Vare 390",null,null,null,null,null,null,null,1]
[null,"Vare 391",null,null,null,null,null,null,null,1]
[null,"Vare 392",null,null,null,null,null,null,null,1]
[null,"Vare 393",null,null,null,null,null,null,null,1]
[null,"Vare 394",null,null,null,null,null,null,null,1]
[null,"Vare 395",null,null,null,null,null,null,null,1]
[null,"Vare 396",null,null,null,null,null,null,null,1]
[null,"Vare 397",null,null,null,null,null,null,null,1]
[null,"Vare 398",null,null,null,null,null,null,null,1]
[null,"Vare 399",null,null,null,null,null,null,null,1]
[null,"Vare 400",null,null,null,null,null,null,null,1]
[null,"Vare 401",null,null,null,null,null,null,null,1]
[null,"Vare 402",null,null,null,null,null,null,null,1]
[null,"Vare 403",null,null,null,null,null,null,null,1]
[null,"Vare 404",null,null,null,null,null,null,null,1]
[null,"Vare 405",null,null,null,null,null,null,null,1]
[null,"Vare 406",null,null,null,null,null,null,null,1]
[null,"Vare 407",null,null,null,null,null,null,null,1]
[null,"Vare 408",null,null,null,null,null,null,null,1]
[null,"Vare 409",null,null,null,null,null,null,null,1]
[null,"Vare 410",null,null,null,null,null,null,null,1]
[null,"Vare 411",null,null,null,null,null,null,null,1]
[null,"Vare 412",null,null,null,null,null,null,null,1]
[null,"Vare 413",null,null,null,null,null,null,null,1]
[null,"Vare 414",null,null,null,null,null,null,null,1]
[null,"Vare 415",null,null,null,null,null,null,null,1]
[null,"Vare 416",null,null,null,null,null,null,null,1]
[null,"Vare 417",null,null,null,null,null,null,null,1]
[null,"Vare 418",null,null,null,null,null,null,null,1]
[null,"Vare 419",null,null,null,null,null,null,null,1]
[null,"Vare 420",null,null,null,null,null,null,null,1]
[null,"Vare 421",null,null,null,null,null,null,null,1]
[null,"Vare 422",null,null,null,null,null,null,null,1]
[null,"Vare 423",null,null,null,null,null,null,null,1]
[null,"Vare 424",null,null,null,null,null,null,null,1]
[null,"Vare 425",null,null,null,null,null,null,null,1]
[null,"Vare 426",null,null,null,null,null,null,null,1]
[null,"Vare 427",null,null,null,null,null,null,null,1]
[null,"Vare 428",null,null,null,null,null,null,null,1]
[null,"Vare 429",null,null,null,null,null,null,null,1]
[null,"Vare 430",null,null,null,null,null,null,null,1]
[null,"Vare 431",null,null,null,null,null,null,null,1]
[null,"Vare 432",null,null,null,null,null,null,null,1]
[null,"Vare 433",null,null,null,null,null,null,null,1]
[null,"Vare 434",null,null,null,null,null,null,null,1]
[null,"Vare 435",null,null,null,null,null,null,null,1]
[null,"Vare 436",null,null,null,null,null,null,null,1]
[null,"Vare 437",null,null,null,null,null,null,null,1]
[null,"Vare 438",null,null,null,null,null,null,null,1]
[null,"Vare 439",null,null,null,null,null,null,null,1]
[null,"Vare 440",null,null,null,null,null,null,null,1]
[null,"Vare 441",null,null,null,null,null,null,null,1]
[null,"Vare 442",null,null,null,null,null,null,null,1]
[null,"Vare 443",null,null,null,null,null,null,null,1]
[null,"Vare 444",null,null,null,null,null,null,null,1]
[null,"Vare 445",null,null,null,null,null,null,null,1]
[null,"Vare 446",null,null,null,null,null,null,null,1]
[null,"Vare 447",null,null,null,null,null,null,null,1]
[null,"Vare 448",null,null,null,null,null,null,null,1]
[null,"Vare 449",null,null,null,null,null,null,null,1]
[null,"Vare 450",null,null,null,null,null,null,null,{"$f":"100%-(H461+I461)","v":1}]
[null,"Vare 451",null,null,null,null,null,null,null,1]
[null,"Vare 452",null,null,null,null,null,null,null,1]
[null,"Vare 453",null,null,null,null,null,null,null,1]
[null,"Vare 454",null,null,null,null,null,null,null,1]
[null,"Vare 455",null,null,null,null,null,null,null,1]
[null,"Vare 456",null,null,null,null,null,null,null,1]
[null,"Vare 457",null,null,null,null,null,null,null,1]
[null,"Vare 458",null,null,null,null,null,null,null,1]
[null,"Vare 459",null,null,null,null,null,null,null,1]
[null,"Vare 460",null,null,null,null,null,null,null,1]
[null,"Vare 461",null,null,null,null,null,null,null,1]
[null,"Vare 462",null,null,null,null,null,null,null,1]
[null,"Vare 463",null,null,null,null,null,null,null,1]
[null,"Vare 464",null,null,null,null,null,null,null,1]
[null,"Vare 465",null,null,null,null,null,null,null,1]
[null,"Vare 466",null,null,null,null,null,null,null,1]
[null,"Vare 467",null,null,null,null,null,null,null,1]
[null,"Vare 468",null,null,null,null,null,null,null,1]
[null,"Vare 469",null,null,null,null,null,null,null,1]
[null,"Vare 470",null,null,null,null,null,null,null,1]
[null,"Vare 471",null,null,null,null,null,null,null,1]
[null,"Vare 472",null,null,null,null,null,null,null,1]
[null,"Vare 473",null,null,null,null,null,null,null,1]
[null,"Vare 474",null,null,null,null,null,null,null,1]
[null,"Vare 475",null,null,null,null,null,null,null,1]
[null,"Vare 476",null,null,null,null,null,null,null,1]
[null,"Vare 477",null,null,null,null,null,null,null,1]
[null,"Vare 478",null,null,null,null,null,null,null,1]
[null,"Vare 479",null,null,null,null,null,null,null,1]
[null,"Vare 480",null,null,null,null,null,null,null,1]
[null,"Vare 481",null,null,null,null,null,null,null,1]
[null,"Vare 482",null,null,null,null,null,null,null,1]
[null,"Vare 483",null,null,null,null,null,null,null,1]
[null,"Vare 484",null,null,null,null,null,null,null,1]
[null,"Vare 485",null,null,null,null,null,null,null,1]
[null,"Vare 486",null,null,null,null,null,null,null,1]
[null,"Vare 487",null,null,null,null,null,null,null,1]
[null,"Vare 488",null,null,null,null,null,null,null,1]
[null,"Vare 489",null,null,null,null,null,null,null,1]
[null,"Vare 490",null,null,null,null,null,null,null,1]
[null,"Vare 491",null,null,null,null,null,null,null,1]
[null,"Vare 492",null,null,null,null,null,null,null,1]
[null,"Vare 493",null,null,null,null,null,null,null,1]
[null,"Vare 494",null,null,null,null,null,null,null,1]
[null,"Vare 495",null,null,null,null,null,null,null,1]
[null,"Vare 496",null,null,null,null,null,null,null,1]
[null,"Vare 497",null,null,null,null,null,null,null,1]
[null,"Vare 498",null,null,null,null,null,null,null,1]
[null,"Vare 499",null,null,null,null,null,null,null,1]
[null,"Vare 500",null,null,null,null,null,null,null,1]
[null,"Vare 501",null,null,null,null,null,null,null,1]
[null,"Vare 502",null,null,null,null,null,null,null,1]
[null,"Vare 503",null,null,null,null,null,null,null,1]
[null,"Vare 504",null,null,null,null,null,null,null,1]
[null,"Vare 505",null,null,null,null,null,null,null,1]
[null,"Vare 506",null,null,null,null,null,null,null,1]
[null,"Vare 507",null,null,null,null,null,null,null,1]
[null,"Vare 508",null,null,null,null,null,null,null,1]
[null,"Vare 509",null,null,null,null,null,null,null,1]
[null,"Vare 510",null,null,null,null,null,null,null,1]
[null,"Vare 511",null,null,null,null,null,null,null,1]
[null,"Vare 512",null,null,null,null,null,null,null,1]
[null,"Vare 513",null,null,null,null,null,null,null,1]
[null,"Vare 514",null,null,null,null,null,null,null,{"$f":"100%-(H525+I525)","v":1}]
[null,"Vare 515",null,null,null,null,null,null,null,1]
[null,"Vare 516",null,null,null,null,null,null,null,1]
[null,"Vare 517",null,null,null,null,null,null,null,1]
[null,"Vare 518",null,null,null,null,null,null,null,1]
[null,"Vare 519",null,null,null,null,null,null,null,1]
[null,"Vare 520",null,null,null,null,null,null,null,1]
[null,"Vare 521",null,null,null,null,null,null,null,1]
[null,"Vare 522",null,null,null,null,null,null,null,1]
[null,"Vare 523",null,null,null,null,null,null,null,1]
[null,"Vare 524",null,null,null,null,null,null,null,1]
[null,"Vare 525",null,null,null,null,null,null,null,1]
[null,"Vare 526",null,null,null,null,null,null,null,1]
[null,"Vare 527",null,null,null,null,null,null,null,1]
[null,"Vare 528",null,null,null,null,null,null,null,1]
[null,"Vare 529",null,null,null,null,null,null,null,1]
[null,"Vare 530",null,null,null,null,null,null,null,1]
[null,"Vare 531",null,null,null,null,null,null,null,1]
[null,"Vare 532",null,null,null,null,null,null,null,1]
[null,"Vare 533",null,null,null,null,null,null,null,1]
[null,"Vare 534",null,null,null,null,null,null,null,1]
[null,"Vare 535",null,null,null,null,null,null,null,1]
[null,"Vare 536",null,null,null,null,null,null,null,1]
[null,"Vare 537",null,null,null,null,null,null,null,1]
[null,"Vare 538",null,null,null,null,null,null,null,1]
[null,"Vare 539",null,null,null,null,null,null,null,1]
[null,"Vare 540",null,null,null,null,null,null,null,1]
[null,"Vare 541",null,null,null,null,null,null,null,1]
[null,"Vare 542",null,null,null,null,null,null,null,1]
[null,"Vare 543",null,null,null,null,null,null,null,1]
[null,"Vare 544",null,null,null,null,null,null,null,1]
[null,"Vare 545",null,null,null,null,null,null,null,1]
[null,"Vare 546",null,null,null,null,null,null,null,1]
[null,"Vare 547",null,null,null,null,null,null,null,1]
[null,"Vare 548",null,null,null,null,null,null,null,1]
[null,"Vare 549",null,null,null,null,null,null,null,1]
[null,"Vare 550",null,null,null,null,null,null,null,1]
[null,"Vare 551",null,null,null,null,null,null,null,1]
[null,"Vare 552",null,null,null,null,null,null,null,1]
[null,"Vare 553",null,null,null,null,null,null,null,1]
[null,"Vare 554",null,null,null,null,null,null,null,1]
[null,"Vare 555",null,null,null,null,null,null,null,1]
[null,"Vare 556",null,null,null,null,null,null,null,1]
[null,"Vare 557",null,null,null,null,null,null,null,1]
[null,"Vare 558",null,null,null,null,null,null,null,1]
[null,"Vare 559",null,null,null,null,null,null,null,1]
[null,"Vare 560",null,null,null,null,null,null,null,1]
[null,"Vare 561",null,null,null,null,null,null,null,1]
[null,"Vare 562",null,null,null,null,null,null,null,1]
[null,"Vare 563",null,null,null,null,null,null,null,1]
[null,"Vare 564",null,null,null,null,null,null,null,1]
[null,"Vare 565",null,null,null,null,null,null,null,1]
[null,"Vare 566",null,null,null,null,null,null,null,1]
[null,"Vare 567",null,null,null,null,null,null,null,1]
[null,"Vare 568",null,null,null,null,null,null,null,1]
[null,"Vare 569",null,null,null,null,null,null,null,1]
[null,"Vare 570",null,null,null,null,null,null,null,1]
[null,"Vare 571",null,null,null,null,null,null,null,1]
[null,"Vare 572",null,null,null,null,null,null,null,1]
[null,"Vare 573",null,null,null,null,null,null,null,1]
[null,"Vare 574",null,null,null,null,null,null,null,1]
[null,"Vare 575",null,null,null,null,null,null,null,1]
[null,"Vare 576",null,null,null,null,null,null,null,1]
[null,"Vare 577",null,null,null,null,null,null,null,1]
[null,"Vare 578",null,null,null,null,null,null,null,{"$f":"100%-(H589+I589)","v":1}]
[null,"Vare 579",null,null,null,null,null,null,null,1]
[null,"Vare 580",null,null,null,null,null,null,null,1]
[null,"Vare 581",null,null,null,null,null,null,null,1]
[null,"Vare 582",null,null,null,null,null,null,null,1]
[null,"Vare 583",null,null,null,null,null,null,null,1]
[null,"Vare 584",null,null,null,null,null,null,null,1]
[null,"Vare 585",null,null,null,null,null,null,null,1]
[null,"Vare 586",null,null,null,null,null,null,null,1]
[null,"Vare 587",null,null,null,null,null,null,null,1]
[null,"Vare 588",null,null,null,null,null,null,null,1]
[null,"Vare 589",null,null,null,null,null,null,null,1]
[null,"Vare 590",null,null,null,null,null,null,null,1]
[null,"Vare 591",null,null,null,null,null,null,null,1]
[null,"Vare 592",null,null,null,null,null,null,null,1]
[null,"Vare 593",null,null,null,null,null,null,null,1]
[null,"Vare 594",null,null,null,null,null,null,null,1]
[null,"Vare 595",null,null,null,null,null,null,null,1]
[null,"Vare 596",null,null,null,null,null,null,null,1]
[null,"Vare 597",null,null,null,null,null,null,null,1]
[null,"Vare 598",null,null,null,null,null,null,null,1]
[null,"Vare 599",null,null,null,null,null,null,null,1]
[null,"Vare 600",null,null,null,null,null,null,null,1]
[null,"Vare 601",null,null,null,null,null,null,null,1]
[null,"Vare 602",null,null,null,null,null,null,null,1]
[null,"Vare 603",null,null,null,null,null,null,null,1]
[null,"Vare 604",null,null,null,null,null,null,null,1]
[null,"Vare 605",null,null,null,null,null,null,null,1]
[null,"Vare 606",null,null,null,null,null,null,null,1]
[null,"Vare 607",null,null,null,null,null,null,null,1]
[null,"Vare 608",null,null,null,null,null,null,null,1]
[null,"Vare 609",null,null,null,null,null,null,null,1]
[null,"Vare 610",null,null,null,null,null,null,null,1]
[null,"Vare 611",null,null,null,null,null,null,null,1]
[null,"Vare 612",null,null,null,null,null,null,null,1]
[null,"Vare 613",null,null,null,null,null,null,null,1]
[null,"Vare 614",null,null,null,null,null,null,null,1]
[null,"Vare 615",null,null,null,null,null,null,null,1]
[null,"Vare 616",null,null,null,null,null,null,null,1]
[null,"Vare 617",null,null,null,null,null,null,null,1]
[null,"Vare 618",null,null,null,null,null,null,null,1]
[null,"Vare 619",null,null,null,null,null,null,null,1]
[null,"Vare 620",null,null,null,null,null,null,null,1]
[null,"Vare 621",null,null,null,null,null,null,null,1]
[null,"Vare 622",null,null,null,null,null,null,null,1]
[null,"Vare 623",null,null,null,null,null,null,null,1]
[null,"Vare 624",null,null,null,null,null,null,null,1]
[null,"Vare 625",null,null,null,null,null,null,null,1]
[null,"Vare 626",null,null,null,null,null,null,null,1]
[null,"Vare 627",null,null,null,null,null,null,null,1]
[null,"Vare 628",null,null,null,null,null,null,null,1]
[null,"Vare 629",null,null,null,null,null,null,null,1]
[null,"Vare 630",null,null,null,null,null,null,null,1]
[null,"Vare 631",null,null,null,null,null,null,null,1]
[null,"Vare 632",null,null,null,null,null,null,null,1]
[null,"Vare 633",null,null,null,null,null,null,null,1]
[null,"Vare 634",null,null,null,null,null,null,null,1]
[null,"Vare 635",null,null,null,null,null,null,null,1]
[null,"Vare 636",null,null,null,null,null,null,null,1]
[null,"Vare 637",null,null,null,null,null,null,null,1]
[null,"Vare 638",null,null,null,null,null,null,null,1]
[null,"Vare 639",null,null,null,null,null,null,null,1]
[null,"Vare 640",null,null,null,null,null,null,null,1]
[null,"Vare 641",null,null,null,null,null,null,null,1]
[null,"Vare 642",null,null,null,null,null,null,null,{"$f":"100%-(H653+I653)","v":1}]
[null,"Vare 643",null,null,null,null,null,null,null,1]
[null,"Vare 644",null,null,null,null,null,null,null,1]
[null,"Vare 645",null,null,null,null,null,null,null,1]
[null,"Vare 646",null,null,null,null,null,null,null,1]
[null,"Vare 647",null,null,null,null,null,null,null,1]
[null,"Vare 648",null,null,null,null,null,null,null,1]
[null,"Vare 649",null,null,null,null,null,null,null,1]
[null,"Vare 650",null,null,null,null,null,null,null,1]
[null,"Vare 651",null,null,null,null,null,null,null,1]
[null,"Vare 652",null,null,null,null,null,null,null,1]
[null,"Vare 653",null,null,null,null,null,null,null,1]
[null,"Vare 654",null,null,null,null,null,null,null,1]
[null,"Vare 655",null,null,null,null,null,null,null,1]
[null,"Vare 656",null,null,null,null,null,null,null,1]
[null,"Vare 657",null,null,null,null,null,null,null,1]
[null,"Vare 658",null,null,null,null,null,null,null,1]
[null,"Vare 659",null,null,null,null,null,null,null,1]
[null,"Vare 660",null,null,null,null,null,null,null,1]
[null,"Vare 661",null,null,null,null,null,null,null,1]
[null,"Vare 662",null,null,null,null,null,null,null,1]
[null,"Vare 663",null,null,null,null,null,null,null,1]
[null,"Vare 664",null,null,null,null,null,null,null,1]
[null,"Vare 665",null,null,null,null,null,null,null,1]
[null,"Vare 666",null,null,null,null,null,null,null,1]
[null,"Vare 667",null,null,null,null,null,null,null,1]
[null,"Vare 668",null,null,null,null,null,null,null,1]
[null,"Vare 669",null,null,null,null,null,null,null,1]
[null,"Vare 670",null,null,null,null,null,null,null,1]
[null,"Vare 671",null,null,null,null,null,null,null,1]
[null,"Vare 672",null,null,null,null,null,null,null,1]
[null,"Vare 673",null,null,null,null,null,null,null,1]
[null,"Vare 674",null,null,null,null,null,null,null,1]
[null,"Vare 675",null,null,null,null,null,null,null,1]
[null,"Vare 676",null,null,null,null,null,null,null,1]
[null,"Vare 677",null,null,null,null,null,null,null,1]
[null,"Vare 678",null,null,null,null,null,null,null,1]
[null,"Vare 679",null,null,null,null,null,null,null,1]
[null,"Vare 680",null,null,null,null,null,null,null,1]
[null,"Vare 681",null,null,null,null,null,null,null,1]
[null,"Vare 682",null,null,null,null,null,null,null,1]
[null,"Vare 683",null,null,null,null,null,null,null,1]
[null,"Vare 684",null,null,null,null,null,null,null,1]
[null,"Vare 685",null,null,null,null,null,null,null,1]
[null,"Vare 686",null,null,null,null,null,null,null,1]
[null,"Vare 687",null,null,null,null,null,null,null,1]
[null,"Vare 688",null,null,null,null,null,null,null,1]
[null,"Vare 689",null,null,null,null,null,null,null,1]
[null,"Vare 690",null,null,null,null,null,null,null,1]
[null,"Vare 691",null,null,null,null,null,null,null,1]
[null,"Vare 692",null,null,null,null,null,null,null,1]
[null,"Vare 693",null,null,null,null,null,null,null,1]
[null,"Vare 694",null,null,null,null,null,null,null,1]
[null,"Vare 695",null,null,null,null,null,null,null,1]
[null,"Vare 696",null,null,null,null,null,null,null,1]
[null,"Vare 697",null,null,null,null,null,null,null,1]
[null,"Vare 698",null,null,null,null,null,null,null,1]
[null,"Vare 699",null,null,null,null,null,null,null,1]
[null,"Vare 700",null,null,null,null,null,null,null,1]
[null,"Vare 701",null,null,null,null,null,null,null,1]
[null,"Vare 702",null,null,null,null,null,null,null,1]
[null,"Vare 703",null,null,null,null,null,null,null,1]
[null,"Vare 704",null,null,null,null,null,null,null,1]
[null,"Vare 705",null,null,null,null,null,null,null,1]
[null,"Vare 706",null,null,null,null,null,null,null,{"$f":"100%-(H717+I717)","v":1}]
[null,"Vare 707",null,null,null,null,null,null,null,1]
[null,"Vare 708",null,null,null,null,null,null,null,1]
[null,"Vare 709",null,null,null,null,null,null,null,1]
[null,"Vare 710",null,null,null,null,null,null,null,1]
[null,"Vare 711",null,null,null,null,null,null,null,1]
[null,"Vare 712",null,null,null,null,null,null,null,1]
[null,"Vare 713",null,null,null,null,null,null,null,1]
[null,"Vare 714",null,null,null,null,null,null,null,1]
[null,"Vare 715",null,null,null,null,null,null,null,1]
[null,"Vare 716",null,null,null,null,null,null,null,1]
[null,"Vare 717",null,null,null,null,null,null,null,1]
[null,"Vare 718",null,null,null,null,null,null,null,1]
[null,"Vare 719",null,null,null,null,null,null,null,1]
[null,"Vare 720",null,null,null,null,null,null,null,1]
[null,"Vare 721",null,null,null,null,null,null,null,1]
[null,"Vare 722",null,null,null,null,null,null,null,1]
[null,"Vare 723",null,null,null,null,null,null,null,1]
[null,"Vare 724",null,null,null,null,null,null,null,1]
[null,"Vare 725",null,null,null,null,null,null,null,1]
[null,"Vare 726",null,null,null,null,null,null,null,1]
[null,"Vare 727",null,null,null,null,null,null,null,1]
[null,"Vare 728",null,null,null,null,null,null,null,1]
[null,"Vare 729",null,null,null,null,null,null,null,1]
[null,"Vare 730",null,null,null,null,null,null,null,1]
[null,"Vare 731",null,null,null,null,null,null,null,1]
[null,"Vare 732",null,null,null,null,null,null,null,1]
[null,"Vare 733",null,null,null,null,null,null,null,1]
[null,"Vare 734",null,null,null,null,null,null,null,1]
[null,"Vare 735",null,null,null,null,null,null,null,1]
[null,"Vare 736",null,null,null,null,null,null,null,1]
[null,"Vare 737",null,null,null,null,null,null,null,1]
[null,"Vare 738",null,null,null,null,null,null,null,1]
[null,"Vare 739",null,null,null,null,null,null,null,1]
[null,"Vare 740",null,null,null,null,null,null,null,1]
[null,"Vare 741",null,null,null,null,null,null,null,1]
[null,"Vare 742",null,null,null,null,null,null,null,1]
[null,"Vare 743",null,null,null,null,null,null,null,1]
[null,"Vare 744",null,null,null,null,null,null,null,1]
[null,"Vare 745",null,null,null,null,null,null,null,1]
[null,"Vare 746",null,null,null,null,null,null,null,1]
[null,"Vare 747",null,null,null,null,null,null,null,1]
[null,"Vare 748",null,null,null,null,null,null,null,1]
[null,"Vare 749",null,null,null,null,null,null,null,1]
[null,"Vare 750",null,null,null,null,null,null,null,1]
[null,"Vare 751",null,null,null,null,null,null,null,1]
[null,"Vare 752",null,null,null,null,null,null,null,1]
[null,"Vare 753",null,null,null,null,null,null,null,1]
[null,"Vare 754",null,null,null,null,null,null,null,1]
[null,"Vare 755",null,null,null,null,null,null,null,1]
[null,"Vare 756",null,null,null,null,null,null,null,1]
[null,"Vare 757",null,null,null,null,null,null,null,1]
[null,"Vare 758",null,null,null,null,null,null,null,1]
[null,"Vare 759",null,null,null,null,null,null,null,1]
[null,"Vare 760",null,null,null,null,null,null,null,1]
[null,"Vare 761",null,null,null,null,null,null,null,1]
[null,"Vare 762",null,null,null,null,null,null,null,1]
[null,"Vare 763",null,null,null,null,null,null,null,1]
[null,"Vare 764",null,null,null,null,null,null,null,1]
[null,"Vare 765",null,null,null,null,null,null,null,1]
[null,"Vare 766",null,null,null,null,null,null,null,1]
[null,"Vare 767",null,null,null,null,null,null,null,1]
[null,"Vare 768",null,null,null,null,null,null,null,1]
[null,"Vare 769",null,null,null,null,null,null,null,1]
[null,"Vare 770",null,null,null,null,null,null,null,{"$f":"100%-(H781+I781)","v":1}]
[null,"Vare 771",null,null,null,null,null,null,null,1]
[null,"Vare 772",null,null,null,null,null,null,null,1]
[null,"Vare 773",null,null,null,null,null,null,null,1]
[null,"Vare 774",null,null,null,null,null,null,null,1]
[null,"Vare 775",null,null,null,null,null,null,null,1]
[null,"Vare 776",null,null,null,null,null,null,null,1]
[null,"Vare 777",null,null,null,null,null,null,null,1]
[null,"Vare 778",null,null,null,null,null,null,null,1]
[null,"Vare 779",null,null,null,null,null,null,null,1]
[null,"Vare 780",null,null,null,null,null,null,null,1]
[null,"Vare 781",null,null,null,null,null,null,null,1]
[null,"Vare 782",null,null,null,null,null,null,null,1]
[null,"Vare 783",null,null,null,null,null,null,null,1]
[null,"Vare 784",null,null,null,null,null,null,null,1]
[null,"Vare 785",null,null,null,null,null,null,null,1]
[null,"Vare 786",null,null,null,null,null,null,null,1]
[null,"Vare 787",null,null,null,null,null,null,null,1]
[null,"Vare 788",null,null,null,null,null,null,null,1]
[null,"Vare 789",null,null,null,null,null,null,null,1]
[null,"Vare 790",null,null,null,null,null,null,null,1]
[null,"Vare 791",null,null,null,null,null,null,null,1]
[null,"Vare 792",null,null,null,null,null,null,null,1]
[null,"Vare 793",null,null,null,null,null,null,null,1]
[null,"Vare 794",null,null,null,null,null,null,null,1]
[null,"Vare 795",null,null,null,null,null,null,null,1]
[null,"Vare 796",null,null,null,null,null,null,null,1]
[null,"Vare 797",null,null,null,null,null,null,null,1]
[null,"Vare 798",null,null,null,null,null,null,null,1]
[null,"Vare 799",null,null,null,null,null,null,null,1]
[null,"Vare 800",null,null,null,null,null,null,null,1]
[null,"Vare 801",null,null,null,null,null,null,null,1]
[null,"Vare 802",null,null,null,null,null,null,null,1]
[null,"Vare 803",null,null,null,null,null,null,null,1]
[null,"Vare 804",null,null,null,null,null,null,null,1]
[null,"Vare 805",null,null,null,null,null,null,null,1]
[null,"Vare 806",null,null,null,null,null,null,null,1]
[null,"Vare 807",null,null,null,null,null,null,null,1]
[null,"Vare 808",null,null,null,null,null,null,null,1]
[null,"Vare 809",null,null,null,null,null,null,null,1]
[null,"Vare 810",null,null,null,null,null,null,null,1]
[null,"Vare 811",null,null,null,null,null,null,null,1]
[null,"Vare 812",null,null,null,null,null,null,null,1]
[null,"Vare 813",null,null,null,null,null,null,null,1]
[null,"Vare 814",null,null,null,null,null,null,null,1]
[null,"Vare 815",null,null,null,null,null,null,null,1]
[null,"Vare 816",null,null,null,null,null,null,null,1]
[null,"Vare 817",null,null,null,null,null,null,null,1]
[null,"Vare 818",null,null,null,null,null,null,null,1]
[null,"Vare 819",null,null,null,null,null,null,null,1]
[null,"Vare 820",null,null,null,null,null,null,null,1]
[null,"Vare 821",null,null,null,null,null,null,null,1]
[null,"Vare 822",null,null,null,null,null,null,null,1]
[null,"Vare 823",null,null,null,null,null,null,null,1]
[null,"Vare 824",null,null,null,null,null,null,null,1]
[null,"Vare 825",null,null,null,null,null,null,null,1]
[null,"Vare 826",null,null,null,null,null,null,null,1]
[null,"Vare 827",null,null,null,null,null,null,null,1]
[null,"Vare 828",null,null,null,null,null,null,null,1]
[null,"Vare 829",null,null,null,null,null,null,null,1]
[null,"Vare 830",null,null,null,null,null,null,null,1]
[null,"Vare 831",null,null,null,null,null,null,null,1]
[null,"Vare 832",null,null,null,null,null,null,null,1]
[null,"Vare 833",null,null,null,null,null,null,null,1]
[null,"Vare 834",null,null,null,null,null,null,null,{"$f":"100%-(H845+I845)","v":1}]
[null,"Vare 835",null,null,null,null,null,null,null,1]
[null,"Vare 836",null,null,null,null,null,null,null,1]
[null,"Vare 837",null,null,null,null,null,null,null,1]
[null,"Vare 838",null,null,null,null,null,null,null,1]
[null,"Vare 839",null,null,null,null,null,null,null,1]
[null,"Vare 840",null,null,null,null,null,null,null,1]
[null,"Vare 841",null,null,null,null,null,null,null,1]
[null,"Vare 842",null,null,null,null,null,null,null,1]
[null,"Vare 843",null,null,null,null,null,null,null,1]
[null,"Vare 844",null,null,null,null,null,null,null,1]
[null,"Vare 845",null,null,null,null,null,null,null,1]
[null,"Vare 846",null,null,null,null,null,null,null,1]
[null,"Vare 847",null,null,null,null,null,null,null,1]
[null,"Vare 848",null,null,null,null,null,null,null,1]
[null,"Vare 849",null,null,null,null,null,null,null,1]
[null,"Vare 850",null,null,null,null,null,null,null,1]
[null,"Vare 851",null,null,null,null,null,null,null,1]
[null,"Vare 852",null,null,null,null,null,null,null,1]
[null,"Vare 853",null,null,null,null,null,null,null,1]
[null,"Vare 854",null,null,null,null,null,null,null,1]
[null,"Vare 855",null,null,null,null,null,null,null,1]
[null,"Vare 856",null,null,null,null,null,null,null,1]
[null,"Vare 857",null,null,null,null,null,null,null,1]
[null,"Vare 858",null,null,null,null,null,null,null,1]
[null,"Vare 859",null,null,null,null,null,null,null,1]
[null,"Vare 860",null,null,null,null,null,null,null,1]
[null,"Vare 861",null,null,null,null,null,null,null,1]
[null,"Vare 862",null,null,null,null,null,null,null,1]
[null,"Vare 863",null,null,null,null,null,null,null,1]
[null,"Vare 864",null,null,null,null,null,null,null,1]
[null,"Vare 865",null,null,null,null,null,null,null,1]
[null,"Vare 866",null,null,null,null,null,null,null,1]
[null,"Vare 867",null,null,null,null,null,null,null,1]
[null,"Vare 868",null,null,null,null,null,null,null,1]
[null,"Vare 869",null,null,null,null,null,null,null,1]
[null,"Vare 870",null,null,null,null,null,null,null,1]
[null,"Vare 871",null,null,null,null,null,null,null,1]
[null,"Vare 872",null,null,null,null,null,null,null,1]
[null,"Vare 873",null,null,null,null,null,null,null,1]
[null,"Vare 874",null,null,null,null,null,null,null,1]
[null,"Vare 875",null,null,null,null,null,null,null,1]
[null,"Vare 876",null,null,null,null,null,null,null,1]
[null,"Vare 877",null,null,null,null,null,null,null,1]
[null,"Vare 878",null,null,null,null,null,null,null,1]
[null,"Vare 879",null,null,null,null,null,null,null,1]
[null,"Vare 880",null,null,null,null,null,null,null,1]
[null,"Vare 881",null,null,null,null,null,null,null,1]
[null,"Vare 882",null,null,null,null,null,null,null,1]
[null,"Vare 883",null,null,null,null,null,null,null,1]
[null,"Vare 884",null,null,null,null,null,null,null,1]
[null,"Vare 885",null,null,null,null,null,null,null,1]
[null,"Vare 886",null,null,null,null,null,null,null,1]
[null,"Vare 887",null,null,null,null,null,null,null,1]
[null,"Vare 888",null,null,null,null,null,null,null,1]
[null,"Vare 889",null,null,null,null,null,null,null,1]
[null,"Vare 890",null,null,null,null,null,null,null,1]
[null,"Vare 891",null,null,null,null,null,null,null,1]
[null,"Vare 892",null,null,null,null,null,null,null,1]
[null,"Vare 893",null,null,null,null,null,null,null,1]
[null,"Vare 894",null,null,null,null,null,null,null,1]
[null,"Vare 895",null,null,null,null,null,null,null,1]
[null,"Vare 896",null,null,null,null,null,null,null,1]
[null,"Vare 897",null,null,null,null,null,null,null,1]
[null,"Vare 898",null,null,null,null,null,null,null,{"$f":"100%-(H909+I909)","v":1}]
[null,"Vare 899",null,null,null,null,null,null,null,1]
[null,"Vare 900",null,null,null,null,null,null,null,1]
[null,"Vare 901",null,null,null,null,null,null,null,1]
[null,"Vare 902",null,null,null,null,null,null,null,1]
[null,"Vare 903",null,null,null,null,null,null,null,1]
[null,"Vare 904",null,null,null,null,null,null,null,1]
[null,"Vare 905",null,null,null,null,null,null,null,1]
[null,"Vare 906",null,null,null,null,null,null,null,1]
[null,"Vare 907",null,null,null,null,null,null,null,1]
[null,"Vare 908",null,null,null,null,null,null,null,1]
[null,"Vare 909",null,null,null,null,null,null,null,1]
[null,"Vare 910",null,null,null,null,null,null,null,1]
[null,"Vare 911",null,null,null,null,null,null,null,1]
[null,"Vare 912",null,null,null,null,null,null,null,1]
[null,"Vare 913",null,null,null,null,null,null,null,1]
[null,"Vare 914",null,null,null,null,null,null,null,1]
[null,"Vare 915",null,null,null,null,null,null,null,1]
[null,"Vare 916",null,null,null,null,null,null,null,1]
[null,"Vare 917",null,null,null,null,null,null,null,1]
[null,"Vare 918",null,null,null,null,null,null,null,1]
[null,"Vare 919",null,null,null,null,null,null,null,1]
[null,"Vare 920",null,null,null,null,null,null,null,1]
[null,"Vare 921",null,null,null,null,null,null,null,1]
[null,"Vare 922",null,null,null,null,null,null,null,1]
[null,"Vare 923",null,null,null,null,null,null,null,1]
[null,"Vare 924",null,null,null,null,null,null,null,1]
[null,"Vare 925",null,null,null,null,null,null,null,1]
[null,"Vare 926",null,null,null,null,null,null,null,1]
[null,"Vare 927",null,null,null,null,null,null,null,1]
[null,"Vare 928",null,null,null,null,null,null,null,1]
[null,"Vare 929",null,null,null,null,null,null,null,1]
[null,"Vare 930",null,null,null,null,null,null,null,1]
[null,"Vare 931",null,null,null,null,null,null,null,1]
[null,"Vare 932",null,null,null,null,null,null,null,1]
[null,"Vare 933",null,null,null,null,null,null,null,1]
[null,"Vare 934",null,null,null,null,null,null,null,1]
[null,"Vare 935",null,null,null,null,null,null,null,1]
[null,"Vare 936",null,null,null,null,null,null,null,1]
[null,"Vare 937",null,null,null,null,null,null,null,1]
[null,"Vare 938",null,null,null,null,null,null,null,1]
[null,"Vare 939",null,null,null,null,null,null,null,1]
[null,"Vare 940",null,null,null,null,null,null,null,1]
[null,"Vare 941",null,null,null,null,null,null,null,1]
[null,"Vare 942",null,null,null,null,null,null,null,1]
[null,"Vare 943",null,null,null,null,null,null,null,1]
[null,"Vare 944",null,null,null,null,null,null,null,1]
[null,"Vare 945",null,null,null,null,null,null,null,1]
[null,"Vare 946",null,null,null,null,null,null,null,1]
[null,"Vare 947",null,null,null,null,null,null,null,1]
[null,"Vare 948",null,null,null,null,null,null,null,1]
[null,"Vare 949",null,null,null,null,null,null,null,1]
[null,"Vare 950",null,null,null,null,null,null,null,1]
[null,"Vare 951",null,null,null,null,null,null,null,1]
[null,"Vare 952",null,null,null,null,null,null,null,1]
[null,"Vare 953",null,null,null,null,null,null,null,1]
[null,"Vare 954",null,null,null,null,null,null,null,1]
[null,"Vare 955",null,null,null,null,null,null,null,1]
[null,"Vare 956",null,null,null,null,null,null,null,1]
[null,"Vare 957",null,null,null,null,null,null,null,1]
[null,"Vare 958",null,null,null,null,null,null,null,1]
[null,"Vare 959",null,null,null,null,null,null,null,1]
[null,"Vare 960",null,null,null,null,null,null,null,1]
[null,"Vare 961",null,null,null,null,null,null,null,1]
[null,"Vare 962",null,null,null,null,null,null,null,{"$f":"100%-(H973+I973)","v":1}]
[null,"Vare 963",null,null,null,null,null,null,null,1]
[null,"Vare 964",null,null,null,null,null,null,null,1]
[null,"Vare 965",null,null,null,null,null,null,null,1]
[null,"Vare 966",null,null,null,null,null,null,null,1]
[null,"Vare 967",null,null,null,null,null,null,null,1]
[null,"Vare 968",null,null,null,null,null,null,null,1]
[null,"Vare 969",null,null,null,null,null,null,null,1]
[null,"Vare 970",null,null,null,null,null,null,null,1]
[null,"Vare 971",null,null,null,null,null,null,null,1]
[null,"Vare 972",null,null,null,null,null,null,null,1]
[null,"Vare 973",null,null,null,null,null,null,null,1]
[null,"Vare 974",null,null,null,null,null,null,null,1]
[null,"Vare 975",null,null,null,null,null,null,null,1]
[null,"Vare 976",null,null,null,null,null,null,null,1]
[null,"Vare 977",null,null,null,null,null,null,null,1]
[null,"Vare 978",null,null,null,null,null,null,null,1]
[null,"Vare 979",null,null,null,null,null,null,null,1]
[null,"Vare 980",null,null,null,null,null,null,null,1]
[null,"Vare 981",null,null,null,null,null,null,null,1]
[null,"Vare 982",null,null,null,null,null,null,null,1]
[null,"Vare 983",null,null,null,null,null,null,null,1]
[null,"Vare 984",null,null,null,null,null,null,null,1]
[null,"Vare 985",null,null,null,null,null,null,null,1]
[null,"Vare 986",null,null,null,null,null,null,null,1]
[null,"Vare 987",null,null,null,null,null,null,null,1]
[null,"Vare 988",null,null,null,null,null,null,null,1]
[null,"Vare 989",null,null,null,null,null,null,null,1]
[null,"Vare 990",null,null,null,null,null,null,null,1]
[null,"Vare 991",null,null,null,null,null,null,null,1]
[null,"Vare 992",null,null,null,null,null,null,null,1]
[null,"Vare 993",null,null,null,null,null,null,null,1]
[null,"Vare 994",null,null,null,null,null,null,null,1]
[null,"Vare 995",null,null,null,null,null,null,null,1]
[null,"Vare 996",null,null,null,null,null,null,null,1]
[null,"Vare 997",null,null,null,null,null,null,null,1]
[null,"Vare 998",null,null,null,null,null,null,null,1]
[null,"Vare 999",null,null,null,null,null,null,null,1]
[null,"Vare 1000",null,null,null,null,null,null,null,1]
[null,"Vare 1001",null,null,null,null,null,null,null,1]
[null,"Vare 1002",null,null,null,null,null,null,null,1]
[null,"Vare 1003",null,null,null,null,null,null,null,1]
[null,"Vare 1004",null,null,null,null,null,null,null,1]
[null,"Vare 1005",null,null,null,null,null,null,null,1]
[null,"Vare 1006",null,null,null,null,null,null,null,1]
[null,"Vare 1007",null,null,null,null,null,null,null,1]
[null,"Vare 1008",null,null,null,null,null,null,null,1]
[null,"Vare 1009",null,null,null,null,null,null,null,1]
[null,"Vare 1010",null,null,null,null,null,null,null,1]
[null,"Vare 1011",null,null,null,null,null,null,null,1]
[null,"Vare 1012",null,null,null,null,null,null,null,1]
[null,"Vare 1013",null,null,null,null,null,null,null,1]
[null,"Vare 1014",null,null,null,null,null,null,null,1]
[null,"Vare 1015",null,null,null,null,null,null,null,1]
[null,"Vare 1016",null,null,null,null,null,null,null,1]
[null,"Vare 1017",null,null,null,null,null,null,null,1]
[null,"Vare 1018",null,null,null,null,null,null,null,1]
[null,"Vare 1019",null,null,null,null,null,null,null,1]
[null,"Vare 1020",null,null,null,null,null,null,null,1]
[null,"Vare 1021",null,null,null,null,null,null,null,1]
[null,"Vare 1022",null,null,null,null,null,null,null,1]
[null,"Vare 1023",null,null,null,null,null,null,null,1]
[null,"Vare 1024",null,null,null,null,null,null,null,1]
[null,"Vare 1025",null,null,null,null,null,null,null,1]
[null,"Vare 1026",null,null,null,null,null,null,null,{"$f":"100%-(H1037+I1037)","v":1}]
[null,"Vare 1027",null,null,null,null,null,null,null,1]
[null,"Vare 1028",null,null,null,null,null,null,null,1]
[null,"Vare 1029",null,null,null,null,null,null,null,1]
[null,"Vare 1030",null,null,null,null,null,null,null,1]
[null,"Vare 1031",null,null,null,null,null,null,null,1]
[null,"Vare 1032",null,null,null,null,null,null,null,1]
[null,"Vare 1033",null,null,null,null,null,null,null,1]
[null,"Vare 1034",null,null,null,null,null,null,null,1]
[null,"Vare 1035",null,null,null,null,null,null,null,1]
[null,"Vare 1036",null,null,null,null,null,null,null,1]
[null,"Vare 1037",null,null,null,null,null,null,null,1]
[null,"Vare 1038",null,null,null,null,null,null,null,1]
[null,"Vare 1039",null,null,null,null,null,null,null,1]
[null,"Vare 1040",null,null,null,null,null,null,null,1]
[null,"Vare 1041",null,null,null,null,null,null,null,1]
[null,"Vare 1042",null,null,null,null,null,null,null,1]
[null,"Vare 1043",null,null,null,null,null,null,null,1]
[null,"Vare 1044",null,null,null,null,null,null,null,1]
[null,"Vare 1045",null,null,null,null,null,null,null,1]
[null,"Vare 1046",null,null,null,null,null,null,null,1]
[null,"Vare 1047",null,null,null,null,null,null,null,1]
[null,"Vare 1048",null,null,null,null,null,null,null,1]
[null,"Vare 1049",null,null,null,null,null,null,null,1]
[null,"Vare 1050",null,null,null,null,null,null,null,1]
[null,"Vare 1051",null,null,null,null,null,null,null,1]
[null,"Vare 1052",null,null,null,null,null,null,null,1]
[null,"Vare 1053",null,null,null,null,null,null,null,1]
[null,"Vare 1054",null,null,null,null,null,null,null,1]
[null,"Vare 1055",null,null,null,null,null,null,null,1]
[null,"Vare 1056",null,null,null,null,null,null,null,1]
[null,"Vare 1057",null,null,null,null,null,null,null,1]
[null,"Vare 1058",null,null,null,null,null,null,null,1]
[null,"Vare 1059",null,null,null,null,null,null,null,1]
[null,"Vare 1060",null,null,null,null,null,null,null,1]
[null,"Vare 1061",null,null,null,null,null,null,null,1]
[null,"Vare 1062",null,null,null,null,null,null,null,1]
[null,"Vare 1063",null,null,null,null,null,null,null,1]
[null,"Vare 1064",null,null,null,null,null,null,null,1]
[null,"Vare 1065",null,null,null,null,null,null,null,1]
[null,"Vare 1066",null,null,null,null,null,null,null,1]
[null,"Vare 1067",null,null,null,null,null,null,null,1]
[null,"Vare 1068",null,null,null,null,null,null,null,1]
[null,"Vare 1069",null,null,null,null,null,null,null,1]
[null,"Vare 1070",null,null,null,null,null,null,null,1]
[null,"Vare 1071",null,null,null,null,null,null,null,1]
[null,"Vare 1072",null,null,null,null,null,null,null,1]
[null,"Vare 1073",null,null,null,null,null,null,null,1]
[null,"Vare 1074",null,null,null,null,null,null,null,1]
[null,"Vare 1075",null,null,null,null,null,null,null,1]
[null,"Vare 1076",null,null,null,null,null,null,null,1]
[null,"Vare 1077",null,null,null,null,null,null,null,1]
[null,"Vare 1078",null,null,null,null,null,null,null,1]
[null,"Vare 1079",null,null,null,null,null,null,null,1]
[null,"Vare 1080",null,null,null,null,null,null,null,1]
[null,"Vare 1081",null,null,null,null,null,null,null,1]
[null,"Vare 1082",null,null,null,null,null,null,null,1]
[null,"Vare 1083",null,null,null,null,null,null,null,1]
[null,"Vare 1084",null,null,null,null,null,null,null,1]
[null,"Vare 1085",null,null,null,null,null,null,null,1]
[null,"Vare 1086",null,null,null,null,null,null,null,1]
[null,"Vare 1087",null,null,null,null,null,null,null,1]
[null,"Vare 1088",null,null,null,null,null,null,null,1]
[null,"Vare 1089",null,null,null,null,null,null,null,1]
[null,"Vare 1090",null,null,null,null,null,null,null,{"$f":"100%-(H1101+I1101)","v":1}]
[null,"Vare 1091",null,null,null,null,null,null,null,1]
[null,"Vare 1092",null,null,null,null,null,null,null,1]
[null,"Vare 1093",null,null,null,null,null,null,null,1]
[null,"Vare 1094",null,null,null,null,null,null,null,1]
[null,"Vare 1095",null,null,null,null,null,null,null,1]
[null,"Vare 1096",null,null,null,null,null,null,null,1]
[null,"Vare 1097",null,null,null,null,null,null,null,1]
[null,"Vare 1098",null,null,null,null,null,null,null,1]
[null,"Vare 1099",null,null,null,null,null,null,null,1]
[null,"Vare 1100",null,null,null,null,null,null,null,1]
[null,"Vare 1101",null,null,null,null,null,null,null,1]
[null,"Vare 1102",null,null,null,null,null,null,null,1]
[null,"Vare 1103",null,null,null,null,null,null,null,1]
[null,"Vare 1104",null,null,null,null,null,null,null,1]
[null,"Vare 1105",null,null,null,null,null,null,null,1]
[null,"Vare 1106",null,null,null,null,null,null,null,1]
[null,"Vare 1107",null,null,null,null,null,null,null,1]
[null,"Vare 1108",null,null,null,null,null,null,null,1]
[null,"Vare 1109",null,null,null,null,null,null,null,1]
[null,"Vare 1110",null,null,null,null,null,null,null,1]
[null,"Vare 1111",null,null,null,null,null,null,null,1]
[null,"Vare 1112",null,null,null,null,null,null,null,1]
[null,"Vare 1113",null,null,null,null,null,null,null,1]
[null,"Vare 1114",null,null,null,null,null,null,null,1]
[null,"Vare 1115",null,null,null,null,null,null,null,1]
[null,"Vare 1116",null,null,null,null,null,null,null,1]
[null,"Vare 1117",null,null,null,null,null,null,null,1]
[null,"Vare 1118",null,null,null,null,null,null,null,1]
[null,"Vare 1119",null,null,null,null,null,null,null,1]
[null,"Vare 1120",null,null,null,null,null,null,null,1]
[null,"Vare 1121",null,null,null,null,null,null,null,1]
[null,"Vare 1122",null,null,null,null,null,null,null,1]
[null,"Vare 1123",null,null,null,null,null,null,null,1]
[null,"Vare 1124",null,null,null,null,null,null,null,1]
[null,"Vare 1125",null,null,null,null,null,null,null,1]
[null,"Vare 1126",null,null,null,null,null,null,null,1]
[null,"Vare 1127",null,null,null,null,null,null,null,1]
[null,"Vare 1128",null,null,null,null,null,null,null,1]
[null,"Vare 1129",null,null,null,null,null,null,null,1]
[null,"Vare 1130",null,null,null,null,null,null,null,1]
[null,"Vare 1131",null,null,null,null,null,null,null,1]
[null,"Vare 1132",null,null,null,null,null,null,null,1]
[null,"Vare 1133",null,null,null,null,null,null,null,1]
[null,"Vare 1134",null,null,null,null,null,null,null,1]
[null,"Vare 1135",null,null,null,null,null,null,null,1]
[null,"Vare 1136",null,null,null,null,null,null,null,1]
[null,"Vare 1137",null,null,null,null,null,null,null,1]
[null,"Vare 1138",null,null,null,null,null,null,null,1]
[null,"Vare 1139",null,null,null,null,null,null,null,1]
[null,"Vare 1140",null,null,null,null,null,null,null,1]
[null,"Vare 1141",null,null,null,null,null,null,null,1]
[null,"Vare 1142",null,null,null,null,null,null,null,1]
[null,"Vare 1143",null,null,null,null,null,null,null,1]
[null,"Vare 1144",null,null,null,null,null,null,null,1]
[null,"Vare 1145",null,null,null,null,null,null,null,1]
[null,"Vare 1146",null,null,null,null,null,null,null,1]
[null,"Vare 1147",null,null,null,null,null,null,null,1]
[null,"Vare 1148",null,null,null,null,null,null,null,1]
[null,"Vare 1149",null,null,null,null,null,null,null,1]
[null,"Vare 1150",null,null,null,null,null,null,null,1]
[null,"Vare 1151",null,null,null,null,null,null,null,1]
[null,"Vare 1152",null,null,null,null,null,null,null,1]
[null,"Vare 1153",null,null,null,null,null,null,null,1]
[null,"Vare 1154",null,null,null,null,null,null,null,{"$f":"100%-(H1165+I1165)","v":1}]
[null,"Vare 1155",null,null,null,null,null,null,null,1]
[null,"Vare 1156",null,null,null,null,null,null,null,1]
[null,"Vare 1157",null,null,null,null,null,null,null,1]
[null,"Vare 1158",null,null,null,null,null,null,null,1]
[null,"Vare 1159",null,null,null,null,null,null,null,1]
[null,"Vare 1160",null,null,null,null,null,null,null,1]
[null,"Vare 1161",null,null,null,null,null,null,null,1]
[null,"Vare 1162",null,null,null,null,null,null,null,1]
[null,"Vare 1163",null,null,null,null,null,null,null,1]
[null,"Vare 1164",null,null,null,null,null,null,null,1]
[null,"Vare 1165",null,null,null,null,null,null,null,1]
[null,"Vare 1166",null,null,null,null,null,null,null,1]
[null,"Vare 1167",null,null,null,null,null,null,null,1]
[null,"Vare 1168",null,null,null,null,null,null,null,1]
[null,"Vare 1169",null,null,null,null,null,null,null,1]
[null,"Vare 1170",null,null,null,null,null,null,null,1]
[null,"Vare 1171",null,null,null,null,null,null,null,1]
[null,"Vare 1172",null,null,null,null,null,null,null,1]
[null,"Vare 1173",null,null,null,null,null,null,null,1]
[null,"Vare 1174",null,null,null,null,null,null,null,1]
[null,"Vare 1175",null,null,null,null,null,null,null,1]
[null,"Vare 1176",null,null,null,null,null,null,null,1]
[null,"Vare 1177",null,null,null,null,null,null,null,1]
[null,"Vare 1178",null,null,null,null,null,null,null,1]
[null,"Vare 1179",null,null,null,null,null,null,null,1]
[null,"Vare 1180",null,null,null,null,null,null,null,1]
[null,"Vare 1181",null,null,null,null,null,null,null,1]
[null,"Vare 1182",null,null,null,null,null,null,null,1]
[null,"Vare 1183",null,null,null,null,null,null,null,1]
[null,"Vare 1184",null,null,null,null,null,null,null,1]
[null,"Vare 1185",null,null,null,null,null,null,null,1]
[null,"Vare 1186",null,null,null,null,null,null,null,1]
[null,"Vare 1187",null,null,null,null,null,null,null,1]
[null,"Vare 1188",null,null,null,null,null,null,null,1]
[null,"Vare 1189",null,null,null,null,null,null,null,1]
[null,"Vare 1190",null,null,null,null,null,null,null,1]
[null,"Vare 1191",null,null,null,null,null,null,null,1]
[null,"Vare 1192",null,null,null,null,null,null,null,1]
[null,"Vare 1193",null,null,null,null,null,null,null,1]
[null,"Vare 1194",null,null,null,null,null,null,null,1]
[null,"Vare 1195",null,null,null,null,null,null,null,1]
[null,"Vare 1196",null,null,null,null,null,null,null,1]
[null,"Vare 1197",null,null,null,null,null,null,null,1]
[null,"Vare 1198",null,null,null,null,null,null,null,1]
[null,"Vare 1199",null,null,null,null,null,null,null,1]
[null,"Vare 1200",null,null,null,null,null,null,null,1]
[null,"Vare 1201",null,null,null,null,null,null,null,1]
[null,"Vare 1202",null,null,null,null,null,null,null,1]
[null,"Vare 1203",null,null,null,null,null,null,null,1]
[null,"Vare 1204",null,null,null,null,null,null,null,1]
[null,"Vare 1205",null,null,null,null,null,null,null,1]
[null,"Vare 1206",null,null,null,null,null,null,null,1]
[null,"Vare 1207",null,null,null,null,null,null,null,1]
[null,"Vare 1208",null,null,null,null,null,null,null,1]
[null,"Vare 1209",null,null,null,null,null,null,null,1]
[null,"Vare 1210",null,null,null,null,null,null,null,1]
[null,"Vare 1211",null,null,null,null,null,null,null,1]
[null,"Vare 1212",null,null,null,null,null,null,null,1]
[null,"Vare 1213",null,null,null,null,null,null,null,1]
[null,"Vare 1214",null,null,null,null,null,null,null,1]
[null,"Vare 1215",null,null,null,null,null,null,null,1]
[null,"Vare 1216",null,null,null,null,null,null,null,1]
[null,"Vare 1217",null,null,null,null,null,null,null,1]
[null,"Vare 1218",null,null,null,null,null,null,null,{"$f":"100%-(H1229+I1229)","v":1}]
[null,"Vare 1219",null,null,null,null,null,null,null,1]
[null,"Vare 1220",null,null,null,null,null,null,null,1]
[null,"Vare 1221",null,null,null,null,null,null,null,1]
[null,"Vare 1222",null,null,null,null,null,null,null,1]
[null,"Vare 1223",null,null,null,null,null,null,null,1]
[null,"Vare 1224",null,null,null,null,null,null,null,1]
[null,"Vare 1225",null,null,null,null,null,null,null,1]
[null,"Vare 1226",null,null,null,null,null,null,null,1]
[null,"Vare 1227",null,null,null,null,null,null,null,1]
[null,"Vare 1228",null,null,null,null,null,null,null,1]
[null,"Vare 1229",null,null,null,null,null,null,null,1]
[null,"Vare 1230",null,null,null,null,null,null,null,1]
[null,"Vare 1231",null,null,null,null,null,null,null,1]
[null,"Vare 1232",null,null,null,null,null,null,null,1]
[null,"Vare 1233",null,null,null,null,null,null,null,1]
[null,"Vare 1234",null,null,null,null,null,null,null,1]
[null,"Vare 1235",null,null,null,null,null,null,null,1]
[null,"Vare 1236",null,null,null,null,null,null,null,1]
[null,"Vare 1237",null,null,null,null,null,null,null,1]
[null,"Vare 1238",null,null,null,null,null,null,null,1]
[null,"Vare 1239",null,null,null,null,null,null,null,1]
[null,"Vare 1240",null,null,null,null,null,null,null,1]
[null,"Vare 1241",null,null,null,null,null,null,null,1]
[null,"Vare 1242",null,null,null,null,null,null,null,1]
[null,"Vare 1243",null,null,null,null,null,null,null,1]
[null,"Vare 1244",null,null,null,null,null,null,null,1]
[null,"Vare 1245",null,null,null,null,null,null,null,1]
[null,"Vare 1246",null,null,null,null,null,null,null,1]
[null,"Vare 1247",null,null,null,null,null,null,null,1]
[null,"Vare 1248",null,null,null,null,null,null,null,1]
[null,"Vare 1249",null,null,null,null,null,null,null,1]
[null,"Vare 1250",null,null,null,null,null,null,null,1]
[null,"Vare 1251",null,null,null,null,null,null,null,1]
[null,"Vare 1252",null,null,null,null,null,null,null,1]
[null,"Vare 1253",null,null,null,null,null,null,null,1]
[null,"Vare 1254",null,null,null,null,null,null,null,1]
[null,"Vare 1255",null,null,null,null,null,null,null,1]
[null,"Vare 1256",null,null,null,null,null,null,null,1]
[null,"Vare 1257",null,null,null,null,null,null,null,1]
[null,"Vare 1258",null,null,null,null,null,null,null,1]
[null,"Vare 1259",null,null,null,null,null,null,null,1]
[null,"Vare 1260",null,null,null,null,null,null,null,1]
[null,"Vare 1261",null,null,null,null,null,null,null,1]
[null,"Vare 1262",null,null,null,null,null,null,null,1]
[null,"Vare 1263",null,null,null,null,null,null,null,1]
[null,"Vare 1264",null,null,null,null,null,null,null,1]
[null,"Vare 1265",null,null,null,null,null,null,null,1]
[null,"Vare 1266",null,null,null,null,null,null,null,1]
[null,"Vare 1267",null,null,null,null,null,null,null,1]
[null,"Vare 1268",null,null,null,null,null,null,null,1]
[null,"Vare 1269",null,null,null,null,null,null,null,1]
[null,"Vare 1270",null,null,null,null,null,null,null,1]
[null,"Vare 1271",null,null,null,null,null,null,null,1]
[null,"Vare 1272",null,null,null,null,null,null,null,1]
[null,"Vare 1273",null,null,null,null,null,null,null,1]
[null,"Vare 1274",null,null,null,null,null,null,null,1]
[null,"Vare 1275",null,null,null,null,null,null,null,1]
[null,"Vare 1276",null,null,null,null,null,null,null,1]
[null,"Vare 1277",null,null,null,null,null,null,null,1]
[null,"Vare 1278",null,null,null,null,null,null,null,1]
[null,"Vare 1279",null,null,null,null,null,null,null,1]
[null,"Vare 1280",null,null,null,null,null,null,null,1]
[null,"Vare 1281",null,null,null,null,null,null,null,1]
[null,"Vare 1282",null,null,null,null,null,null,null,{"$f":"100%-(H1293+I1293)","v":1}]
[null,"Vare 1283",null,null,null,null,null,null,null,1]
[null,"Vare 1284",null,null,null,null,null,null,null,1]
[null,"Vare 1285",null,null,null,null,null,null,null,1]
[null,"Vare 1286",null,null,null,null,null,null,null,1]
[null,"Vare 1287",null,null,null,null,null,null,null,1]
[null,"Vare 1288",null,null,null,null,null,null,null,1]
[null,"Vare 1289",null,null,null,null,null,null,null,1]
[null,"Vare 1290",null,null,null,null,null,null,null,1]
[null,"Vare 1291",null,null,null,null,null,null,null,1]
[null,"Vare 1292",null,null,null,null,null,null,null,1]
[null,"Vare 1293",null,null,null,null,null,null,null,1]
[null,"Vare 1294",null,null,null,null,null,null,null,1]
[null,"Vare 1295",null,null,null,null,null,null,null,1]
[null,"Vare 1296",null,null,null,null,null,null,null,1]
[null,"Vare 1297",null,null,null,null,null,null,null,1]
[null,"Vare 1298",null,null,null,null,null,null,null,1]
[null,"Vare 1299",null,null,null,null,null,null,null,1]
[null,"Vare 1300",null,null,null,null,null,null,null,1]
[null,"Vare 1301",null,null,null,null,null,null,null,1]
[null,"Vare 1302",null,null,null,null,null,null,null,1]
[null,"Vare 1303",null,null,null,null,null,null,null,1]
[null,"Vare 1304",null,null,null,null,null,null,null,1]
[null,"Vare 1305",null,null,null,null,null,null,null,1]
[null,"Vare 1306",null,null,null,null,null,null,null,1]
[null,"Vare 1307",null,null,null,null,null,null,null,1]
[null,"Vare 1308",null,null,null,null,null,null,null,1]
[null,"Vare 1309",null,null,null,null,null,null,null,1]
[null,"Vare 1310",null,null,null,null,null,null,null,1]
[null,"Vare 1311",null,null,null,null,null,null,null,1]
[null,"Vare 1312",null,null,null,null,null,null,null,1]
[null,"Vare 1313",null,null,null,null,null,null,null,1]
[null,"Vare 1314",null,null,null,null,null,null,null,1]
[null,"Vare 1315",null,null,null,null,null,null,null,1]
[null,"Vare 1316",null,null,null,null,null,null,null,1]
[null,"Vare 1317",null,null,null,null,null,null,null,1]
[null,"Vare 1318",null,null,null,null,null,null,null,1]
[null,"Vare 1319",null,null,null,null,null,null,null,1]
[null,"Vare 1320",null,null,null,null,null,null,null,1]
[null,"Vare 1321",null,null,null,null,null,null,null,1]
[null,"Vare 1322",null,null,null,null,null,null,null,1]
[null,"Vare 1323",null,null,null,null,null,null,null,1]
[null,"Vare 1324",null,null,null,null,null,null,null,1]
[null,"Vare 1325",null,null,null,null,null,null,null,1]
[null,"Vare 1326",null,null,null,null,null,null,null,1]
[null,"Vare 1327",null,null,null,null,null,null,null,1]
[null,"Vare 1328",null,null,null,null,null,null,null,1]
[null,"Vare 1329",null,null,null,null,null,null,null,1]
[null,"Vare 1330",null,null,null,null,null,null,null,1]
[null,"Vare 1331",null,null,null,null,null,null,null,1]
[null,"Vare 1332",null,null,null,null,null,null,null,1]
[null,"Vare 1333",null,null,null,null,null,null,null,1]
[null,"Vare 1334",null,null,null,null,null,null,null,1]
[null,"Vare 1335",null,null,null,null,null,null,null,1]
[null,"Vare 1336",null,null,null,null,null,null,null,1]
[null,"Vare 1337",null,null,null,null,null,null,null,1]
[null,"Vare 1338",null,null,null,null,null,null,null,1]
[null,"Vare 1339",null,null,null,null,null,null,null,1]
[null,"Vare 1340",null,null,null,null,null,null,null,1]
[null,"Vare 1341",null,null,null,null,null,null,null,1]
[null,"Vare 1342",null,null,null,null,null,null,null,1]
[null,"Vare 1343",null,null,null,null,null,null,null,1]
[null,"Vare 1344",null,null,null,null,null,null,null,1]
[null,"Vare 1345",null,null,null,null,null,null,null,1]
[null,"Vare 1346",null,null,null,null,null,null,null,{"$f":"100%-(H1357+I1357)","v":1}]
[null,"Vare 1347",null,null,null,null,null,null,null,1]
[null,"Vare 1348",null,null,null,null,null,null,null,1]
[null,"Vare 1349",null,null,null,null,null,null,null,1]
[null,"Vare 1350",null,null,null,null,null,null,null,1]
[null,"Vare 1351",null,null,null,null,null,null,null,1]
[null,"Vare 1352",null,null,null,null,null,null,null,1]
[null,"Vare 1353",null,null,null,null,null,null,null,1]
[null,"Vare 1354",null,null,null,null,null,null,null,1]
[null,"Vare 1355",null,null,null,null,null,null,null,1]
[null,"Vare 1356",null,null,null,null,null,null,null,1]
[null,"Vare 1357",null,null,null,null,null,null,null,1]
[null,"Vare 1358",null,null,null,null,null,null,null,1]
[null,"Vare 1359",null,null,null,null,null,null,null,1]
[null,"Vare 1360",null,null,null,null,null,null,null,1]
[null,"Vare 1361",null,null,null,null,null,null,null,1]
[null,"Vare 1362",null,null,null,null,null,null,null,1]
[null,"Vare 1363",null,null,null,null,null,null,null,1]
[null,"Vare 1364",null,null,null,null,null,null,null,1]
[null,"Vare 1365",null,null,null,null,null,null,null,1]
[null,"Vare 1366",null,null,null,null,null,null,null,1]
[null,"Vare 1367",null,null,null,null,null,null,null,1]
[null,"Vare 1368",null,null,null,null,null,null,null,1]
[null,"Vare 1369",null,null,null,null,null,null,null,1]
[null,"Vare 1370",null,null,null,null,null,null,null,1]
[null,"Vare 1371",null,null,null,null,null,null,null,1]
[null,"Vare 1372",null,null,null,null,null,null,null,1]
[null,"Vare 1373",null,null,null,null,null,null,null,1]
[null,"Vare 1374",null,null,null,null,null,null,null,1]
[null,"Vare 1375",null,null,null,null,null,null,null,1]
[null,"Vare 1376",null,null,null,null,null,null,null,1]
[null,"Vare 1377",null,null,null,null,null,null,null,1]
[null,"Vare 1378",null,null,null,null,null,null,null,1]
[null,"Vare 1379",null,null,null,null,null,null,null,1]
[null,"Vare 1380",null,null,null,null,null,null,null,1]
[null,"Vare 1381",null,null,null,null,null,null,null,1]
[null,"Vare 1382",null,null,null,null,null,null,null,1]
[null,"Vare 1383",null,null,null,null,null,null,null,1]
[null,"Vare 1384",null,null,null,null,null,null,null,1]
[null,"Vare 1385",null,null,null,null,null,null,null,1]
[null,"Vare 1386",null,null,null,null,null,null,null,1]
[null,"Vare 1387",null,null,null,null,null,null,null,1]
[null,"Vare 1388",null,null,null,null,null,null,null,1]
[null,"Vare 1389",null,null,null,null,null,null,null,1]
[null,"Vare 1390",null,null,null,null,null,null,null,1]
[null,"Vare 1391",null,null,null,null,null,null,null,1]
[null,"Vare 1392",null,null,null,null,null,null,null,1]
[null,"Vare 1393",null,null,null,null,null,null,null,1]
[null,"Vare 1394",null,null,null,null,null,null,null,1]
[null,"Vare 1395",null,null,null,null,null,null,null,1]
[null,"Vare 1396",null,null,null,null,null,null,null,1]
[null,"Vare 1397",null,null,null,null,null,null,null,1]
[null,"Vare 1398",null,null,null,null,null,null,null,1]
[null,"Vare 1399",null,null,null,null,null,null,null,1]
[null,"Vare 1400",null,null,null,null,null,null,null,1]
[null,"Vare 1401",null,null,null,null,null,null,null,1]
[null,"Vare 1402",null,null,null,null,null,null,null,1]
[null,"Vare 1403",null,null,null,null,null,null,null,1]
[null,"Vare 1404",null,null,null,null,null,null,null,1]
[null,"Vare 1405",null,null,null,null,null,null,null,1]
[null,"Vare 1406",null,null,null,null,null,null,null,1]
[null,"Vare 1407",null,null,null,null,null,null,null,1]
[null,"Vare 1408",null,null,null,null,null,null,null,1]
[null,"Vare 1409",null,null,null,null,null,null,null,1]
[null,"Vare 1410",null,null,null,null,null,null,null,{"$f":"100%-(H1421+I1421)","v":1}]
[null,"Vare 1411",null,null,null,null,null,null,null,1]
[null,"Vare 1412",null,null,null,null,null,null,null,1]
[null,"Vare 1413",null,null,null,null,null,null,null,1]
[null,"Vare 1414",null,null,null,null,null,null,null,1]
[null,"Vare 1415",null,null,null,null,null,null,null,1]
[null,"Vare 1416",null,null,null,null,null,null,null,1]
[null,"Vare 1417",null,null,null,null,null,null,null,1]
[null,"Vare 1418",null,null,null,null,null,null,null,1]
[null,"Vare 1419",null,null,null,null,null,null,null,1]
[null,"Vare 1420",null,null,null,null,null,null,null,1]
[null,"Vare 1421",null,null,null,null,null,null,null,1]
[null,"Vare 1422",null,null,null,null,null,null,null,1]
[null,"Vare 1423",null,null,null,null,null,null,null,1]
[null,"Vare 1424",null,null,null,null,null,null,null,1]
[null,"Vare 1425",null,null,null,null,null,null,null,1]
[null,"Vare 1426",null,null,null,null,null,null,null,1]
[null,"Vare 1427",null,null,null,null,null,null,null,1]
[null,"Vare 1428",null,null,null,null,null,null,null,1]
[null,"Vare 1429",null,null,null,null,null,null,null,1]
[null,"Vare 1430",null,null,null,null,null,null,null,1]
[null,"Vare 1431",null,null,null,null,null,null,null,1]
[null,"Vare 1432",null,null,null,null,null,null,null,1]
[null,"Vare 1433",null,null,null,null,null,null,null,1]
[null,"Vare 1434",null,null,null,null,null,null,null,1]
[null,"Vare 1435",null,null,null,null,null,null,null,1]
[null,"Vare 1436",null,null,null,null,null,null,null,1]
[null,"Vare 1437",null,null,null,null,null,null,null,1]
[null,"Vare 1438",null,null,null,null,null,null,null,1]
[null,"Vare 1439",null,null,null,null,null,null,null,1]
[null,"Vare 1440",null,null,null,null,null,null,null,1]
[null,"Vare 1441",null,null,null,null,null,null,null,1]
[null,"Vare 1442",null,null,null,null,null,null,null,1]
[null,"Vare 1443",null,null,null,null,null,null,null,1]
[null,"Vare 1444",null,null,null,null,null,null,null,1]
[null,"Vare 1445",null,null,null,null,null,null,null,1]
[null,"Vare 1446",null,null,null,null,null,null,null,1]
[null,"Vare 1447",null,null,null,null,null,null,null,1]
[null,"Vare 1448",null,null,null,null,null,null,null,1]
[null,"Vare 1449",null,null,null,null,null,null,null,1]
[null,"Vare 1450",null,null,null,null,null,null,null,1]
[null,"Vare 1451",null,null,null,null,null,null,null,1]
[null,"Vare 1452",null,null,null,null,null,null,null,1]
[null,"Vare 1453",null,null,null,null,null,null,null,1]
[null,"Vare 1454",null,null,null,null,null,null,null,1]
[null,"Vare 1455",null,null,null,null,null,null,null,1]
[null,"Vare 1456",null,null,null,null,null,null,null,1]
[null,"Vare 1457",null,null,null,null,null,null,null,1]
[null,"Vare 1458",null,null,null,null,null,null,null,1]
[null,"Vare 1459",null,null,null,null,null,null,null,1]
[null,"Vare 1460",null,null,null,null,null,null,null,1]
[null,"Vare 1461",null,null,null,null,null,null,null,1]
[null,"Vare 1462",null,null,null,null,null,null,null,1]
[null,"Vare 1463",null,null,null,null,null,null,null,1]
[null,"Vare 1464",null,null,null,null,null,null,null,1]
[null,"Vare 1465",null,null,null,null,null,null,null,1]
[null,"Vare 1466",null,null,null,null,null,null,null,1]
[null,"Vare 1467",null,null,null,null,null,null,null,1]
[null,"Vare 1468",null,null,null,null,null,null,null,1]
[null,"Vare 1469",null,null,null,null,null,null,null,1]
[null,"Vare 1470",null,null,null,null,null,null,null,1]
[null,"Vare 1471",null,null,null,null,null,null,null,1]
[null,"Vare 1472",null,null,null,null,null,null,null,1]
[null,"Vare 1473",null,null,null,null,null,null,null,1]
[null,"Vare 1474",null,null,null,null,null,null,null,{"$f":"100%-(H1485+I1485)","v":1}]
[null,"Vare 1475",null,null,null,null,null,null,null,1]
[null,"Vare 1476",null,null,null,null,null,null,null,1]
[null,"Vare 1477",null,null,null,null,null,null,null,1]
[null,"Vare 1478",null,null,null,null,null,null,null,1]
[null,"Vare 1479",null,null,null,null,null,null,null,1]
[null,"Vare 1480",null,null,null,null,null,null,null,1]
[null,"Vare 1481",null,null,null,null,null,null,null,1]
[null,"Vare 1482",null,null,null,null,null,null,null,1]
[null,"Vare 1483",null,null,null,null,null,null,null,1]
[null,"Vare 1484",null,null,null,null,null,null,null,1]
[null,"Vare 1485",null,null,null,null,null,null,null,1]
[null,"Vare 1486",null,null,null,null,null,null,null,1]
[null,"Vare 1487",null,null,null,null,null,null,null,1]
[null,"Vare 1488",null,null,null,null,null,null,null,1]
[null,"Vare 1489",null,null,null,null,null,null,null,1]
[null,"Vare 1490",null,null,null,null,null,null,null,1]
[null,"Vare 1491",null,null,null,null,null,null,null,1]
[null,"Vare 1492",null,null,null,null,null,null,null,1]
[null,"Vare 1493",null,null,null,null,null,null,null,1]
[null,"Vare 1494",null,null,null,null,null,null,null,1]
[null,"Vare 1495",null,null,null,null,null,null,null,1]
[null,"Vare 1496",null,null,null,null,null,null,null,1]
[null,"Vare 1497",null,null,null,null,null,null,null,1]
[null,"Vare 1498",null,null,null,null,null,null,null,1]
[null,"Vare 1499",null,null,null,null,null,null,null,1]
[null,"Vare 1500",null,null,null,null,null,null,null,1]
[null,"Vare 1501",null,null,null,null,null,null,null,1]
[null,"Vare 1502",null,null,null,null,null,null,null,1]
[null,"Vare 1503",null,null,null,null,null,null,null,1]
[null,"Vare 1504",null,null,null,null,null,null,null,1]
[null,"Vare 1505",null,null,null,null,null,null,null,1]
[null,"Vare 1506",null,null,null,null,null,null,null,1]
[null,"Vare 1507",null,null,null,null,null,null,null,1]
[null,"Vare 1508",null,null,null,null,null,null,null,1]
[null,"Vare 1509",null,null,null,null,null,null,null,1]
[null,"Vare 1510",null,null,null,null,null,null,null,1]
[null,"Vare 1511",null,null,null,null,null,null,null,1]
[null,"Vare 1512",null,null,null,null,null,null,null,1]
[null,"Vare 1513",null,null,null,null,null,null,null,1]
[null,"Vare 1514",null,null,null,null,null,null,null,1]
[null,"Vare 1515",null,null,null,null,null,null,null,1]
[null,"Vare 1516",null,null,null,null,null,null,null,1]
[null,"Vare 1517",null,null,null,null,null,null,null,1]
[null,"Vare 1518",null,null,null,null,null,null,null,1]
[null,"Vare 1519",null,null,null,null,null,null,null,1]
[null,"Vare 1520",null,null,null,null,null,null,null,1]
[null,"Vare 1521",null,null,null,null,null,null,null,1]
[null,"Vare 1522",null,null,null,null,null,null,null,1]
[null,"Vare 1523",null,null,null,null,null,null,null,1]
[null,"Vare 1524",null,null,null,null,null,null,null,1]
[null,"Vare 1525",null,null,null,null,null,null,null,1]
[null,"Vare 1526",null,null,null,null,null,null,null,1]
[null,"Vare 1527",null,null,null,null,null,null,null,1]
[null,"Vare 1528",null,null,null,null,null,null,null,1]
[null,"Vare 1529",null,null,null,null,null,null,null,1]
[null,"Vare 1530",null,null,null,null,null,null,null,1]
[null,"Vare 1531",null,null,null,null,null,null,null,1]
[null,"Vare 1532",null,null,null,null,null,null,null,1]
[null,"Vare 1533",null,null,null,null,null,null,null,1]
[null,"Vare 1534",null,null,null,null,null,null,null,1]
[null,"Vare 1535",null,null,null,null,null,null,null,1]
[null,"Vare 1536",null,null,null,null,null,null,null,1]
[null,"Vare 1537",null,null,null,null,null,null,null,1]
[null,"Vare 1538",null,null,null,null,null,null,null,{"$f":"100%-(H1549+I1549)","v":1}]
[null,"Vare 1539",null,null,null,null,null,null,null,1]
[null,"Vare 1540",null,null,null,null,null,null,null,1]
[null,"Vare 1541",null,null,null,null,null,null,null,1]
[null,"Vare 1542",null,null,null,null,null,null,null,1]
[null,"Vare 1543",null,null,null,null,null,null,null,1]
[null,"Vare 1544",null,null,null,null,null,null,null,1]
[null,"Vare 1545",null,null,null,null,null,null,null,1]
[null,"Vare 1546",null,null,null,null,null,null,null,1]
[null,"Vare 1547",null,null,null,null,null,null,null,1]
[null,"Vare 1548",null,null,null,null,null,null,null,1]
[null,"Vare 1549",null,null,null,null,null,null,null,1]
[null,"Vare 1550",null,null,null,null,null,null,null,1]
[null,"Vare 1551",null,null,null,null,null,null,null,1]
[null,"Vare 1552",null,null,null,null,null,null,null,1]
[null,"Vare 1553",null,null,null,null,null,null,null,1]
[null,"Vare 1554",null,null,null,null,null,null,null,1]
[null,"Vare 1555",null,null,null,null,null,null,null,1]
[null,"Vare 1556",null,null,null,null,null,null,null,1]
[null,"Vare 1557",null,null,null,null,null,null,null,1]
[null,"Vare 1558",null,null,null,null,null,null,null,1]
[null,"Vare 1559",null,null,null,null,null,null,null,1]
[null,"Vare 1560",null,null,null,null,null,null,null,1]
[null,"Vare 1561",null,null,null,null,null,null,null,1]
[null,"Vare 1562",null,null,null,null,null,null,null,1]
[null,"Vare 1563",null,null,null,null,null,null,null,1]
[null,"Vare 1564",null,null,null,null,null,null,null,1]
[null,"Vare 1565",null,null,null,null,null,null,null,1]
[null,"Vare 1566",null,null,null,null,null,null,null,1]
[null,"Vare 1567",null,null,null,null,null,null,null,1]
[null,"Vare 1568",null,null,null,null,null,null,null,1]
[null,"Vare 1569",null,null,null,null,null,null,null,1]
[null,"Vare 1570",null,null,null,null,null,null,null,1]
[null,"Vare 1571",null,null,null,null,null,null,null,1]
[null,"Vare 1572",null,null,null,null,null,null,null,1]
[null,"Vare 1573",null,null,null,null,null,null,null,1]
[null,"Vare 1574",null,null,null,null,null,null,null,1]
[null,"Vare 1575",null,null,null,null,null,null,null,1]
[null,"Vare 1576",null,null,null,null,null,null,null,1]
[null,"Vare 1577",null,null,null,null,null,null,null,1]
[null,"Vare 1578",null,null,null,null,null,null,null,1]
[null,"Vare 1579",null,null,null,null,null,null,null,1]
[null,"Vare 1580",null,null,null,null,null,null,null,1]
[null,"Vare 1581",null,null,null,null,null,null,null,1]
[null,"Vare 1582",null,null,null,null,null,null,null,1]
[null,"Vare 1583",null,null,null,null,null,null,null,1]
[null,"Vare 1584",null,null,null,null,null,null,null,1]
[null,"Vare 1585",null,null,null,null,null,null,null,1]
[null,"Vare 1586",null,null,null,null,null,null,null,1]
[null,"Vare 1587",null,null,null,null,null,null,null,1]
[null,"Vare 1588",null,null,null,null,null,null,null,1]
[null,"Vare 1589",null,null,null,null,null,null,null,1]
[null,"Vare 1590",null,null,null,null,null,null,null,1]
[null,"Vare 1591",null,null,null,null,null,null,null,1]
[null,"Vare 1592",null,null,null,null,null,null,null,1]
[null,"Vare 1593",null,null,null,null,null,null,null,1]
[null,"Vare 1594",null,null,null,null,null,null,null,1]
[null,"Vare 1595",null,null,null,null,null,null,null,1]
[null,"Vare 1596",null,null,null,null,null,null,null,1]
[null,"Vare 1597",null,null,null,null,null,null,null,1]
[null,"Vare 1598",null,null,null,null,null,null,null,1]
[null,"Vare 1599",null,null,null,null,null,null,null,1]
[null,"Vare 1600",null,null,null,null,null,null,null,1]
[null,"Vare 1601",null,null,null,null,null,null,null,1]
[null,"Vare 1602",null,null,null,null,null,null,null,{"$f":"100%-(H1613+I1613)","v":1}]
[null,"Vare 1603",null,null,null,null,null,null,null,1]
[null,"Vare 1604",null,null,null,null,null,null,null,1]
[null,"Vare 1605",null,null,null,null,null,null,null,1]
[null,"Vare 1606",null,null,null,null,null,null,null,1]
[null,"Vare 1607",null,null,null,null,null,null,null,1]
[null,"Vare 1608",null,null,null,null,null,null,null,1]
[null,"Vare 1609",null,null,null,null,null,null,null,1]
[null,"Vare 1610",null,null,null,null,null,null,null,1]
[null,"Vare 1611",null,null,null,null,null,null,null,1]
[null,"Vare 1612",null,null,null,null,null,null,null,1]
[null,"Vare 1613",null,null,null,null,null,null,null,1]
[null,"Vare 1614",null,null,null,null,null,null,null,1]
[null,"Vare 1615",null,null,null,null,null,null,null,1]
[null,"Vare 1616",null,null,null,null,null,null,null,1]
[null,"Vare 1617",null,null,null,null,null,null,null,1]
[null,"Vare 1618",null,null,null,null,null,null,null,1]
[null,"Vare 1619",null,null,null,null,null,null,null,1]
[null,"Vare 1620",null,null,null,null,null,null,null,1]
[null,"Vare 1621",null,null,null,null,null,null,null,1]
[null,"Vare 1622",null,null,null,null,null,null,null,1]
[null,"Vare 1623",null,null,null,null,null,null,null,1]
[null,"Vare 1624",null,null,null,null,null,null,null,1]
[null,"Vare 1625",null,null,null,null,null,null,null,1]
[null,"Vare 1626",null,null,null,null,null,null,null,1]
[null,"Vare 1627",null,null,null,null,null,null,null,1]
[null,"Vare 1628",null,null,null,null,null,null,null,1]
[null,"Vare 1629",null,null,null,null,null,null,null,1]
[null,"Vare 1630",null,null,null,null,null,null,null,1]
[null,"Vare 1631",null,null,null,null,null,null,null,1]
[null,"Vare 1632",null,null,null,null,null,null,null,1]
[null,"Vare 1633",null,null,null,null,null,null,null,1]
[null,"Vare 1634",null,null,null,null,null,null,null,1]
[null,"Vare 1635",null,null,null,null,null,null,null,1]
[null,"Vare 1636",null,null,null,null,null,null,null,1]
[null,"Vare 1637",null,null,null,null,null,null,null,1]
[null,"Vare 1638",null,null,null,null,null,null,null,1]
[null,"Vare 1639",null,null,null,null,null,null,null,1]
[null,"Vare 1640",null,null,null,null,null,null,null,1]
[null,"Vare 1641",null,null,null,null,null,null,null,1]
[null,"Vare 1642",null,null,null,null,null,null,null,1]
[null,"Vare 1643",null,null,null,null,null,null,null,1]
[null,"Vare 1644",null,null,null,null,null,null,null,1]
[null,"Vare 1645",null,null,null,null,null,null,null,1]
[null,"Vare 1646",null,null,null,null,null,null,null,1]
[null,"Vare 1647",null,null,null,null,null,null,null,1]
[null,"Vare 1648",null,null,null,null,null,null,null,1]
[null,"Vare 1649",null,null,null,null,null,null,null,1]
[null,"Vare 1650",null,null,null,null,null,null,null,1]
[null,"Vare 1651",null,null,null,null,null,null,null,1]
[null,"Vare 1652",null,null,null,null,null,null,null,1]
[null,"Vare 1653",null,null,null,null,null,null,null,1]
[null,"Vare 1654",null,null,null,null,null,null,null,1]
[null,"Vare 1655",null,null,null,null,null,null,null,1]
[null,"Vare 1656",null,null,null,null,null,null,null,1]
[null,"Vare 1657",null,null,null,null,null,null,null,1]
[null,"Vare 1658",null,null,null,null,null,null,null,1]
[null,"Vare 1659",null,null,null,null,null,null,null,1]
[null,"Vare 1660",null,null,null,null,null,null,null,1]
[null,"Vare 1661",null,null,null,null,null,null,null,1]
[null,"Vare 1662",null,null,null,null,null,null,null,1]
[null,"Vare 1663",null,null,null,null,null,null,null,1]
[null,"Vare 1664",null,null,null,null,null,null,null,1]
[null,"Vare 1665",null,null,null,null,null,null,null,1]
[null,"Vare 1666",null,null,null,null,null,null,null,{"$f":"100%-(H1677+I1677)","v":1}]
[null,"Vare 1667",null,null,null,null,null,null,null,1]
[null,"Vare 1668",null,null,null,null,null,null,null,1]
[null,"Vare 1669",null,null,null,null,null,null,null,1]
[null,"Vare 1670",null,null,null,null,null,null,null,1]
[null,"Vare 1671",null,null,null,null,null,null,null,1]
[null,"Vare 1672",null,null,null,null,null,null,null,1]
[null,"Vare 1673",null,null,null,null,null,null,null,1]
[null,"Vare 1674",null,null,null,null,null,null,null,1]
[null,"Vare 1675",null,null,null,null,null,null,null,1]
[null,"Vare 1676",null,null,null,null,null,null,null,1]
[null,"Vare 1677",null,null,null,null,null,null,null,1]
[null,"Vare 1678",null,null,null,null,null,null,null,1]
[null,"Vare 1679",null,null,null,null,null,null,null,1]
[null,"Vare 1680",null,null,null,null,null,null,null,1]
[null,"Vare 1681",null,null,null,null,null,null,null,1]
[null,"Vare 1682",null,null,null,null,null,null,null,1]
[null,"Vare 1683",null,null,null,null,null,null,null,1]
[null,"Vare 1684",null,null,null,null,null,null,null,1]
[null,"Vare 1685",null,null,null,null,null,null,null,1]
[null,"Vare 1686",null,null,null,null,null,null,null,1]
[null,"Vare 1687",null,null,null,null,null,null,null,1]
[null,"Vare 1688",null,null,null,null,null,null,null,1]
[null,"Vare 1689",null,null,null,null,null,null,null,1]
[null,"Vare 1690",null,null,null,null,null,null,null,1]
[null,"Vare 1691",null,null,null,null,null,null,null,1]
[null,"Vare 1692",null,null,null,null,null,null,null,1]
[null,"Vare 1693",null,null,null,null,null,null,null,1]
[null,"Vare 1694",null,null,null,null,null,null,null,1]
[null,"Vare 1695",null,null,null,null,null,null,null,1]
[null,"Vare 1696",null,null,null,null,null,null,null,1]
[null,"Vare 1697",null,null,null,null,null,null,null,1]
[null,"Vare 1698",null,null,null,null,null,null,null,1]
[null,"Vare 1699",null,null,null,null,null,null,null,1]
[null,"Vare 1700",null,null,null,null,null,null,null,1]
[null,"Vare 1701",null,null,null,null,null,null,null,1]
[null,"Vare 1702",null,null,null,null,null,null,null,1]
[null,"Vare 1703",null,null,null,null,null,null,null,1]
[null,"Vare 1704",null,null,null,null,null,null,null,1]
[null,"Vare 1705",null,null,null,null,null,null,null,1]
[null,"Vare 1706",null,null,null,null,null,null,null,1]
[null,"Vare 1707",null,null,null,null,null,null,null,1]
[null,"Vare 1708",null,null,null,null,null,null,null,1]
[null,"Vare 1709",null,null,null,null,null,null,null,1]
[null,"Vare 1710",null,null,null,null,null,null,null,1]
[null,"Vare 1711",null,null,null,null,null,null,null,1]
[null,"Vare 1712",null,null,null,null,null,null,null,1]
[null,"Vare 1713",null,null,null,null,null,null,null,1]
[null,"Vare 1714",null,null,null,null,null,null,null,1]
[null,"Vare 1715",null,null,null,null,null,null,null,1]
[null,"Vare 1716",null,null,null,null,null,null,null,1]
[null,"Vare 1717",null,null,null,null,null,null,null,1]
[null,"Vare 1718",null,null,null,null,null,null,null,1]
[null,"Vare 1719",null,null,null,null,null,null,null,1]
[null,"Vare 1720",null,null,null,null,null,null,null,1]
[null,"Vare 1721",null,null,null,null,null,null,null,1]
[null,"Vare 1722",null,null,null,null,null,null,null,1]
[null,"Vare 1723",null,null,null,null,null,null,null,1]
[null,"Vare 1724",null,null,null,null,null,null,null,1]
[null,"Vare 1725",null,null,null,null,null,null,null,1]
[null,"Vare 1726",null,null,null,null,null,null,null,1]
[null,"Vare 1727",null,null,null,null,null,null,null,1]
[null,"Vare 1728",null,null,null,null,null,null,null,1]
[null,"Vare 1729",null,null,null,null,null,null,null,1]
[null,"Vare 1730",null,null,null,null,null,null,null,{"$f":"100%-(H1741+I1741)","v":1}]
[null,"Vare 1731",null,null,null,null,null,null,null,1]
[null,"Vare 1732",null,null,null,null,null,null,null,1]
[null,"Vare 1733",null,null,null,null,null,null,null,1]
[null,"Vare 1734",null,null,null,null,null,null,null,1]
[null,"Vare 1735",null,null,null,null,null,null,null,1]
[null,"Vare 1736",null,null,null,null,null,null,null,1]
[null,"Vare 1737",null,null,null,null,null,null,null,1]
[null,"Vare 1738",null,null,null,null,null,null,null,1]
[null,"Vare 1739",null,null,null,null,null,null,null,1]
[null,"Vare 1740",null,null,null,null,null,null,null,1]
[null,"Vare 1741",null,null,null,null,null,null,null,1]
[null,"Vare 1742",null,null,null,null,null,null,null,1]
[null,"Vare 1743",null,null,null,null,null,null,null,1]
[null,"Vare 1744",null,null,null,null,null,null,null,1]
[null,"Vare 1745",null,null,null,null,null,null,null,1]
[null,"Vare 1746",null,null,null,null,null,null,null,1]
[null,"Vare 1747",null,null,null,null,null,null,null,1]
[null,"Vare 1748",null,null,null,null,null,null,null,1]
[null,"Vare 1749",null,null,null,null,null,null,null,1]
[null,"Vare 1750",null,null,null,null,null,null,null,1]
[null,"Vare 1751",null,null,null,null,null,null,null,1]
[null,"Vare 1752",null,null,null,null,null,null,null,1]
[null,"Vare 1753",null,null,null,null,null,null,null,1]
[null,"Vare 1754",null,null,null,null,null,null,null,1]
[null,"Vare 1755",null,null,null,null,null,null,null,1]
[null,"Vare 1756",null,null,null,null,null,null,null,1]
[null,"Vare 1757",null,null,null,null,null,null,null,1]
[null,"Vare 1758",null,null,null,null,null,null,null,1]
[null,"Vare 1759",null,null,null,null,null,null,null,1]
[null,"Vare 1760",null,null,null,null,null,null,null,1]
[null,"Vare 1761",null,null,null,null,null,null,null,1]
[null,"Vare 1762",null,null,null,null,null,null,null,1]
[null,"Vare 1763",null,null,null,null,null,null,null,1]
[null,"Vare 1764",null,null,null,null,null,null,null,1]
[null,"Vare 1765",null,null,null,null,null,null,null,1]
[null,"Vare 1766",null,null,null,null,null,null,null,1]
[null,"Vare 1767",null,null,null,null,null,null,null,1]
[null,"Vare 1768",null,null,null,null,null,null,null,1]
[null,"Vare 1769",null,null,null,null,null,null,null,1]
[null,"Vare 1770",null,null,null,null,null,null,null,1]
[null,"Vare 1771",null,null,null,null,null,null,null,1]
[null,"Vare 1772",null,null,null,null,null,null,null,1]
[null,"Vare 1773",null,null,null,null,null,null,null,1]
[null,"Vare 1774",null,null,null,null,null,null,null,1]
[null,"Vare 1775",null,null,null,null,null,null,null,1]
[null,"Vare 1776",null,null,null,null,null,null,null,1]
[null,"Vare 1777",null,null,null,null,null,null,null,1]
[null,"Vare 1778",null,null,null,null,null,null,null,1]
[null,"Vare 1779",null,null,null,null,null,null,null,1]
[null,"Vare 1780",null,null,null,null,null,null,null,1]
[null,"Vare 1781",null,null,null,null,null,null,null,1]
[null,"Vare 1782",null,null,null,null,null,null,null,1]
[null,"Vare 1783",null,null,null,null,null,null,null,1]
[null,"Vare 1784",null,null,null,null,null,null,null,1]
[null,"Vare 1785",null,null,null,null,null,null,null,1]
[null,"Vare 1786",null,null,null,null,null,null,null,1]
[null,"Vare 1787",null,null,null,null,null,null,null,1]
[null,"Vare 1788",null,null,null,null,null,null,null,1]
[null,"Vare 1789",null,null,null,null,null,null,null,1]
[null,"Vare 1790",null,null,null,null,null,null,null,1]
[null,"Vare 1791",null,null,null,null,null,null,null,1]
[null,"Vare 1792",null,null,null,null,null,null,null,1]
[null,"Vare 1793",null,null,null,null,null,null,null,1]
[null,"Vare 1794",null,null,null,null,null,null,null,{"$f":"100%-(H1805+I1805)","v":1}]
[null,"Vare 1795",null,null,null,null,null,null,null,1]
[null,"Vare 1796",null,null,null,null,null,null,null,1]
[null,"Vare 1797",null,null,null,null,null,null,null,1]
[null,"Vare 1798",null,null,null,null,null,null,null,1]
[null,"Vare 1799",null,null,null,null,null,null,null,1]
[null,"Vare 1800",null,null,null,null,null,null,null,1]
[null,"Vare 1801",null,null,null,null,null,null,null,1]
[null,"Vare 1802",null,null,null,null,null,null,null,1]
[null,"Vare 1803",null,null,null,null,null,null,null,1]
[null,"Vare 1804",null,null,null,null,null,null,null,1]
[null,"Vare 1805",null,null,null,null,null,null,null,1]
[null,"Vare 1806",null,null,null,null,null,null,null,1]
[null,"Vare 1807",null,null,null,null,null,null,null,1]
[null,"Vare 1808",null,null,null,null,null,null,null,1]
[null,"Vare 1809",null,null,null,null,null,null,null,1]
[null,"Vare 1810",null,null,null,null,null,null,null,1]
[null,"Vare 1811",null,null,null,null,null,null,null,1]
[null,"Vare 1812",null,null,null,null,null,null,null,1]
[null,"Vare 1813",null,null,null,null,null,null,null,1]
[null,"Vare 1814",null,null,null,null,null,null,null,1]
[null,"Vare 1815",null,null,null,null,null,null,null,1]
[null,"Vare 1816",null,null,null,null,null,null,null,1]
[null,"Vare 1817",null,null,null,null,null,null,null,1]
[null,"Vare 1818",null,null,null,null,null,null,null,1]
[null,"Vare 1819",null,null,null,null,null,null,null,1]
[null,"Vare 1820",null,null,null,null,null,null,null,1]
[null,"Vare 1821",null,null,null,null,null,null,null,1]
[null,"Vare 1822",null,null,null,null,null,null,null,1]
[null,"Vare 1823",null,null,null,null,null,null,null,1]
[null,"Vare 1824",null,null,null,null,null,null,null,1]
[null,"Vare 1825",null,null,null,null,null,null,null,1]
[null,"Vare 1826",null,null,null,null,null,null,null,1]
[null,"Vare 1827",null,null,null,null,null,null,null,1]
[null,"Vare 1828",null,null,null,null,null,null,null,1]
[null,"Vare 1829",null,null,null,null,null,null,null,1]
[null,"Vare 1830",null,null,null,null,null,null,null,1]
[null,"Vare 1831",null,null,null,null,null,null,null,1]
[null,"Vare 1832",null,null,null,null,null,null,null,1]
[null,"Vare 1833",null,null,null,null,null,null,null,1]
[null,"Vare 1834",null,null,null,null,null,null,null,1]
[null,"Vare 1835",null,null,null,null,null,null,null,1]
[null,"Vare 1836",null,null,null,null,null,null,null,1]
[null,"Vare 1837",null,null,null,null,null,null,null,1]
[null,"Vare 1838",null,null,null,null,null,null,null,1]
[null,"Vare 1839",null,null,null,null,null,null,null,1]
[null,"Vare 1840",null,null,null,null,null,null,null,1]
[null,"Vare 1841",null,null,null,null,null,null,null,1]
[null,"Vare 1842",null,null,null,null,null,null,null,1]
[null,"Vare 1843",null,null,null,null,null,null,null,1]
[null,"Vare 1844",null,null,null,null,null,null,null,1]
[null,"Vare 1845",null,null,null,null,null,null,null,1]
[null,"Vare 1846",null,null,null,null,null,null,null,1]
[null,"Vare 1847",null,null,null,null,null,null,null,1]
[null,"Vare 1848",null,null,null,null,null,null,null,1]
[null,"Vare 1849",null,null,null,null,null,null,null,1]
[null,"Vare 1850",null,null,null,null,null,null,null,1]
[null,"Vare 1851",null,null,null,null,null,null,null,1]
[null,"Vare 1852",null,null,null,null,null,null,null,1]
[null,"Vare 1853",null,null,null,null,null,null,null,1]
[null,"Vare 1854",null,null,null,null,null,null,null,1]
[null,"Vare 1855",null,null,null,null,null,null,null,1]
[null,"Vare 1856",null,null,null,null,null,null,null,1]
[null,"Vare 1857",null,null,null,null,null,null,null,1]
[null,"Vare 1858",null,null,null,null,null,null,null,{"$f":"100%-(H1869+I1869)","v":1}]
[null,"Vare 1859",null,null,null,null,null,null,null,1]
[null,"Vare 1860",null,null,null,null,null,null,null,1]
[null,"Vare 1861",null,null,null,null,null,null,null,1]
[null,"Vare 1862",null,null,null,null,null,null,null,1]
[null,"Vare 1863",null,null,null,null,null,null,null,1]
[null,"Vare 1864",null,null,null,null,null,null,null,1]
[null,"Vare 1865",null,null,null,null,null,null,null,1]
[null,"Vare 1866",null,null,null,null,null,null,null,1]
[null,"Vare 1867",null,null,null,null,null,null,null,1]
[null,"Vare 1868",null,null,null,null,null,null,null,1]
[null,"Vare 1869",null,null,null,null,null,null,null,1]
[null,"Vare 1870",null,null,null,null,null,null,null,1]
[null,"Vare 1871",null,null,null,null,null,null,null,1]
[null,"Vare 1872",null,null,null,null,null,null,null,1]
[null,"Vare 1873",null,null,null,null,null,null,null,1]
[null,"Vare 1874",null,null,null,null,null,null,null,1]
[null,"Vare 1875",null,null,null,null,null,null,null,1]
[null,"Vare 1876",null,null,null,null,null,null,null,1]
[null,"Vare 1877",null,null,null,null,null,null,null,1]
[null,"Vare 1878",null,null,null,null,null,null,null,1]
[null,"Vare 1879",null,null,null,null,null,null,null,1]
[null,"Vare 1880",null,null,null,null,null,null,null,1]
[null,"Vare 1881",null,null,null,null,null,null,null,1]
[null,"Vare 1882",null,null,null,null,null,null,null,1]
[null,"Vare 1883",null,null,null,null,null,null,null,1]
[null,"Vare 1884",null,null,null,null,null,null,null,1]
[null,"Vare 1885",null,null,null,null,null,null,null,1]
[null,"Vare 1886",null,null,null,null,null,null,null,1]
[null,"Vare 1887",null,null,null,null,null,null,null,1]
[null,"Vare 1888",null,null,null,null,null,null,null,1]
[null,"Vare 1889",null,null,null,null,null,null,null,1]
[null,"Vare 1890",null,null,null,null,null,null,null,1]
[null,"Vare 1891",null,null,null,null,null,null,null,1]
[null,"Vare 1892",null,null,null,null,null,null,null,1]
[null,"Vare 1893",null,null,null,null,null,null,null,1]
[null,"Vare 1894",null,null,null,null,null,null,null,1]
[null,"Vare 1895",null,null,null,null,null,null,null,1]
[null,"Vare 1896",null,null,null,null,null,null,null,1]
[null,"Vare 1897",null,null,null,null,null,null,null,1]
[null,"Vare 1898",null,null,null,null,null,null,null,1]
[null,"Vare 1899",null,null,null,null,null,null,null,1]
[null,"Vare 1900",null,null,null,null,null,null,null,1]
[null,"Vare 1901",null,null,null,null,null,null,null,1]
[null,"Vare 1902",null,null,null,null,null,null,null,1]
[null,"Vare 1903",null,null,null,null,null,null,null,1]
[null,"Vare 1904",null,null,null,null,null,null,null,1]
[null,"Vare 1905",null,null,null,null,null,null,null,1]
[null,"Vare 1906",null,null,null,null,null,null,null,1]
[null,"Vare 1907",null,null,null,null,null,null,null,1]
[null,"Vare 1908",null,null,null,null,null,null,null,1]
[null,"Vare 1909",null,null,null,null,null,null,null,1]
[null,"Vare 1910",null,null,null,null,null,null,null,1]
[null,"Vare 1911",null,null,null,null,null,null,null,1]
[null,"Vare 1912",null,null,null,null,null,null,null,1]
[null,"Vare 1913",null,null,null,null,null,null,null,1]
[null,"Vare 1914",null,null,null,null,null,null,null,1]
[null,"Vare 1915",null,null,null,null,null,null,null,1]
[null,"Vare 1916",null,null,null,null,null,null,null,1]
[null,"Vare 1917",null,null,null,null,null,null,null,1]
[null,"Vare 1918",null,null,null,null,null,null,null,1]
[null,"Vare 1919",null,null,null,null,null,null,null,1]
[null,"Vare 1920",null,null,null,null,null,null,null,1]
[null,"Vare 1921",null,null,null,null,null,null,null,1]
[null,"Vare 1922",null,null,null,null,null,null,null,{"$f":"100%-(H1933+I1933)","v":1}]
[null,"Vare 1923",null,null,null,null,null,null,null,1]
[null,"Vare 1924",null,null,null,null,null,null,null,1]
[null,"Vare 1925",null,null,null,null,null,null,null,1]
[null,"Vare 1926",null,null,null,null,null,null,null,1]
[null,"Vare 1927",null,null,null,null,null,null,null,1]
[null,"Vare 1928",null,null,null,null,null,null,null,1]
[null,"Vare 1929",null,null,null,null,null,null,null,1]
[null,"Vare 1930",null,null,null,null,null,null,null,1]
[null,"Vare 1931",null,null,null,null,null,null,null,1]
[null,"Vare 1932",null,null,null,null,null,null,null,1]
[null,"Vare 1933",null,null,null,null,null,null,null,1]
[null,"Vare 1934",null,null,null,null,null,null,null,1]
[null,"Vare 1935",null,null,null,null,null,null,null,1]
[null,"Vare 1936",null,null,null,null,null,null,null,1]
[null,"Vare 1937",null,null,null,null,null,null,null,1]
[null,"Vare 1938",null,null,null,null,null,null,null,1]
[null,"Vare 1939",null,null,null,null,null,null,null,1]
[null,"Vare 1940",null,null,null,null,null,null,null,1]
[null,"Vare 1941",null,null,null,null,null,null,null,1]
[null,"Vare 1942",null,null,null,null,null,null,null,1]
[null,"Vare 1943",null,null,null,null,null,null,null,1]
[null,"Vare 1944",null,null,null,null,null,null,null,1]
[null,"Vare 1945",null,null,null,null,null,null,null,1]
[null,"Vare 1946",null,null,null,null,null,null,null,1]
[null,"Vare 1947",null,null,null,null,null,null,null,1]
[null,"Vare 1948",null,null,null,null,null,null,null,1]
[null,"Vare 1949",null,null,null,null,null,null,null,1]
[null,"Vare 1950",null,null,null,null,null,null,null,1]
[null,"Vare 1951",null,null,null,null,null,null,null,1]
[null,"Vare 1952",null,null,null,null,null,null,null,1]
[null,"Vare 1953",null,null,null,null,null,null,null,1]
[null,"Vare 1954",null,null,null,null,null,null,null,1]
[null,"Vare 1955",null,null,null,null,null,null,null,1]
[null,"Vare 1956",null,null,null,null,null,null,null,1]
[null,"Vare 1957",null,null,null,null,null,null,null,1]
[null,"Vare 1958",null,null,null,null,null,null,null,1]
[null,"Vare 1959",null,null,null,null,null,null,null,1]
[null,"Vare 1960",null,null,null,null,null,null,null,1]
[null,"Vare 1961",null,null,null,null,null,null,null,1]
[null,"Vare 1962",null,null,null,null,null,null,null,1]
[null,"Vare 1963",null,null,null,null,null,null,null,1]
[null,"Vare 1964",null,null,null,null,null,null,null,1]
[null,"Vare 1965",null,null,null,null,null,null,null,1]
[null,"Vare 1966",null,null,null,null,null,null,null,1]
[null,"Vare 1967",null,null,null,null,null,null,null,1]
[null,"Vare 1968",null,null,null,null,null,null,null,1]
[null,"Vare 1969",null,null,null,null,null,null,null,1]
[null,"Vare 1970",null,null,null,null,null,null,null,1]
[null,"Vare 1971",null,null,null,null,null,null,null,1]
[null,"Vare 1972",null,null,null,null,null,null,null,1]
[null,"Vare 1973",null,null,null,null,null,null,null,1]
[null,"Vare 1974",null,null,null,null,null,null,null,1]
[null,"Vare 1975",null,null,null,null,null,null,null,1]
[null,"Vare 1976",null,null,null,null,null,null,null,1]
[null,"Vare 1977",null,null,null,null,null,null,null,1]
[null,"Vare 1978",null,null,null,null,null,null,null,1]
[null,"Vare 1979",null,null,null,null,null,null,null,1]
[null,"Vare 1980",null,null,null,null,null,null,null,1]
[null,"Vare 1981",null,null,null,null,null,null,null,1]
[null,"Vare 1982",null,null,null,null,null,null,null,1]
[null,"Vare 1983",null,null,null,null,null,null,null,1]
[null,"Vare 1984",null,null,null,null,null,null,null,1]
[null,"Vare 1985",null,null,null,null,null,null,null,1]
[null,"Vare 1986",null,null,null,null,null,null,null,{"$f":"100%-(H1997+I1997)","v":1}]
[null,"Vare 1987",null,null,null,null,null,null,null,1]
[null,"Vare 1988",null,null,null,null,null,null,null,1]
[null,"Vare 1989",null,null,null,null,null,null,null,1]
[null,"Vare 1990",null,null,null,null,null,null,null,1]
[null,"Vare 1995",null,null,null,null,null,null,null,1]
[null,"Vare 2000",null,null,null,null,null,null,null,1]
[null,"Vare 2001",null,null,null,null,null,null,null,1]
[null,"Vare 2007",null,null,null,null,null,null,null,1]
[null,"Vare 2010",null,null,null,null,null,null,null,1]
[null,"Vare 2015",null,null,null,null,null,null,null,1]
[null,"Vare 2016",null,null,null,null,null,null,null,1]
[null,"Vare 2021",null,null,null,null,null,null,null,1]
[null,"Vare 2025",null,null,null,null,null,null,null,1]
[null,"Vare 2030",null,null,null,null,null,null,null,1]
[null,"Vare 2031",null,null,null,null,null,null,null,1]
[null,"Vare 2037",null,null,null,null,null,null,null,1]
[null,"Vare 2040",null,null,null,null,null,null,null,1]
[null,"Vare 2045",null,null,null,null,null,null,null,1]
[null,"Vare 2046",null,null,null,null,null,null,null,1]
[null,"Vare 2051",null,null,null,null,null,null,null,1]
[null,"Vare 2055",null,null,null,null,null,null,null,1]
[null,"Vare 2060",null,null,null,null,null,null,null,1]
[null,"Vare 2061",null,null,null,null,null,null,null,1]
[null,"Vare 2067",null,null,null,null,null,null,null,1]
[null,"Vare 2070",null,null,null,null,null,null,null,1]
[null,"Vare 2075",null,null,null,null,null,null,null,1]
[null,"Vare 2076",null,null,null,null,null,null,null,1]
[null,"Vare 2081",null,null,null,null,null,null,null,1]
[null,"Vare 2085",null,null,null,null,null,null,null,1]
[null,"Vare 2090",null,null,null,null,null,null,null,1]
[null,"Vare 2091",null,null,null,null,null,null,null,1]
[null,"Vare 2096",null,null,null,null,null,null,null,1]
[null,"Vare 2099",null,null,null,null,null,null,null,1]
[null,"Vare 2105",null,null,null,null,null,null,null,1]
[null,"Vare 2106",null,null,null,null,null,null,null,1]
[null,"Vare 2111",null,null,null,null,null,null,null,1]
[null,"Vare 2115",null,null,null,null,null,null,null,1]
[null,"Vare 2120",null,null,null,null,null,null,null,1]
[null,"Vare 2121",null,null,null,null,null,null,null,1]
[null,"Vare 2126",null,null,null,null,null,null,null,1]
[null,"Vare 2129",null,null,null,null,null,null,null,1]
[null,"Vare 2135",null,null,null,null,null,null,null,1]
[null,"Vare 2136",null,null,null,null,null,null,null,1]
[null,"Vare 2141",null,null,null,null,null,null,null,1]
[null,"Vare 2145",null,null,null,null,null,null,null,1]
[null,"Vare 2150",null,null,null,null,null,null,null,1]
[null,"Vare 2151",null,null,null,null,null,null,null,1]
[null,"Vare 2156",null,null,null,null,null,null,null,1]
[null,"Vare 2161",null,null,null,null,null,null,null,1]
[null,"Vare 2163",null,null,null,null,null,null,null,1]
[null,"Vare 2166",null,null,null,null,null,null,null,1]
[null,"Vare 2171",null,null,null,null,null,null,null,1]
[null,"Vare 2176",null,null,null,null,null,null,null,1]
[null,"Vare 2180",null,null,null,null,null,null,null,1]
[null,"Vare 2181",null,null,null,null,null,null,null,1]
[null,"Vare 2186",null,null,null,null,null,null,null,1]
[null,"Vare 2191",null,null,null,null,null,null,null,1]
[null,"Vare 2193",null,null,null,null,null,null,null,1]
[null,"Vare 2196",null,null,null,null,null,null,null,1]
[null,"Vare 2201",null,null,null,null,null,null,null,1]
[null,"Vare 2206",null,null,null,null,null,null,null,1]
[null,"Vare 2210",null,null,null,null,null,null,null,1]
[null,"Vare 2211",null,null,null,null,null,null,null,1]
[null,"Vare 2216",null,null,null,null,null,null,null,1]
[null,"Vare 2221",null,null,null,null,null,null,null,1]
[null,"Vare 2223",null,null,null,null,null,null,null,1]
[null,"Vare 2226",null,null,null,null,null,null,null,1]
[null,"Vare 2231",null,null,null,null,null,null,null,1]
[null,"Vare 2236",null,null,null,null,null,null,null,1]
[null,"Vare 2241",null,null,null,null,null,null,null,1]
[null,"Vare 2244",null,null,null,null,null,null,null,1]
[null,"Vare 2246",null,null,null,null,null,null,null,1]
[null,"Vare 2251",null,null,null,null,null,null,null,1]
[null,"Vare 2256",null,null,null,null,null,null,null,1]
[null,"Vare 2258",null,null,null,null,null,null,null,1]
[null,"Vare 2261",null,null,null,null,null,null,null,1]
[null,"Vare 2266",null,null,null,null,null,null,null,1]
[null,"Vare 2271",null,null,null,null,null,null,null,1]
[null,"Vare 2274",null,null,null,null,null,null,null,1]
[null,"Vare 2276",null,null,null,null,null,null,null,1]
[null,"Vare 2281",null,null,null,null,null,null,null,1]
[null,"Vare 2286",null,null,null,null,null,null,null,1]
[null,"Vare 2288",null,null,null,null,null,null,null,1]
[null,"Vare 2291",null,null,null,null,null,null,null,1]
[null,"Vare 2296",null,null,null,null,null,null,null,1]
[null,"Vare 2301",null,null,null,null,null,null,null,1]
[null,"Vare 2304",null,null,null,null,null,null,null,1]
[null,"Vare 2306",null,null,null,null,null,null,null,{"$f":"100%-(H2317+I2317)","v":1}]
[null,"Vare 2311",null,null,null,null,null,null,null,1]
[null,"Vare 2316",null,null,null,null,null,null,null,1]
[null,"Vare 2317",null,null,null,null,null,null,null,1]
[null,"Vare 2322",null,null,null,null,null,null,null,1]
[null,"Vare 2326",null,null,null,null,null,null,null,1]
[null,"Vare 2331",null,null,null,null,null,null,null,1]
[null,"Vare 2332",null,null,null,null,null,null,null,1]
[null,"Vare 2336",null,null,null,null,null,null,null,1]
[null,"Vare 2341",null,null,null,null,null,null,null,1]
[null,"Vare 2346",null,null,null,null,null,null,null,1]
[null,"Vare 2347",null,null,null,null,null,null,null,1]
[null,"Vare 2352",null,null,null,null,null,null,null,1]
[null,"Vare 2356",null,null,null,null,null,null,null,1]
[null,"Vare 2361",null,null,null,null,null,null,null,1]
[null,"Vare 2362",null,null,null,null,null,null,null,1]
[null,"Vare 2366",null,null,null,null,null,null,null,1]
[null,"Vare 2371",null,null,null,null,null,null,null,1]
[null,"Vare 2376",null,null,null,null,null,null,null,1]
[null,"Vare 2377",null,null,null,null,null,null,null,1]
[null,"Vare 2382",null,null,null,null,null,null,null,1]
[null,"Vare 2386",null,null,null,null,null,null,null,1]
[null,"Vare 2391",null,null,null,null,null,null,null,1]
[null,"Vare 2392",null,null,null,null,null,null,null,1]
[null,"Vare 2397",null,null,null,null,null,null,null,1]
[null,"Vare 2400",null,null,null,null,null,null,null,1]
[null,"Vare 2406",null,null,null,null,null,null,null,1]
[null,"Vare 2407",null,null,null,null,null,null,null,1]
[null,"Vare 2412",null,null,null,null,null,null,null,1]
[null,"Vare 2417",null,null,null,null,null,null,null,1]
[null,"Vare 2421",null,null,null,null,null,null,null,1]
[null,"Vare 2422",null,null,null,null,null,null,null,1]
[null,"Vare 2427",null,null,null,null,null,null,null,1]
[null,"Vare 2430",null,null,null,null,null,null,null,1]
[null,"Vare 2436",null,null,null,null,null,null,null,1]
[null,"Vare 2437",null,null,null,null,null,null,null,1]
[null,"Vare 2442",null,null,null,null,null,null,null,1]
[null,"Vare 2447",null,null,null,null,null,null,null,1]
[null,"Vare 2451",null,null,null,null,null,null,null,1]
[null,"Vare 2452",null,null,null,null,null,null,null,1]
[null,"Vare 2457",null,null,null,null,null,null,null,1]
[null,"Vare 2460",null,null,null,null,null,null,null,1]
[null,"Vare 2466",null,null,null,null,null,null,null,1]
[null,"Vare 2467",null,null,null,null,null,null,null,1]
[null,"Vare 2472",null,null,null,null,null,null,null,1]
[null,"Vare 2477",null,null,null,null,null,null,null,1]
[null,"Vare 2481",null,null,null,null,null,null,null,1]
[null,"Vare 2482",null,null,null,null,null,null,null,1]
[null,"Vare 2487",null,null,null,null,null,null,null,1]
[null,"Vare 2492",null,null,null,null,null,null,null,1]
[null,"Vare 2495",null,null,null,null,null,null,null,1]
[null,"Vare 2497",null,null,null,null,null,null,null,1]
[null,"Vare 2502",null,null,null,null,null,null,null,1]
[null,"Vare 2507",null,null,null,null,null,null,null,1]
[null,"Vare 2511",null,null,null,null,null,null,null,1]
[null,"Vare 2512",null,null,null,null,null,null,null,1]
[null,"Vare 2517",null,null,null,null,null,null,null,1]
[null,"Vare 2522",null,null,null,null,null,null,null,1]
[null,"Vare 2525",null,null,null,null,null,null,null,1]
[null,"Vare 2527",null,null,null,null,null,null,null,1]
[null,"Vare 2532",null,null,null,null,null,null,null,1]
[null,"Vare 2537",null,null,null,null,null,null,null,1]
[null,"Vare 2541",null,null,null,null,null,null,null,1]
[null,"Vare 2542",null,null,null,null,null,null,null,1]
[null,"Vare 2547",null,null,null,null,null,null,null,1]
[null,"Vare 2552",null,null,null,null,null,null,null,1]
[null,"Vare 2555",null,null,null,null,null,null,null,1]
[null,"Vare 2557",null,null,null,null,null,null,null,1]
[null,"Vare 2562",null,null,null,null,null,null,null,{"$f":"100%-(H2573+I2573)","v":1}]
[null,"Vare 2567",null,null,null,null,null,null,null,1]
[null,"Vare 2572",null,null,null,null,null,null,null,1]
[null,"Vare 2573",null,null,null,null,null,null,null,1]
[null,"Vare 2577",null,null,null,null,null,null,null,1]
[null,"Vare 2582",null,null,null,null,null,null,null,1]
[null,"Vare 2587",null,null,null,null,null,null,null,1]
[null,"Vare 2589",null,null,null,null,null,null,null,1]
[null,"Vare 2592",null,null,null,null,null,null,null,1]
[null,"Vare 2597",null,null,null,null,null,null,null,1]
[null,"Vare 2602",null,null,null,null,null,null,null,1]
[null,"Vare 2603",null,null,null,null,null,null,null,1]
[null,"Vare 2607",null,null,null,null,null,null,null,1]
[null,"Vare 2612",null,null,null,null,null,null,null,1]
[null,"Vare 2617",null,null,null,null,null,null,null,1]
[null,"Vare 2619",null,null,null,null,null,null,null,1]
[null,"Vare 2622",null,null,null,null,null,null,null,1]
[null,"Vare 2627",null,null,null,null,null,null,null,1]
[null,"Vare 2632",null,null,null,null,null,null,null,1]
[null,"Vare 2633",null,null,null,null,null,null,null,1]
[null,"Vare 2637",null,null,null,null,null,null,null,1]
[null,"Vare 2642",null,null,null,null,null,null,null,1]
[null,"Vare 2647",null,null,null,null,null,null,null,1]
[null,"Vare 2648",null,null,null,null,null,null,null,1]
[null,"Vare 2654",null,null,null,null,null,null,null,1]
[null,"Vare 2657",null,null,null,null,null,null,null,1]
[null,"Vare 2662",null,null,null,null,null,null,null,1]
[null,"Vare 2663",null,null,null,null,null,null,null,1]
[null,"Vare 2667",null,null,null,null,null,null,null,1]
[null,"Vare 2672",null,null,null,null,null,null,null,1]
[null,"Vare 2677",null,null,null,null,null,null,null,1]
[null,"Vare 2678",null,null,null,null,null,null,null,1]
[null,"Vare 2684",null,null,null,null,null,null,null,1]
[null,"Vare 2687",null,null,null,null,null,null,null,1]
[null,"Vare 2692",null,null,null,null,null,null,null,1]
[null,"Vare 2693",null,null,null,null,null,null,null,1]
[null,"Vare 2697",null,null,null,null,null,null,null,1]
[null,"Vare 2702",null,null,null,null,null,null,null,1]
[null,"Vare 2707",null,null,null,null,null,null,null,1]
[null,"Vare 2708",null,null,null,null,null,null,null,1]
[null,"Vare 2714",null,null,null,null,null,null,null,1]
[null,"Vare 2717",null,null,null,null,null,null,null,1]
[null,"Vare 2722",null,null,null,null,null,null,null,1]
[null,"Vare 2723",null,null,null,null,null,null,null,1]
[null,"Vare 2728",null,null,null,null,null,null,null,1]
[null,"Vare 2732",null,null,null,null,null,null,null,1]
[null,"Vare 2737",null,null,null,null,null,null,null,1]
[null,"Vare 2738",null,null,null,null,null,null,null,1]
[null,"Vare 2743",null,null,null,null,null,null,null,1]
[null,"Vare 2748",null,null,null,null,null,null,null,1]
[null,"Vare 2752",null,null,null,null,null,null,null,1]
[null,"Vare 2753",null,null,null,null,null,null,null,1]
[null,"Vare 2758",null,null,null,null,null,null,null,1]
[null,"Vare 2762",null,null,null,null,null,null,null,1]
[null,"Vare 2767",null,null,null,null,null,null,null,1]
[null,"Vare 2768",null,null,null,null,null,null,null,1]
[null,"Vare 2773",null,null,null,null,null,null,null,1]
[null,"Vare 2778",null,null,null,null,null,null,null,1]
[null,"Vare 2782",null,null,null,null,null,null,null,1]
[null,"Vare 2783",null,null,null,null,null,null,null,1]
[null,"Vare 2788",null,null,null,null,null,null,null,1]
[null,"Vare 2792",null,null,null,null,null,null,null,1]
[null,"Vare 2797",null,null,null,null,null,null,null,1]
[null,"Vare 2798",null,null,null,null,null,null,null,1]
[null,"Vare 2803",null,null,null,null,null,null,null,1]
[null,"Vare 2808",null,null,null,null,null,null,null,1]
[null,"Vare 2810",null,null,null,null,null,null,null,1]
[null,"Vare 2813",null,null,null,null,null,null,null,1]
[null,"Vare 2818",null,null,null,null,null,null,null,{"$f":"100%-(H2829+I2829)","v":1}]
[null,"Vare 2823",null,null,null,null,null,null,null,1]
[null,"Vare 2826",null,null,null,null,null,null,null,1]
[null,"Vare 2828",null,null,null,null,null,null,null,1]
[null,"Vare 2833",null,null,null,null,null,null,null,1]
[null,"Vare 2838",null,null,null,null,null,null,null,1]
[null,"Vare 2840",null,null,null,null,null,null,null,1]
[null,"Vare 2843",null,null,null,null,null,null,null,1]
[null,"Vare 2848",null,null,null,null,null,null,null,1]
[null,"Vare 2853",null,null,null,null,null,null,null,1]
[null,"Vare 2856",null,null,null,null,null,null,null,1]
[null,"Vare 2858",null,null,null,null,null,null,null,1]
[null,"Vare 2863",null,null,null,null,null,null,null,1]
[null,"Vare 2868",null,null,null,null,null,null,null,1]
[null,"Vare 2870",null,null,null,null,null,null,null,1]
[null,"Vare 2873",null,null,null,null,null,null,null,1]
[null,"Vare 2878",null,null,null,null,null,null,null,1]
[null,"Vare 2883",null,null,null,null,null,null,null,1]
[null,"Vare 2886",null,null,null,null,null,null,null,1]
[null,"Vare 2888",null,null,null,null,null,null,null,1]
[null,"Vare 2893",null,null,null,null,null,null,null,1]
[null,"Vare 2898",null,null,null,null,null,null,null,1]
[null,"Vare 2903",null,null,null,null,null,null,null,1]
[null,"Vare 2904",null,null,null,null,null,null,null,1]
[null,"Vare 2908",null,null,null,null,null,null,null,1]
[null,"Vare 2913",null,null,null,null,null,null,null,1]
[null,"Vare 2918",null,null,null,null,null,null,null,1]
[null,"Vare 2921",null,null,null,null,null,null,null,1]
[null,"Vare 2923",null,null,null,null,null,null,null,1]
[null,"Vare 2928",null,null,null,null,null,null,null,1]
[null,"Vare 2933",null,null,null,null,null,null,null,1]
[null,"Vare 2934",null,null,null,null,null,null,null,1]
[null,"Vare 2938",null,null,null,null,null,null,null,1]
[null,"Vare 2943",null,null,null,null,null,null,null,1]
[null,"Vare 2948",null,null,null,null,null,null,null,1]
[null,"Vare 2951",null,null,null,null,null,null,null,1]
[null,"Vare 2953",null,null,null,null,null,null,null,1]
[null,"Vare 2958",null,null,null,null,null,null,null,1]
[null,"Vare 2963",null,null,null,null,null,null,null,1]
[null,"Vare 2964",null,null,null,null,null,null,null,1]
[null,"Vare 2968",null,null,null,null,null,null,null,1]
[null,"Vare 2973",null,null,null,null,null,null,null,1]
[null,"Vare 2978",null,null,null,null,null,null,null,1]
[null,"Vare 2979",null,null,null,null,null,null,null,1]
[null,"Vare 2985",null,null,null,null,null,null,null,1]
[null,"Vare 2988",null,null,null,null,null,null,null,1]
[null,"Vare 2993",null,null,null,null,null,null,null,1]
[null,"Vare 2994",null,null,null,null,null,null,null,1]
[null,"Vare 2999",null,null,null,null,null,null,null,1]
[null,"Vare 3003",null,null,null,null,null,null,null,1]
[null,"Vare 3008",null,null,null,null,null,null,null,1]
[null,"Vare 3009",null,null,null,null,null,null,null,1]
[null,"Vare 3015",null,null,null,null,null,null,null,1]
[null,"Vare 3018",null,null,null,null,null,null,null,1]
[null,"Vare 3023",null,null,null,null,null,null,null,1]
[null,"Vare 3024",null,null,null,null,null,null,null,1]
[null,"Vare 3029",null,null,null,null,null,null,null,1]
[null,"Vare 3033",null,null,null,null,null,null,null,1]
[null,"Vare 3038",null,null,null,null,null,null,null,1]
[null,"Vare 3039",null,null,null,null,null,null,null,1]
[null,"Vare 3045",null,null,null,null,null,null,null,1]
[null,"Vare 3048",null,null,null,null,null,null,null,1]
[null,"Vare 3053",null,null,null,null,null,null,null,1]
[null,"Vare 3054",null,null,null,null,null,null,null,1]
[null,"Vare 3059",null,null,null,null,null,null,null,1]
[null,"Vare 3063",null,null,null,null,null,null,null,1]
[null,"Vare 3068",null,null,null,null,null,null,null,1]
[null,"Vare 3069",null,null,null,null,null,null,null,1]
[null,"Vare 3074",null,null,null,null,null,null,null,{"$f":"100%-(H3085+I3085)","v":1}]
[null,"Vare 3077",null,null,null,null,null,null,null,1]
[null,"Vare 3083",null,null,null,null,null,null,null,1]
[null,"Vare 3084",null,null,null,null,null,null,null,1]
[null,"Vare 3089",null,null,null,null,null,null,null,1]
[null,"Vare 3093",null,null,null,null,null,null,null,1]
[null,"Vare 3098",null,null,null,null,null,null,null,1]
[null,"Vare 3099",null,null,null,null,null,null,null,1]
[null,"Vare 3104",null,null,null,null,null,null,null,1]
[null,"Vare 3107",null,null,null,null,null,null,null,1]
[null,"Vare 3113",null,null,null,null,null,null,null,1]
[null,"Vare 3114",null,null,null,null,null,null,null,1]
[null,"Vare 3119",null,null,null,null,null,null,null,1]
[null,"Vare 3123",null,null,null,null,null,null,null,1]
[null,"Vare 3128",null,null,null,null,null,null,null,1]
[null,"Vare 3129",null,null,null,null,null,null,null,1]
[null,"Vare 3134",null,null,null,null,null,null,null,1]
[null,"Vare 3139",null,null,null,null,null,null,null,1]
[null,"Vare 3141",null,null,null,null,null,null,null,1]
[null,"Vare 3144",null,null,null,null,null,null,null,1]
[null,"Vare 3149",null,null,null,null,null,null,null,1]
[null,"Vare 3154",null,null,null,null,null,null,null,1]
[null,"Vare 3158",null,null,null,null,null,null,null,1]
[null,"Vare 3159",null,null,null,null,null,null,null,1]
[null,"Vare 3164",null,null,null,null,null,null,null,1]
[null,"Vare 3169",null,null,null,null,null,null,null,1]
[null,"Vare 3171",null,null,null,null,null,null,null,1]
[null,"Vare 3174",null,null,null,null,null,null,null,1]
[null,"Vare 3179",null,null,null,null,null,null,null,1]
[null,"Vare 3184",null,null,null,null,null,null,null,1]
[null,"Vare 3188",null,null,null,null,null,null,null,1]
[null,"Vare 3189",null,null,null,null,null,null,null,1]
[null,"Vare 3194",null,null,null,null,null,null,null,1]
[null,"Vare 3199",null,null,null,null,null,null,null,1]
[null,"Vare 3201",null,null,null,null,null,null,null,1]
[null,"Vare 3204",null,null,null,null,null,null,null,1]
[null,"Vare 3209",null,null,null,null,null,null,null,1]
[null,"Vare 3214",null,null,null,null,null,null,null,1]
[null,"Vare 3219",null,null,null,null,null,null,null,1]
[null,"Vare 3222",null,null,null,null,null,null,null,1]
[null,"Vare 3224",null,null,null,null,null,null,null,1]
[null,"Vare 3229",null,null,null,null,null,null,null,1]
[null,"Vare 3234",null,null,null,null,null,null,null,1]
[null,"Vare 3236",null,null,null,null,null,null,null,1]
[null,"Vare 3239",null,null,null,null,null,null,null,1]
[null,"Vare 3244",null,null,null,null,null,null,null,1]
[null,"Vare 3249",null,null,null,null,null,null,null,1]
[null,"Vare 3252",null,null,null,null,null,null,null,1]
[null,"Vare 3254",null,null,null,null,null,null,null,1]
[null,"Vare 3259",null,null,null,null,null,null,null,1]
[null,"Vare 3264",null,null,null,null,null,null,null,1]
[null,"Vare 3266",null,null,null,null,null,null,null,{"$f":"100%-(H3277+I3277)","v":1}]
[null,"Vare 3269",null,null,null,null,null,null,null,1]
[null,"Vare 3274",null,null,null,null,null,null,null,1]
[null,"Vare 3279",null,null,null,null,null,null,null,1]
[null,"Vare 3280",null,null,null,null,null,null,null,1]
[null,"Vare 3284",null,null,null,null,null,null,null,1]
[null,"Vare 3289",null,null,null,null,null,null,null,1]
[null,"Vare 3294",null,null,null,null,null,null,null,1]
[null,"Vare 3295",null,null,null,null,null,null,null,1]
[null,"Vare 3300",null,null,null,null,null,null,null,1]
[null,"Vare 3304",null,null,null,null,null,null,null,1]
[null,"Vare 3309",null,null,null,null,null,null,null,1]
[null,"Vare 3310",null,null,null,null,null,null,null,1]
[null,"Vare 3314",null,null,null,null,null,null,null,1]
[null,"Vare 3319",null,null,null,null,null,null,null,1]
[null,"Vare 3324",null,null,null,null,null,null,null,1]
[null,"Vare 3325",null,null,null,null,null,null,null,1]
[null,"Vare 3330",null,null,null,null,null,null,null,{"$f":"100%-(H3341+I3341)","v":1}]
[null,"Vare 3334",null,null,null,null,null,null,null,1]
[null,"Vare 3339",null,null,null,null,null,null,null,1]
[null,"Vare 3340",null,null,null,null,null,null,null,1]
[null,"Vare 3344",null,null,null,null,null,null,null,1]
[null,"Vare 3349",null,null,null,null,null,null,null,1]
[null,"Vare 3354",null,null,null,null,null,null,null,1]
[null,"Vare 3355",null,null,null,null,null,null,null,1]
[null,"Vare 3361",null,null,null,null,null,null,null,1]
[null,"Vare 3364",null,null,null,null,null,null,null,1]
[null,"Vare 3369",null,null,null,null,null,null,null,1]
[null,"Vare 3370",null,null,null,null,null,null,null,1]
[null,"Vare 3374",null,null,null,null,null,null,null,1]
[null,"Vare 3379",null,null,null,null,null,null,null,1]
[null,"Vare 3384",null,null,null,null,null,null,null,1]
[null,"Vare 3385",null,null,null,null,null,null,null,1]
[null,"Vare 3390",null,null,null,null,null,null,null,1]
[null,"Vare 3395",null,null,null,null,null,null,null,1]
[null,"Vare 3399",null,null,null,null,null,null,null,1]
[null,"Vare 3400",null,null,null,null,null,null,null,1]
[null,"Vare 3405",null,null,null,null,null,null,null,1]
[null,"Vare 3409",null,null,null,null,null,null,null,1]
[null,"Vare 3414",null,null,null,null,null,null,null,1]
[null,"Vare 3415",null,null,null,null,null,null,null,1]
[null,"Vare 3420",null,null,null,null,null,null,null,1]
[null,"Vare 3425",null,null,null,null,null,null,null,1]
[null,"Vare 3429",null,null,null,null,null,null,null,1]
[null,"Vare 3430",null,null,null,null,null,null,null,1]
[null,"Vare 3435",null,null,null,null,null,null,null,1]
[null,"Vare 3439",null,null,null,null,null,null,null,1]
[null,"Vare 3444",null,null,null,null,null,null,null,1]
[null,"Vare 3445",null,null,null,null,null,null,null,1]
[null,"Vare 3450",null,null,null,null,null,null,null,1]
[null,"Vare 3455",null,null,null,null,null,null,null,1]
[null,"Vare 3459",null,null,null,null,null,null,null,1]
[null,"Vare 3460",null,null,null,null,null,null,null,1]
[null,"Vare 3465",null,null,null,null,null,null,null,1]
[null,"Vare 3470",null,null,null,null,null,null,null,1]
[null,"Vare 3473",null,null,null,null,null,null,null,1]
[null,"Vare 3475",null,null,null,null,null,null,null,1]
[null,"Vare 3480",null,null,null,null,null,null,null,1]
[null,"Vare 3485",null,null,null,null,null,null,null,1]
[null,"Vare 3487",null,null,null,null,null,null,null,1]
[null,"Vare 3490",null,null,null,null,null,null,null,1]
[null,"Vare 3495",null,null,null,null,null,null,null,1]
[null,"Vare 3500",null,null,null,null,null,null,null,1]
[null,"Vare 3503",null,null,null,null,null,null,null,1]
[null,"Vare 3505",null,null,null,null,null,null,null,1]
[null,"Vare 3510",null,null,null,null,null,null,null,1]
[null,"Vare 3515",null,null,null,null,null,null,null,1]
[null,"Vare 3517",null,null,null,null,null,null,null,1]
[null,"Vare 3520",null,null,null,null,null,null,null,1]
[null,"Vare 3525",null,null,null,null,null,null,null,1]
[null,"Vare 3530",null,null,null,null,null,null,null,1]
[null,"Vare 3533",null,null,null,null,null,null,null,1]
[null,"Vare 3535",null,null,null,null,null,null,null,1]
[null,"Vare 3540",null,null,null,null,null,null,null,1]
[null,"Vare 3545",null,null,null,null,null,null,null,1]
[null,"Vare 3550",null,null,null,null,null,null,null,1]
[null,"Vare 3551",null,null,null,null,null,null,null,1]
[null,"Vare 3555",null,null,null,null,null,null,null,1]
[null,"Vare 3560",null,null,null,null,null,null,null,1]
[null,"Vare 3565",null,null,null,null,null,null,null,1]
[null,"Vare 3568",null,null,null,null,null,null,null,1]
[null,"Vare 3570",null,null,null,null,null,null,null,1]
[null,"Vare 3575",null,null,null,null,null,null,null,1]
[null,"Vare 3580",null,null,null,null,null,null,null,1]
[null,"Vare 3581",null,null,null,null,null,null,null,1]
[null,"Vare 3585",null,null,null,null,null,null,null,1]
[null,"Vare 3590",null,null,null,null,null,null,null,1]
[null,"Vare 3595",null,null,null,null,null,null,null,1]
[null,"Vare 3598",null,null,null,null,null,null,null,1]
[null,"Vare 3600",null,null,null,null,null,null,null,1]
[null,"Vare 3605",null,null,null,null,null,null,null,1]
[null,"Vare 3610",null,null,null,null,null,null,null,1]
[null,"Vare 3611",null,null,null,null,null,null,null,1]
[null,"Vare 3615",null,null,null,null,null,null,null,1]
[null,"Vare 3620",null,null,null,null,null,null,null,1]
[null,"Vare 3625",null,null,null,null,null,null,null,1]
[null,"Vare 3626",null,null,null,null,null,null,null,1]
[null,"Vare 3632",null,null,null,null,null,null,null,1]
[null,"Vare 3635",null,null,null,null,null,null,null,1]
[null,"Vare 3640",null,null,null,null,null,null,null,1]
[null,"Vare 3641",null,null,null,null,null,null,null,1]
[null,"Vare 3646",null,null,null,null,null,null,null,1]
[null,"Vare 3650",null,null,null,null,null,null,null,{"$f":"100%-(H3661+I3661)","v":1}]
[null,"Vare 3655",null,null,null,null,null,null,null,1]
[null,"Vare 3656",null,null,null,null,null,null,null,1]
[null,"Vare 3662",null,null,null,null,null,null,null,1]
[null,"Vare 3665",null,null,null,null,null,null,null,1]
[null,"Vare 3670",null,null,null,null,null,null,null,1]
[null,"Vare 3671",null,null,null,null,null,null,null,1]
[null,"Vare 3676",null,null,null,null,null,null,null,1]
[null,"Vare 3680",null,null,null,null,null,null,null,1]
[null,"Vare 3685",null,null,null,null,null,null,null,1]
[null,"Vare 3686",null,null,null,null,null,null,null,1]
[null,"Vare 3692",null,null,null,null,null,null,null,1]
[null,"Vare 3695",null,null,null,null,null,null,null,1]
[null,"Vare 3700",null,null,null,null,null,null,null,1]
[null,"Vare 3701",null,null,null,null,null,null,null,1]
[null,"Vare 3706",null,null,null,null,null,null,null,1]
[null,"Vare 3710",null,null,null,null,null,null,null,1]
[null,"Vare 3715",null,null,null,null,null,null,null,1]
[null,"Vare 3716",null,null,null,null,null,null,null,1]
[null,"Vare 3721",null,null,null,null,null,null,null,1]
[null,"Vare 3724",null,null,null,null,null,null,null,1]
[null,"Vare 3730",null,null,null,null,null,null,null,1]
[null,"Vare 3731",null,null,null,null,null,null,null,1]
[null,"Vare 3736",null,null,null,null,null,null,null,1]
[null,"Vare 3740",null,null,null,null,null,null,null,1]
[null,"Vare 3745",null,null,null,null,null,null,null,1]
[null,"Vare 3746",null,null,null,null,null,null,null,1]
[null,"Vare 3751",null,null,null,null,null,null,null,1]
[null,"Vare 3754",null,null,null,null,null,null,null,1]
[null,"Vare 3760",null,null,null,null,null,null,null,1]
[null,"Vare 3761",null,null,null,null,null,null,null,1]
[null,"Vare 3766",null,null,null,null,null,null,null,1]
[null,"Vare 3770",null,null,null,null,null,null,null,1]
[null,"Vare 3775",null,null,null,null,null,null,null,1]
[null,"Vare 3776",null,null,null,null,null,null,null,1]
[null,"Vare 3781",null,null,null,null,null,null,null,1]
[null,"Vare 3784",null,null,null,null,null,null,null,1]
[null,"Vare 3790",null,null,null,null,null,null,null,1]
[null,"Vare 3791",null,null,null,null,null,null,null,1]
[null,"Vare 3796",null,null,null,null,null,null,null,1]
[null,"Vare 3801",null,null,null,null,null,null,null,1]
[null,"Vare 3805",null,null,null,null,null,null,null,1]
[null,"Vare 3806",null,null,null,null,null,null,null,1]
[null,"Vare 3811",null,null,null,null,null,null,null,1]
[null,"Vare 3816",null,null,null,null,null,null,null,1]
[null,"Vare 3818",null,null,null,null,null,null,null,1]
[null,"Vare 3821",null,null,null,null,null,null,null,1]
[null,"Vare 3826",null,null,null,null,null,null,null,1]
[null,"Vare 3831",null,null,null,null,null,null,null,1]
[null,"Vare 3835",null,null,null,null,null,null,null,1]
[null,"Vare 3836",null,null,null,null,null,null,null,1]
[null,"Vare 3841",null,null,null,null,null,null,null,1]
[null,"Vare 3846",null,null,null,null,null,null,null,1]
[null,"Vare 3848",null,null,null,null,null,null,null,1]
[null,"Vare 3851",null,null,null,null,null,null,null,1]
[null,"Vare 3856",null,null,null,null,null,null,null,1]
[null,"Vare 3861",null,null,null,null,null,null,null,1]
[null,"Vare 3865",null,null,null,null,null,null,null,1]
[null,"Vare 3866",null,null,null,null,null,null,null,1]
[null,"Vare 3871",null,null,null,null,null,null,null,1]
[null,"Vare 3876",null,null,null,null,null,null,null,1]
[null,"Vare 3881",null,null,null,null,null,null,null,1]
[null,"Vare 3883",null,null,null,null,null,null,null,1]
[null,"Vare 3886",null,null,null,null,null,null,null,1]
[null,"Vare 3891",null,null,null,null,null,null,null,1]
[null,"Vare 3896",null,null,null,null,null,null,null,1]
[null,"Vare 3899",null,null,null,null,null,null,null,1]
[null,"Vare 3901",null,null,null,null,null,null,null,1]
[null,"Vare 3906",null,null,null,null,null,null,null,{"$f":"100%-(H3917+I3917)","v":1}]
[null,"Vare 3911",null,null,null,null,null,null,null,1]
[null,"Vare 3913",null,null,null,null,null,null,null,1]
[null,"Vare 3916",null,null,null,null,null,null,null,1]
[null,"Vare 3921",null,null,null,null,null,null,null,1]
[null,"Vare 3926",null,null,null,null,null,null,null,1]
[null,"Vare 3929",null,null,null,null,null,null,null,1]
[null,"Vare 3931",null,null,null,null,null,null,null,1]
[null,"Vare 3936",null,null,null,null,null,null,null,1]
[null,"Vare 3941",null,null,null,null,null,null,null,1]
[null,"Vare 3943",null,null,null,null,null,null,null,1]
[null,"Vare 3946",null,null,null,null,null,null,null,1]
[null,"Vare 3951",null,null,null,null,null,null,null,1]
[null,"Vare 3956",null,null,null,null,null,null,null,1]
[null,"Vare 3957",null,null,null,null,null,null,null,1]
[null,"Vare 3961",null,null,null,null,null,null,null,1]
[null,"Vare 3966",null,null,null,null,null,null,null,1]
[null,"Vare 3971",null,null,null,null,null,null,null,1]
[null,"Vare 3972",null,null,null,null,null,null,null,1]
[null,"Vare 3977",null,null,null,null,null,null,null,1]
[null,"Vare 3981",null,null,null,null,null,null,null,1]
[null,"Vare 3986",null,null,null,null,null,null,null,1]
[null,"Vare 3987",null,null,null,null,null,null,null,1]
[null,"Vare 3991",null,null,null,null,null,null,null,1]
[null,"Vare 3996",null,null,null,null,null,null,null,1]
[null,"Vare 4001",null,null,null,null,null,null,null,1]
[null,"Vare 4002",null,null,null,null,null,null,null,1]
[null,"Vare 4007",null,null,null,null,null,null,null,1]
[null,"Vare 4011",null,null,null,null,null,null,null,1]
[null,"Vare 4016",null,null,null,null,null,null,null,1]
[null,"Vare 4017",null,null,null,null,null,null,null,1]
[null,"Vare 4021",null,null,null,null,null,null,null,1]
[null,"Vare 4026",null,null,null,null,null,null,null,1]
[null,"Vare 4031",null,null,null,null,null,null,null,1]
[null,"Vare 4032",null,null,null,null,null,null,null,1]
[null,"Vare 4037",null,null,null,null,null,null,null,1]
[null,"Vare 4042",null,null,null,null,null,null,null,1]
[null,"Vare 4046",null,null,null,null,null,null,null,1]
[null,"Vare 4047",null,null,null,null,null,null,null,1]
[null,"Vare 4052",null,null,null,null,null,null,null,1]
[null,"Vare 4055",null,null,null,null,null,null,null,1]
[null,"Vare 4061",null,null,null,null,null,null,null,1]
[null,"Vare 4062",null,null,null,null,null,null,null,1]
[null,"Vare 4067",null,null,null,null,null,null,null,1]
[null,"Vare 4072",null,null,null,null,null,null,null,1]
[null,"Vare 4076",null,null,null,null,null,null,null,1]
[null,"Vare 4077",null,null,null,null,null,null,null,1]
[null,"Vare 4082",null,null,null,null,null,null,null,1]
[null,"Vare 4085",null,null,null,null,null,null,null,1]
[null,"Vare 4091",null,null,null,null,null,null,null,1]
[null,"Vare 4092",null,null,null,null,null,null,null,1]
[null,"Vare 4097",null,null,null,null,null,null,null,1]
[null,"Vare 4102",null,null,null,null,null,null,null,1]
[null,"Vare 4106",null,null,null,null,null,null,null,1]
[null,"Vare 4107",null,null,null,null,null,null,null,1]
[null,"Vare 4112",null,null,null,null,null,null,null,1]
[null,"Vare 4117",null,null,null,null,null,null,null,1]
[null,"Vare 4120",null,null,null,null,null,null,null,1]
[null,"Vare 4122",null,null,null,null,null,null,null,1]
[null,"Vare 4127",null,null,null,null,null,null,null,1]
[null,"Vare 4132",null,null,null,null,null,null,null,1]
[null,"Vare 4136",null,null,null,null,null,null,null,1]
[null,"Vare 4137",null,null,null,null,null,null,null,1]
[null,"Vare 4142",null,null,null,null,null,null,null,1]
[null,"Vare 4147",null,null,null,null,null,null,null,1]
[null,"Vare 4150",null,null,null,null,null,null,null,1]
[null,"Vare 4152",null,null,null,null,null,null,null,1]
[null,"Vare 4157",null,null,null,null,null,null,null,1]
[null,"Vare 4162",null,null,null,null,null,null,null,{"$f":"100%-(H4173+I4173)","v":1}]
[null,"Vare 4166",null,null,null,null,null,null,null,1]
[null,"Vare 4167",null,null,null,null,null,null,null,1]
[null,"Vare 4172",null,null,null,null,null,null,null,1]
[null,"Vare 4177",null,null,null,null,null,null,null,1]
[null,"Vare 4180",null,null,null,null,null,null,null,1]
[null,"Vare 4182",null,null,null,null,null,null,null,1]
[null,"Vare 4187",null,null,null,null,null,null,null,1]
[null,"Vare 4192",null,null,null,null,null,null,null,1]
[null,"Vare 4197",null,null,null,null,null,null,null,1]
[null,"Vare 4198",null,null,null,null,null,null,null,1]
[null,"Vare 4202",null,null,null,null,null,null,null,1]
[null,"Vare 4207",null,null,null,null,null,null,null,1]
[null,"Vare 4212",null,null,null,null,null,null,null,1]
[null,"Vare 4214",null,null,null,null,null,null,null,1]
[null,"Vare 4217",null,null,null,null,null,null,null,1]
[null,"Vare 4222",null,null,null,null,null,null,null,1]
[null,"Vare 4227",null,null,null,null,null,null,null,1]
[null,"Vare 4228",null,null,null,null,null,null,null,1]
[null,"Vare 4232",null,null,null,null,null,null,null,1]
[null,"Vare 4237",null,null,null,null,null,null,null,1]
[null,"Vare 4242",null,null,null,null,null,null,null,1]
[null,"Vare 4244",null,null,null,null,null,null,null,1]
[null,"Vare 4247",null,null,null,null,null,null,null,1]
[null,"Vare 4252",null,null,null,null,null,null,null,1]
[null,"Vare 4257",null,null,null,null,null,null,null,1]
[null,"Vare 4258",null,null,null,null,null,null,null,1]
[null,"Vare 4262",null,null,null,null,null,null,null,1]
[null,"Vare 4267",null,null,null,null,null,null,null,1]
[null,"Vare 4272",null,null,null,null,null,null,null,1]
[null,"Vare 4274",null,null,null,null,null,null,null,1]
[null,"Vare 4277",null,null,null,null,null,null,null,1]
[null,"Vare 4282",null,null,null,null,null,null,null,1]
[null,"Vare 4287",null,null,null,null,null,null,null,1]
[null,"Vare 4288",null,null,null,null,null,null,null,1]
[null,"Vare 4292",null,null,null,null,null,null,null,1]
[null,"Vare 4297",null,null,null,null,null,null,null,1]
[null,"Vare 4302",null,null,null,null,null,null,null,1]
[null,"Vare 4303",null,null,null,null,null,null,null,1]
[null,"Vare 4309",null,null,null,null,null,null,null,1]
[null,"Vare 4312",null,null,null,null,null,null,null,1]
[null,"Vare 4317",null,null,null,null,null,null,null,1]
[null,"Vare 4318",null,null,null,null,null,null,null,1]
[null,"Vare 4322",null,null,null,null,null,null,null,1]
[null,"Vare 4327",null,null,null,null,null,null,null,1]
[null,"Vare 4332",null,null,null,null,null,null,null,1]
[null,"Vare 4333",null,null,null,null,null,null,null,1]
[null,"Vare 4339",null,null,null,null,null,null,null,1]
[null,"Vare 4342",null,null,null,null,null,null,null,1]
[null,"Vare 4347",null,null,null,null,null,null,null,1]
[null,"Vare 4348",null,null,null,null,null,null,null,1]
[null,"Vare 4352",null,null,null,null,null,null,null,1]
[null,"Vare 4357",null,null,null,null,null,null,null,1]
[null,"Vare 4362",null,null,null,null,null,null,null,1]
[null,"Vare 4363",null,null,null,null,null,null,null,1]
[null,"Vare 4368",null,null,null,null,null,null,null,1]
[null,"Vare 4373",null,null,null,null,null,null,null,1]
[null,"Vare 4377",null,null,null,null,null,null,null,1]
[null,"Vare 4378",null,null,null,null,null,null,null,1]
[null,"Vare 4383",null,null,null,null,null,null,null,1]
[null,"Vare 4387",null,null,null,null,null,null,null,1]
[null,"Vare 4392",null,null,null,null,null,null,null,1]
[null,"Vare 4393",null,null,null,null,null,null,null,1]
[null,"Vare 4398",null,null,null,null,null,null,null,1]
[null,"Vare 4403",null,null,null,null,null,null,null,1]
[null,"Vare 4407",null,null,null,null,null,null,null,1]
[null,"Vare 4408",null,null,null,null,null,null,null,1]
[null,"Vare 4413",null,null,null,null,null,null,null,1]
[null,"Vare 4417",null,null,null,null,null,null,null,1]
[null,"Vare 4422",null,null,null,null,null,null,null,1]
[null,"Vare 4423",null,null,null,null,null,null,null,1]
[null,"Vare 4428",null,null,null,null,null,null,null,1]
[null,"Vare 4433",null,null,null,null,null,null,null,1]
[null,"Vare 4437",null,null,null,null,null,null,null,1]
[null,"Vare 4438",null,null,null,null,null,null,null,1]
[null,"Vare 4443",null,null,null,null,null,null,null,1]
[null,"Vare 4448",null,null,null,null,null,null,null,1]
[null,"Vare 4451",null,null,null,null,null,null,null,1]
[null,"Vare 4453",null,null,null,null,null,null,null,1]
[null,"Vare 4458",null,null,null,null,null,null,null,1]
[null,"Vare 4463",null,null,null,null,null,null,null,1]
[null,"Vare 4465",null,null,null,null,null,null,null,1]
[null,"Vare 4468",null,null,null,null,null,null,null,1]
[null,"Vare 4473",null,null,null,null,null,null,null,1]
[null,"Vare 4478",null,null,null,null,null,null,null,1]
[null,"Vare 4481",null,null,null,null,null,null,null,1]
[null,"Vare 4483",null,null,null,null,null,null,null,1]
[null,"Vare 4488",null,null,null,null,null,null,null,1]
[null,"Vare 4493",null,null,null,null,null,null,null,1]
[null,"Vare 4495",null,null,null,null,null,null,null,1]
[null,"Vare 4498",null,null,null,null,null,null,null,1]
[null,"Vare 4503",null,null,null,null,null,null,null,1]
[null,"Vare 4508",null,null,null,null,null,null,null,1]
[null,"Vare 4511",null,null,null,null,null,null,null,1]
[null,"Vare 4513",null,null,null,null,null,null,null,1]
[null,"Vare 4518",null,null,null,null,null,null,null,1]
[null,"Vare 4523",null,null,null,null,null,null,null,1]
[null,"Vare 4528",null,null,null,null,null,null,null,1]
[null,"Vare 4529",null,null,null,null,null,null,null,1]
[null,"Vare 4533",null,null,null,null,null,null,null,1]
[null,"Vare 4538",null,null,null,null,null,null,null,1]
[null,"Vare 4543",null,null,null,null,null,null,null,1]
[null,"Vare 4546",null,null,null,null,null,null,null,{"$f":"100%-(H4557+I4557)","v":1}]
[null,"Vare 4548",null,null,null,null,null,null,null,1]
[null,"Vare 4553",null,null,null,null,null,null,null,1]
[null,"Vare 4558",null,null,null,null,null,null,null,1]
[null,"Vare 4559",null,null,null,null,null,null,null,1]
[null,"Vare 4563",null,null,null,null,null,null,null,1]
[null,"Vare 4568",null,null,null,null,null,null,null,1]
[null,"Vare 4573",null,null,null,null,null,null,null,1]
[null,"Vare 4576",null,null,null,null,null,null,null,1]
[null,"Vare 4578",null,null,null,null,null,null,null,1]
[null,"Vare 4583",null,null,null,null,null,null,null,1]
[null,"Vare 4588",null,null,null,null,null,null,null,1]
[null,"Vare 4589",null,null,null,null,null,null,null,1]
[null,"Vare 4593",null,null,null,null,null,null,null,1]
[null,"Vare 4598",null,null,null,null,null,null,null,1]
[null,"Vare 4603",null,null,null,null,null,null,null,1]
[null,"Vare 4604",null,null,null,null,null,null,null,1]
[null,"Vare 4610",null,null,null,null,null,null,null,{"$f":"100%-(H4621+I4621)","v":1}]
[null,"Vare 4613",null,null,null,null,null,null,null,1]
[null,"Vare 4618",null,null,null,null,null,null,null,1]
[null,"Vare 4619",null,null,null,null,null,null,null,1]
[null,"Vare 4624",null,null,null,null,null,null,null,1]
[null,"Vare 4628",null,null,null,null,null,null,null,1]
[null,"Vare 4633",null,null,null,null,null,null,null,1]
[null,"Vare 4634",null,null,null,null,null,null,null,1]
[null,"Vare 4640",null,null,null,null,null,null,null,1]
[null,"Vare 4643",null,null,null,null,null,null,null,1]
[null,"Vare 4648",null,null,null,null,null,null,null,1]
[null,"Vare 4649",null,null,null,null,null,null,null,1]
[null,"Vare 4654",null,null,null,null,null,null,null,1]
[null,"Vare 4658",null,null,null,null,null,null,null,1]
[null,"Vare 4663",null,null,null,null,null,null,null,1]
[null,"Vare 4664",null,null,null,null,null,null,null,1]
[null,"Vare 4670",null,null,null,null,null,null,null,1]
[null,"Vare 4673",null,null,null,null,null,null,null,1]
[null,"Vare 4678",null,null,null,null,null,null,null,1]
[null,"Vare 4679",null,null,null,null,null,null,null,1]
[null,"Vare 4684",null,null,null,null,null,null,null,1]
[null,"Vare 4688",null,null,null,null,null,null,null,1]
[null,"Vare 4693",null,null,null,null,null,null,null,1]
[null,"Vare 4694",null,null,null,null,null,null,null,1]
[null,"Vare 4699",null,null,null,null,null,null,null,1]
[null,"Vare 4702",null,null,null,null,null,null,null,1]
[null,"Vare 4708",null,null,null,null,null,null,null,1]
[null,"Vare 4709",null,null,null,null,null,null,null,1]
[null,"Vare 4714",null,null,null,null,null,null,null,1]
[null,"Vare 4718",null,null,null,null,null,null,null,1]
[null,"Vare 4723",null,null,null,null,null,null,null,1]
[null,"Vare 4724",null,null,null,null,null,null,null,1]
[null,"Vare 4729",null,null,null,null,null,null,null,1]
[null,"Vare 4732",null,null,null,null,null,null,null,1]
[null,"Vare 4738",null,null,null,null,null,null,null,{"$f":"100%-(H4749+I4749)","v":1}]
[null,"Vare 4739",null,null,null,null,null,null,null,1]
[null,"Vare 4744",null,null,null,null,null,null,null,1]
[null,"Vare 4748",null,null,null,null,null,null,null,1]
[null,"Vare 4753",null,null,null,null,null,null,null,1]
[null,"Vare 4754",null,null,null,null,null,null,null,1]
[null,"Vare 4759",null,null,null,null,null,null,null,1]
[null,"Vare 4762",null,null,null,null,null,null,null,1]
[null,"Vare 4768",null,null,null,null,null,null,null,1]
[null,"Vare 4769",null,null,null,null,null,null,null,1]
[null,"Vare 4774",null,null,null,null,null,null,null,1]
[null,"Vare 4779",null,null,null,null,null,null,null,1]
[null,"Vare 4783",null,null,null,null,null,null,null,1]
[null,"Vare 4784",null,null,null,null,null,null,null,1]
[null,"Vare 4789",null,null,null,null,null,null,null,1]
[null,"Vare 4794",null,null,null,null,null,null,null,1]
[null,"Vare 4796",null,null,null,null,null,null,null,1]
[null,"Vare 4799",null,null,null,null,null,null,null,1]
[null,"Vare 4804",null,null,null,null,null,null,null,1]
[null,"Vare 4809",null,null,null,null,null,null,null,1]
[null,"Vare 4813",null,null,null,null,null,null,null,1]
[null,"Vare 4814",null,null,null,null,null,null,null,1]
[null,"Vare 4819",null,null,null,null,null,null,null,1]
[null,"Vare 4824",null,null,null,null,null,null,null,1]
[null,"Vare 4827",null,null,null,null,null,null,null,1]
[null,"Vare 4829",null,null,null,null,null,null,null,1]
[null,"Vare 4834",null,null,null,null,null,null,null,1]
[null,"Vare 4839",null,null,null,null,null,null,null,1]
[null,"Vare 4843",null,null,null,null,null,null,null,1]
[null,"Vare 4844",null,null,null,null,null,null,null,1]
[null,"Vare 4849",null,null,null,null,null,null,null,1]
[null,"Vare 4854",null,null,null,null,null,null,null,1]
[null,"Vare 4859",null,null,null,null,null,null,null,1]
[null,"Vare 4861",null,null,null,null,null,null,null,1]
[null,"Vare 4864",null,null,null,null,null,null,null,1]
[null,"Vare 4869",null,null,null,null,null,null,null,1]
[null,"Vare 4874",null,null,null,null,null,null,null,1]
[null,"Vare 4877",null,null,null,null,null,null,null,1]
[null,"Vare 4879",null,null,null,null,null,null,null,1]
[null,"Vare 4884",null,null,null,null,null,null,null,1]
[null,"Vare 4889",null,null,null,null,null,null,null,1]
[null,"Vare 4891",null,null,null,null,null,null,null,1]
[null,"Vare 4894",null,null,null,null,null,null,null,1]
[null,"Vare 4899",null,null,null,null,null,null,null,1]
[null,"Vare 4904",null,null,null,null,null,null,null,1]
[null,"Vare 4905",null,null,null,null,null,null,null,1]
[null,"Vare 4909",null,null,null,null,null,null,null,1]
[null,"Vare 4914",null,null,null,null,null,null,null,1]
[null,"Vare 4919",null,null,null,null,null,null,null,1]
[null,"Vare 4921",null,null,null,null,null,null,null,1]
[null,"Vare 4924",null,null,null,null,null,null,null,1]
[null,"Vare 4929",null,null,null,null,null,null,null,1]
[null,"Vare 4934",null,null,null,null,null,null,null,1]
[null,"Vare 4935",null,null,null,null,null,null,null,1]
[null,"Vare 4939",null,null,null,null,null,null,null,1]
[null,"Vare 4944",null,null,null,null,null,null,null,1]
[null,"Vare 4949",null,null,null,null,null,null,null,1]
[null,"Vare 4950",null,null,null,null,null,null,null,1]
[null,"Vare 4955",null,null,null,null,null,null,null,1]
[null,"Vare 4959",null,null,null,null,null,null,null,1]
[null,"Vare 4964",null,null,null,null,null,null,null,1]
[null,"Vare 4965",null,null,null,null,null,null,null,1]
[null,"Vare 4969",null,null,null,null,null,null,null,1]
[null,"Vare 4974",null,null,null,null,null,null,null,1]
[null,"Vare 4979",null,null,null,null,null,null,null,1]
[null,"Vare 4980",null,null,null,null,null,null,null,1]
[null,"Vare 4986",null,null,null,null,null,null,null,1]
[null,"Vare 4989",null,null,null,null,null,null,null,1]
[null,"Vare 4994",null,null,null,null,null,null,null,{"$f":"100%-(H5005+I5005)","v":1}]
[null,"Vare 4995",null,null,null,null,null,null,null,1]
[null,"Vare 4999",null,null,null,null,null,null,null,1]
[null,"Vare 5004",null,null,null,null,null,null,null,1]
[null,"Vare 5009",null,null,null,null,null,null,null,1]
[null,"Vare 5010",null,null,null,null,null,null,null,1]
[null,"Vare 5015",null,null,null,null,null,null,null,1]
[null,"Vare 5020",null,null,null,null,null,null,null,1]
[null,"Vare 5024",null,null,null,null,null,null,null,1]
[null,"Vare 5025",null,null,null,null,null,null,null,1]
[null,"Vare 5030",null,null,null,null,null,null,null,1]
[null,"Vare 5034",null,null,null,null,null,null,null,1]
[null,"Vare 5039",null,null,null,null,null,null,null,1]
[null,"Vare 5040",null,null,null,null,null,null,null,1]
[null,"Vare 5045",null,null,null,null,null,null,null,1]
[null,"Vare 5050",null,null,null,null,null,null,null,1]
[null,"Vare 5054",null,null,null,null,null,null,null,1]
[null,"Vare 5055",null,null,null,null,null,null,null,1]
[null,"Vare 5060",null,null,null,null,null,null,null,1]
[null,"Vare 5064",null,null,null,null,null,null,null,1]
[null,"Vare 5069",null,null,null,null,null,null,null,1]
[null,"Vare 5070",null,null,null,null,null,null,null,1]
[null,"Vare 5075",null,null,null,null,null,null,null,1]
[null,"Vare 5080",null,null,null,null,null,null,null,1]
[null,"Vare 5084",null,null,null,null,null,null,null,1]
[null,"Vare 5085",null,null,null,null,null,null,null,1]
[null,"Vare 5090",null,null,null,null,null,null,null,1]
[null,"Vare 5094",null,null,null,null,null,null,null,1]
[null,"Vare 5099",null,null,null,null,null,null,null,1]
[null,"Vare 5100",null,null,null,null,null,null,null,1]
[null,"Vare 5105",null,null,null,null,null,null,null,1]
[null,"Vare 5110",null,null,null,null,null,null,null,1]
[null,"Vare 5112",null,null,null,null,null,null,null,1]
[null,"Vare 5115",null,null,null,null,null,null,null,1]
[null,"Vare 5120",null,null,null,null,null,null,null,1]
[null,"Vare 5125",null,null,null,null,null,null,null,1]
[null,"Vare 5128",null,null,null,null,null,null,null,1]
[null,"Vare 5130",null,null,null,null,null,null,null,{"$f":"100%-(H5141+I5141)","v":1}]
[null,"Vare 5135",null,null,null,null,null,null,null,1]
[null,"Vare 5140",null,null,null,null,null,null,null,1]
[null,"Vare 5142",null,null,null,null,null,null,null,1]
[null,"Vare 5145",null,null,null,null,null,null,null,1]
[null,"Vare 5150",null,null,null,null,null,null,null,1]
[null,"Vare 5155",null,null,null,null,null,null,null,1]
[null,"Vare 5158",null,null,null,null,null,null,null,1]
[null,"Vare 5160",null,null,null,null,null,null,null,1]
[null,"Vare 5165",null,null,null,null,null,null,null,1]
[null,"Vare 5170",null,null,null,null,null,null,null,1]
[null,"Vare 5172",null,null,null,null,null,null,null,1]
[null,"Vare 5175",null,null,null,null,null,null,null,1]
[null,"Vare 5180",null,null,null,null,null,null,null,1]
[null,"Vare 5185",null,null,null,null,null,null,null,1]
[null,"Vare 5190",null,null,null,null,null,null,null,1]
[null,"Vare 5193",null,null,null,null,null,null,null,1]
[null,"Vare 5195",null,null,null,null,null,null,null,1]
[null,"Vare 5200",null,null,null,null,null,null,null,1]
[null,"Vare 5205",null,null,null,null,null,null,null,1]
[null,"Vare 5206",null,null,null,null,null,null,null,1]
[null,"Vare 5210",null,null,null,null,null,null,null,1]
[null,"Vare 5215",null,null,null,null,null,null,null,1]
[null,"Vare 5220",null,null,null,null,null,null,null,1]
[null,"Vare 5223",null,null,null,null,null,null,null,1]
[null,"Vare 5225",null,null,null,null,null,null,null,1]
[null,"Vare 5230",null,null,null,null,null,null,null,1]
[null,"Vare 5235",null,null,null,null,null,null,null,1]
[null,"Vare 5236",null,null,null,null,null,null,null,1]
[null,"Vare 5240",null,null,null,null,null,null,null,1]
[null,"Vare 5245",null,null,null,null,null,null,null,1]
[null,"Vare 5250",null,null,null,null,null,null,null,1]
[null,"Vare 5253",null,null,null,null,null,null,null,1]
[null,"Vare 5255",null,null,null,null,null,null,null,1]
[null,"Vare 5260",null,null,null,null,null,null,null,1]
[null,"Vare 5265",null,null,null,null,null,null,null,1]
[null,"Vare 5266",null,null,null,null,null,null,null,1]
[null,"Vare 5271",null,null,null,null,null,null,null,1]
[null,"Vare 5275",null,null,null,null,null,null,null,1]
[null,"Vare 5280",null,null,null,null,null,null,null,1]
[null,"Vare 5281",null,null,null,null,null,null,null,1]
[null,"Vare 5287",null,null,null,null,null,null,null,1]
[null,"Vare 5290",null,null,null,null,null,null,null,1]
[null,"Vare 5295",null,null,null,null,null,null,null,1]
[null,"Vare 5296",null,null,null,null,null,null,null,1]
[null,"Vare 5301",null,null,null,null,null,null,null,1]
[null,"Vare 5305",null,null,null,null,null,null,null,1]
[null,"Vare 5310",null,null,null,null,null,null,null,1]
[null,"Vare 5311",null,null,null,null,null,null,null,1]
[null,"Vare 5317",null,null,null,null,null,null,null,1]
[null,"Vare 5320",null,null,null,null,null,null,null,1]
[null,"Vare 5325",null,null,null,null,null,null,null,1]
[null,"Vare 5326",null,null,null,null,null,null,null,1]
[null,"Vare 5331",null,null,null,null,null,null,null,1]
[null,"Vare 5335",null,null,null,null,null,null,null,1]
[null,"Vare 5340",null,null,null,null,null,null,null,1]
[null,"Vare 5341",null,null,null,null,null,null,null,1]
[null,"Vare 5346",null,null,null,null,null,null,null,1]
[null,"Vare 5349",null,null,null,null,null,null,null,1]
[null,"Vare 5355",null,null,null,null,null,null,null,1]
[null,"Vare 5356",null,null,null,null,null,null,null,1]
[null,"Vare 5361",null,null,null,null,null,null,null,1]
[null,"Vare 5365",null,null,null,null,null,null,null,1]
[null,"Vare 5370",null,null,null,null,null,null,null,1]
[null,"Vare 5371",null,null,null,null,null,null,null,1]
[null,"Vare 5376",null,null,null,null,null,null,null,1]
[null,"Vare 5379",null,null,null,null,null,null,null,1]
[null,"Vare 5385",null,null,null,null,null,null,null,1]
[null,"Vare 5386",null,null,null,null,null,null,null,{"$f":"100%-(H5397+I5397)","v":1}]
[null,"Vare 5391",null,null,null,null,null,null,null,1]
[null,"Vare 5395",null,null,null,null,null,null,null,1]
[null,"Vare 5400",null,null,null,null,null,null,null,1]
[null,"Vare 5401",null,null,null,null,null,null,null,1]
[null,"Vare 5406",null,null,null,null,null,null,null,1]
[null,"Vare 5409",null,null,null,null,null,null,null,1]
[null,"Vare 5415",null,null,null,null,null,null,null,1]
[null,"Vare 5416",null,null,null,null,null,null,null,1]
[null,"Vare 5421",null,null,null,null,null,null,null,1]
[null,"Vare 5426",null,null,null,null,null,null,null,1]
[null,"Vare 5430",null,null,null,null,null,null,null,1]
[null,"Vare 5431",null,null,null,null,null,null,null,1]
[null,"Vare 5436",null,null,null,null,null,null,null,1]
[null,"Vare 5441",null,null,null,null,null,null,null,1]
[null,"Vare 5443",null,null,null,null,null,null,null,1]
[null,"Vare 5446",null,null,null,null,null,null,null,1]
[null,"Vare 5451",null,null,null,null,null,null,null,1]
[null,"Vare 5456",null,null,null,null,null,null,null,1]
[null,"Vare 5460",null,null,null,null,null,null,null,1]
[null,"Vare 5461",null,null,null,null,null,null,null,1]
[null,"Vare 5466",null,null,null,null,null,null,null,1]
[null,"Vare 5471",null,null,null,null,null,null,null,1]
[null,"Vare 5473",null,null,null,null,null,null,null,1]
[null,"Vare 5476",null,null,null,null,null,null,null,1]
[null,"Vare 5481",null,null,null,null,null,null,null,1]
[null,"Vare 5486",null,null,null,null,null,null,null,1]
[null,"Vare 5490",null,null,null,null,null,null,null,1]
[null,"Vare 5491",null,null,null,null,null,null,null,1]
[null,"Vare 5496",null,null,null,null,null,null,null,1]
[null,"Vare 5501",null,null,null,null,null,null,null,1]
[null,"Vare 5506",null,null,null,null,null,null,null,1]
[null,"Vare 5508",null,null,null,null,null,null,null,1]
[null,"Vare 5511",null,null,null,null,null,null,null,1]
[null,"Vare 5516",null,null,null,null,null,null,null,1]
[null,"Vare 5521",null,null,null,null,null,null,null,1]
[null,"Vare 5524",null,null,null,null,null,null,null,1]
[null,"Vare 5526",null,null,null,null,null,null,null,1]
[null,"Vare 5531",null,null,null,null,null,null,null,1]
[null,"Vare 5536",null,null,null,null,null,null,null,1]
[null,"Vare 5538",null,null,null,null,null,null,null,1]
[null,"Vare 5541",null,null,null,null,null,null,null,1]
[null,"Vare 5546",null,null,null,null,null,null,null,1]
[null,"Vare 5551",null,null,null,null,null,null,null,1]
[null,"Vare 5554",null,null,null,null,null,null,null,1]
[null,"Vare 5556",null,null,null,null,null,null,null,1]
[null,"Vare 5561",null,null,null,null,null,null,null,1]
[null,"Vare 5566",null,null,null,null,null,null,null,1]
[null,"Vare 5568",null,null,null,null,null,null,null,1]
[null,"Vare 5571",null,null,null,null,null,null,null,1]
[null,"Vare 5576",null,null,null,null,null,null,null,1]
[null,"Vare 5581",null,null,null,null,null,null,null,1]
[null,"Vare 5584",null,null,null,null,null,null,null,1]
[null,"Vare 5586",null,null,null,null,null,null,null,1]
[null,"Vare 5591",null,null,null,null,null,null,null,1]
[null,"Vare 5596",null,null,null,null,null,null,null,1]
[null,"Vare 5597",null,null,null,null,null,null,null,1]
[null,"Vare 5602",null,null,null,null,null,null,null,1]
[null,"Vare 5606",null,null,null,null,null,null,null,1]
[null,"Vare 5611",null,null,null,null,null,null,null,1]
[null,"Vare 5612",null,null,null,null,null,null,null,1]
[null,"Vare 5616",null,null,null,null,null,null,null,1]
[null,"Vare 5621",null,null,null,null,null,null,null,1]
[null,"Vare 5626",null,null,null,null,null,null,null,1]
[null,"Vare 5627",null,null,null,null,null,null,null,1]
[null,"Vare 5632",null,null,null,null,null,null,null,1]
[null,"Vare 5636",null,null,null,null,null,null,null,1]
[null,"Vare 5641",null,null,null,null,null,null,null,1]
[null,"Vare 5642",null,null,null,null,null,null,null,{"$f":"100%-(H5653+I5653)","v":1}]
[null,"Vare 5646",null,null,null,null,null,null,null,1]
[null,"Vare 5651",null,null,null,null,null,null,null,1]
[null,"Vare 5656",null,null,null,null,null,null,null,1]
[null,"Vare 5657",null,null,null,null,null,null,null,1]
[null,"Vare 5662",null,null,null,null,null,null,null,1]
[null,"Vare 5666",null,null,null,null,null,null,null,1]
[null,"Vare 5671",null,null,null,null,null,null,null,1]
[null,"Vare 5672",null,null,null,null,null,null,null,1]
[null,"Vare 5677",null,null,null,null,null,null,null,1]
[null,"Vare 5680",null,null,null,null,null,null,null,1]
[null,"Vare 5686",null,null,null,null,null,null,null,1]
[null,"Vare 5687",null,null,null,null,null,null,null,1]
[null,"Vare 5692",null,null,null,null,null,null,null,1]
[null,"Vare 5697",null,null,null,null,null,null,null,1]
[null,"Vare 5701",null,null,null,null,null,null,null,1]
[null,"Vare 5702",null,null,null,null,null,null,null,1]
[null,"Vare 5707",null,null,null,null,null,null,null,1]
[null,"Vare 5710",null,null,null,null,null,null,null,1]
[null,"Vare 5716",null,null,null,null,null,null,null,1]
[null,"Vare 5717",null,null,null,null,null,null,null,1]
[null,"Vare 5722",null,null,null,null,null,null,null,1]
[null,"Vare 5727",null,null,null,null,null,null,null,1]
[null,"Vare 5731",null,null,null,null,null,null,null,1]
[null,"Vare 5732",null,null,null,null,null,null,null,1]
[null,"Vare 5737",null,null,null,null,null,null,null,1]
[null,"Vare 5740",null,null,null,null,null,null,null,1]
[null,"Vare 5746",null,null,null,null,null,null,null,1]
[null,"Vare 5747",null,null,null,null,null,null,null,1]
[null,"Vare 5752",null,null,null,null,null,null,null,1]
[null,"Vare 5757",null,null,null,null,null,null,null,1]
[null,"Vare 5761",null,null,null,null,null,null,null,1]
[null,"Vare 5762",null,null,null,null,null,null,null,1]
[null,"Vare 5767",null,null,null,null,null,null,null,1]
[null,"Vare 5772",null,null,null,null,null,null,null,1]
[null,"Vare 5775",null,null,null,null,null,null,null,1]
[null,"Vare 5777",null,null,null,null,null,null,null,1]
[null,"Vare 5782",null,null,null,null,null,null,null,1]
[null,"Vare 5787",null,null,null,null,null,null,null,1]
[null,"Vare 5791",null,null,null,null,null,null,null,1]
[null,"Vare 5792",null,null,null,null,null,null,null,1]
[null,"Vare 5797",null,null,null,null,null,null,null,1]
[null,"Vare 5802",null,null,null,null,null,null,null,1]
[null,"Vare 5805",null,null,null,null,null,null,null,1]
[null,"Vare 5807",null,null,null,null,null,null,null,1]
[null,"Vare 5812",null,null,null,null,null,null,null,1]
[null,"Vare 5817",null,null,null,null,null,null,null,1]
[null,"Vare 5821",null,null,null,null,null,null,null,1]
[null,"Vare 5822",null,null,null,null,null,null,null,1]
[null,"Vare 5827",null,null,null,null,null,null,null,1]
[null,"Vare 5832",null,null,null,null,null,null,null,1]
[null,"Vare 5837",null,null,null,null,null,null,null,1]
[null,"Vare 5839",null,null,null,null,null,null,null,1]
[null,"Vare 5842",null,null,null,null,null,null,null,1]
[null,"Vare 5847",null,null,null,null,null,null,null,1]
[null,"Vare 5852",null,null,null,null,null,null,null,1]
[null,"Vare 5853",null,null,null,null,null,null,null,1]
[null,"Vare 5857",null,null,null,null,null,null,null,1]
[null,"Vare 5862",null,null,null,null,null,null,null,1]
[null,"Vare 5867",null,null,null,null,null,null,null,1]
[null,"Vare 5869",null,null,null,null,null,null,null,1]
[null,"Vare 5872",null,null,null,null,null,null,null,1]
[null,"Vare 5877",null,null,null,null,null,null,null,1]
[null,"Vare 5882",null,null,null,null,null,null,null,1]
[null,"Vare 5883",null,null,null,null,null,null,null,1]
[null,"Vare 5887",null,null,null,null,null,null,null,1]
[null,"Vare 5892",null,null,null,null,null,null,null,1]
[null,"Vare 5897",null,null,null,null,null,null,null,1]
[null,"Vare 5899",null,null,null,null,null,null,null,1]
[null,"Vare 5902",null,null,null,null,null,null,null,1]
[null,"Vare 5907",null,null,null,null,null,null,null,1]
[null,"Vare 5912",null,null,null,null,null,null,null,1]
[null,"Vare 5913",null,null,null,null,null,null,null,1]
[null,"Vare 5917",null,null,null,null,null,null,null,1]
[null,"Vare 5922",null,null,null,null,null,null,null,1]
[null,"Vare 5927",null,null,null,null,null,null,null,1]
[null,"Vare 5928",null,null,null,null,null,null,null,1]
[null,"Vare 5934",null,null,null,null,null,null,null,1]
[null,"Vare 5937",null,null,null,null,null,null,null,1]
[null,"Vare 5942",null,null,null,null,null,null,null,1]
[null,"Vare 5943",null,null,null,null,null,null,null,1]
[null,"Vare 5947",null,null,null,null,null,null,null,1]
[null,"Vare 5952",null,null,null,null,null,null,null,1]
[null,"Vare 5957",null,null,null,null,null,null,null,1]
[null,"Vare 5958",null,null,null,null,null,null,null,1]
[null,"Vare 5964",null,null,null,null,null,null,null,1]
[null,"Vare 5967",null,null,null,null,null,null,null,1]
[null,"Vare 5972",null,null,null,null,null,null,null,1]
[null,"Vare 5973",null,null,null,null,null,null,null,1]
[null,"Vare 5977",null,null,null,null,null,null,null,1]
[null,"Vare 5982",null,null,null,null,null,null,null,1]
[null,"Vare 5987",null,null,null,null,null,null,null,1]
[null,"Vare 5988",null,null,null,null,null,null,null,1]
[null,"Vare 5994",null,null,null,null,null,null,null,1]
[null,"Vare 5997",null,null,null,null,null,null,null,1]
[null,"Vare 6002",null,null,null,null,null,null,null,1]
[null,"Vare 6003",null,null,null,null,null,null,null,1]
[null,"Vare 6008",null,null,null,null,null,null,null,1]
[null,"Vare 6012",null,null,null,null,null,null,null,1]
[null,"Vare 6017",null,null,null,null,null,null,null,1]
[null,"Vare 6018",null,null,null,null,null,null,null,1]
[null,"Vare 6023",null,null,null,null,null,null,null,1]
[null,"Vare 6028",null,null,null,null,null,null,null,1]
[null,"Vare 6032",null,null,null,null,null,null,null,1]
[null,"Vare 6033",null,null,null,null,null,null,null,1]
[null,"Vare 6038",null,null,null,null,null,null,null,1]
[null,"Vare 6042",null,null,null,null,null,null,null,1]
[null,"Vare 6047",null,null,null,null,null,null,null,1]
[null,"Vare 6048",null,null,null,null,null,null,null,1]
[null,"Vare 6053",null,null,null,null,null,null,null,1]
[null,"Vare 6058",null,null,null,null,null,null,null,1]
[null,"Vare 6062",null,null,null,null,null,null,null,1]
[null,"Vare 6063",null,null,null,null,null,null,null,1]
[null,"Vare 6068",null,null,null,null,null,null,null,1]
[null,"Vare 6072",null,null,null,null,null,null,null,1]
[null,"Vare 6077",null,null,null,null,null,null,null,1]
[null,"Vare 6078",null,null,null,null,null,null,null,1]
[null,"Vare 6083",null,null,null,null,null,null,null,1]
[null,"Vare 6088",null,null,null,null,null,null,null,1]
[null,"Vare 6090",null,null,null,null,null,null,null,{"$f":"100%-(H6101+I6101)","v":1}]
[null,"Vare 6093",null,null,null,null,null,null,null,1]
[null,"Vare 6098",null,null,null,null,null,null,null,1]
[null,"Vare 6103",null,null,null,null,null,null,null,1]
[null,"Vare 6106",null,null,null,null,null,null,null,1]
[null,"Vare 6108",null,null,null,null,null,null,null,1]
[null,"Vare 6113",null,null,null,null,null,null,null,1]
[null,"Vare 6118",null,null,null,null,null,null,null,1]
[null,"Vare 6120",null,null,null,null,null,null,null,1]
[null,"Vare 6123",null,null,null,null,null,null,null,1]
[null,"Vare 6128",null,null,null,null,null,null,null,1]
[null,"Vare 6133",null,null,null,null,null,null,null,1]
[null,"Vare 6136",null,null,null,null,null,null,null,1]
[null,"Vare 6138",null,null,null,null,null,null,null,1]
[null,"Vare 6143",null,null,null,null,null,null,null,1]
[null,"Vare 6148",null,null,null,null,null,null,null,1]
[null,"Vare 6150",null,null,null,null,null,null,null,1]
[null,"Vare 6153",null,null,null,null,null,null,null,1]
[null,"Vare 6158",null,null,null,null,null,null,null,1]
[null,"Vare 6163",null,null,null,null,null,null,null,1]
[null,"Vare 6168",null,null,null,null,null,null,null,1]
[null,"Vare 6171",null,null,null,null,null,null,null,1]
[null,"Vare 6173",null,null,null,null,null,null,null,1]
[null,"Vare 6178",null,null,null,null,null,null,null,1]
[null,"Vare 6183",null,null,null,null,null,null,null,1]
[null,"Vare 6184",null,null,null,null,null,null,null,1]
[null,"Vare 6188",null,null,null,null,null,null,null,1]
[null,"Vare 6193",null,null,null,null,null,null,null,1]
[null,"Vare 6198",null,null,null,null,null,null,null,1]
[null,"Vare 6201",null,null,null,null,null,null,null,1]
[null,"Vare 6203",null,null,null,null,null,null,null,1]
[null,"Vare 6208",null,null,null,null,null,null,null,1]
[null,"Vare 6213",null,null,null,null,null,null,null,1]
[null,"Vare 6214",null,null,null,null,null,null,null,1]
[null,"Vare 6218",null,null,null,null,null,null,null,{"$f":"100%-(H6229+I6229)","v":1}]
[null,"Vare 6223",null,null,null,null,null,null,null,1]
[null,"Vare 6228",null,null,null,null,null,null,null,1]
[null,"Vare 6231",null,null,null,null,null,null,null,1]
[null,"Vare 6233",null,null,null,null,null,null,null,1]
[null,"Vare 6238",null,null,null,null,null,null,null,1]
[null,"Vare 6243",null,null,null,null,null,null,null,1]
[null,"Vare 6244",null,null,null,null,null,null,null,1]
[null,"Vare 6249",null,null,null,null,null,null,null,1]
[null,"Vare 6253",null,null,null,null,null,null,null,1]
[null,"Vare 6258",null,null,null,null,null,null,null,1]
[null,"Vare 6259",null,null,null,null,null,null,null,1]
[null,"Vare 6265",null,null,null,null,null,null,null,1]
[null,"Vare 6268",null,null,null,null,null,null,null,1]
[null,"Vare 6273",null,null,null,null,null,null,null,1]
[null,"Vare 6274",null,null,null,null,null,null,null,1]
[null,"Vare 6279",null,null,null,null,null,null,null,1]
[null,"Vare 6283",null,null,null,null,null,null,null,1]
[null,"Vare 6288",null,null,null,null,null,null,null,1]
[null,"Vare 6289",null,null,null,null,null,null,null,1]
[null,"Vare 6295",null,null,null,null,null,null,null,1]
[null,"Vare 6298",null,null,null,null,null,null,null,1]
[null,"Vare 6303",null,null,null,null,null,null,null,1]
[null,"Vare 6304",null,null,null,null,null,null,null,1]
[null,"Vare 6309",null,null,null,null,null,null,null,1]
[null,"Vare 6313",null,null,null,null,null,null,null,1]
[null,"Vare 6318",null,null,null,null,null,null,null,1]
[null,"Vare 6319",null,null,null,null,null,null,null,1]
[null,"Vare 6324",null,null,null,null,null,null,null,1]
[null,"Vare 6327",null,null,null,null,null,null,null,1]
[null,"Vare 6333",null,null,null,null,null,null,null,1]
[null,"Vare 6334",null,null,null,null,null,null,null,1]
[null,"Vare 6339",null,null,null,null,null,null,null,1]
[null,"Vare 6343",null,null,null,null,null,null,null,1]
[null,"Vare 6348",null,null,null,null,null,null,null,1]
[null,"Vare 6349",null,null,null,null,null,null,null,1]
[null,"Vare 6354",null,null,null,null,null,null,null,1]
[null,"Vare 6357",null,null,null,null,null,null,null,1]
[null,"Vare 6363",null,null,null,null,null,null,null,1]
[null,"Vare 6364",null,null,null,null,null,null,null,1]
[null,"Vare 6369",null,null,null,null,null,null,null,1]
[null,"Vare 6373",null,null,null,null,null,null,null,1]
[null,"Vare 6378",null,null,null,null,null,null,null,1]
[null,"Vare 6379",null,null,null,null,null,null,null,1]
[null,"Vare 6384",null,null,null,null,null,null,null,1]
[null,"Vare 6387",null,null,null,null,null,null,null,1]
[null,"Vare 6393",null,null,null,null,null,null,null,1]
[null,"Vare 6394",null,null,null,null,null,null,null,1]
[null,"Vare 6399",null,null,null,null,null,null,null,1]
[null,"Vare 6404",null,null,null,null,null,null,null,1]
[null,"Vare 6408",null,null,null,null,null,null,null,1]
[null,"Vare 6409",null,null,null,null,null,null,null,1]
[null,"Vare 6414",null,null,null,null,null,null,null,1]
[null,"Vare 6419",null,null,null,null,null,null,null,1]
[null,"Vare 6421",null,null,null,null,null,null,null,1]
[null,"Vare 6424",null,null,null,null,null,null,null,1]
[null,"Vare 6429",null,null,null,null,null,null,null,1]
[null,"Vare 6434",null,null,null,null,null,null,null,1]
[null,"Vare 6438",null,null,null,null,null,null,null,1]
[null,"Vare 6439",null,null,null,null,null,null,null,1]
[null,"Vare 6444",null,null,null,null,null,null,null,1]
[null,"Vare 6449",null,null,null,null,null,null,null,1]
[null,"Vare 6452",null,null,null,null,null,null,null,1]
[null,"Vare 6454",null,null,null,null,null,null,null,1]
[null,"Vare 6459",null,null,null,null,null,null,null,1]
[null,"Vare 6464",null,null,null,null,null,null,null,1]
[null,"Vare 6468",null,null,null,null,null,null,null,1]
[null,"Vare 6469",null,null,null,null,null,null,null,1]
[null,"Vare 6474",null,null,null,null,null,null,null,{"$f":"100%-(H6485+I6485)","v":1}]
[null,"Vare 6479",null,null,null,null,null,null,null,1]
[null,"Vare 6482",null,null,null,null,null,null,null,1]
[null,"Vare 6484",null,null,null,null,null,null,null,1]
[null,"Vare 6489",null,null,null,null,null,null,null,1]
[null,"Vare 6494",null,null,null,null,null,null,null,1]
[null,"Vare 6499",null,null,null,null,null,null,null,1]
[null,"Vare 6502",null,null,null,null,null,null,null,1]
[null,"Vare 6504",null,null,null,null,null,null,null,1]
[null,"Vare 6509",null,null,null,null,null,null,null,1]
[null,"Vare 6514",null,null,null,null,null,null,null,1]
[null,"Vare 6516",null,null,null,null,null,null,null,1]
[null,"Vare 6519",null,null,null,null,null,null,null,1]
[null,"Vare 6524",null,null,null,null,null,null,null,1]
[null,"Vare 6529",null,null,null,null,null,null,null,1]
[null,"Vare 6530",null,null,null,null,null,null,null,1]
[null,"Vare 6534",null,null,null,null,null,null,null,1]
[null,"Vare 6539",null,null,null,null,null,null,null,1]
[null,"Vare 6544",null,null,null,null,null,null,null,1]
[null,"Vare 6546",null,null,null,null,null,null,null,1]
[null,"Vare 6549",null,null,null,null,null,null,null,1]
[null,"Vare 6554",null,null,null,null,null,null,null,1]
[null,"Vare 6559",null,null,null,null,null,null,null,1]
[null,"Vare 6560",null,null,null,null,null,null,null,1]
[null,"Vare 6564",null,null,null,null,null,null,null,1]
[null,"Vare 6569",null,null,null,null,null,null,null,1]
[null,"Vare 6574",null,null,null,null,null,null,null,1]
[null,"Vare 6575",null,null,null,null,null,null,null,1]
[null,"Vare 6580",null,null,null,null,null,null,null,1]
[null,"Vare 6584",null,null,null,null,null,null,null,1]
[null,"Vare 6589",null,null,null,null,null,null,null,1]
[null,"Vare 6590",null,null,null,null,null,null,null,1]
[null,"Vare 6594",null,null,null,null,null,null,null,1]
[null,"Vare 6599",null,null,null,null,null,null,null,1]
[null,"Vare 6604",null,null,null,null,null,null,null,1]
[null,"Vare 6605",null,null,null,null,null,null,null,1]
[null,"Vare 6611",null,null,null,null,null,null,null,1]
[null,"Vare 6614",null,null,null,null,null,null,null,1]
[null,"Vare 6619",null,null,null,null,null,null,null,1]
[null,"Vare 6620",null,null,null,null,null,null,null,1]
[null,"Vare 6624",null,null,null,null,null,null,null,1]
[null,"Vare 6629",null,null,null,null,null,null,null,1]
[null,"Vare 6634",null,null,null,null,null,null,null,1]
[null,"Vare 6635",null,null,null,null,null,null,null,1]
[null,"Vare 6641",null,null,null,null,null,null,null,1]
[null,"Vare 6644",null,null,null,null,null,null,null,1]
[null,"Vare 6649",null,null,null,null,null,null,null,1]
[null,"Vare 6650",null,null,null,null,null,null,null,1]
[null,"Vare 6655",null,null,null,null,null,null,null,1]
[null,"Vare 6659",null,null,null,null,null,null,null,1]
[null,"Vare 6664",null,null,null,null,null,null,null,1]
[null,"Vare 6665",null,null,null,null,null,null,null,1]
[null,"Vare 6670",null,null,null,null,null,null,null,1]
[null,"Vare 6675",null,null,null,null,null,null,null,1]
[null,"Vare 6679",null,null,null,null,null,null,null,1]
[null,"Vare 6680",null,null,null,null,null,null,null,1]
[null,"Vare 6685",null,null,null,null,null,null,null,1]
[null,"Vare 6689",null,null,null,null,null,null,null,1]
[null,"Vare 6694",null,null,null,null,null,null,null,1]
[null,"Vare 6695",null,null,null,null,null,null,null,1]
[null,"Vare 6700",null,null,null,null,null,null,null,1]
[null,"Vare 6705",null,null,null,null,null,null,null,1]
[null,"Vare 6709",null,null,null,null,null,null,null,1]
[null,"Vare 6710",null,null,null,null,null,null,null,1]
[null,"Vare 6715",null,null,null,null,null,null,null,1]
[null,"Vare 6719",null,null,null,null,null,null,null,1]
[null,"Vare 6724",null,null,null,null,null,null,null,1]
[null,"Vare 6725",null,null,null,null,null,null,null,1]
[null,"Vare 6730",null,null,null,null,null,null,null,{"$f":"100%-(H6741+I6741)","v":1}]
[null,"Vare 6735",null,null,null,null,null,null,null,1]
[null,"Vare 6737",null,null,null,null,null,null,null,1]
[null,"Vare 6740",null,null,null,null,null,null,null,1]
[null,"Vare 6745",null,null,null,null,null,null,null,1]
[null,"Vare 6750",null,null,null,null,null,null,null,1]
[null,"Vare 6753",null,null,null,null,null,null,null,1]
[null,"Vare 6755",null,null,null,null,null,null,null,1]
[null,"Vare 6760",null,null,null,null,null,null,null,1]
[null,"Vare 6765",null,null,null,null,null,null,null,1]
[null,"Vare 6767",null,null,null,null,null,null,null,1]
[null,"Vare 6770",null,null,null,null,null,null,null,1]
[null,"Vare 6775",null,null,null,null,null,null,null,1]
[null,"Vare 6780",null,null,null,null,null,null,null,1]
[null,"Vare 6783",null,null,null,null,null,null,null,1]
[null,"Vare 6785",null,null,null,null,null,null,null,1]
[null,"Vare 6790",null,null,null,null,null,null,null,1]
[null,"Vare 6795",null,null,null,null,null,null,null,1]
[null,"Vare 6797",null,null,null,null,null,null,null,1]
[null,"Vare 6800",null,null,null,null,null,null,null,1]
[null,"Vare 6805",null,null,null,null,null,null,null,1]
[null,"Vare 6810",null,null,null,null,null,null,null,1]
[null,"Vare 6815",null,null,null,null,null,null,null,1]
[null,"Vare 6818",null,null,null,null,null,null,null,1]
[null,"Vare 6820",null,null,null,null,null,null,null,1]
[null,"Vare 6825",null,null,null,null,null,null,null,1]
[null,"Vare 6830",null,null,null,null,null,null,null,1]
[null,"Vare 6831",null,null,null,null,null,null,null,1]
[null,"Vare 6835",null,null,null,null,null,null,null,1]
[null,"Vare 6840",null,null,null,null,null,null,null,1]
[null,"Vare 6845",null,null,null,null,null,null,null,1]
[null,"Vare 6848",null,null,null,null,null,null,null,1]
[null,"Vare 6850",null,null,null,null,null,null,null,1]
[null,"Vare 6855",null,null,null,null,null,null,null,1]
[null,"Vare 6860",null,null,null,null,null,null,null,1]
[null,"Vare 6861",null,null,null,null,null,null,null,1]
[null,"Vare 6865",null,null,null,null,null,null,null,1]
[null,"Vare 6870",null,null,null,null,null,null,null,1]
[null,"Vare 6875",null,null,null,null,null,null,null,1]
[null,"Vare 6878",null,null,null,null,null,null,null,1]
[null,"Vare 6880",null,null,null,null,null,null,null,1]
[null,"Vare 6885",null,null,null,null,null,null,null,1]
[null,"Vare 6890",null,null,null,null,null,null,null,1]
[null,"Vare 6891",null,null,null,null,null,null,null,1]
[null,"Vare 6895",null,null,null,null,null,null,null,1]
[null,"Vare 6900",null,null,null,null,null,null,null,1]
[null,"Vare 6905",null,null,null,null,null,null,null,1]
[null,"Vare 6906",null,null,null,null,null,null,null,1]
[null,"Vare 6912",null,null,null,null,null,null,null,1]
[null,"Vare 6915",null,null,null,null,null,null,null,1]
[null,"Vare 6920",null,null,null,null,null,null,null,1]
[null,"Vare 6921",null,null,null,null,null,null,null,1]
[null,"Vare 6926",null,null,null,null,null,null,null,1]
[null,"Vare 6930",null,null,null,null,null,null,null,1]
[null,"Vare 6935",null,null,null,null,null,null,null,1]
[null,"Vare 6936",null,null,null,null,null,null,null,1]
[null,"Vare 6942",null,null,null,null,null,null,null,1]
[null,"Vare 6945",null,null,null,null,null,null,null,1]
[null,"Vare 6950",null,null,null,null,null,null,null,1]
[null,"Vare 6951",null,null,null,null,null,null,null,1]
[null,"Vare 6956",null,null,null,null,null,null,null,1]
[null,"Vare 6960",null,null,null,null,null,null,null,1]
[null,"Vare 6965",null,null,null,null,null,null,null,1]
[null,"Vare 6966",null,null,null,null,null,null,null,1]
[null,"Vare 6972",null,null,null,null,null,null,null,1]
[null,"Vare 6975",null,null,null,null,null,null,null,1]
[null,"Vare 6980",null,null,null,null,null,null,null,1]
[null,"Vare 6981",null,null,null,null,null,null,null,1]
[null,"Vare 6986",null,null,null,null,null,null,null,{"$f":"100%-(H6997+I6997)","v":1}]
[null,"Vare 6990",null,null,null,null,null,null,null,1]
[null,"Vare 6995",null,null,null,null,null,null,null,1]
[null,"Vare 6996",null,null,null,null,null,null,null,1]
[null,"Vare 7001",null,null,null,null,null,null,null,1]
[null,"Vare 7004",null,null,null,null,null,null,null,1]
[null,"Vare 7010",null,null,null,null,null,null,null,1]
[null,"Vare 7011",null,null,null,null,null,null,null,1]
[null,"Vare 7016",null,null,null,null,null,null,null,1]
[null,"Vare 7020",null,null,null,null,null,null,null,1]
[null,"Vare 7025",null,null,null,null,null,null,null,1]
[null,"Vare 7026",null,null,null,null,null,null,null,1]
[null,"Vare 7031",null,null,null,null,null,null,null,1]
[null,"Vare 7034",null,null,null,null,null,null,null,1]
[null,"Vare 7040",null,null,null,null,null,null,null,1]
[null,"Vare 7041",null,null,null,null,null,null,null,1]
[null,"Vare 7046",null,null,null,null,null,null,null,1]
[null,"Vare 7050",null,null,null,null,null,null,null,{"$f":"100%-(H7061+I7061)","v":1}]
[null,"Vare 7055",null,null,null,null,null,null,null,1]
[null,"Vare 7056",null,null,null,null,null,null,null,1]
[null,"Vare 7061",null,null,null,null,null,null,null,1]
[null,"Vare 7066",null,null,null,null,null,null,null,1]
[null,"Vare 7068",null,null,null,null,null,null,null,1]
[null,"Vare 7071",null,null,null,null,null,null,null,1]
[null,"Vare 7076",null,null,null,null,null,null,null,1]
[null,"Vare 7081",null,null,null,null,null,null,null,1]
[null,"Vare 7085",null,null,null,null,null,null,null,1]
[null,"Vare 7086",null,null,null,null,null,null,null,1]
[null,"Vare 7091",null,null,null,null,null,null,null,1]
[null,"Vare 7096",null,null,null,null,null,null,null,1]
[null,"Vare 7098",null,null,null,null,null,null,null,1]
[null,"Vare 7101",null,null,null,null,null,null,null,1]
[null,"Vare 7106",null,null,null,null,null,null,null,1]
[null,"Vare 7111",null,null,null,null,null,null,null,1]
[null,"Vare 7115",null,null,null,null,null,null,null,1]
[null,"Vare 7116",null,null,null,null,null,null,null,1]
[null,"Vare 7121",null,null,null,null,null,null,null,1]
[null,"Vare 7126",null,null,null,null,null,null,null,1]
[null,"Vare 7128",null,null,null,null,null,null,null,1]
[null,"Vare 7131",null,null,null,null,null,null,null,1]
[null,"Vare 7136",null,null,null,null,null,null,null,1]
[null,"Vare 7141",null,null,null,null,null,null,null,1]
[null,"Vare 7146",null,null,null,null,null,null,null,1]
[null,"Vare 7149",null,null,null,null,null,null,null,1]
[null,"Vare 7151",null,null,null,null,null,null,null,1]
[null,"Vare 7156",null,null,null,null,null,null,null,1]
[null,"Vare 7161",null,null,null,null,null,null,null,1]
[null,"Vare 7163",null,null,null,null,null,null,null,1]
[null,"Vare 7166",null,null,null,null,null,null,null,1]
[null,"Vare 7171",null,null,null,null,null,null,null,1]
[null,"Vare 7176",null,null,null,null,null,null,null,1]
[null,"Vare 7179",null,null,null,null,null,null,null,1]
[null,"Vare 7181",null,null,null,null,null,null,null,1]
[null,"Vare 7186",null,null,null,null,null,null,null,1]
[null,"Vare 7191",null,null,null,null,null,null,null,1]
[null,"Vare 7193",null,null,null,null,null,null,null,1]
[null,"Vare 7196",null,null,null,null,null,null,null,1]
[null,"Vare 7201",null,null,null,null,null,null,null,1]
[null,"Vare 7206",null,null,null,null,null,null,null,1]
[null,"Vare 7209",null,null,null,null,null,null,null,1]
[null,"Vare 7211",null,null,null,null,null,null,null,1]
[null,"Vare 7216",null,null,null,null,null,null,null,1]
[null,"Vare 7221",null,null,null,null,null,null,null,1]
[null,"Vare 7222",null,null,null,null,null,null,null,1]
[null,"Vare 7227",null,null,null,null,null,null,null,1]
[null,"Vare 7231",null,null,null,null,null,null,null,1]
[null,"Vare 7236",null,null,null,null,null,null,null,1]
[null,"Vare 7237",null,null,null,null,null,null,null,1]
[null,"Vare 7241",null,null,null,null,null,null,null,1]
[null,"Vare 7246",null,null,null,null,null,null,null,1]
[null,"Vare 7251",null,null,null,null,null,null,null,1]
[null,"Vare 7252",null,null,null,null,null,null,null,1]
[null,"Vare 7257",null,null,null,null,null,null,null,1]
[null,"Vare 7261",null,null,null,null,null,null,null,1]
[null,"Vare 7266",null,null,null,null,null,null,null,1]
[null,"Vare 7267",null,null,null,null,null,null,null,1]
[null,"Vare 7271",null,null,null,null,null,null,null,1]
[null,"Vare 7276",null,null,null,null,null,null,null,1]
[null,"Vare 7281",null,null,null,null,null,null,null,1]
[null,"Vare 7282",null,null,null,null,null,null,null,1]
[null,"Vare 7287",null,null,null,null,null,null,null,1]
[null,"Vare 7291",null,null,null,null,null,null,null,1]
[null,"Vare 7296",null,null,null,null,null,null,null,1]
[null,"Vare 7297",null,null,null,null,null,null,null,1]
[null,"Vare 7301",null,null,null,null,null,null,null,1]
[null,"Vare 7306",null,null,null,null,null,null,null,{"$f":"100%-(H7317+I7317)","v":1}]
[null,"Vare 7311",null,null,null,null,null,null,null,1]
[null,"Vare 7312",null,null,null,null,null,null,null,1]
[null,"Vare 7317",null,null,null,null,null,null,null,1]
[null,"Vare 7322",null,null,null,null,null,null,null,1]
[null,"Vare 7326",null,null,null,null,null,null,null,1]
[null,"Vare 7327",null,null,null,null,null,null,null,1]
[null,"Vare 7332",null,null,null,null,null,null,null,1]
[null,"Vare 7335",null,null,null,null,null,null,null,1]
[null,"Vare 7341",null,null,null,null,null,null,null,1]
[null,"Vare 7342",null,null,null,null,null,null,null,1]
[null,"Vare 7347",null,null,null,null,null,null,null,1]
[null,"Vare 7352",null,null,null,null,null,null,null,1]
[null,"Vare 7356",null,null,null,null,null,null,null,1]
[null,"Vare 7357",null,null,null,null,null,null,null,1]
[null,"Vare 7362",null,null,null,null,null,null,null,1]
[null,"Vare 7365",null,null,null,null,null,null,null,1]
[null,"Vare 7371",null,null,null,null,null,null,null,1]
[null,"Vare 7372",null,null,null,null,null,null,null,1]
[null,"Vare 7377",null,null,null,null,null,null,null,1]
[null,"Vare 7382",null,null,null,null,null,null,null,1]
[null,"Vare 7386",null,null,null,null,null,null,null,1]
[null,"Vare 7387",null,null,null,null,null,null,null,1]
[null,"Vare 7392",null,null,null,null,null,null,null,1]
[null,"Vare 7397",null,null,null,null,null,null,null,1]
[null,"Vare 7400",null,null,null,null,null,null,null,1]
[null,"Vare 7402",null,null,null,null,null,null,null,1]
[null,"Vare 7407",null,null,null,null,null,null,null,1]
[null,"Vare 7412",null,null,null,null,null,null,null,1]
[null,"Vare 7416",null,null,null,null,null,null,null,1]
[null,"Vare 7417",null,null,null,null,null,null,null,1]
[null,"Vare 7422",null,null,null,null,null,null,null,1]
[null,"Vare 7427",null,null,null,null,null,null,null,1]
[null,"Vare 7430",null,null,null,null,null,null,null,1]
[null,"Vare 7432",null,null,null,null,null,null,null,1]
[null,"Vare 7437",null,null,null,null,null,null,null,1]
[null,"Vare 7442",null,null,null,null,null,null,null,1]
[null,"Vare 7446",null,null,null,null,null,null,null,1]
[null,"Vare 7447",null,null,null,null,null,null,null,1]
[null,"Vare 7452",null,null,null,null,null,null,null,1]
[null,"Vare 7457",null,null,null,null,null,null,null,1]
[null,"Vare 7460",null,null,null,null,null,null,null,1]
[null,"Vare 7462",null,null,null,null,null,null,null,1]
[null,"Vare 7467",null,null,null,null,null,null,null,1]
[null,"Vare 7472",null,null,null,null,null,null,null,1]
[null,"Vare 7477",null,null,null,null,null,null,null,1]
[null,"Vare 7478",null,null,null,null,null,null,null,1]
[null,"Vare 7482",null,null,null,null,null,null,null,1]
[null,"Vare 7487",null,null,null,null,null,null,null,1]
[null,"Vare 7492",null,null,null,null,null,null,null,1]
[null,"Vare 7494",null,null,null,null,null,null,null,1]
[null,"Vare 7497",null,null,null,null,null,null,null,1]
[null,"Vare 7502",null,null,null,null,null,null,null,1]
[null,"Vare 7507",null,null,null,null,null,null,null,1]
[null,"Vare 7508",null,null,null,null,null,null,null,1]
[null,"Vare 7512",null,null,null,null,null,null,null,1]
[null,"Vare 7517",null,null,null,null,null,null,null,1]
[null,"Vare 7522",null,null,null,null,null,null,null,1]
[null,"Vare 7524",null,null,null,null,null,null,null,1]
[null,"Vare 7527",null,null,null,null,null,null,null,1]
[null,"Vare 7532",null,null,null,null,null,null,null,1]
[null,"Vare 7537",null,null,null,null,null,null,null,1]
[null,"Vare 7538",null,null,null,null,null,null,null,1]
[null,"Vare 7542",null,null,null,null,null,null,null,1]
[null,"Vare 7547",null,null,null,null,null,null,null,1]
[null,"Vare 7552",null,null,null,null,null,null,null,1]
[null,"Vare 7553",null,null,null,null,null,null,null,1]
[null,"Vare 7559",null,null,null,null,null,null,null,1]
[null,"Vare 7562",null,null,null,null,null,null,null,{"$f":"100%-(H7573+I7573)","v":1}]
[null,"Vare 7567",null,null,null,null,null,null,null,1]
[null,"Vare 7568",null,null,null,null,null,null,null,1]
[null,"Vare 7572",null,null,null,null,null,null,null,1]
[null,"Vare 7577",null,null,null,null,null,null,null,1]
[null,"Vare 7582",null,null,null,null,null,null,null,1]
[null,"Vare 7583",null,null,null,null,null,null,null,1]
[null,"Vare 7589",null,null,null,null,null,null,null,1]
[null,"Vare 7592",null,null,null,null,null,null,null,1]
[null,"Vare 7597",null,null,null,null,null,null,null,1]
[null,"Vare 7598",null,null,null,null,null,null,null,1]
[null,"Vare 7602",null,null,null,null,null,null,null,1]
[null,"Vare 7607",null,null,null,null,null,null,null,1]
[null,"Vare 7612",null,null,null,null,null,null,null,1]
[null,"Vare 7613",null,null,null,null,null,null,null,1]
[null,"Vare 7619",null,null,null,null,null,null,null,1]
[null,"Vare 7622",null,null,null,null,null,null,null,1]
[null,"Vare 7627",null,null,null,null,null,null,null,1]
[null,"Vare 7628",null,null,null,null,null,null,null,1]
[null,"Vare 7633",null,null,null,null,null,null,null,1]
[null,"Vare 7637",null,null,null,null,null,null,null,1]
[null,"Vare 7642",null,null,null,null,null,null,null,1]
[null,"Vare 7643",null,null,null,null,null,null,null,1]
[null,"Vare 7648",null,null,null,null,null,null,null,1]
[null,"Vare 7653",null,null,null,null,null,null,null,1]
[null,"Vare 7657",null,null,null,null,null,null,null,1]
[null,"Vare 7658",null,null,null,null,null,null,null,1]
[null,"Vare 7663",null,null,null,null,null,null,null,1]
[null,"Vare 7667",null,null,null,null,null,null,null,1]
[null,"Vare 7672",null,null,null,null,null,null,null,1]
[null,"Vare 7673",null,null,null,null,null,null,null,1]
[null,"Vare 7678",null,null,null,null,null,null,null,1]
[null,"Vare 7683",null,null,null,null,null,null,null,1]
[null,"Vare 7687",null,null,null,null,null,null,null,1]
[null,"Vare 7688",null,null,null,null,null,null,null,1]
[null,"Vare 7693",null,null,null,null,null,null,null,1]
[null,"Vare 7697",null,null,null,null,null,null,null,1]
[null,"Vare 7702",null,null,null,null,null,null,null,1]
[null,"Vare 7703",null,null,null,null,null,null,null,1]
[null,"Vare 7708",null,null,null,null,null,null,null,1]
[null,"Vare 7713",null,null,null,null,null,null,null,1]
[null,"Vare 7715",null,null,null,null,null,null,null,1]
[null,"Vare 7718",null,null,null,null,null,null,null,1]
[null,"Vare 7723",null,null,null,null,null,null,null,1]
[null,"Vare 7728",null,null,null,null,null,null,null,1]
[null,"Vare 7731",null,null,null,null,null,null,null,1]
[null,"Vare 7733",null,null,null,null,null,null,null,1]
[null,"Vare 7738",null,null,null,null,null,null,null,1]
[null,"Vare 7743",null,null,null,null,null,null,null,1]
[null,"Vare 7745",null,null,null,null,null,null,null,1]
[null,"Vare 7748",null,null,null,null,null,null,null,1]
[null,"Vare 7753",null,null,null,null,null,null,null,1]
[null,"Vare 7758",null,null,null,null,null,null,null,1]
[null,"Vare 7761",null,null,null,null,null,null,null,1]
[null,"Vare 7763",null,null,null,null,null,null,null,1]
[null,"Vare 7768",null,null,null,null,null,null,null,1]
[null,"Vare 7773",null,null,null,null,null,null,null,1]
[null,"Vare 7775",null,null,null,null,null,null,null,1]
[null,"Vare 7778",null,null,null,null,null,null,null,1]
[null,"Vare 7783",null,null,null,null,null,null,null,1]
[null,"Vare 7788",null,null,null,null,null,null,null,1]
[null,"Vare 7791",null,null,null,null,null,null,null,1]
[null,"Vare 7793",null,null,null,null,null,null,null,1]
[null,"Vare 7798",null,null,null,null,null,null,null,1]
[null,"Vare 7803",null,null,null,null,null,null,null,1]
[null,"Vare 7808",null,null,null,null,null,null,null,1]
[null,"Vare 7809",null,null,null,null,null,null,null,1]
[null,"Vare 7813",null,null,null,null,null,null,null,1]
[null,"Vare 7818",null,null,null,null,null,null,null,{"$f":"100%-(H7829+I7829)","v":1}]
[null,"Vare 7823",null,null,null,null,null,null,null,1]
[null,"Vare 7826",null,null,null,null,null,null,null,1]
[null,"Vare 7828",null,null,null,null,null,null,null,1]
[null,"Vare 7833",null,null,null,null,null,null,null,1]
[null,"Vare 7838",null,null,null,null,null,null,null,1]
[null,"Vare 7839",null,null,null,null,null,null,null,1]
[null,"Vare 7843",null,null,null,null,null,null,null,1]
[null,"Vare 7848",null,null,null,null,null,null,null,1]
[null,"Vare 7853",null,null,null,null,null,null,null,1]
[null,"Vare 7856",null,null,null,null,null,null,null,1]
[null,"Vare 7858",null,null,null,null,null,null,null,1]
[null,"Vare 7863",null,null,null,null,null,null,null,1]
[null,"Vare 7868",null,null,null,null,null,null,null,1]
[null,"Vare 7870",null,null,null,null,null,null,null,1]
[null,"Vare 7873",null,null,null,null,null,null,null,1]
[null,"Vare 7878",null,null,null,null,null,null,null,1]
[null,"Vare 7883",null,null,null,null,null,null,null,1]
[null,"Vare 7884",null,null,null,null,null,null,null,1]
[null,"Vare 7890",null,null,null,null,null,null,null,1]
[null,"Vare 7893",null,null,null,null,null,null,null,1]
[null,"Vare 7898",null,null,null,null,null,null,null,1]
[null,"Vare 7899",null,null,null,null,null,null,null,1]
[null,"Vare 7904",null,null,null,null,null,null,null,1]
[null,"Vare 7908",null,null,null,null,null,null,null,1]
[null,"Vare 7913",null,null,null,null,null,null,null,1]
[null,"Vare 7914",null,null,null,null,null,null,null,1]
[null,"Vare 7920",null,null,null,null,null,null,null,1]
[null,"Vare 7923",null,null,null,null,null,null,null,1]
[null,"Vare 7928",null,null,null,null,null,null,null,1]
[null,"Vare 7929",null,null,null,null,null,null,null,1]
[null,"Vare 7934",null,null,null,null,null,null,null,1]
[null,"Vare 7938",null,null,null,null,null,null,null,1]
[null,"Vare 7943",null,null,null,null,null,null,null,1]
[null,"Vare 7944",null,null,null,null,null,null,null,1]
[null,"Vare 7948",null,null,null,null,null,null,null,1]
[null,"Vare 7953",null,null,null,null,null,null,null,1]
[null,"Vare 7958",null,null,null,null,null,null,null,1]
[null,"Vare 7959",null,null,null,null,null,null,null,1]
[null,"Vare 7964",null,null,null,null,null,null,null,1]
[null,"Vare 7968",null,null,null,null,null,null,null,1]
[null,"Vare 7973",null,null,null,null,null,null,null,1]
[null,"Vare 7974",null,null,null,null,null,null,null,1]
[null,"Vare 7979",null,null,null,null,null,null,null,1]
[null,"Vare 7982",null,null,null,null,null,null,null,1]
[null,"Vare 7988",null,null,null,null,null,null,null,1]
[null,"Vare 7989",null,null,null,null,null,null,null,1]
[null,"Vare 7994",null,null,null,null,null,null,null,1]
[null,"Vare 7998",null,null,null,null,null,null,null,1]
[null,"Vare 8003",null,null,null,null,null,null,null,1]
[null,"Vare 8004",null,null,null,null,null,null,null,1]
[null,"Vare 8009",null,null,null,null,null,null,null,1]
[null,"Vare 8012",null,null,null,null,null,null,null,1]
[null,"Vare 8018",null,null,null,null,null,null,null,1]
[null,"Vare 8019",null,null,null,null,null,null,null,1]
[null,"Vare 8024",null,null,null,null,null,null,null,1]
[null,"Vare 8029",null,null,null,null,null,null,null,1]
[null,"Vare 8033",null,null,null,null,null,null,null,1]
[null,"Vare 8034",null,null,null,null,null,null,null,1]
[null,"Vare 8039",null,null,null,null,null,null,null,1]
[null,"Vare 8044",null,null,null,null,null,null,null,1]
[null,"Vare 8046",null,null,null,null,null,null,null,1]
[null,"Vare 8049",null,null,null,null,null,null,null,1]
[null,"Vare 8054",null,null,null,null,null,null,null,1]
[null,"Vare 8059",null,null,null,null,null,null,null,1]
[null,"Vare 8063",null,null,null,null,null,null,null,1]
[null,"Vare 8064",null,null,null,null,null,null,null,1]
[null,"Vare 8069",null,null,null,null,null,null,null,1]
[null,"Vare 8074",null,null,null,null,null,null,null,{"$f":"100%-(H8085+I8085)","v":1}]
[null,"Vare 8077",null,null,null,null,null,null,null,1]
[null,"Vare 8079",null,null,null,null,null,null,null,1]
[null,"Vare 8084",null,null,null,null,null,null,null,1]
[null,"Vare 8089",null,null,null,null,null,null,null,1]
[null,"Vare 8093",null,null,null,null,null,null,null,1]
[null,"Vare 8094",null,null,null,null,null,null,null,1]
[null,"Vare 8099",null,null,null,null,null,null,null,1]
[null,"Vare 8104",null,null,null,null,null,null,null,1]
[null,"Vare 8107",null,null,null,null,null,null,null,1]
[null,"Vare 8109",null,null,null,null,null,null,null,1]
[null,"Vare 8114",null,null,null,null,null,null,null,1]
[null,"Vare 8119",null,null,null,null,null,null,null,1]
[null,"Vare 8124",null,null,null,null,null,null,null,1]
[null,"Vare 8127",null,null,null,null,null,null,null,1]
[null,"Vare 8129",null,null,null,null,null,null,null,1]
[null,"Vare 8134",null,null,null,null,null,null,null,1]
[null,"Vare 8139",null,null,null,null,null,null,null,1]
[null,"Vare 8141",null,null,null,null,null,null,null,1]
[null,"Vare 8144",null,null,null,null,null,null,null,1]
[null,"Vare 8149",null,null,null,null,null,null,null,1]
[null,"Vare 8154",null,null,null,null,null,null,null,1]
[null,"Vare 8155",null,null,null,null,null,null,null,1]
[null,"Vare 8159",null,null,null,null,null,null,null,1]
[null,"Vare 8164",null,null,null,null,null,null,null,1]
[null,"Vare 8169",null,null,null,null,null,null,null,1]
[null,"Vare 8171",null,null,null,null,null,null,null,1]
[null,"Vare 8174",null,null,null,null,null,null,null,1]
[null,"Vare 8179",null,null,null,null,null,null,null,1]
[null,"Vare 8184",null,null,null,null,null,null,null,1]
[null,"Vare 8185",null,null,null,null,null,null,null,1]
[null,"Vare 8189",null,null,null,null,null,null,null,1]
[null,"Vare 8194",null,null,null,null,null,null,null,1]
[null,"Vare 8199",null,null,null,null,null,null,null,1]
[null,"Vare 8201",null,null,null,null,null,null,null,1]
[null,"Vare 8204",null,null,null,null,null,null,null,1]
[null,"Vare 8209",null,null,null,null,null,null,null,1]
[null,"Vare 8214",null,null,null,null,null,null,null,1]
[null,"Vare 8215",null,null,null,null,null,null,null,1]
[null,"Vare 8219",null,null,null,null,null,null,null,1]
[null,"Vare 8224",null,null,null,null,null,null,null,1]
[null,"Vare 8229",null,null,null,null,null,null,null,1]
[null,"Vare 8230",null,null,null,null,null,null,null,1]
[null,"Vare 8236",null,null,null,null,null,null,null,1]
[null,"Vare 8239",null,null,null,null,null,null,null,1]
[null,"Vare 8244",null,null,null,null,null,null,null,1]
[null,"Vare 8245",null,null,null,null,null,null,null,1]
[null,"Vare 8249",null,null,null,null,null,null,null,1]
[null,"Vare 8254",null,null,null,null,null,null,null,1]
[null,"Vare 8259",null,null,null,null,null,null,null,1]
[null,"Vare 8260",null,null,null,null,null,null,null,1]
[null,"Vare 8266",null,null,null,null,null,null,null,{"$f":"100%-(H8277+I8277)","v":1}]
[null,"Vare 8269",null,null,null,null,null,null,null,1]
[null,"Vare 8274",null,null,null,null,null,null,null,1]
[null,"Vare 8275",null,null,null,null,null,null,null,1]
[null,"Vare 8279",null,null,null,null,null,null,null,1]
[null,"Vare 8284",null,null,null,null,null,null,null,1]
[null,"Vare 8289",null,null,null,null,null,null,null,1]
[null,"Vare 8290",null,null,null,null,null,null,null,1]
[null,"Vare 8295",null,null,null,null,null,null,null,1]
[null,"Vare 8300",null,null,null,null,null,null,null,1]
[null,"Vare 8304",null,null,null,null,null,null,null,1]
[null,"Vare 8305",null,null,null,null,null,null,null,1]
[null,"Vare 8310",null,null,null,null,null,null,null,1]
[null,"Vare 8314",null,null,null,null,null,null,null,1]
[null,"Vare 8319",null,null,null,null,null,null,null,1]
[null,"Vare 8320",null,null,null,null,null,null,null,1]
[null,"Vare 8325",null,null,null,null,null,null,null,1]
[null,"Vare 8330",null,null,null,null,null,null,null,{"$f":"100%-(H8341+I8341)","v":1}]
[null,"Vare 8334",null,null,null,null,null,null,null,1]
[null,"Vare 8335",null,null,null,null,null,null,null,1]
[null,"Vare 8340",null,null,null,null,null,null,null,1]
[null,"Vare 8344",null,null,null,null,null,null,null,1]
[null,"Vare 8349",null,null,null,null,null,null,null,1]
[null,"Vare 8350",null,null,null,null,null,null,null,1]
[null,"Vare 8355",null,null,null,null,null,null,null,1]
[null,"Vare 8360",null,null,null,null,null,null,null,1]
[null,"Vare 8364",null,null,null,null,null,null,null,1]
[null,"Vare 8365",null,null,null,null,null,null,null,1]
[null,"Vare 8370",null,null,null,null,null,null,null,1]
[null,"Vare 8375",null,null,null,null,null,null,null,1]
[null,"Vare 8378",null,null,null,null,null,null,null,1]
[null,"Vare 8380",null,null,null,null,null,null,null,1]
[null,"Vare 8385",null,null,null,null,null,null,null,1]
[null,"Vare 8390",null,null,null,null,null,null,null,1]
[null,"Vare 8392",null,null,null,null,null,null,null,1]
[null,"Vare 8395",null,null,null,null,null,null,null,1]
[null,"Vare 8400",null,null,null,null,null,null,null,1]
[null,"Vare 8405",null,null,null,null,null,null,null,1]
[null,"Vare 8408",null,null,null,null,null,null,null,1]
[null,"Vare 8410",null,null,null,null,null,null,null,1]
[null,"Vare 8415",null,null,null,null,null,null,null,1]
[null,"Vare 8420",null,null,null,null,null,null,null,1]
[null,"Vare 8422",null,null,null,null,null,null,null,1]
[null,"Vare 8425",null,null,null,null,null,null,null,1]
[null,"Vare 8430",null,null,null,null,null,null,null,1]
[null,"Vare 8435",null,null,null,null,null,null,null,1]
[null,"Vare 8438",null,null,null,null,null,null,null,1]
[null,"Vare 8440",null,null,null,null,null,null,null,1]
[null,"Vare 8445",null,null,null,null,null,null,null,1]
[null,"Vare 8450",null,null,null,null,null,null,null,1]
[null,"Vare 8455",null,null,null,null,null,null,null,1]
[null,"Vare 8456",null,null,null,null,null,null,null,1]
[null,"Vare 8460",null,null,null,null,null,null,null,1]
[null,"Vare 8465",null,null,null,null,null,null,null,1]
[null,"Vare 8470",null,null,null,null,null,null,null,1]
[null,"Vare 8473",null,null,null,null,null,null,null,1]
[null,"Vare 8475",null,null,null,null,null,null,null,1]
[null,"Vare 8480",null,null,null,null,null,null,null,1]
[null,"Vare 8485",null,null,null,null,null,null,null,1]
[null,"Vare 8486",null,null,null,null,null,null,null,1]
[null,"Vare 8490",null,null,null,null,null,null,null,1]
[null,"Vare 8495",null,null,null,null,null,null,null,1]
[null,"Vare 8500",null,null,null,null,null,null,null,1]
[null,"Vare 8503",null,null,null,null,null,null,null,1]
[null,"Vare 8505",null,null,null,null,null,null,null,1]
[null,"Vare 8510",null,null,null,null,null,null,null,1]
[null,"Vare 8515",null,null,null,null,null,null,null,1]
[null,"Vare 8516",null,null,null,null,null,null,null,1]
[null,"Vare 8520",null,null,null,null,null,null,null,1]
[null,"Vare 8525",null,null,null,null,null,null,null,1]
[null,"Vare 8530",null,null,null,null,null,null,null,1]
[null,"Vare 8531",null,null,null,null,null,null,null,1]
[null,"Vare 8537",null,null,null,null,null,null,null,1]
[null,"Vare 8540",null,null,null,null,null,null,null,1]
[null,"Vare 8545",null,null,null,null,null,null,null,1]
[null,"Vare 8546",null,null,null,null,null,null,null,1]
[null,"Vare 8551",null,null,null,null,null,null,null,1]
[null,"Vare 8555",null,null,null,null,null,null,null,1]
[null,"Vare 8560",null,null,null,null,null,null,null,1]
[null,"Vare 8561",null,null,null,null,null,null,null,1]
[null,"Vare 8567",null,null,null,null,null,null,null,1]
[null,"Vare 8570",null,null,null,null,null,null,null,1]
[null,"Vare 8575",null,null,null,null,null,null,null,1]
[null,"Vare 8576",null,null,null,null,null,null,null,1]
[null,"Vare 8581",null,null,null,null,null,null,null,1]
[null,"Vare 8585",null,null,null,null,null,null,null,1]
[null,"Vare 8590",null,null,null,null,null,null,null,1]
[null,"Vare 8591",null,null,null,null,null,null,null,1]
[null,"Vare 8597",null,null,null,null,null,null,null,1]
[null,"Vare 8600",null,null,null,null,null,null,null,1]
[null,"Vare 8605",null,null,null,null,null,null,null,1]
[null,"Vare 8606",null,null,null,null,null,null,null,1]
[null,"Vare 8611",null,null,null,null,null,null,null,1]
[null,"Vare 8615",null,null,null,null,null,null,null,1]
[null,"Vare 8620",null,null,null,null,null,null,null,1]
[null,"Vare 8621",null,null,null,null,null,null,null,1]
[null,"Vare 8626",null,null,null,null,null,null,null,1]
[null,"Vare 8629",null,null,null,null,null,null,null,1]
[null,"Vare 8635",null,null,null,null,null,null,null,1]
[null,"Vare 8636",null,null,null,null,null,null,null,1]
[null,"Vare 8641",null,null,null,null,null,null,null,1]
[null,"Vare 8645",null,null,null,null,null,null,null,1]
[null,"Vare 8650",null,null,null,null,null,null,null,{"$f":"100%-(H8661+I8661)","v":1}]
[null,"Vare 8651",null,null,null,null,null,null,null,1]
[null,"Vare 8656",null,null,null,null,null,null,null,1]
[null,"Vare 8659",null,null,null,null,null,null,null,1]
[null,"Vare 8665",null,null,null,null,null,null,null,1]
[null,"Vare 8666",null,null,null,null,null,null,null,1]
[null,"Vare 8671",null,null,null,null,null,null,null,1]
[null,"Vare 8675",null,null,null,null,null,null,null,1]
[null,"Vare 8680",null,null,null,null,null,null,null,1]
[null,"Vare 8681",null,null,null,null,null,null,null,1]
[null,"Vare 8686",null,null,null,null,null,null,null,1]
[null,"Vare 8689",null,null,null,null,null,null,null,1]
[null,"Vare 8695",null,null,null,null,null,null,null,1]
[null,"Vare 8696",null,null,null,null,null,null,null,1]
[null,"Vare 8701",null,null,null,null,null,null,null,1]
[null,"Vare 8706",null,null,null,null,null,null,null,1]
[null,"Vare 8710",null,null,null,null,null,null,null,1]
[null,"Vare 8711",null,null,null,null,null,null,null,1]
[null,"Vare 8716",null,null,null,null,null,null,null,1]
[null,"Vare 8721",null,null,null,null,null,null,null,1]
[null,"Vare 8723",null,null,null,null,null,null,null,1]
[null,"Vare 8726",null,null,null,null,null,null,null,1]
[null,"Vare 8731",null,null,null,null,null,null,null,1]
[null,"Vare 8736",null,null,null,null,null,null,null,1]
[null,"Vare 8740",null,null,null,null,null,null,null,1]
[null,"Vare 8741",null,null,null,null,null,null,null,1]
[null,"Vare 8746",null,null,null,null,null,null,null,1]
[null,"Vare 8751",null,null,null,null,null,null,null,1]
[null,"Vare 8753",null,null,null,null,null,null,null,1]
[null,"Vare 8756",null,null,null,null,null,null,null,1]
[null,"Vare 8761",null,null,null,null,null,null,null,1]
[null,"Vare 8766",null,null,null,null,null,null,null,1]
[null,"Vare 8770",null,null,null,null,null,null,null,1]
[null,"Vare 8771",null,null,null,null,null,null,null,1]
[null,"Vare 8776",null,null,null,null,null,null,null,1]
[null,"Vare 8781",null,null,null,null,null,null,null,1]
[null,"Vare 8786",null,null,null,null,null,null,null,1]
[null,"Vare 8788",null,null,null,null,null,null,null,1]
[null,"Vare 8791",null,null,null,null,null,null,null,1]
[null,"Vare 8796",null,null,null,null,null,null,null,1]
[null,"Vare 8801",null,null,null,null,null,null,null,1]
[null,"Vare 8804",null,null,null,null,null,null,null,1]
[null,"Vare 8806",null,null,null,null,null,null,null,1]
[null,"Vare 8811",null,null,null,null,null,null,null,1]
[null,"Vare 8816",null,null,null,null,null,null,null,1]
[null,"Vare 8818",null,null,null,null,null,null,null,1]
[null,"Vare 8821",null,null,null,null,null,null,null,1]
[null,"Vare 8826",null,null,null,null,null,null,null,1]
[null,"Vare 8831",null,null,null,null,null,null,null,1]
[null,"Vare 8834",null,null,null,null,null,null,null,1]
[null,"Vare 8836",null,null,null,null,null,null,null,1]
[null,"Vare 8841",null,null,null,null,null,null,null,1]
[null,"Vare 8846",null,null,null,null,null,null,null,1]
[null,"Vare 8848",null,null,null,null,null,null,null,1]
[null,"Vare 8851",null,null,null,null,null,null,null,1]
[null,"Vare 8856",null,null,null,null,null,null,null,1]
[null,"Vare 8861",null,null,null,null,null,null,null,1]
[null,"Vare 8862",null,null,null,null,null,null,null,1]
[null,"Vare 8866",null,null,null,null,null,null,null,1]
[null,"Vare 8871",null,null,null,null,null,null,null,1]
[null,"Vare 8876",null,null,null,null,null,null,null,1]
[null,"Vare 8877",null,null,null,null,null,null,null,1]
[null,"Vare 8882",null,null,null,null,null,null,null,1]
[null,"Vare 8886",null,null,null,null,null,null,null,1]
[null,"Vare 8891",null,null,null,null,null,null,null,1]
[null,"Vare 8892",null,null,null,null,null,null,null,1]
[null,"Vare 8896",null,null,null,null,null,null,null,1]
[null,"Vare 8901",null,null,null,null,null,null,null,1]
[null,"Vare 8906",null,null,null,null,null,null,null,{"$f":"100%-(H8917+I8917)","v":1}]
[null,"Vare 8907",null,null,null,null,null,null,null,1]
[null,"Vare 8912",null,null,null,null,null,null,null,1]
[null,"Vare 8916",null,null,null,null,null,null,null,1]
[null,"Vare 8921",null,null,null,null,null,null,null,1]
[null,"Vare 8922",null,null,null,null,null,null,null,1]
[null,"Vare 8926",null,null,null,null,null,null,null,1]
[null,"Vare 8931",null,null,null,null,null,null,null,1]
[null,"Vare 8936",null,null,null,null,null,null,null,1]
[null,"Vare 8937",null,null,null,null,null,null,null,1]
[null,"Vare 8942",null,null,null,null,null,null,null,1]
[null,"Vare 8947",null,null,null,null,null,null,null,1]
[null,"Vare 8951",null,null,null,null,null,null,null,1]
[null,"Vare 8952",null,null,null,null,null,null,null,1]
[null,"Vare 8957",null,null,null,null,null,null,null,1]
[null,"Vare 8960",null,null,null,null,null,null,null,1]
[null,"Vare 8966",null,null,null,null,null,null,null,1]
[null,"Vare 8967",null,null,null,null,null,null,null,1]
[null,"Vare 8972",null,null,null,null,null,null,null,1]
[null,"Vare 8977",null,null,null,null,null,null,null,1]
[null,"Vare 8981",null,null,null,null,null,null,null,1]
[null,"Vare 8982",null,null,null,null,null,null,null,1]
[null,"Vare 8987",null,null,null,null,null,null,null,1]
[null,"Vare 8990",null,null,null,null,null,null,null,1]
[null,"Vare 8996",null,null,null,null,null,null,null,1]
[null,"Vare 8997",null,null,null,null,null,null,null,1]
[null,"Vare 9002",null,null,null,null,null,null,null,1]
[null,"Vare 9007",null,null,null,null,null,null,null,1]
[null,"Vare 9011",null,null,null,null,null,null,null,1]
[null,"Vare 9012",null,null,null,null,null,null,null,1]
[null,"Vare 9017",null,null,null,null,null,null,null,1]
[null,"Vare 9022",null,null,null,null,null,null,null,1]
[null,"Vare 9025",null,null,null,null,null,null,null,1]
[null,"Vare 9027",null,null,null,null,null,null,null,1]
[null,"Vare 9032",null,null,null,null,null,null,null,1]
[null,"Vare 9037",null,null,null,null,null,null,null,1]
[null,"Vare 9041",null,null,null,null,null,null,null,1]
[null,"Vare 9042",null,null,null,null,null,null,null,1]
[null,"Vare 9047",null,null,null,null,null,null,null,1]
[null,"Vare 9052",null,null,null,null,null,null,null,1]
[null,"Vare 9055",null,null,null,null,null,null,null,1]
[null,"Vare 9057",null,null,null,null,null,null,null,1]
[null,"Vare 9062",null,null,null,null,null,null,null,1]
[null,"Vare 9067",null,null,null,null,null,null,null,1]
[null,"Vare 9071",null,null,null,null,null,null,null,1]
[null,"Vare 9072",null,null,null,null,null,null,null,1]
[null,"Vare 9077",null,null,null,null,null,null,null,1]
[null,"Vare 9082",null,null,null,null,null,null,null,1]
[null,"Vare 9085",null,null,null,null,null,null,null,1]
[null,"Vare 9087",null,null,null,null,null,null,null,1]
[null,"Vare 9092",null,null,null,null,null,null,null,1]
[null,"Vare 9097",null,null,null,null,null,null,null,1]
[null,"Vare 9101",null,null,null,null,null,null,null,1]
[null,"Vare 9102",null,null,null,null,null,null,null,1]
[null,"Vare 9107",null,null,null,null,null,null,null,1]
[null,"Vare 9112",null,null,null,null,null,null,null,1]
[null,"Vare 9117",null,null,null,null,null,null,null,1]
[null,"Vare 9119",null,null,null,null,null,null,null,1]
[null,"Vare 9122",null,null,null,null,null,null,null,1]
[null,"Vare 9127",null,null,null,null,null,null,null,1]
[null,"Vare 9132",null,null,null,null,null,null,null,1]
[null,"Vare 9133",null,null,null,null,null,null,null,1]
[null,"Vare 9137",null,null,null,null,null,null,null,1]
[null,"Vare 9142",null,null,null,null,null,null,null,1]
[null,"Vare 9147",null,null,null,null,null,null,null,1]
[null,"Vare 9149",null,null,null,null,null,null,null,1]
[null,"Vare 9152",null,null,null,null,null,null,null,1]
[null,"Vare 9157",null,null,null,null,null,null,null,1]
[null,"Vare 9162",null,null,null,null,null,null,null,{"$f":"100%-(H9173+I9173)","v":1}]
[null,"Vare 9163",null,null,null,null,null,null,null,1]
[null,"Vare 9167",null,null,null,null,null,null,null,1]
[null,"Vare 9172",null,null,null,null,null,null,null,1]
[null,"Vare 9177",null,null,null,null,null,null,null,1]
[null,"Vare 9179",null,null,null,null,null,null,null,1]
[null,"Vare 9182",null,null,null,null,null,null,null,1]
[null,"Vare 9187",null,null,null,null,null,null,null,1]
[null,"Vare 9192",null,null,null,null,null,null,null,1]
[null,"Vare 9193",null,null,null,null,null,null,null,1]
[null,"Vare 9197",null,null,null,null,null,null,null,1]
[null,"Vare 9202",null,null,null,null,null,null,null,1]
[null,"Vare 9207",null,null,null,null,null,null,null,1]
[null,"Vare 9208",null,null,null,null,null,null,null,1]
[null,"Vare 9214",null,null,null,null,null,null,null,1]
[null,"Vare 9217",null,null,null,null,null,null,null,1]
[null,"Vare 9222",null,null,null,null,null,null,null,1]
[null,"Vare 9223",null,null,null,null,null,null,null,1]
[null,"Vare 9227",null,null,null,null,null,null,null,1]
[null,"Vare 9232",null,null,null,null,null,null,null,1]
[null,"Vare 9237",null,null,null,null,null,null,null,1]
[null,"Vare 9238",null,null,null,null,null,null,null,1]
[null,"Vare 9244",null,null,null,null,null,null,null,1]
[null,"Vare 9247",null,null,null,null,null,null,null,1]
[null,"Vare 9252",null,null,null,null,null,null,null,1]
[null,"Vare 9253",null,null,null,null,null,null,null,1]
[null,"Vare 9257",null,null,null,null,null,null,null,1]
[null,"Vare 9262",null,null,null,null,null,null,null,1]
[null,"Vare 9267",null,null,null,null,null,null,null,1]
[null,"Vare 9268",null,null,null,null,null,null,null,1]
[null,"Vare 9273",null,null,null,null,null,null,null,1]
[null,"Vare 9278",null,null,null,null,null,null,null,1]
[null,"Vare 9282",null,null,null,null,null,null,null,1]
[null,"Vare 9283",null,null,null,null,null,null,null,1]
[null,"Vare 9288",null,null,null,null,null,null,null,1]
[null,"Vare 9292",null,null,null,null,null,null,null,1]
[null,"Vare 9297",null,null,null,null,null,null,null,1]
[null,"Vare 9298",null,null,null,null,null,null,null,1]
[null,"Vare 9303",null,null,null,null,null,null,null,1]
[null,"Vare 9308",null,null,null,null,null,null,null,1]
[null,"Vare 9312",null,null,null,null,null,null,null,1]
[null,"Vare 9313",null,null,null,null,null,null,null,1]
[null,"Vare 9318",null,null,null,null,null,null,null,1]
[null,"Vare 9322",null,null,null,null,null,null,null,1]
[null,"Vare 9327",null,null,null,null,null,null,null,1]
[null,"Vare 9328",null,null,null,null,null,null,null,1]
[null,"Vare 9333",null,null,null,null,null,null,null,1]
[null,"Vare 9338",null,null,null,null,null,null,null,1]
[null,"Vare 9342",null,null,null,null,null,null,null,1]
[null,"Vare 9343",null,null,null,null,null,null,null,1]
[null,"Vare 9348",null,null,null,null,null,null,null,1]
[null,"Vare 9353",null,null,null,null,null,null,null,1]
[null,"Vare 9356",null,null,null,null,null,null,null,1]
[null,"Vare 9358",null,null,null,null,null,null,null,1]
[null,"Vare 9363",null,null,null,null,null,null,null,1]
[null,"Vare 9368",null,null,null,null,null,null,null,1]
[null,"Vare 9370",null,null,null,null,null,null,null,1]
[null,"Vare 9373",null,null,null,null,null,null,null,1]
[null,"Vare 9378",null,null,null,null,null,null,null,1]
[null,"Vare 9383",null,null,null,null,null,null,null,1]
[null,"Vare 9386",null,null,null,null,null,null,null,1]
[null,"Vare 9388",null,null,null,null,null,null,null,1]
[null,"Vare 9393",null,null,null,null,null,null,null,1]
[null,"Vare 9398",null,null,null,null,null,null,null,1]
[null,"Vare 9400",null,null,null,null,null,null,null,1]
[null,"Vare 9403",null,null,null,null,null,null,null,1]
[null,"Vare 9408",null,null,null,null,null,null,null,1]
[null,"Vare 9413",null,null,null,null,null,null,null,1]
[null,"Vare 9417",null,null,null,null,null,null,null,1]
[null,"Vare 9418",null,null,null,null,null,null,null,{"$f":"100%-(H9429+I9429)","v":1}]
[null,"Vare 9423",null,null,null,null,null,null,null,1]
[null,"Vare 9428",null,null,null,null,null,null,null,1]
[null,"Vare 9433",null,null,null,null,null,null,null,1]
[null,"Vare 9434",null,null,null,null,null,null,null,1]
[null,"Vare 9438",null,null,null,null,null,null,null,1]
[null,"Vare 9443",null,null,null,null,null,null,null,1]
[null,"Vare 9448",null,null,null,null,null,null,null,1]
[null,"Vare 9451",null,null,null,null,null,null,null,1]
[null,"Vare 9453",null,null,null,null,null,null,null,1]
[null,"Vare 9458",null,null,null,null,null,null,null,1]
[null,"Vare 9463",null,null,null,null,null,null,null,1]
[null,"Vare 9464",null,null,null,null,null,null,null,1]
[null,"Vare 9468",null,null,null,null,null,null,null,1]
[null,"Vare 9473",null,null,null,null,null,null,null,1]
[null,"Vare 9478",null,null,null,null,null,null,null,1]
[null,"Vare 9481",null,null,null,null,null,null,null,1]
[null,"Vare 9483",null,null,null,null,null,null,null,1]
[null,"Vare 9488",null,null,null,null,null,null,null,1]
[null,"Vare 9493",null,null,null,null,null,null,null,1]
[null,"Vare 9495",null,null,null,null,null,null,null,1]
[null,"Vare 9498",null,null,null,null,null,null,null,1]
[null,"Vare 9503",null,null,null,null,null,null,null,1]
[null,"Vare 9508",null,null,null,null,null,null,null,1]
[null,"Vare 9509",null,null,null,null,null,null,null,1]
[null,"Vare 9513",null,null,null,null,null,null,null,1]
[null,"Vare 9514",null,null,null,null,null,null,null,1]
[null,"Vare 9515",null,null,null,null,null,null,null,1]
[null,"Vare 9516",null,null,null,null,null,null,null,1]
[null,"Vare 9517",null,null,null,null,null,null,null,1]
[null,"Vare 9518",null,null,null,null,null,null,null,1]
[null,"Vare 9519",null,null,null,null,null,null,null,1]
[null,"Vare 9520",null,null,null,null,null,null,null,1]
[null,"Vare 9521",null,null,null,null,null,null,null,1]
[null,"Vare 9522",null,null,null,null,null,null,null,1]
[null,"Vare 9523",null,null,null,null,null,null,null,1]
[null,"Vare 9524",null,null,null,null,null,null,null,1]
[null,"Vare 9525",null,null,null,null,null,null,null,1]
[null,"Vare 9526",null,null,null,null,null,null,null,1]
[null,"Vare 9527",null,null,null,null,null,null,null,1]
[null,"Vare 9528",null,null,null,null,null,null,null,1]
[null,"Vare 9529",null,null,null,null,null,null,null,1]
[null,"Vare 9530",null,null,null,null,null,null,null,1]
[null,"Vare 9531",null,null,null,null,null,null,null,1]
[null,"Vare 9532",null,null,null,null,null,null,null,1]
[null,"Vare 9533",null,null,null,null,null,null,null,1]
[null,"Vare 9534",null,null,null,null,null,null,null,1]
[null,"Vare 9535",null,null,null,null,null,null,null,1]
[null,"Vare 9536",null,null,null,null,null,null,null,1]
[null,"Vare 9537",null,null,null,null,null,null,null,1]
[null,"Vare 9538",null,null,null,null,null,null,null,1]
[null,"Vare 9539",null,null,null,null,null,null,null,1]
[null,"Vare 9540",null,null,null,null,null,null,null,1]
[null,"Vare 9541",null,null,null,null,null,null,null,1]
[null,"Vare 9542",null,null,null,null,null,null,null,1]
[null,"Vare 9543",null,null,null,null,null,null,null,1]
[null,"Vare 9544",null,null,null,null,null,null,null,1]
[null,"Vare 9545",null,null,null,null,null,null,null,1]
[null,"Vare 9546",null,null,null,null,null,null,null,{"$f":"100%-(H9557+I9557)","v":1}]
[null,"Vare 9547",null,null,null,null,null,null,null,1]
[null,"Vare 9548",null,null,null,null,null,null,null,1]
[null,"Vare 9549",null,null,null,null,null,null,null,1]
[null,"Vare 9550",null,null,null,null,null,null,null,1]
[null,"Vare 9551",null,null,null,null,null,null,null,1]
[null,"Vare 9552",null,null,null,null,null,null,null,1]
[null,"Vare 9553",null,null,null,null,null,null,null,1]
[null,"Vare 9554",null,null,null,null,null,null,null,1]
[null,"Vare 9555",null,null,null,null,null,null,null,1]
[null,"Vare 9556",null,null,null,null,null,null,null,1]
[null,"Vare 9557",null,null,null,null,null,null,null,1]
[null,"Vare 9558",null,null,null,null,null,null,null,1]
[null,"Vare 9559",null,null,null,null,null,null,null,1]
[null,"Vare 9560",null,null,null,null,null,null,null,1]
[null,"Vare 9561",null,null,null,null,null,null,null,1]
[null,"Vare 9562",null,null,null,null,null,null,null,1]
[null,"Vare 9563",null,null,null,null,null,null,null,1]
[null,"Vare 9564",null,null,null,null,null,null,null,1]
[null,"Vare 9565",null,null,null,null,null,null,null,1]
[null,"Vare 9566",null,null,null,null,null,null,null,1]
[null,"Vare 9567",null,null,null,null,null,null,null,1]
[null,"Vare 9568",null,null,null,null,null,null,null,1]
[null,"Vare 9569",null,null,null,null,null,null,null,1]
[null,"Vare 9570",null,null,null,null,null,null,null,1]
[null,"Vare 9571",null,null,null,null,null,null,null,1]
[null,"Vare 9572",null,null,null,null,null,null,null,1]
[null,"Vare 9573",null,null,null,null,null,null,null,1]
[null,"Vare 9574",null,null,null,null,null,null,null,1]
[null,"Vare 9575",null,null,null,null,null,null,null,1]
[null,"Vare 9576",null,null,null,null,null,null,null,1]
[null,"Vare 9577",null,null,null,null,null,null,null,1]
[null,"Vare 9578",null,null,null,null,null,null,null,1]
[null,"Vare 9579",null,null,null,null,null,null,null,1]
[null,"Vare 9580",null,null,null,null,null,null,null,1]
[null,"Vare 9581",null,null,null,null,null,null,null,1]
[null,"Vare 9582",null,null,null,null,null,null,null,1]
[null,"Vare 9583",null,null,null,null,null,null,null,1]
[null,"Vare 9584",null,null,null,null,null,null,null,1]
[null,"Vare 9585",null,null,null,null,null,null,null,1]
[null,"Vare 9586",null,null,null,null,null,null,null,1]
[null,"Vare 9587",null,null,null,null,null,null,null,1]
[null,"Vare 9588",null,null,null,null,null,null,null,1]
[null,"Vare 9589",null,null,null,null,null,null,null,1]
[null,"Vare 9590",null,null,null,null,null,null,null,1]
[null,"Vare 9591",null,null,null,null,null,null,null,1]
[null,"Vare 9592",null,null,null,null,null,null,null,1]
[null,"Vare 9593",null,null,null,null,null,null,null,1]
[null,"Vare 9594",null,null,null,null,null,null,null,1]
[null,"Vare 9595",null,null,null,null,null,null,null,1]
[null,"Vare 9596",null,null,null,null,null,null,null,1]
[null,"Vare 9597",null,null,null,null,null,null,null,1]
[null,"Vare 9598",null,null,null,null,null,null,null,1]
[null,"Vare 9599",null,null,null,null,null,null,null,1]
[null,"Vare 9600",null,null,null,null,null,null,null,1]
[null,"Vare 9601",null,null,null,null,null,null,null,1]
[null,"Vare 9602",null,null,null,null,null,null,null,1]
[null,"Vare 9603",null,null,null,null,null,null,null,1]
[null,"Vare 9604",null,null,null,null,null,null,null,1]
[null,"Vare 9605",null,null,null,null,null,null,null,1]
[null,"Vare 9606",null,null,null,null,null,null,null,1]
[null,"Vare 9607",null,null,null,null,null,null,null,1]
[null,"Vare 9608",null,null,null,null,null,null,null,1]
[null,"Vare 9609",null,null,null,null,null,null,null,1]
[null,"Vare 9610",null,null,null,null,null,null,null,{"$f":"100%-(H9621+I9621)","v":1}]
[null,"Vare 9611",null,null,null,null,null,null,null,1]
[null,"Vare 9612",null,null,null,null,null,null,null,1]
[null,"Vare 9613",null,null,null,null,null,null,null,1]
[null,"Vare 9614",null,null,null,null,null,null,null,1]
[null,"Vare 9615",null,null,null,null,null,null,null,1]
[null,"Vare 9616",null,null,null,null,null,null,null,1]
[null,"Vare 9617",null,null,null,null,null,null,null,1]
[null,"Vare 9618",null,null,null,null,null,null,null,1]
[null,"Vare 9619",null,null,null,null,null,null,null,1]
[null,"Vare 9620",null,null,null,null,null,null,null,1]
[null,"Vare 9621",null,null,null,null,null,null,null,1]
[null,"Vare 9622",null,null,null,null,null,null,null,1]
[null,"Vare 9623",null,null,null,null,null,null,null,1]
[null,"Vare 9624",null,null,null,null,null,null,null,1]
[null,"Vare 9625",null,null,null,null,null,null,null,1]
[null,"Vare 9626",null,null,null,null,null,null,null,1]
[null,"Vare 9627",null,null,null,null,null,null,null,1]
[null,"Vare 9628",null,null,null,null,null,null,null,1]
[null,"Vare 9629",null,null,null,null,null,null,null,1]
[null,"Vare 9630",null,null,null,null,null,null,null,1]
[null,"Vare 9631",null,null,null,null,null,null,null,1]
[null,"Vare 9632",null,null,null,null,null,null,null,1]
[null,"Vare 9633",null,null,null,null,null,null,null,1]
[null,"Vare 9634",null,null,null,null,null,null,null,1]
[null,"Vare 9635",null,null,null,null,null,null,null,1]
[null,"Vare 9636",null,null,null,null,null,null,null,1]
[null,"Vare 9637",null,null,null,null,null,null,null,1]
[null,"Vare 9638",null,null,null,null,null,null,null,1]
[null,"Vare 9639",null,null,null,null,null,null,null,1]
[null,"Vare 9640",null,null,null,null,null,null,null,1]
[null,"Vare 9641",null,null,null,null,null,null,null,1]
[null,"Vare 9642",null,null,null,null,null,null,null,1]
[null,"Vare 9643",null,null,null,null,null,null,null,1]
[null,"Vare 9644",null,null,null,null,null,null,null,1]
[null,"Vare 9645",null,null,null,null,null,null,null,1]
[null,"Vare 9646",null,null,null,null,null,null,null,1]
[null,"Vare 9647",null,null,null,null,null,null,null,1]
[null,"Vare 9648",null,null,null,null,null,null,null,1]
[null,"Vare 9649",null,null,null,null,null,null,null,1]
[null,"Vare 9650",null,null,null,null,null,null,null,1]
[null,"Vare 9651",null,null,null,null,null,null,null,1]
[null,"Vare 9652",null,null,null,null,null,null,null,1]
[null,"Vare 9653",null,null,null,null,null,null,null,1]
[null,"Vare 9654",null,null,null,null,null,null,null,1]
[null,"Vare 9655",null,null,null,null,null,null,null,1]
[null,"Vare 9656",null,null,null,null,null,null,null,1]
[null,"Vare 9657",null,null,null,null,null,null,null,1]
[null,"Vare 9658",null,null,null,null,null,null,null,1]
[null,"Vare 9659",null,null,null,null,null,null,null,1]
[null,"Vare 9660",null,null,null,null,null,null,null,1]
[null,"Vare 9661",null,null,null,null,null,null,null,1]
[null,"Vare 9662",null,null,null,null,null,null,null,1]
[null,"Vare 9663",null,null,null,null,null,null,null,1]
[null,"Vare 9664",null,null,null,null,null,null,null,1]
[null,"Vare 9665",null,null,null,null,null,null,null,1]
[null,"Vare 9666",null,null,null,null,null,null,null,1]
[null,"Vare 9667",null,null,null,null,null,null,null,1]
[null,"Vare 9668",null,null,null,null,null,null,null,1]
[null,"Vare 9669",null,null,null,null,null,null,null,1]
[null,"Vare 9670",null,null,null,null,null,null,null,1]
[null,"Vare 9671",null,null,null,null,null,null,null,1]
[null,"Vare 9672",null,null,null,null,null,null,null,1]
[null,"Vare 9673",null,null,null,null,null,null,null,1]
[null,"Vare 9674",null,null,null,null,null,null,null,{"$f":"100%-(H9685+I9685)","v":1}]
[null,"Vare 9675",null,null,null,null,null,null,null,1]
[null,"Vare 9676",null,null,null,null,null,null,null,1]
[null,"Vare 9677",null,null,null,null,null,null,null,1]
[null,"Vare 9678",null,null,null,null,null,null,null,1]
[null,"Vare 9679",null,null,null,null,null,null,null,1]
[null,"Vare 9680",null,null,null,null,null,null,null,1]
[null,"Vare 9681",null,null,null,null,null,null,null,1]
[null,"Vare 9682",null,null,null,null,null,null,null,1]
[null,"Vare 9683",null,null,null,null,null,null,null,1]
[null,"Vare 9684",null,null,null,null,null,null,null,1]
[null,"Vare 9685",null,null,null,null,null,null,null,1]
[null,"Vare 9686",null,null,null,null,null,null,null,1]
[null,"Vare 9687",null,null,null,null,null,null,null,1]
[null,"Vare 9688",null,null,null,null,null,null,null,1]
[null,"Vare 9689",null,null,null,null,null,null,null,1]
[null,"Vare 9690",null,null,null,null,null,null,null,1]
[null,"Vare 9691",null,null,null,null,null,null,null,1]
[null,"Vare 9692",null,null,null,null,null,null,null,1]
[null,"Vare 9693",null,null,null,null,null,null,null,1]
[null,"Vare 9694",null,null,null,null,null,null,null,1]
[null,"Vare 9695",null,null,null,null,null,null,null,1]
[null,"Vare 9696",null,null,null,null,null,null,null,1]
[null,"Vare 9697",null,null,null,null,null,null,null,1]
[null,"Vare 9698",null,null,null,null,null,null,null,1]
[null,"Vare 9699",null,null,null,null,null,null,null,1]
[null,"Vare 9700",null,null,null,null,null,null,null,1]
[null,"Vare 9701",null,null,null,null,null,null,null,1]
[null,"Vare 9702",null,null,null,null,null,null,null,1]
[null,"Vare 9703",null,null,null,null,null,null,null,1]
[null,"Vare 9704",null,null,null,null,null,null,null,1]
[null,"Vare 9705",null,null,null,null,null,null,null,1]
[null,"Vare 9706",null,null,null,null,null,null,null,1]
[null,"Vare 9707",null,null,null,null,null,null,null,1]
[null,"Vare 9708",null,null,null,null,null,null,null,1]
[null,"Vare 9709",null,null,null,null,null,null,null,1]
[null,"Vare 9710",null,null,null,null,null,null,null,1]
[null,"Vare 9711",null,null,null,null,null,null,null,1]
[null,"Vare 9712",null,null,null,null,null,null,null,1]
[null,"Vare 9713",null,null,null,null,null,null,null,1]
[null,"Vare 9714",null,null,null,null,null,null,null,1]
[null,"Vare 9715",null,null,null,null,null,null,null,1]
[null,"Vare 9716",null,null,null,null,null,null,null,1]
[null,"Vare 9717",null,null,null,null,null,null,null,1]
[null,"Vare 9718",null,null,null,null,null,null,null,1]
[null,"Vare 9719",null,null,null,null,null,null,null,1]
[null,"Vare 9720",null,null,null,null,null,null,null,1]
[null,"Vare 9721",null,null,null,null,null,null,null,1]
[null,"Vare 9722",null,null,null,null,null,null,null,1]
[null,"Vare 9723",null,null,null,null,null,null,null,1]
[null,"Vare 9724",null,null,null,null,null,null,null,1]
[null,"Vare 9725",null,null,null,null,null,null,null,1]
[null,"Vare 9726",null,null,null,null,null,null,null,1]
[null,"Vare 9727",null,null,null,null,null,null,null,1]
[null,"Vare 9728",null,null,null,null,null,null,null,1]
[null,"Vare 9729",null,null,null,null,null,null,null,1]
[null,"Vare 9730",null,null,null,null,null,null,null,1]
[null,"Vare 9731",null,null,null,null,null,null,null,1]
[null,"Vare 9732",null,null,null,null,null,null,null,1]
[null,"Vare 9733",null,null,null,null,null,null,null,1]
[null,"Vare 9734",null,null,null,null,null,null,null,1]
[null,"Vare 9735",null,null,null,null,null,null,null,1]
[null,"Vare 9736",null,null,null,null,null,null,null,1]
[null,"Vare 9737",null,null,null,null,null,null,null,1]
[null,"Vare 9738",null,null,null,null,null,null,null,{"$f":"100%-(H9749+I9749)","v":1}]
[null,"Vare 9739",null,null,null,null,null,null,null,1]
[null,"Vare 9740",null,null,null,null,null,null,null,1]
[null,"Vare 9741",null,null,null,null,null,null,null,1]
[null,"Vare 9742",null,null,null,null,null,null,null,1]
[null,"Vare 9743",null,null,null,null,null,null,null,1]
[null,"Vare 9744",null,null,null,null,null,null,null,1]
[null,"Vare 9745",null,null,null,null,null,null,null,1]
[null,"Vare 9746",null,null,null,null,null,null,null,1]
[null,"Vare 9747",null,null,null,null,null,null,null,1]
[null,"Vare 9748",null,null,null,null,null,null,null,1]
[null,"Vare 9749",null,null,null,null,null,null,null,1]
[null,"Vare 9750",null,null,null,null,null,null,null,1]
[null,"Vare 9751",null,null,null,null,null,null,null,1]
[null,"Vare 9752",null,null,null,null,null,null,null,1]
[null,"Vare 9753",null,null,null,null,null,null,null,1]
[null,"Vare 9754",null,null,null,null,null,null,null,1]
[null,"Vare 9755",null,null,null,null,null,null,null,1]
[null,"Vare 9756",null,null,null,null,null,null,null,1]
[null,"Vare 9757",null,null,null,null,null,null,null,1]
[null,"Vare 9758",null,null,null,null,null,null,null,1]
[null,"Vare 9759",null,null,null,null,null,null,null,1]
[null,"Vare 9760",null,null,null,null,null,null,null,1]
[null,"Vare 9761",null,null,null,null,null,null,null,1]
[null,"Vare 9762",null,null,null,null,null,null,null,1]
[null,"Vare 9763",null,null,null,null,null,null,null,1]
[null,"Vare 9764",null,null,null,null,null,null,null,1]
[null,"Vare 9765",null,null,null,null,null,null,null,1]
[null,"Vare 9766",null,null,null,null,null,null,null,1]
[null,"Vare 9767",null,null,null,null,null,null,null,1]
[null,"Vare 9768",null,null,null,null,null,null,null,1]
[null,"Vare 9769",null,null,null,null,null,null,null,1]
[null,"Vare 9770",null,null,null,null,null,null,null,1]
[null,"Vare 9771",null,null,null,null,null,null,null,1]
[null,"Vare 9772",null,null,null,null,null,null,null,1]
[null,"Vare 9773",null,null,null,null,null,null,null,1]
[null,"Vare 9774",null,null,null,null,null,null,null,1]
[null,"Vare 9775",null,null,null,null,null,null,null,1]
[null,"Vare 9776",null,null,null,null,null,null,null,1]
[null,"Vare 9777",null,null,null,null,null,null,null,1]
[null,"Vare 9778",null,null,null,null,null,null,null,1]
[null,"Vare 9779",null,null,null,null,null,null,null,1]
[null,"Vare 9780",null,null,null,null,null,null,null,1]
[null,"Vare 9781",null,null,null,null,null,null,null,1]
[null,"Vare 9782",null,null,null,null,null,null,null,1]
[null,"Vare 9783",null,null,null,null,null,null,null,1]
[null,"Vare 9784",null,null,null,null,null,null,null,1]
[null,"Vare 9785",null,null,null,null,null,null,null,1]
[null,"Vare 9786",null,null,null,null,null,null,null,1]
[null,"Vare 9787",null,null,null,null,null,null,null,1]
[null,"Vare 9788",null,null,null,null,null,null,null,1]
[null,"Vare 9789",null,null,null,null,null,null,null,1]
[null,"Vare 9790",null,null,null,null,null,null,null,1]
[null,"Vare 9791",null,null,null,null,null,null,null,1]
[null,"Vare 9792",null,null,null,null,null,null,null,1]
[null,"Vare 9793",null,null,null,null,null,null,null,1]
[null,"Vare 9794",null,null,null,null,null,null,null,1]
[null,"Vare 9795",null,null,null,null,null,null,null,1]
[null,"Vare 9796",null,null,null,null,null,null,null,1]
[null,"Vare 9797",null,null,null,null,null,null,null,1]
[null,"Vare 9798",null,null,null,null,null,null,null,1]
[null,"Vare 9799",null,null,null,null,null,null,null,1]
[null,"Vare 9800",null,null,null,null,null,null,null,1]
[null,"Vare 9801",null,null,null,null,null,null,null,1]
[null,"Vare 9802",null,null,null,null,null,null,null,{"$f":"100%-(H9813+I9813)","v":1}]
[null,"Vare 9803",null,null,null,null,null,null,null,1]
[null,"Vare 9804",null,null,null,null,null,null,null,1]
[null,"Vare 9805",null,null,null,null,null,null,null,1]
[null,"Vare 9806",null,null,null,null,null,null,null,1]
[null,"Vare 9807",null,null,null,null,null,null,null,1]
[null,"Vare 9808",null,null,null,null,null,null,null,1]
[null,"Vare 9809",null,null,null,null,null,null,null,1]
[null,"Vare 9810",null,null,null,null,null,null,null,1]
[null,"Vare 9811",null,null,null,null,null,null,null,1]
[null,"Vare 9812",null,null,null,null,null,null,null,1]
[null,"Vare 9813",null,null,null,null,null,null,null,1]
[null,"Vare 9814",null,null,null,null,null,null,null,1]
[null,"Vare 9815",null,null,null,null,null,null,null,1]
[null,"Vare 9816",null,null,null,null,null,null,null,1]
[null,"Vare 9817",null,null,null,null,null,null,null,1]
[null,"Vare 9818",null,null,null,null,null,null,null,1]
[null,"Vare 9819",null,null,null,null,null,null,null,1]
[null,"Vare 9820",null,null,null,null,null,null,null,1]
[null,"Vare 9821",null,null,null,null,null,null,null,1]
[null,"Vare 9822",null,null,null,null,null,null,null,1]
[null,"Vare 9823",null,null,null,null,null,null,null,1]
[null,"Vare 9824",null,null,null,null,null,null,null,1]
[null,"Vare 9825",null,null,null,null,null,null,null,1]
[null,"Vare 9826",null,null,null,null,null,null,null,1]
[null,"Vare 9827",null,null,null,null,null,null,null,1]
[null,"Vare 9828",null,null,null,null,null,null,null,1]
[null,"Vare 9829",null,null,null,null,null,null,null,1]
[null,"Vare 9830",null,null,null,null,null,null,null,1]
[null,"Vare 9831",null,null,null,null,null,null,null,1]
[null,"Vare 9832",null,null,null,null,null,null,null,1]
[null,"Vare 9833",null,null,null,null,null,null,null,1]
[null,"Vare 9834",null,null,null,null,null,null,null,1]
[null,"Vare 9835",null,null,null,null,null,null,null,1]
[null,"Vare 9836",null,null,null,null,null,null,null,1]
[null,"Vare 9837",null,null,null,null,null,null,null,1]
[null,"Vare 9838",null,null,null,null,null,null,null,1]
[null,"Vare 9839",null,null,null,null,null,null,null,1]
[null,"Vare 9840",null,null,null,null,null,null,null,1]
[null,"Vare 9841",null,null,null,null,null,null,null,1]
[null,"Vare 9842",null,null,null,null,null,null,null,1]
[null,"Vare 9843",null,null,null,null,null,null,null,1]
[null,"Vare 9844",null,null,null,null,null,null,null,1]
[null,"Vare 9845",null,null,null,null,null,null,null,1]
[null,"Vare 9846",null,null,null,null,null,null,null,1]
[null,"Vare 9847",null,null,null,null,null,null,null,1]
[null,"Vare 9848",null,null,null,null,null,null,null,1]
[null,"Vare 9849",null,null,null,null,null,null,null,1]
[null,"Vare 9850",null,null,null,null,null,null,null,1]
[null,"Vare 9851",null,null,null,null,null,null,null,1]
[null,"Vare 9852",null,null,null,null,null,null,null,1]
[null,"Vare 9853",null,null,null,null,null,null,null,1]
[null,"Vare 9854",null,null,null,null,null,null,null,1]
[null,"Vare 9855",null,null,null,null,null,null,null,1]
[null,"Vare 9856",null,null,null,null,null,null,null,1]
[null,"Vare 9857",null,null,null,null,null,null,null,1]
[null,"Vare 9858",null,null,null,null,null,null,null,1]
[null,"Vare 9859",null,null,null,null,null,null,null,1]
[null,"Vare 9860",null,null,null,null,null,null,null,1]
[null,"Vare 9861",null,null,null,null,null,null,null,1]
[null,"Vare 9862",null,null,null,null,null,null,null,1]
[null,"Vare 9863",null,null,null,null,null,null,null,1]
[null,"Vare 9864",null,null,null,null,null,null,null,1]
[null,"Vare 9865",null,null,null,null,null,null,null,1]
[null,"Vare 9866",null,null,null,null,null,null,null,{"$f":"100%-(H9877+I9877)","v":1}]
[null,"Vare 9867",null,null,null,null,null,null,null,1]
[null,"Vare 9868",null,null,null,null,null,null,null,1]
[null,"Vare 9869",null,null,null,null,null,null,null,1]
[null,"Vare 9870",null,null,null,null,null,null,null,1]
[null,"Vare 9871",null,null,null,null,null,null,null,1]
[null,"Vare 9872",null,null,null,null,null,null,null,1]
[null,"Vare 9873",null,null,null,null,null,null,null,1]
[null,"Vare 9874",null,null,null,null,null,null,null,1]
[null,"Vare 9875",null,null,null,null,null,null,null,1]
[null,"Vare 9876",null,null,null,null,null,null,null,1]
[null,"Vare 9877",null,null,null,null,null,null,null,1]
[null,"Vare 9878",null,null,null,null,null,null,null,1]
[null,"Vare 9879",null,null,null,null,null,null,null,1]
[null,"Vare 9880",null,null,null,null,null,null,null,1]
[null,"Vare 9881",null,null,null,null,null,null,null,1]
[null,"Vare 9882",null,null,null,null,null,null,null,1]
[null,"Vare 9883",null,null,null,null,null,null,null,1]
[null,"Vare 9884",null,null,null,null,null,null,null,1]
[null,"Vare 9885",null,null,null,null,null,null,null,1]
[null,"Vare 9886",null,null,null,null,null,null,null,1]
[null,"Vare 9887",null,null,null,null,null,null,null,1]
[null,"Vare 9888",null,null,null,null,null,null,null,1]
[null,"Vare 9889",null,null,null,null,null,null,null,1]
[null,"Vare 9890",null,null,null,null,null,null,null,1]
[null,"Vare 9891",null,null,null,null,null,null,null,1]
[null,"Vare 9892",null,null,null,null,null,null,null,1]
[null,"Vare 9893",null,null,null,null,null,null,null,1]
[null,"Vare 9894",null,null,null,null,null,null,null,1]
[null,"Vare 9895",null,null,null,null,null,null,null,1]
[null,"Vare 9896",null,null,null,null,null,null,null,1]
[null,"Vare 9897",null,null,null,null,null,null,null,1]
[null,"Vare 9898",null,null,null,null,null,null,null,1]
[null,"Vare 9899",null,null,null,null,null,null,null,1]
[null,"Vare 9900",null,null,null,null,null,null,null,1]
[null,"Vare 9901",null,null,null,null,null,null,null,1]
[null,"Vare 9902",null,null,null,null,null,null,null,1]
[null,"Vare 9903",null,null,null,null,null,null,null,1]
[null,"Vare 9904",null,null,null,null,null,null,null,1]
[null,"Vare 9905",null,null,null,null,null,null,null,1]
[null,"Vare 9906",null,null,null,null,null,null,null,1]
[null,"Vare 9907",null,null,null,null,null,null,null,1]
[null,"Vare 9908",null,null,null,null,null,null,null,1]
[null,"Vare 9909",null,null,null,null,null,null,null,1]
[null,"Vare 9910",null,null,null,null,null,null,null,1]
[null,"Vare 9911",null,null,null,null,null,null,null,1]
[null,"Vare 9912",null,null,null,null,null,null,null,1]
[null,"Vare 9913",null,null,null,null,null,null,null,1]
[null,"Vare 9914",null,null,null,null,null,null,null,1]
[null,"Vare 9915",null,null,null,null,null,null,null,1]
[null,"Vare 9916",null,null,null,null,null,null,null,1]
[null,"Vare 9917",null,null,null,null,null,null,null,1]
[null,"Vare 9918",null,null,null,null,null,null,null,1]
[null,"Vare 9919",null,null,null,null,null,null,null,1]
[null,"Vare 9920",null,null,null,null,null,null,null,1]
[null,"Vare 9921",null,null,null,null,null,null,null,1]
[null,"Vare 9922",null,null,null,null,null,null,null,1]
[null,"Vare 9923",null,null,null,null,null,null,null,1]
[null,"Vare 9924",null,null,null,null,null,null,null,1]
[null,"Vare 9925",null,null,null,null,null,null,null,1]
[null,"Vare 9926",null,null,null,null,null,null,null,1]
[null,"Vare 9927",null,null,null,null,null,null,null,1]
[null,"Vare 9928",null,null,null,null,null,null,null,1]
[null,"Vare 9929",null,null,null,null,null,null,null,1]
[null,"Vare 9930",null,null,null,null,null,null,null,{"$f":"100%-(H9941+I9941)","v":1}]
[null,"Vare 9931",null,null,null,null,null,null,null,1]
[null,"Vare 9932",null,null,null,null,null,null,null,1]
[null,"Vare 9933",null,null,null,null,null,null,null,1]
[null,"Vare 9934",null,null,null,null,null,null,null,1]
[null,"Vare 9935",null,null,null,null,null,null,null,1]
[null,"Vare 9936",null,null,null,null,null,null,null,1]
[null,"Vare 9937",null,null,null,null,null,null,null,1]
[null,"Vare 9938",null,null,null,null,null,null,null,1]
[null,"Vare 9939",null,null,null,null,null,null,null,1]
[null,"Vare 9940",null,null,null,null,null,null,null,1]
[null,"Vare 9941",null,null,null,null,null,null,null,1]
[null,"Vare 9942",null,null,null,null,null,null,null,1]
[null,"Vare 9943",null,null,null,null,null,null,null,1]
[null,"Vare 9944",null,null,null,null,null,null,null,1]
[null,"Vare 9945",null,null,null,null,null,null,null,1]
[null,"Vare 9946",null,null,null,null,null,null,null,1]
[null,"Vare 9947",null,null,null,null,null,null,null,1]
[null,"Vare 9948",null,null,null,null,null,null,null,1]
[null,"Vare 9949",null,null,null,null,null,null,null,1]
[null,"Vare 9950",null,null,null,null,null,null,null,1]
[null,"Vare 9951",null,null,null,null,null,null,null,1]
[null,"Vare 9952",null,null,null,null,null,null,null,1]
[null,"Vare 9953",null,null,null,null,null,null,null,1]
[null,"Vare 9954",null,null,null,null,null,null,null,1]
[null,"Vare 9955",null,null,null,null,null,null,null,1]
[null,"Vare 9956",null,null,null,null,null,null,null,1]
[null,"Vare 9957",null,null,null,null,null,null,null,1]
[null,"Vare 9958",null,null,null,null,null,null,null,1]
[null,"Vare 9959",null,null,null,null,null,null,null,1]
[null,"Vare 9960",null,null,null,null,null,null,null,1]
[null,"Vare 9961",null,null,null,null,null,null,null,1]
[null,"Vare 9962",null,null,null,null,null,null,null,1]
[null,"Vare 9963",null,null,null,null,null,null,null,1]
[null,"Vare 9964",null,null,null,null,null,null,null,1]
[null,"Vare 9965",null,null,null,null,null,null,null,1]
[null,"Vare 9966",null,null,null,null,null,null,null,1]
[null,"Vare 9967",null,null,null,null,null,null,null,1]
[null,"Vare 9968",null,null,null,null,null,null,null,1]
[null,"Vare 9969",null,null,null,null,null,null,null,1]
[null,"Vare 9970",null,null,null,null,null,null,null,1]
[null,"Vare 9971",null,null,null,null,null,null,null,1]
[null,"Vare 9972",null,null,null,null,null,null,null,1]
[null,"Vare 9973",null,null,null,null,null,null,null,1]
[null,"Vare 9974",null,null,null,null,null,null,null,1]
[null,"Vare 9975",null,null,null,null,null,null,null,1]
[null,"Vare 9976",null,null,null,null,null,null,null,1]
[null,"Vare 9977",null,null,null,null,null,null,null,1]
[null,"Vare 9978",null,null,null,null,null,null,null,1]
[null,"Vare 9979",null,null,null,null,null,null,null,1]
[null,"Vare 9980",null,null,null,null,null,null,null,1]
[null,"Vare 9981",null,null,null,null,null,null,null,1]
[null,"Vare 9982",null,null,null,null,null,null,null,1]
[null,"Vare 9983",null,null,null,null,null,null,null,1]
[null,"Vare 9984",null,null,null,null,null,null,null,1]
[null,"Vare 9985",null,null,null,null,null,null,null,1]
[null,"Vare 9986",null,null,null,null,null,null,null,1]
[null,"Vare 9987",null,null,null,null,null,null,null,1]
[null,"Vare 9988",null,null,null,null,null,null,null,1]
[null,"Vare 9989",null,null,null,null,null,null,null,1]
[null,"Vare 9990",null,null,null,null,null,null,null,1]
[null,"Vare 9991",null,null,null,null,null,null,null,1]
[null,"Vare 9992",null,null,null,null,null,null,null,1]
[null,"Vare 9993",null,null,null,null,null,null,null,1]
[null,"Vare 9994",null,null,null,null,null,null,null,{"$f":"100%-(H10005+I10005)","v":1}]
[null,"Vare 9995",null,null,null,null,null,null,null,1]
[null,"Vare 9996",null,null,null,null,null,null,null,1]
[null,"Vare 9997",null,null,null,null,null,null,null,1]
[null,"Vare 9998",null,null,null,null,null,null,null,1]
[null,"Vare 9999",null,null,null,null,null,null,null,1]
[null,"Vare 10000",null,null,null,null,null,null,null,1]
[]
[]
[null,"Sum kompensationsberettiget minkrelateret virksomhed",null,null,null,{"$f":"SUMPRODUCT(G12:G10011,H12:H10011)","v":0},null,"Såfremt \"Kontrol kompensationsberettiget minkrelateret virksomhed\" er rød, er der forskel på det indtastede varelager for minkrelateret virksomhed i dette ark og i \"Resultatopgørelse og balance\" pr. 31. december 2020"]
[null,"Kontrol kompensationsberettiget minkrelateret virksomhed",null,null,null,{"$f":"F10014-'Resultatopgørelse og balance'!M37","v":0}]
[]
[null,"Sum kompensationsberettiget ikke-minkrelateret virksomhed",null,null,null,{"$f":"SUMPRODUCT(G12:G10011,I12:I10011)","v":0},null,"Såfremt \"Kontrol kompensationsberettiget ikke-minkrelateret virksomhed\" er rød, er der forskel på det indtastede varelager for ikke-minkrelateret virksomhed, som der søges kompensation for, i dette ark og i \"Resultatopgørelse og balance\" pr. 31. december 2020"]
[null,"Kontrol kompensationsberettiget ikke-minkrelateret virksomhed",null,null,null,{"$f":"F10017-'Resultatopgørelse og balance'!M105","v":0}]
[]
[null,"Sum ikke-kompensationsberettiget virksomhed",null,null,null,{"$f":"SUMPRODUCT(G12:G10011,J12:J10011)","v":0},null,"Såfremt \"Kontrol ikke-kompensationsberettiget virksomhed\" er rød, er der forskel på det indtastede varelager for ikke-minkrelateret virksomhed i dette ark og i \"Resultatopgørelse og balance\" pr. 31. december 2020"]
[null,"Kontrol ikke-kompensationsberettiget virksomhed",null,null,null,{"$f":"F10020-'Resultatopgørelse og balance'!M173","v":0}]
[]
[null,"Ark slut"]

{"sheet":"Nødvendig information","index":7,"n_rows":19,"n_cols":3,"rows_kept":19,"cut":false,"hidden":false,"merged":[]}
[]
[null,"Dokumentationskrav"]
[]
[null,{"$f":"ROW(4:4)-3&\")\"","v":"1)"},"Årsregnskaber for årene 2016 - 2020 (enten efter årsregnskabsloven eller efter andre principper). Såfremt der indtastes data for perioden 2010 - 2015, skal der medsendes årsregnskaber for de tilsvarende år."]
[null,{"$f":"ROW(5:5)-3&\")\"","v":"2)"},"Revisionsprotokoller for årene 2016 - 2020. Såfremt der indtastes data for perioden 2010 - 2015, skal der medsendes revisionsprotokoller for de tilsvarende år"]
[null,{"$f":"ROW(6:6)-3&\")\"","v":"3)"},"Skatteregnskaber for årene 2016 - 2020 (og eventuelle afstemninger mellem årsregnskab og skattepligtig indkomst). Såfremt der indtastes data for perioden 2010 - 2015, skal der medsendes skatteregnskaber mv. for de tilsvarende år."]
[null,{"$f":"ROW(7:7)-3&\")\"","v":"4)"},"Eksisterende strategi-/forretningsplan (udarbejdet inden 4. november 2020) (hvis en sådan foreligger). Alternativt kortfattet beskrivelse af forventninger til fremtiden pr. 4. november 2020."]
[null,{"$f":"ROW(8:8)-3&\")\"","v":"5)"},"En dokumentation af principperne for fordeling af aktiver og forpligtelser mellem kompensationsberrettiget og ikke-kompensationsberrettiget virksomhed."]
[null,{"$f":"ROW(9:9)-3&\")\"","v":"6)"},"Evt. dokumentation for difference mellem oplyst og beregnet EBIT for et eller flere af årene 2010-2020, hvis forskellen kan henføres til rettelse af fejl i årsregnskabet."]
[null,{"$f":"ROW(10:10)-3&\")\"","v":"7)"},"Gældende leje- og leasingaftaler pr. 4. november 2020"]
[null,{"$f":"ROW(11:11)-3&\")\"","v":"8)"},"Gældende aftaler om køb med ejendomsforbehold."]
[null,{"$f":"ROW(12:12)-3&\")\"","v":"9)"},"Til brug for dokumentation af rettighederne og rettighedshaverne medsendes kopi af tingbogens oplysninger og dokumentation for tredjemands brugsrettigheder samt dokumentation for andre utinglyste rettigheder."]
[null,{"$f":"ROW(13:13)-3&\")\"","v":"10)"},"Beskrivelse af særlige aktiver under opførsel, udviklingsprojekter eller andre immaterielle aktiver."]
[null,{"$f":"ROW(14:14)-3&\")\"","v":"11)"},"Evt. beskrivelse af arbejde som er udført af lejet arbejdskraft og kontraktansatte, samt dokumentation for vilkårene for dette (har betalingen f.eks. været baseret på antal timer eller anden opgørelse). Hvis der har været en specifik opgørelse af antal timer, skal disse oplyses. "]
[null,{"$f":"ROW(15:15)-3&\")\"","v":"12)"},"Oversigt over særligt væsentlige kontrakter og aftaler."]
[null,{"$f":"ROW(16:16)-3&\")\"","v":"13)"},"Evt. dokumentation for gensidigt bebyrdende aftaler."]
[null,{"$f":"ROW(17:17)-3&\")\"","v":"14)"},"Evt. relevante miljøgodkendelser og -tilladelser."]
[]
[null,"Ark slut"]